{"text_format":"1","workbook":"xlsx","n_sheets":1,"sheets":["Feuil1"],"not_rendered":{"charts":0,"images":0,"macros":1,"external_links":1,"defined_names":0,"comments":0,"pivot_tables":0},"unopened":[],"bounds":{"document_bytes":16777216,"sheet_cells":100000,"rows_first":2000,"rows_last":500,"rows_between":2000,"halvings":0,"cell_chars":16384,"cell_head_chars":4096},"cells_cut":0,"cells_raw":0,"read":"whole","date_system":"1900"}

{"sheet":"Feuil1","index":0,"n_rows":50,"n_cols":2,"rows_kept":50,"cut":false,"hidden":false,"merged":[]}
["Ceci est un d'ajustement automatique de A",{"$f":"[1]Feuil1!A1","v":"Ceci est un test d'ajustement automatique de A"}]
[null,{"$f":"[1]Feuil1!A2","v":0}]
[null,{"$f":"[1]Feuil1!A3","v":0}]
[null,{"$f":"[1]Feuil1!A4","v":0}]
[null,{"$f":"[1]Feuil1!A5","v":0}]
[null,{"$f":"[1]Feuil1!A6","v":0}]
[null,{"$f":"[1]Feuil1!A7","v":0}]
[null,{"$f":"[1]Feuil1!A8","v":0}]
[null,{"$f":"[1]Feuil1!A9","v":0}]
[null,{"$f":"[1]Feuil1!A10","v":0}]
[null,{"$f":"[1]Feuil1!A11","v":0}]
[null,{"$f":"[1]Feuil1!A12","v":0}]
[null,{"$f":"[1]Feuil1!A13","v":0}]
[null,{"$f":"[1]Feuil1!A14","v":0}]
[null,{"$f":"[1]Feuil1!A15","v":0}]
[null,{"$f":"[1]Feuil1!A16","v":0}]
[null,{"$f":"[1]Feuil1!A17","v":0}]
[null,{"$f":"[1]Feuil1!A18","v":0}]
[null,{"$f":"[1]Feuil1!A19","v":0}]
[null,{"$f":"[1]Feuil1!A20","v":0}]
[null,{"$f":"[1]Feuil1!A21","v":0}]
[null,{"$f":"[1]Feuil1!A22","v":0}]
[null,{"$f":"[1]Feuil1!A23","v":0}]
[null,{"$f":"[1]Feuil1!A24","v":0}]
[null,{"$f":"[1]Feuil1!A25","v":0}]
[null,{"$f":"[1]Feuil1!A26","v":0}]
[null,{"$f":"[1]Feuil1!A27","v":0}]
[null,{"$f":"[1]Feuil1!A28","v":0}]
[null,{"$f":"[1]Feuil1!A29","v":0}]
[null,{"$f":"[1]Feuil1!A30","v":0}]
[null,{"$f":"[1]Feuil1!A31","v":0}]
[null,{"$f":"[1]Feuil1!A32","v":0}]
[null,{"$f":"[1]Feuil1!A33","v":0}]
[null,{"$f":"[1]Feuil1!A34","v":0}]
[null,{"$f":"[1]Feuil1!A35","v":0}]
[null,{"$f":"[1]Feuil1!A36","v":0}]
[null,{"$f":"[1]Feuil1!A37","v":0}]
[null,{"$f":"[1]Feuil1!A38","v":0}]
[null,{"$f":"[1]Feuil1!A39","v":0}]
[null,{"$f":"[1]Feuil1!A40","v":0}]
[null,{"$f":"[1]Feuil1!A41","v":0}]
[null,{"$f":"[1]Feuil1!A42","v":0}]
[null,{"$f":"[1]Feuil1!A43","v":0}]
[null,{"$f":"[1]Feuil1!A44","v":0}]
[null,{"$f":"[1]Feuil1!A45","v":0}]
[null,{"$f":"[1]Feuil1!A46","v":0}]
[null,{"$f":"[1]Feuil1!A47","v":0}]
[null,{"$f":"[1]Feuil1!A48","v":0}]
[null,{"$f":"[1]Feuil1!A49","v":0}]
[null,{"$f":"[1]Feuil1!A50","v":0}]