{"text_format":"1","workbook":"xlsx","n_sheets":15,"sheets":["AFRIQUE","ASIE","EUROPE","AMERIQUE DU NORD","OCEANIE","Feuil2","AMERIQUE DU SUD","BARRAGES","EQUIPES QUALIFIEES","CMD 2018","CARRE FINAL","Feuil1","JOUEURS","BUTEURS","DATES et HEURES"],"not_rendered":{"charts":0,"images":167,"macros":1,"external_links":0,"defined_names":0,"comments":0,"pivot_tables":0},"unopened":[],"bounds":{"document_bytes":16777216,"sheet_cells":100000,"rows_first":2000,"rows_last":500,"rows_between":2000,"halvings":0,"cell_chars":16384,"cell_head_chars":4096},"cells_cut":0,"cells_raw":0,"read":"whole","date_system":"1900"}

{"sheet":"AFRIQUE","index":0,"n_rows":80,"n_cols":107,"rows_kept":80,"cut":false,"hidden":false,"merged":[[78,99,78,101],[79,41,79,45],[79,46,79,48],[79,49,79,51],[79,55,79,59],[79,60,79,62],[79,99,79,101],[78,41,78,45],[78,46,78,48],[78,49,78,51],[78,55,78,59],[78,60,78,62],[76,60,76,62],[77,41,77,45],[77,46,77,48],[77,49,77,51],[77,55,77,59],[77,60,77,62],[76,41,76,45],[76,46,76,48],[76,49,76,51],[76,55,76,59],[76,0,79,38],[72,0,72,4],[72,7,72,11],[72,12,72,16],[72,19,72,23],[73,0,75,5],[73,6,75,15],[73,16,75,17],[73,18,75,19],[73,20,75,21],[73,22,75,23],[71,7,71,11],[71,12,71,16],[71,19,71,23],[69,41,69,45],[70,0,70,4],[70,7,70,11],[70,12,70,16],[70,19,70,23],[70,25,70,29],[70,41,70,45],[69,0,69,4],[69,7,69,11],[69,12,69,16],[69,19,69,23],[69,25,69,29],[71,0,71,4],[71,25,75,27],[71,28,75,38],[67,41,67,45],[68,0,68,4],[68,7,68,11],[68,12,68,16],[68,19,68,23],[68,25,68,29],[68,41,68,45],[64,41,65,54],[66,0,66,4],[66,7,66,11],[66,12,66,16],[66,19,66,23],[66,25,66,29],[66,41,66,45],[64,0,65,8],[64,9,65,14],[64,15,65,23],[64,24,75,24],[64,25,65,38],[67,0,67,4],[67,7,67,11],[67,12,67,16],[67,19,67,23],[67,25,67,29],[62,99,62,101],[63,41,63,45],[63,46,63,48],[63,49,63,51],[63,55,63,59],[63,60,63,62],[63,99,63,101],[62,41,62,45],[62,46,62,48],[62,49,62,51],[62,55,62,59],[62,60,62,62],[60,60,60,62],[61,41,61,45],[61,46,61,48],[61,49,61,51],[61,55,61,59],[61,60,61,62],[60,41,60,45],[60,46,60,48],[60,49,60,51],[60,55,60,59],[60,0,63,38],[56,0,56,4],[56,7,56,11],[56,12,56,16],[56,19,56,23],[57,0,59,5],[57,6,59,15],[57,16,59,17],[57,18,59,19],[57,20,59,21],[57,22,59,23],[55,7,55,11],[55,12,55,16],[55,19,55,23],[53,41,53,45],[54,0,54,4],[54,7,54,11],[54,12,54,16],[54,19,54,23],[54,25,54,29],[54,41,54,45],[53,0,53,4],[53,7,53,11],[53,12,53,16],[53,19,53,23],[53,25,53,29],[55,0,55,4],[55,25,59,27],[55,28,59,38],[51,41,51,45],[52,0,52,4],[52,7,52,11],[52,12,52,16],[52,19,52,23],[52,25,52,29],[52,41,52,45],[48,41,49,54],[50,0,50,4],[50,7,50,11],[50,12,50,16],[50,19,50,23],[50,25,50,29],[50,41,50,45],[48,0,49,8],[48,9,49,14],[48,15,49,23],[48,24,59,24],[48,25,49,38],[51,0,51,4],[51,7,51,11],[51,12,51,16],[51,19,51,23],[51,25,51,29],[46,99,46,101],[47,41,47,45],[47,46,47,48],[47,49,47,51],[47,55,47,59],[47,60,47,62],[47,99,47,101],[46,41,46,45],[46,46,46,48],[46,49,46,51],[46,55,46,59],[46,60,46,62],[44,60,44,62],[45,41,45,45],[45,46,45,48],[45,49,45,51],[45,55,45,59],[45,60,45,62],[44,41,44,45],[44,46,44,48],[44,49,44,51],[44,55,44,59],[44,0,47,38],[40,0,40,4],[40,7,40,11],[40,12,40,16],[40,19,40,23],[41,0,43,5],[41,6,43,15],[41,16,43,17],[41,18,43,19],[41,20,43,21],[41,22,43,23],[39,7,39,11],[39,12,39,16],[39,19,39,23],[37,41,37,45],[38,0,38,4],[38,7,38,11],[38,12,38,16],[38,19,38,23],[38,25,38,29],[38,41,38,45],[37,0,37,4],[37,7,37,11],[37,12,37,16],[37,19,37,23],[37,25,37,29],[39,0,39,4],[39,25,43,27],[39,28,43,38],[35,41,35,45],[36,0,36,4],[36,7,36,11],[36,12,36,16],[36,19,36,23],[36,25,36,29],[36,41,36,45],[32,41,33,54],[34,0,34,4],[34,7,34,11],[34,12,34,16],[34,19,34,23],[34,25,34,29],[34,41,34,45],[32,0,33,8],[32,9,33,14],[32,15,33,23],[32,24,43,24],[32,25,33,38],[35,0,35,4],[35,7,35,11],[35,12,35,16],[35,19,35,23],[35,25,35,29],[30,99,30,101],[31,41,31,45],[31,46,31,48],[31,49,31,51],[31,55,31,59],[31,60,31,62],[31,99,31,101],[30,41,30,45],[30,46,30,48],[30,49,30,51],[30,55,30,59],[30,60,30,62],[28,60,28,62],[29,41,29,45],[29,46,29,48],[29,49,29,51],[29,55,29,59],[29,60,29,62],[28,41,28,45],[28,46,28,48],[28,49,28,51],[28,55,28,59],[28,0,31,38],[24,0,24,4],[24,7,24,11],[24,12,24,16],[24,19,24,23],[25,0,27,5],[25,6,27,15],[25,16,27,17],[25,18,27,19],[25,20,27,21],[25,22,27,23],[23,7,23,11],[23,12,23,16],[23,19,23,23],[21,41,21,45],[22,0,22,4],[22,7,22,11],[22,12,22,16],[22,19,22,23],[22,25,22,29],[22,41,22,45],[21,0,21,4],[21,7,21,11],[21,12,21,16],[21,19,21,23],[21,25,21,29],[23,0,23,4],[23,25,27,27],[23,28,27,38],[19,41,19,45],[20,0,20,4],[20,7,20,11],[20,12,20,16],[20,19,20,23],[20,25,20,29],[20,41,20,45],[16,41,17,54],[18,0,18,4],[18,7,18,11],[18,12,18,16],[18,19,18,23],[18,25,18,29],[18,41,18,45],[16,0,17,8],[16,9,17,14],[16,15,17,23],[16,24,27,24],[16,25,17,38],[19,0,19,4],[19,7,19,11],[19,12,19,16],[19,19,19,23],[19,25,19,29],[0,41,1,54],[2,0,2,4],[2,7,2,11],[2,12,2,16],[2,19,2,23],[0,0,1,8],[0,9,1,14],[0,15,1,23],[0,24,11,24],[0,25,1,38],[2,25,2,29],[2,41,2,45],[3,0,3,4],[3,7,3,11],[3,12,3,16],[3,19,3,23],[3,25,3,29],[3,41,3,45],[5,41,5,45],[4,0,4,4],[4,7,4,11],[4,12,4,16],[4,19,4,23],[4,25,4,29],[4,41,4,45],[5,0,5,4],[5,7,5,11],[5,12,5,16],[5,19,5,23],[5,25,5,29],[14,99,14,101],[15,41,15,45],[15,46,15,48],[15,49,15,51],[15,55,15,59],[15,60,15,62],[15,99,15,101],[14,41,14,45],[14,46,14,48],[14,49,14,51],[14,55,14,59],[14,60,14,62],[6,0,6,4],[7,0,7,4],[8,0,8,4],[6,7,6,11],[7,7,7,11],[8,7,8,11],[6,12,6,16],[7,12,7,16],[8,12,8,16],[6,19,6,23],[7,19,7,23],[8,19,8,23],[6,25,6,29],[6,41,6,45],[9,22,11,23],[9,20,11,21],[9,18,11,19],[9,6,11,15],[7,28,11,38],[7,25,11,27],[9,0,11,5],[12,41,12,45],[9,16,11,17],[12,0,15,38],[12,46,12,48],[12,49,12,51],[12,55,12,59],[12,60,12,62],[13,46,13,48],[13,49,13,51],[13,55,13,59],[13,60,13,62],[13,41,13,45]]}
["MATCHS  ALLER",null,null,null,null,null,null,null,null,"GROUPE  A",null,null,null,null,null,"MATCHS  RETOUR",null,null,null,null,null,null,null,null,null,"CLASSEMENT",null,null,null,null,null,null,null,null,null,null,null,null,null,null,null,"CLASSEMENT"]
[]
["Équipes",null,null,null,null,"Bts","Bts","Équipes",null,null,null,null,"Équipes",null,null,null,null,"Bts","Bts","Équipes",null,null,null,null,null,"Équipes",null,null,null,null,"R","Pts","J","G","N","P","B +","B -","Diff",null,null,"Équipes",null,null,null,null,"R","Pts","J","G","N","P","B +","B -","Diff",null,null,"pts","pts","pts","pts","t pts","t pts","j","j","j","j","g","g","g","g","n","n","n","n","p","p","p","p","b+","b+","b+","b+","b+","b+","b-","b-","b-","b-","b-","b-",{"$f":"AP4","v":"RD CONGO"},{"$f":"AP5","v":"TUNISIE"},{"$f":"AP6","v":"GUINÉE"},{"$f":"AP7","v":"LIBYE"},{"$f":"CN3","v":"RD CONGO"},{"$f":"CO3","v":"TUNISIE"},"GUINÉE","LIBYE",{"$f":"CN3","v":"RD CONGO"},{"$f":"CO3","v":"TUNISIE"},"GUINÉE","LIBYE",{"$f":"CN3","v":"RD CONGO"},{"$f":"CO3","v":"TUNISIE"},"GUINÉE","LIBYE"]
[{"$f":"AP4","v":"RD CONGO"},null,null,null,null,2,2,{"$f":"AP5","v":"TUNISIE"},null,null,null,null,{"$f":"H4","v":"TUNISIE"},null,null,null,null,2,1,{"$f":"A4","v":"RD CONGO"},null,null,null,null,null,{"$f":"VLOOKUP(AN13,AO13:AT16,2,0)","v":"TUNISIE"},null,null,null,null,1,{"$f":"VLOOKUP(Z4,AP4:BC7,7,0)","v":14},{"$f":"VLOOKUP(Z4,AP4:BC7,8,0)","v":6},{"$f":"VLOOKUP(Z4,AP4:BC7,9,0)","v":4},{"$f":"VLOOKUP(Z4,AP4:BC7,10,0)","v":2},{"$f":"VLOOKUP(Z4,AP4:BC7,11,0)","v":0},{"$f":"VLOOKUP(Z4,AP4:BC7,12,0)","v":11},{"$f":"VLOOKUP(Z4,AP4:BC7,13,0)","v":4},{"$f":"VLOOKUP(Z4,AP4:BC7,14,0)","v":7},null,null,"RD CONGO",null,null,null,null,{"$f":"RANK(AV4,AV4:AV7)","v":2},{"$f":"SUMPRODUCT((A4:E9=AP4)*(BF4:BF9))+SUMPRODUCT((H4:L9=AP4)*(BG4:BG9))+SUMPRODUCT((M4:Q9=AP4)*(BH4:BH9))+SUMPRODUCT((T4:X9=AP4)*(BI4:BI9))","v":13},{"$f":"SUMPRODUCT((A4:E9=AP4)*(BL4:BL9))+SUMPRODUCT((H4:L9=AP4)*(BM4:BM9))+SUMPRODUCT((M4:Q9=AP4)*(BN4:BN9))+SUMPRODUCT((T4:X9=AP4)*(BO4:BO9))","v":6},{"$f":"SUMPRODUCT((A4:E9=AP4)*(BP4:BP9))+SUMPRODUCT((H4:L9=AP4)*(BQ4:BQ9))+SUMPRODUCT((M4:Q9=AP4)*(BR4:BR9))+SUMPRODUCT((T4:X9=AP4)*(BS4:BS9))","v":4},{"$f":"SUMPRODUCT((A4:E9=AP4)*(BT4:BT9))+SUMPRODUCT((H4:L9=AP4)*(BU4:BU9))+SUMPRODUCT((M4:Q9=AP4)*(BV4:BV9))+SUMPRODUCT((T4:X9=AP4)*(BW4:BW9))","v":1},{"$f":"SUMPRODUCT((A4:E9=AP4)*(BX4:BX9))+SUMPRODUCT((H4:L9=AP4)*(BY4:BY9))+SUMPRODUCT((M4:Q9=AP4)*(BZ4:BZ9))+SUMPRODUCT((T4:X9=AP4)*(CA4:CA9))","v":1},{"$f":"SUMPRODUCT((A4:E9=AP4)*(CB4:CB9))+SUMPRODUCT((H4:L9=AP4)*(CC4:CC9))+SUMPRODUCT((M4:Q9=AP4)*(CD4:CD9))+SUMPRODUCT((T4:X9=AP4)*(CE4:CE9))","v":14},{"$f":"SUMPRODUCT((A4:E9=AP4)*(CH4:CH9))+SUMPRODUCT((H4:L9=AP4)*(CI4:CI9))+SUMPRODUCT((M4:Q9=AP4)*(CJ4:CJ9))+SUMPRODUCT((T4:X9=AP4)*(CK4:CK9))","v":7},{"$f":"BA4-BB4","v":7},null,null,{"$f":"IF(F4=\"\",0,IF(F4>G4,3,IF(F4=G4,1,IF(F4<G4,0))))","v":1},{"$f":"IF(G4=\"\",0,IF(G4>F4,3,IF(G4=F4,1,IF(G4<F4,0))))","v":1},{"$f":"IF(R4=\"\",0,IF(R4>S4,3,IF(R4=S4,1,IF(R4<S4,0))))","v":3},{"$f":"IF(S4=\"\",0,IF(S4>R4,3,IF(S4=R4,1,IF(S4<R4,0))))","v":0},{"$f":"BF4+BI4","v":1},{"$f":"BG4+BH4","v":4},{"$f":"IF(F4=\"\",0,1)","v":1},{"$f":"IF(G4=\"\",0,1)","v":1},{"$f":"IF(R4=\"\",0,1)","v":1},{"$f":"IF(S4=\"\",0,1)","v":1},{"$f":"IF(F4<>\"\",IF(F4>G4,1))","v":false},{"$f":"IF(G4<>\"\",IF(G4>F4,1))","v":false},{"$f":"IF(R4<>\"\",IF(R4>S4,1))","v":1},{"$f":"IF(S4<>\"\",IF(S4>R4,1))","v":false},{"$f":"IF(F4<>\"\",IF(F4=G4,1))","v":1},{"$f":"IF(G4<>\"\",IF(G4=F4,1))","v":1},{"$f":"IF(R4<>\"\",IF(R4=S4,1))","v":false},{"$f":"IF(S4<>\"\",IF(S4=R4,1))","v":false},{"$f":"IF(F4<>\"\",IF(F4<G4,1))","v":false},{"$f":"IF(G4<>\"\",IF(G4<F4,1))","v":false},{"$f":"IF(R4<>\"\",IF(R4<S4,1))","v":false},{"$f":"IF(S4<>\"\",IF(S4<R4,1))","v":1},{"$f":"F4","v":2},{"$f":"G4","v":2},{"$f":"R4","v":2},{"$f":"S4","v":1},{"$f":"CB4+CE4","v":3},{"$f":"CC4+CD4","v":4},{"$f":"G4","v":2},{"$f":"F4","v":2},{"$f":"S4","v":1},{"$f":"R4","v":2},{"$f":"CH4+CK4","v":4},{"$f":"CI4+CJ4","v":3},{"$f":"IF(AU4=1,1000000)","v":false},{"$f":"IF(AU5=1,1000000)","v":1000000},{"$f":"IF(AU6=1,1000000)","v":false},{"$f":"IF(AU7=1,1000000)","v":false},{"$f":"IF(AU4=2,800000)","v":800000},{"$f":"IF(AU5=2,800000)","v":false},{"$f":"IF(AU6=2,800000)","v":false},{"$f":"IF(AU7=2,800000)","v":false},{"$f":"IF(AU4=3,600000)","v":false},{"$f":"IF(AU5=3,600000)","v":false},{"$f":"IF(AU6=3,600000)","v":false},{"$f":"IF(AU7=3,600000)","v":600000},{"$f":"IF(AU4=4,400000)","v":false},{"$f":"IF(AU5=4,400000)","v":false},{"$f":"IF(AU6=4,400000)","v":400000},{"$f":"IF(AU7=4,400000)","v":false}]
[{"$f":"AP4","v":"RD CONGO"},null,null,null,null,3,1,{"$f":"AP6","v":"GUINÉE"},null,null,null,null,{"$f":"H5","v":"GUINÉE"},null,null,null,null,1,2,{"$f":"A5","v":"RD CONGO"},null,null,null,null,null,{"$f":"VLOOKUP(AN14,AO13:AT16,2,0)","v":"RD CONGO"},null,null,null,null,{"$f":"IF(BI14=BI13,BL13,BL14)","v":2},{"$f":"VLOOKUP(Z5,AP4:BC7,7,0)","v":13},{"$f":"VLOOKUP(Z5,AP4:BC7,8,0)","v":6},{"$f":"VLOOKUP(Z5,AP4:BC7,9,0)","v":4},{"$f":"VLOOKUP(Z5,AP4:BC7,10,0)","v":1},{"$f":"VLOOKUP(Z5,AP4:BC7,11,0)","v":1},{"$f":"VLOOKUP(Z5,AP4:BC7,12,0)","v":14},{"$f":"VLOOKUP(Z5,AP4:BC7,13,0)","v":7},{"$f":"VLOOKUP(Z5,AP4:BC7,14,0)","v":7},null,null,"TUNISIE",null,null,null,null,{"$f":"RANK(AV5,AV4:AV7)","v":1},{"$f":"SUMPRODUCT((A4:E9=AP5)*(BF4:BF9))+SUMPRODUCT((H4:L9=AP5)*(BG4:BG9))+SUMPRODUCT((M4:Q9=AP5)*(BH4:BH9))+SUMPRODUCT((T4:X9=AP5)*(BI4:BI9))","v":14},{"$f":"SUMPRODUCT((A4:E9=AP5)*(BL4:BL9))+SUMPRODUCT((H4:L9=AP5)*(BM4:BM9))+SUMPRODUCT((M4:Q9=AP5)*(BN4:BN9))+SUMPRODUCT((T4:X9=AP5)*(BO4:BO9))","v":6},{"$f":"SUMPRODUCT((A4:E9=AP5)*(BP4:BP9))+SUMPRODUCT((H4:L9=AP5)*(BQ4:BQ9))+SUMPRODUCT((M4:Q9=AP5)*(BR4:BR9))+SUMPRODUCT((T4:X9=AP5)*(BS4:BS9))","v":4},{"$f":"SUMPRODUCT((A4:E9=AP5)*(BT4:BT9))+SUMPRODUCT((H4:L9=AP5)*(BU4:BU9))+SUMPRODUCT((M4:Q9=AP5)*(BV4:BV9))+SUMPRODUCT((T4:X9=AP5)*(BW4:BW9))","v":2},{"$f":"SUMPRODUCT((A4:E9=AP5)*(BX4:BX9))+SUMPRODUCT((H4:L9=AP5)*(BY4:BY9))+SUMPRODUCT((M4:Q9=AP5)*(BZ4:BZ9))+SUMPRODUCT((T4:X9=AP5)*(CA4:CA9))","v":0},{"$f":"SUMPRODUCT((A4:E9=AP5)*(CB4:CB9))+SUMPRODUCT((H4:L9=AP5)*(CC4:CC9))+SUMPRODUCT((M4:Q9=AP5)*(CD4:CD9))+SUMPRODUCT((T4:X9=AP5)*(CE4:CE9))","v":11},{"$f":"SUMPRODUCT((A4:E9=AP5)*(CH4:CH9))+SUMPRODUCT((H4:L9=AP5)*(CI4:CI9))+SUMPRODUCT((M4:Q9=AP5)*(CJ4:CJ9))+SUMPRODUCT((T4:X9=AP5)*(CK4:CK9))","v":4},{"$f":"BA5-BB5","v":7},null,null,{"$f":"IF(F5=\"\",0,IF(F5>G5,3,IF(F5=G5,1,IF(F5<G5,0))))","v":3},{"$f":"IF(G5=\"\",0,IF(G5>F5,3,IF(G5=F5,1,IF(G5<F5,0))))","v":0},{"$f":"IF(R5=\"\",0,IF(R5>S5,3,IF(R5=S5,1,IF(R5<S5,0))))","v":0},{"$f":"IF(S5=\"\",0,IF(S5>R5,3,IF(S5=R5,1,IF(S5<R5,0))))","v":3},{"$f":"BF5+BI5","v":6},{"$f":"BG5+BH5","v":0},{"$f":"IF(F5=\"\",0,1)","v":1},{"$f":"IF(G5=\"\",0,1)","v":1},{"$f":"IF(R5=\"\",0,1)","v":1},{"$f":"IF(S5=\"\",0,1)","v":1},{"$f":"IF(F5<>\"\",IF(F5>G5,1))","v":1},{"$f":"IF(G5<>\"\",IF(G5>F5,1))","v":false},{"$f":"IF(R5<>\"\",IF(R5>S5,1))","v":false},{"$f":"IF(S5<>\"\",IF(S5>R5,1))","v":1},{"$f":"IF(F5<>\"\",IF(F5=G5,1))","v":false},{"$f":"IF(G5<>\"\",IF(G5=F5,1))","v":false},{"$f":"IF(R5<>\"\",IF(R5=S5,1))","v":false},{"$f":"IF(S5<>\"\",IF(S5=R5,1))","v":false},{"$f":"IF(F5<>\"\",IF(F5<G5,1))","v":false},{"$f":"IF(G5<>\"\",IF(G5<F5,1))","v":1},{"$f":"IF(R5<>\"\",IF(R5<S5,1))","v":1},{"$f":"IF(S5<>\"\",IF(S5<R5,1))","v":false},{"$f":"F5","v":3},{"$f":"G5","v":1},{"$f":"R5","v":1},{"$f":"S5","v":2},{"$f":"CB5+CE5","v":5},{"$f":"CC5+CD5","v":2},{"$f":"G5","v":1},{"$f":"F5","v":3},{"$f":"S5","v":2},{"$f":"R5","v":1},{"$f":"CH5+CK5","v":2},{"$f":"CI5+CJ5","v":5},{"$f":"IF(AU4=1,IF(AU5=1,SUM(AV4*1000+(BC4)/10+(BA4)/100+(BJ4)/1000+((F4+S4)-(G4+R4))/10000+(F4+S4)/100000+(S4)/1000000)))","v":false},{"$f":"IF(AU5=1,IF(AU4=1,SUM(AV5*1000+(BC5)/10+(BA5)/100+(BK4)/1000+((G4+R4)-(F4+S4))/10000+(G4+R4)/100000+(G4)/1000000)))","v":false},{"$f":"IF(AU6=1,IF(AU4=1,SUM(AV6*1000+(BC6)/10+(BA6)/100+(BK5)/1000+((G5+R5)-(F5+S5))/10000+(G5+R5)/100000+(G5)/1000000)))","v":false},{"$f":"IF(AU7=1,IF(AU4=1,SUM(AV7*1000+(BC7)/10+(BA7)/100+(BK6)/1000+((G6+R6)-(F6+S6))/10000+(G6+R6)/100000+(G6)/1000000)))","v":false},{"$f":"IF(AU4=2,IF(AU5=2,SUM(AV4*1000+(BC4)/10+(BA4)/100+(BJ4)/1000+((F4+S4)-(G4+R4))/10000+(F4+S4)/100000+(S4)/1000000)))","v":false},{"$f":"IF(AU5=2,IF(AU4=2,SUM(AV5*1000+(BC5)/10+(BA5)/100+(BK4)/1000+((G4+R4)-(F4+S4))/10000+(G4+R4)/100000+(G4)/1000000)))","v":false},{"$f":"IF(AU6=2,IF(AU4=2,SUM(AV6*1000+(BC6)/10+(BA6)/100+(BK5)/1000+((G5+R5)-(F5+S5))/10000+(G5+R5)/100000+(G5)/1000000)))","v":false},{"$f":"IF(AU7=2,IF(AU4=2,SUM(AV7*1000+(BC7)/10+(BA7)/100+(BK6)/1000+((G6+R6)-(F6+S6))/10000+(G6+R6)/100000+(G6)/1000000)))","v":false},{"$f":"IF(AU4=3,IF(AU5=3,SUM(AV4*1000+(BC4)/10+(BA4)/100+(BJ4)/1000+((F4+S4)-(G4+R4))/10000+(F4+S4)/100000+(S4)/1000000)))","v":false},{"$f":"IF(AU5=3,IF(AU4=3,SUM(AV5*1000+(BC5)/10+(BA5)/100+(BK4)/1000+((G4+R4)-(F4+S4))/10000+(G4+R4)/100000+(G4)/1000000)))","v":false},{"$f":"IF(AU6=3,IF(AU4=3,SUM(AV6*1000+(BC6)/10+(BA6)/100+(BK5)/1000+((G5+R5)-(F5+S5))/10000+(G5+R5)/100000+(G5)/1000000)))","v":false},{"$f":"IF(AU7=3,IF(AU4=3,SUM(AV7*1000+(BC7)/10+(BA7)/100+(BK6)/1000+((G6+R6)-(F6+S6))/10000+(G6+R6)/100000+(G6)/1000000)))","v":false},{"$f":"IF(AU4=4,IF(AU5=4,SUM(AV4*1000+(BC4)/10+(BA4)/100+(BJ4)/1000+((F4+S4)-(G4+R4))/10000+(F4+S4)/100000+(S4)/1000000)))","v":false},{"$f":"IF(AU5=4,IF(AU4=4,SUM(AV5*1000+(BC5)/10+(BA5)/100+(BK4)/1000+((G4+R4)-(F4+S4))/10000+(G4+R4)/100000+(G4)/1000000)))","v":false},{"$f":"IF(AU6=4,IF(AU4=4,SUM(AV6*1000+(BC6)/10+(BA6)/100+(BK5)/1000+((G5+R5)-(F5+S5))/10000+(G5+R5)/100000+(G5)/1000000)))","v":false},{"$f":"IF(AU7=4,IF(AU4=4,SUM(AV7*1000+(BC7)/10+(BA7)/100+(BK6)/1000+((G6+R6)-(F6+S6))/10000+(G6+R6)/100000+(G6)/1000000)))","v":false}]
[{"$f":"AP4","v":"RD CONGO"},null,null,null,null,4,0,{"$f":"AP7","v":"LIBYE"},null,null,null,null,"LIBYE",null,null,null,null,1,2,"RD CONGO",null,null,null,null,null,{"$f":"VLOOKUP(AN15,AO13:AT16,2,0)","v":"LIBYE"},null,null,null,null,{"$f":"IF(BI15=BI14,BL14,BL15)","v":3},{"$f":"VLOOKUP(Z6,AP4:BC7,7,0)","v":4},{"$f":"VLOOKUP(Z6,AP4:BC7,8,0)","v":6},{"$f":"VLOOKUP(Z6,AP4:BC7,9,0)","v":1},{"$f":"VLOOKUP(Z6,AP4:BC7,10,0)","v":1},{"$f":"VLOOKUP(Z6,AP4:BC7,11,0)","v":4},{"$f":"VLOOKUP(Z6,AP4:BC7,12,0)","v":4},{"$f":"VLOOKUP(Z6,AP4:BC7,13,0)","v":10},{"$f":"VLOOKUP(Z6,AP4:BC7,14,0)","v":-6},null,null,"GUINÉE",null,null,null,null,{"$f":"RANK(AV6,AV4:AV7)","v":4},{"$f":"SUMPRODUCT((A4:E9=AP6)*(BF4:BF9))+SUMPRODUCT((H4:L9=AP6)*(BG4:BG9))+SUMPRODUCT((M4:Q9=AP6)*(BH4:BH9))+SUMPRODUCT((T4:X9=AP6)*(BI4:BI9))","v":3},{"$f":"SUMPRODUCT((A4:E9=AP6)*(BL4:BL9))+SUMPRODUCT((H4:L9=AP6)*(BM4:BM9))+SUMPRODUCT((M4:Q9=AP6)*(BN4:BN9))+SUMPRODUCT((T4:X9=AP6)*(BO4:BO9))","v":6},{"$f":"SUMPRODUCT((A4:E9=AP6)*(BP4:BP9))+SUMPRODUCT((H4:L9=AP6)*(BQ4:BQ9))+SUMPRODUCT((M4:Q9=AP6)*(BR4:BR9))+SUMPRODUCT((T4:X9=AP6)*(BS4:BS9))","v":1},{"$f":"SUMPRODUCT((A4:E9=AP6)*(BT4:BT9))+SUMPRODUCT((H4:L9=AP6)*(BU4:BU9))+SUMPRODUCT((M4:Q9=AP6)*(BV4:BV9))+SUMPRODUCT((T4:X9=AP6)*(BW4:BW9))","v":0},{"$f":"SUMPRODUCT((A4:E9=AP6)*(BX4:BX9))+SUMPRODUCT((H4:L9=AP6)*(BY4:BY9))+SUMPRODUCT((M4:Q9=AP6)*(BZ4:BZ9))+SUMPRODUCT((T4:X9=AP6)*(CA4:CA9))","v":5},{"$f":"SUMPRODUCT((A4:E9=AP6)*(CB4:CB9))+SUMPRODUCT((H4:L9=AP6)*(CC4:CC9))+SUMPRODUCT((M4:Q9=AP6)*(CD4:CD9))+SUMPRODUCT((T4:X9=AP6)*(CE4:CE9))","v":6},{"$f":"SUMPRODUCT((A4:E9=AP6)*(CH4:CH9))+SUMPRODUCT((H4:L9=AP6)*(CI4:CI9))+SUMPRODUCT((M4:Q9=AP6)*(CJ4:CJ9))+SUMPRODUCT((T4:X9=AP6)*(CK4:CK9))","v":14},-8,null,null,3,0,0,3,6,0,1,1,1,1,1,false,false,1,false,false,false,false,false,1,1,false,4,0,1,2,6,1,0,4,2,1,1,6,{"$f":"IF(AU4=1,IF(AU7=1,SUM(AV4*1000+(BC4)/10+(BA4)/100+(BJ6)/1000+((F6+S6)-(G6+R6))/10000+(F6+S6)/100000+(S6)/1000000)))","v":false},{"$f":"IF(AU5=1,IF(AU6=1,SUM(AV5*1000+(BC5)/10+(BA5)/100+(BJ12)/1000+((F12+S12)-(G12+R12))/10000+(F12+S12)/100000+(S12)/1000000)))","v":false},{"$f":"IF(AU6=1,IF(AU5=1,SUM(AV6*1000+(BC6)/10+(BA6)/100+(BK12)/1000+((G12+R12)-(F12+S12))/10000+(G12+R12)/1000000+(G12)/1000000)))","v":false},{"$f":"IF(AU7=1,IF(AU5=1,SUM(AV7*1000+(BC7)/10+(BA7)/100+(BK8)/1000+((G8+R8)-(F8+S8))/10000+(G8-R8)/100000+(G8)/1000000)))","v":false},{"$f":"IF(AU4=2,IF(AU7=2,SUM(AV4*1000+(BC4)/10+(BA4)/100+(BJ6)/1000+((F6+S6)-(G6+R6))/10000+(F6+S6)/100000+(S6)/1000000)))","v":false},{"$f":"IF(AU5=2,IF(AU6=2,SUM(AV5*1000+(BC5)/10+(BA5)/100+(BJ12)/1000+((F12+S12)-(G12+R12))/10000+(F12+S12)/100000+(S12)/1000000)))","v":false},{"$f":"IF(AU6=2,IF(AU5=2,SUM(AV6*1000+(BC6)/10+(BA6)/100+(BK12)/1000+((G12+R12)-(F12+S12))/10000+(G12+R12)/1000000+(G12)/1000000)))","v":false},{"$f":"IF(AU7=2,IF(AU5=2,SUM(AV7*1000+(BC7)/10+(BA7)/100+(BK8)/1000+((G8+R8)-(F8+S8))/10000+(G8-R8)/100000+(G8)/1000000)))","v":false},{"$f":"IF(AU4=3,IF(AU7=3,SUM(AV4*1000+(BC4)/10+(BA4)/100+(BJ6)/1000+((F6+S6)-(G6+R6))/10000+(F6+S6)/100000+(S6)/1000000)))","v":false},{"$f":"IF(AU5=3,IF(AU6=3,SUM(AV5*1000+(BC5)/10+(BA5)/100+(BJ12)/1000+((F12+S12)-(G12+R12))/10000+(F12+S12)/100000+(S12)/1000000)))","v":false},{"$f":"IF(AU6=3,IF(AU5=3,SUM(AV6*1000+(BC6)/10+(BA6)/100+(BK12)/1000+((G12+R12)-(F12+S12))/10000+(G12+R12)/1000000+(G12)/1000000)))","v":false},{"$f":"IF(AU7=3,IF(AU5=3,SUM(AV7*1000+(BC7)/10+(BA7)/100+(BK8)/1000+((G8+R8)-(F8+S8))/10000+(G8-R8)/100000+(G8)/1000000)))","v":false},{"$f":"IF(AU4=4,IF(AU7=4,SUM(AV4*1000+(BC4)/10+(BA4)/100+(BJ6)/1000+((F6+S6)-(G6+R6))/10000+(F6+S6)/100000+(S6)/1000000)))","v":false},{"$f":"IF(AU5=4,IF(AU6=4,SUM(AV5*1000+(BC5)/10+(BA5)/100+(BJ12)/1000+((F12+S12)-(G12+R12))/10000+(F12+S12)/100000+(S12)/1000000)))","v":false},{"$f":"IF(AU6=4,IF(AU5=4,SUM(AV6*1000+(BC6)/10+(BA6)/100+(BK12)/1000+((G12+R12)-(F12+S12))/10000+(G12+R12)/1000000+(G12)/1000000)))","v":false},{"$f":"IF(AU7=4,IF(AU5=4,SUM(AV7*1000+(BC7)/10+(BA7)/100+(BK8)/1000+((G8+R8)-(F8+S8))/10000+(G8-R8)/100000+(G8)/1000000)))","v":false}]
[{"$f":"AP5","v":"TUNISIE"},null,null,null,null,2,0,{"$f":"AP6","v":"GUINÉE"},null,null,null,null,"GUINÉE",null,null,null,null,1,4,"TUNISIE",null,null,null,null,null,{"$f":"VLOOKUP(AN16,AO13:AT16,2,0)","v":"GUINÉE"},null,null,null,null,4,{"$f":"VLOOKUP(Z7,AP4:BC7,7,0)","v":3},{"$f":"VLOOKUP(Z7,AP4:BC7,8,0)","v":6},{"$f":"VLOOKUP(Z7,AP4:BC7,9,0)","v":1},{"$f":"VLOOKUP(Z7,AP4:BC7,10,0)","v":0},{"$f":"VLOOKUP(Z7,AP4:BC7,11,0)","v":5},{"$f":"VLOOKUP(Z7,AP4:BC7,12,0)","v":6},{"$f":"VLOOKUP(Z7,AP4:BC7,13,0)","v":14},{"$f":"VLOOKUP(Z7,AP4:BC7,14,0)","v":-8},null,null,"LIBYE",null,null,null,null,{"$f":"RANK(AV7,AV4:AV7)","v":3},{"$f":"SUMPRODUCT((A4:E9=AP7)*(BF4:BF9))+SUMPRODUCT((H4:L9=AP7)*(BG4:BG9))+SUMPRODUCT((M4:Q9=AP7)*(BH4:BH9))+SUMPRODUCT((T4:X9=AP7)*(BI4:BI9))","v":4},{"$f":"SUMPRODUCT((A4:E9=AP7)*(BL4:BL9))+SUMPRODUCT((H4:L9=AP7)*(BM4:BM9))+SUMPRODUCT((M4:Q9=AP7)*(BN4:BN9))+SUMPRODUCT((T4:X9=AP7)*(BO4:BO9))","v":6},{"$f":"SUMPRODUCT((A4:E9=AP7)*(BP4:BP9))+SUMPRODUCT((H4:L9=AP7)*(BQ4:BQ9))+SUMPRODUCT((M4:Q9=AP7)*(BR4:BR9))+SUMPRODUCT((T4:X9=AP7)*(BS4:BS9))","v":1},{"$f":"SUMPRODUCT((A4:E9=AP7)*(BT4:BT9))+SUMPRODUCT((H4:L9=AP7)*(BU4:BU9))+SUMPRODUCT((M4:Q9=AP7)*(BV4:BV9))+SUMPRODUCT((T4:X9=AP7)*(BW4:BW9))","v":1},{"$f":"SUMPRODUCT((A4:E9=AP7)*(BX4:BX9))+SUMPRODUCT((H4:L9=AP7)*(BY4:BY9))+SUMPRODUCT((M4:Q9=AP7)*(BZ4:BZ9))+SUMPRODUCT((T4:X9=AP7)*(CA4:CA9))","v":4},{"$f":"SUMPRODUCT((A4:E9=AP7)*(CB4:CB9))+SUMPRODUCT((H4:L9=AP7)*(CC4:CC9))+SUMPRODUCT((M4:Q9=AP7)*(CD4:CD9))+SUMPRODUCT((T4:X9=AP7)*(CE4:CE9))","v":4},{"$f":"SUMPRODUCT((A4:E9=AP7)*(CH4:CH9))+SUMPRODUCT((H4:L9=AP7)*(CI4:CI9))+SUMPRODUCT((M4:Q9=AP7)*(CJ4:CJ9))+SUMPRODUCT((T4:X9=AP7)*(CK4:CK9))","v":10},-6,null,null,3,0,0,3,6,0,1,1,1,1,1,false,false,1,false,false,false,false,false,1,1,false,2,0,1,4,6,1,0,2,4,1,1,6,{"$f":"IF(AU4=1,IF(AU7=1,SUM(AV4*1000+(BC4)/10+(BA4)/100+(BJ6)/1000+((F6+S6)-(G6+R6))/10000+(F6+S6)/100000+(S6)/1000000)))","v":false},{"$f":"IF(AU5=1,IF(AU7=1,SUM(AV5*1000+(BC5)/10+(BA5)/100+(BJ8)/1000+((F8+S8)-(G8+R8))/10000+(F8+S8)/100000+(S8)/1000000)))","v":false},{"$f":"IF(AU6=1,IF(AU7=1,SUM(AV6*1000+(BC6)/10+(BA6)/100+(BJ9)/1000+((F9+S9)-(G9+R9))/10000+(F9+S9)/100000+(S9)/1000000)))","v":false},{"$f":"IF(AU7=1,IF(AU6=1,SUM(AV7*1000+(BC7)/10+(BA7)/100+(BK9)/1000+((G9+R9)-(F9+S9))/10000+(G9+R9)/100000+(G9)/1000000)))","v":false},{"$f":"IF(AU4=2,IF(AU7=2,SUM(AV4*1000+(BC4)/10+(BA4)/100+(BJ6)/1000+((F6+S6)-(G6+R6))/10000+(F6+S6)/100000+(S6)/1000000)))","v":false},{"$f":"IF(AU5=2,IF(AU7=2,SUM(AV5*1000+(BC5)/10+(BA5)/100+(BJ8)/1000+((F8+S8)-(G8+R8))/10000+(F8+S8)/100000+(S8)/1000000)))","v":false},{"$f":"IF(AU6=2,IF(AU7=2,SUM(AV6*1000+(BC6)/10+(BA6)/100+(BJ9)/1000+((F9+S9)-(G9+R9))/10000+(F9+S9)/100000+(S9)/1000000)))","v":false},{"$f":"IF(AU7=2,IF(AU6=2,SUM(AV7*1000+(BC7)/10+(BA7)/100+(BK9)/1000+((G9+R9)-(F9+S9))/10000+(G9+R9)/100000+(G9)/1000000)))","v":false},{"$f":"IF(AU4=3,IF(AU7=3,SUM(AV4*1000+(BC4)/10+(BA4)/100+(BJ6)/1000+((F6+S6)-(G6+R6))/10000+(F6+S6)/100000+(S6)/1000000)))","v":false},{"$f":"IF(AU5=3,IF(AU7=3,SUM(AV5*1000+(BC5)/10+(BA5)/100+(BJ8)/1000+((F8+S8)-(G8+R8))/10000+(F8+S8)/100000+(S8)/1000000)))","v":false},{"$f":"IF(AU6=3,IF(AU7=3,SUM(AV6*1000+(BC6)/10+(BA6)/100+(BJ9)/1000+((F9+S9)-(G9+R9))/10000+(F9+S9)/100000+(S9)/1000000)))","v":false},{"$f":"IF(AU7=3,IF(AU6=3,SUM(AV7*1000+(BC7)/10+(BA7)/100+(BK9)/1000+((G9+R9)-(F9+S9))/10000+(G9+R9)/100000+(G9)/1000000)))","v":false},{"$f":"IF(AU4=4,IF(AU7=4,SUM(AV4*1000+(BC4)/10+(BA4)/100+(BJ6)/1000+((F6+S6)-(G6+R6))/10000+(F6+S6)/100000+(S6)/1000000)))","v":false},{"$f":"IF(AU5=4,IF(AU7=4,SUM(AV5*1000+(BC5)/10+(BA5)/100+(BJ8)/1000+((F8+S8)-(G8+R8))/10000+(F8+S8)/100000+(S8)/1000000)))","v":false},{"$f":"IF(AU6=4,IF(AU7=4,SUM(AV6*1000+(BC6)/10+(BA6)/100+(BJ9)/1000+((F9+S9)-(G9+R9))/10000+(F9+S9)/100000+(S9)/1000000)))","v":false},{"$f":"IF(AU7=4,IF(AU6=4,SUM(AV7*1000+(BC7)/10+(BA7)/100+(BK9)/1000+((G9+R9)-(F9+S9))/10000+(G9+R9)/100000+(G9)/1000000)))","v":false}]
[{"$f":"AP5","v":"TUNISIE"},null,null,null,null,0,0,{"$f":"AP7","v":"LIBYE"},null,null,null,null,"LIBYE",null,null,null,null,0,1,"TUNISIE",null,null,null,null,null,null,null,null,"GROUPE  A",null,null,null,null,null,null,null,null,null,null,null,null,null,null,null,null,null,null,null,null,null,null,null,null,null,null,null,null,1,1,0,3,4,1,1,1,1,1,false,false,false,1,1,1,false,false,false,false,1,false,0,0,0,1,1,0,0,0,1,0,0,1,{"$f":"SUM(CN4:CN7)","v":0},1000000,0,0,800000,0,0,0,0,0,0,600000,0,0,400000,0]
[{"$f":"AP6","v":"GUINÉE"},null,null,null,null,3,2,{"$f":"AP7","v":"LIBYE"},null,null,null,null,"LIBYE",null,null,null,null,1,0,"GUINÉE",null,null,null,null,null,null,null,null,null,null,null,null,null,null,null,null,null,null,null,null,null,null,null,null,null,null,null,null,null,null,null,null,null,null,null,null,null,3,0,3,0,3,3,1,1,1,1,1,false,1,false,false,false,false,false,false,1,false,1,3,2,1,0,3,3,2,3,0,1,3,3]
["ÉQUIPE  QUALIFIÉE",null,null,null,null,null,{"$f":"Z4","v":"TUNISIE"}]
[]
[]
[" ",null,null,null,null,null,null,null,null,null,null,null,null,null,null,null,null,null,null,null,null,null,null,null,null,null,null,null,null,null,null,null,null,null,null,null,null,null,null,1,{"$f":"BA13","v":2},{"$f":"AP4","v":"RD CONGO"},null,null,null,null,{"$f":"SUM(CN8,CR8,CV8,CZ8)","v":800000},null,null,{"$f":"AU13+0.00000004","v":800000.00000004005},null,null,{"$f":"RANK(AX13,AX13:AZ16)","v":2},{"$f":"RANK(AU13,AU13:AW16)","v":2},null,{"$f":"VLOOKUP(AN13,AO13:AT16,2,0)","v":"TUNISIE"},null,null,null,null,{"$f":"VLOOKUP(BD13,AP13:AW16,6,0)","v":1000000},null,null,{"$f":"RANK(BI13,BI13:BK16)","v":1}]
[null,null,null,null,null,null,null,null,null,null,null,null,null,null,null,null,null,null,null,null,null,null,null,null,null,null,null,null,null,null,null,null,null,null,null,null,null,null,null,2,{"$f":"BA14","v":1},{"$f":"AP5","v":"TUNISIE"},null,null,null,null,{"$f":"SUM(CO8,CS8,CW8,DA8)","v":1000000},null,null,{"$f":"AU14+0.00000003","v":1000000.00000003},null,null,{"$f":"RANK(AX14,AX13:AZ16)","v":1},{"$f":"RANK(AU14,AU13:AW16)","v":1},null,{"$f":"VLOOKUP(AN14,AO13:AT16,2,0)","v":"RD CONGO"},null,null,null,null,{"$f":"VLOOKUP(BD14,AP13:AW16,6,0)","v":800000},null,null,{"$f":"RANK(BI14,BI13:BK16)","v":2}]
[null,null,null,null,null,null,null,null,null,null,null,null,null,null,null,null,null,null,null,null,null,null,null,null,null,null,null,null,null,null,null,null,null,null,null,null,null,null,null,3,4,"GUINÉE",null,null,null,null,{"$f":"SUM(CP8,CT8,CX8,DB8)","v":400000},null,null,{"$f":"AU15+0.00000002","v":400000.00000002002},null,null,{"$f":"RANK(AX15,AX13:AZ16)","v":4},{"$f":"RANK(AU15,AU13:AW16)","v":4},null,{"$f":"VLOOKUP(AN15,AO13:AT16,2,0)","v":"LIBYE"},null,null,null,null,{"$f":"VLOOKUP(BD15,AP13:AW16,6,0)","v":600000},null,null,{"$f":"RANK(BI15,BI13:BK16)","v":3}]
[null,null,null,null,null,null,null,null,null,null,null,null,null,null,null,null,null,null,null,null,null,null,null,null,null,null,null,null,null,null,null,null,null,null,null,null,null,null,null,4,3,"LIBYE",null,null,null,null,{"$f":"SUM(CQ8,CU8,CY8,DC8)","v":600000},null,null,{"$f":"AU16+0.00000001","v":600000.00000001001},null,null,{"$f":"RANK(AX16,AX13:AZ16)","v":3},{"$f":"RANK(AU16,AU13:AW16)","v":3},null,{"$f":"VLOOKUP(AN16,AO13:AT16,2,0)","v":"GUINÉE"},null,null,null,null,{"$f":"VLOOKUP(BD16,AP13:AW16,6,0)","v":400000},null,null,{"$f":"RANK(BI16,BI13:BK16)","v":4}]
["MATCHS  ALLER",null,null,null,null,null,null,null,null,"GROUPE  B",null,null,null,null,null,"MATCHS  RETOUR",null,null,null,null,null,null,null,null,null,"CLASSEMENT",null,null,null,null,null,null,null,null,null,null,null,null,null,null,null,"CLASSEMENT"]
[]
["Équipes",null,null,null,null,"Bts","Bts","Équipes",null,null,null,null,"Équipes",null,null,null,null,"Bts","Bts","Équipes",null,null,null,null,null,"Équipes",null,null,null,null,"R","Pts","J","G","N","P","B +","B -","Diff",null,null,"Équipes",null,null,null,null,"R","Pts","J","G","N","P","B +","B -","Diff",null,null,"pts","pts","pts","pts","t pts","t pts","j","j","j","j","g","g","g","g","n","n","n","n","p","p","p","p","b+","b+","b+","b+","b+","b+","b-","b-","b-","b-","b-","b-",{"$f":"AP20","v":"NIGERIA"},{"$f":"AP21","v":"CAMEROUN"},{"$f":"AP22","v":"ZAMBIE"},{"$f":"AP23","v":"ALGÉRIE"},{"$f":"CN19","v":"NIGERIA"},{"$f":"CO19","v":"CAMEROUN"},{"$f":"CP19","v":"ZAMBIE"},{"$f":"CQ19","v":"ALGÉRIE"},{"$f":"CN19","v":"NIGERIA"},{"$f":"CO19","v":"CAMEROUN"},{"$f":"CP19","v":"ZAMBIE"},{"$f":"CQ19","v":"ALGÉRIE"},{"$f":"CN19","v":"NIGERIA"},{"$f":"CO19","v":"CAMEROUN"},{"$f":"CP19","v":"ZAMBIE"},{"$f":"CQ19","v":"ALGÉRIE"}]
[{"$f":"AP20","v":"NIGERIA"},null,null,null,null,4,0,{"$f":"AP21","v":"CAMEROUN"},null,null,null,null,{"$f":"H20","v":"CAMEROUN"},null,null,null,null,1,1,{"$f":"A20","v":"NIGERIA"},null,null,null,null,null,{"$f":"VLOOKUP(AN29,AO29:AT32,2,0)","v":"NIGERIA"},null,null,null,null,1,{"$f":"VLOOKUP(Z20,AP20:BC23,7,0)","v":14},{"$f":"VLOOKUP(Z20,AP20:BC23,8,0)","v":6},{"$f":"VLOOKUP(Z20,AP20:BC23,9,0)","v":4},{"$f":"VLOOKUP(Z20,AP20:BC23,10,0)","v":2},{"$f":"VLOOKUP(Z20,AP20:BC23,11,0)","v":0},{"$f":"VLOOKUP(Z20,AP20:BC23,12,0)","v":12},{"$f":"VLOOKUP(Z20,AP20:BC23,13,0)","v":4},{"$f":"VLOOKUP(Z20,AP20:BC23,14,0)","v":8},null,null,"NIGERIA",null,null,null,null,{"$f":"RANK(AV20,AV20:AV23)","v":1},{"$f":"SUMPRODUCT((A20:E25=AP20)*(BF20:BF25))+SUMPRODUCT((H20:L25=AP20)*(BG20:BG25))+SUMPRODUCT((M20:Q25=AP20)*(BH20:BH25))+SUMPRODUCT((T20:X25=AP20)*(BI20:BI25))","v":14},{"$f":"SUMPRODUCT((A20:E25=AP20)*(BL20:BL25))+SUMPRODUCT((H20:L25=AP20)*(BM20:BM25))+SUMPRODUCT((M20:Q25=AP20)*(BN20:BN25))+SUMPRODUCT((T20:X25=AP20)*(BO20:BO25))","v":6},{"$f":"SUMPRODUCT((A20:E25=AP20)*(BP20:BP25))+SUMPRODUCT((H20:L25=AP20)*(BQ20:BQ25))+SUMPRODUCT((M20:Q25=AP20)*(BR20:BR25))+SUMPRODUCT((T20:X25=AP20)*(BS20:BS25))","v":4},{"$f":"SUMPRODUCT((A20:E25=AP20)*(BT20:BT25))+SUMPRODUCT((H20:L25=AP20)*(BU20:BU25))+SUMPRODUCT((M20:Q25=AP20)*(BV20:BV25))+SUMPRODUCT((T20:X25=AP20)*(BW20:BW25))","v":2},{"$f":"SUMPRODUCT((A20:E25=AP20)*(BX20:BX25))+SUMPRODUCT((H20:L25=AP20)*(BY20:BY25))+SUMPRODUCT((M20:Q25=AP20)*(BZ20:BZ25))+SUMPRODUCT((T20:X25=AP20)*(CA20:CA25))","v":0},{"$f":"SUMPRODUCT((A20:E25=AP20)*(CB20:CB25))+SUMPRODUCT((H20:L25=AP20)*(CC20:CC25))+SUMPRODUCT((M20:Q25=AP20)*(CD20:CD25))+SUMPRODUCT((T20:X25=AP20)*(CE20:CE25))","v":12},{"$f":"SUMPRODUCT((A20:E25=AP20)*(CH20:CH25))+SUMPRODUCT((H20:L25=AP20)*(CI20:CI25))+SUMPRODUCT((M20:Q25=AP20)*(CJ20:CJ25))+SUMPRODUCT((T20:X25=AP20)*(CK20:CK25))","v":4},{"$f":"BA20-BB20","v":8},null,null,{"$f":"IF(F20=\"\",0,IF(F20>G20,3,IF(F20=G20,1,IF(F20<G20,0))))","v":3},{"$f":"IF(G20=\"\",0,IF(G20>F20,3,IF(G20=F20,1,IF(G20<F20,0))))","v":0},{"$f":"IF(R20=\"\",0,IF(R20>S20,3,IF(R20=S20,1,IF(R20<S20,0))))","v":1},{"$f":"IF(S20=\"\",0,IF(S20>R20,3,IF(S20=R20,1,IF(S20<R20,0))))","v":1},{"$f":"BF20+BI20","v":4},{"$f":"BG20+BH20","v":1},{"$f":"IF(F20=\"\",0,1)","v":1},{"$f":"IF(G20=\"\",0,1)","v":1},{"$f":"IF(R20=\"\",0,1)","v":1},{"$f":"IF(S20=\"\",0,1)","v":1},{"$f":"IF(F20<>\"\",IF(F20>G20,1))","v":1},{"$f":"IF(G20<>\"\",IF(G20>F20,1))","v":false},{"$f":"IF(R20<>\"\",IF(R20>S20,1))","v":false},{"$f":"IF(S20<>\"\",IF(S20>R20,1))","v":false},{"$f":"IF(F20<>\"\",IF(F20=G20,1))","v":false},{"$f":"IF(G20<>\"\",IF(G20=F20,1))","v":false},{"$f":"IF(R20<>\"\",IF(R20=S20,1))","v":1},{"$f":"IF(S20<>\"\",IF(S20=R20,1))","v":1},{"$f":"IF(F20<>\"\",IF(F20<G20,1))","v":false},{"$f":"IF(G20<>\"\",IF(G20<F20,1))","v":1},{"$f":"IF(R20<>\"\",IF(R20<S20,1))","v":false},{"$f":"IF(S20<>\"\",IF(S20<R20,1))","v":false},{"$f":"F20","v":4},{"$f":"G20","v":0},{"$f":"R20","v":1},{"$f":"S20","v":1},{"$f":"CB20+CE20","v":5},{"$f":"CC20+CD20","v":1},{"$f":"G20","v":0},{"$f":"F20","v":4},{"$f":"S20","v":1},{"$f":"R20","v":1},{"$f":"CH20+CK20","v":1},{"$f":"CI20+CJ20","v":5},{"$f":"IF(AU20=1,1000000)","v":1000000},{"$f":"IF(AU21=1,1000000)","v":false},{"$f":"IF(AU22=1,1000000)","v":false},{"$f":"IF(AU23=1,1000000)","v":false},{"$f":"IF(AU20=2,800000)","v":false},{"$f":"IF(AU21=2,800000)","v":false},{"$f":"IF(AU22=2,800000)","v":800000},{"$f":"IF(AU23=2,800000)","v":false},{"$f":"IF(AU20=3,600000)","v":false},{"$f":"IF(AU21=3,600000)","v":600000},{"$f":"IF(AU22=3,600000)","v":false},{"$f":"IF(AU23=3,600000)","v":false},{"$f":"IF(AU20=4,400000)","v":false},{"$f":"IF(AU21=4,400000)","v":false},{"$f":"IF(AU22=4,400000)","v":false},{"$f":"IF(AU23=4,400000)","v":400000}]
[{"$f":"AP20","v":"NIGERIA"},null,null,null,null,1,0,{"$f":"AP22","v":"ZAMBIE"},null,null,null,null,{"$f":"H21","v":"ZAMBIE"},null,null,null,null,1,2,{"$f":"A21","v":"NIGERIA"},null,null,null,null,null,{"$f":"VLOOKUP(AN30,AO29:AT32,2,0)","v":"ZAMBIE"},null,null,null,null,{"$f":"IF(BI30=BI29,BL29,BL30)","v":2},{"$f":"VLOOKUP(Z21,AP20:BC23,7,0)","v":8},{"$f":"VLOOKUP(Z21,AP20:BC23,8,0)","v":6},{"$f":"VLOOKUP(Z21,AP20:BC23,9,0)","v":2},{"$f":"VLOOKUP(Z21,AP20:BC23,10,0)","v":2},{"$f":"VLOOKUP(Z21,AP20:BC23,11,0)","v":2},{"$f":"VLOOKUP(Z21,AP20:BC23,12,0)","v":8},{"$f":"VLOOKUP(Z21,AP20:BC23,13,0)","v":7},{"$f":"VLOOKUP(Z21,AP20:BC23,14,0)","v":1},null,null,"CAMEROUN",null,null,null,null,{"$f":"RANK(AV21,AV20:AV23)","v":3},{"$f":"SUMPRODUCT((A20:E25=AP21)*(BF20:BF25))+SUMPRODUCT((H20:L25=AP21)*(BG20:BG25))+SUMPRODUCT((M20:Q25=AP21)*(BH20:BH25))+SUMPRODUCT((T20:X25=AP21)*(BI20:BI25))","v":7},{"$f":"SUMPRODUCT((A20:E25=AP21)*(BL20:BL25))+SUMPRODUCT((H20:L25=AP21)*(BM20:BM25))+SUMPRODUCT((M20:Q25=AP21)*(BN20:BN25))+SUMPRODUCT((T20:X25=AP21)*(BO20:BO25))","v":6},{"$f":"SUMPRODUCT((A20:E25=AP21)*(BP20:BP25))+SUMPRODUCT((H20:L25=AP21)*(BQ20:BQ25))+SUMPRODUCT((M20:Q25=AP21)*(BR20:BR25))+SUMPRODUCT((T20:X25=AP21)*(BS20:BS25))","v":1},{"$f":"SUMPRODUCT((A20:E25=AP21)*(BT20:BT25))+SUMPRODUCT((H20:L25=AP21)*(BU20:BU25))+SUMPRODUCT((M20:Q25=AP21)*(BV20:BV25))+SUMPRODUCT((T20:X25=AP21)*(BW20:BW25))","v":4},{"$f":"SUMPRODUCT((A20:E25=AP21)*(BX20:BX25))+SUMPRODUCT((H20:L25=AP21)*(BY20:BY25))+SUMPRODUCT((M20:Q25=AP21)*(BZ20:BZ25))+SUMPRODUCT((T20:X25=AP21)*(CA20:CA25))","v":1},{"$f":"SUMPRODUCT((A20:E25=AP21)*(CB20:CB25))+SUMPRODUCT((H20:L25=AP21)*(CC20:CC25))+SUMPRODUCT((M20:Q25=AP21)*(CD20:CD25))+SUMPRODUCT((T20:X25=AP21)*(CE20:CE25))","v":7},{"$f":"SUMPRODUCT((A20:E25=AP21)*(CH20:CH25))+SUMPRODUCT((H20:L25=AP21)*(CI20:CI25))+SUMPRODUCT((M20:Q25=AP21)*(CJ20:CJ25))+SUMPRODUCT((T20:X25=AP21)*(CK20:CK25))","v":9},{"$f":"BA21-BB21","v":-2},null,null,{"$f":"IF(F21=\"\",0,IF(F21>G21,3,IF(F21=G21,1,IF(F21<G21,0))))","v":3},{"$f":"IF(G21=\"\",0,IF(G21>F21,3,IF(G21=F21,1,IF(G21<F21,0))))","v":0},{"$f":"IF(R21=\"\",0,IF(R21>S21,3,IF(R21=S21,1,IF(R21<S21,0))))","v":0},{"$f":"IF(S21=\"\",0,IF(S21>R21,3,IF(S21=R21,1,IF(S21<R21,0))))","v":3},{"$f":"BF21+BI21","v":6},{"$f":"BG21+BH21","v":0},{"$f":"IF(F21=\"\",0,1)","v":1},{"$f":"IF(G21=\"\",0,1)","v":1},{"$f":"IF(R21=\"\",0,1)","v":1},{"$f":"IF(S21=\"\",0,1)","v":1},{"$f":"IF(F21<>\"\",IF(F21>G21,1))","v":1},{"$f":"IF(G21<>\"\",IF(G21>F21,1))","v":false},{"$f":"IF(R21<>\"\",IF(R21>S21,1))","v":false},{"$f":"IF(S21<>\"\",IF(S21>R21,1))","v":1},{"$f":"IF(F21<>\"\",IF(F21=G21,1))","v":false},{"$f":"IF(G21<>\"\",IF(G21=F21,1))","v":false},{"$f":"IF(R21<>\"\",IF(R21=S21,1))","v":false},{"$f":"IF(S21<>\"\",IF(S21=R21,1))","v":false},{"$f":"IF(F21<>\"\",IF(F21<G21,1))","v":false},{"$f":"IF(G21<>\"\",IF(G21<F21,1))","v":1},{"$f":"IF(R21<>\"\",IF(R21<S21,1))","v":1},{"$f":"IF(S21<>\"\",IF(S21<R21,1))","v":false},{"$f":"F21","v":1},{"$f":"G21","v":0},{"$f":"R21","v":1},{"$f":"S21","v":2},{"$f":"CB21+CE21","v":3},{"$f":"CC21+CD21","v":1},{"$f":"G21","v":0},{"$f":"F21","v":1},{"$f":"S21","v":2},{"$f":"R21","v":1},{"$f":"CH21+CK21","v":1},{"$f":"CI21+CJ21","v":3},{"$f":"IF(AU20=1,IF(AU21=1,SUM(AV20*1000+(BC20)/10+(BA20)/100+(BJ20)/1000+((F20+S20)-(G20+R20))/10000+(F20+S20)/100000+(S20)/1000000)))","v":false},{"$f":"IF(AU21=1,IF(AU20=1,SUM(AV21*1000+(BC21)/10+(BA21)/100+(BK20)/1000+((G20+R20)-(F20+S20))/10000+(G20+R20)/100000+(G20)/1000000)))","v":false},{"$f":"IF(AU22=1,IF(AU20=1,SUM(AV22*1000+(BC22)/10+(BA22)/100+(BK21)/1000+((G21+R21)-(F21+S21))/10000+(G21+R21)/100000+(G21)/1000000)))","v":false},{"$f":"IF(AU23=1,IF(AU20=1,SUM(AV23*1000+(BC23)/10+(BA23)/100+(BK22)/1000+((G22+R22)-(F22+S22))/10000+(G22+R22)/100000+(G22)/1000000)))","v":false},{"$f":"IF(AU20=2,IF(AU21=2,SUM(AV20*1000+(BC20)/10+(BA20)/100+(BJ20)/1000+((F20+S20)-(G20+R20))/10000+(F20+S20)/100000+(S20)/1000000)))","v":false},{"$f":"IF(AU21=2,IF(AU20=2,SUM(AV21*1000+(BC21)/10+(BA21)/100+(BK20)/1000+((G20+R20)-(F20+S20))/10000+(G20+R20)/100000+(G20)/1000000)))","v":false},{"$f":"IF(AU22=2,IF(AU20=2,SUM(AV22*1000+(BC22)/10+(BA22)/100+(BK21)/1000+((G21+R21)-(F21+S21))/10000+(G21+R21)/100000+(G21)/1000000)))","v":false},{"$f":"IF(AU23=2,IF(AU20=2,SUM(AV23*1000+(BC23)/10+(BA23)/100+(BK22)/1000+((G22+R22)-(F22+S22))/10000+(G22+R22)/100000+(G22)/1000000)))","v":false},{"$f":"IF(AU20=3,IF(AU21=3,SUM(AV20*1000+(BC20)/10+(BA20)/100+(BJ20)/1000+((F20+S20)-(G20+R20))/10000+(F20+S20)/100000+(S20)/1000000)))","v":false},{"$f":"IF(AU21=3,IF(AU20=3,SUM(AV21*1000+(BC21)/10+(BA21)/100+(BK20)/1000+((G20+R20)-(F20+S20))/10000+(G20+R20)/100000+(G20)/1000000)))","v":false},{"$f":"IF(AU22=3,IF(AU20=3,SUM(AV22*1000+(BC22)/10+(BA22)/100+(BK21)/1000+((G21+R21)-(F21+S21))/10000+(G21+R21)/100000+(G21)/1000000)))","v":false},{"$f":"IF(AU23=3,IF(AU20=3,SUM(AV23*1000+(BC23)/10+(BA23)/100+(BK22)/1000+((G22+R22)-(F22+S22))/10000+(G22+R22)/100000+(G22)/1000000)))","v":false},{"$f":"IF(AU20=4,IF(AU21=4,SUM(AV20*1000+(BC20)/10+(BA20)/100+(BJ20)/1000+((F20+S20)-(G20+R20))/10000+(F20+S20)/100000+(S20)/1000000)))","v":false},{"$f":"IF(AU21=4,IF(AU20=4,SUM(AV21*1000+(BC21)/10+(BA21)/100+(BK20)/1000+((G20+R20)-(F20+S20))/10000+(G20+R20)/100000+(G20)/1000000)))","v":false},{"$f":"IF(AU22=4,IF(AU20=4,SUM(AV22*1000+(BC22)/10+(BA22)/100+(BK21)/1000+((G21+R21)-(F21+S21))/10000+(G21+R21)/100000+(G21)/1000000)))","v":false},{"$f":"IF(AU23=4,IF(AU20=4,SUM(AV23*1000+(BC23)/10+(BA23)/100+(BK22)/1000+((G22+R22)-(F22+S22))/10000+(G22+R22)/100000+(G22)/1000000)))","v":false}]
[{"$f":"AP20","v":"NIGERIA"},null,null,null,null,3,1,{"$f":"AP23","v":"ALGÉRIE"},null,null,null,null,"ALGÉRIE",null,null,null,null,1,1,"NIGERIA",null,null,null,null,null,{"$f":"VLOOKUP(AN31,AO29:AT32,2,0)","v":"CAMEROUN"},null,null,null,null,{"$f":"IF(BI31=BI30,BL30,BL31)","v":3},{"$f":"VLOOKUP(Z22,AP20:BC23,7,0)","v":7},{"$f":"VLOOKUP(Z22,AP20:BC23,8,0)","v":6},{"$f":"VLOOKUP(Z22,AP20:BC23,9,0)","v":1},{"$f":"VLOOKUP(Z22,AP20:BC23,10,0)","v":4},{"$f":"VLOOKUP(Z22,AP20:BC23,11,0)","v":1},{"$f":"VLOOKUP(Z22,AP20:BC23,12,0)","v":7},{"$f":"VLOOKUP(Z22,AP20:BC23,13,0)","v":9},{"$f":"VLOOKUP(Z22,AP20:BC23,14,0)","v":-2},null,null,"ZAMBIE",null,null,null,null,{"$f":"RANK(AV22,AV20:AV23)","v":2},{"$f":"SUMPRODUCT((A20:E25=AP22)*(BF20:BF25))+SUMPRODUCT((H20:L25=AP22)*(BG20:BG25))+SUMPRODUCT((M20:Q25=AP22)*(BH20:BH25))+SUMPRODUCT((T20:X25=AP22)*(BI20:BI25))","v":8},{"$f":"SUMPRODUCT((A20:E25=AP22)*(BL20:BL25))+SUMPRODUCT((H20:L25=AP22)*(BM20:BM25))+SUMPRODUCT((M20:Q25=AP22)*(BN20:BN25))+SUMPRODUCT((T20:X25=AP22)*(BO20:BO25))","v":6},{"$f":"SUMPRODUCT((A20:E25=AP22)*(BP20:BP25))+SUMPRODUCT((H20:L25=AP22)*(BQ20:BQ25))+SUMPRODUCT((M20:Q25=AP22)*(BR20:BR25))+SUMPRODUCT((T20:X25=AP22)*(BS20:BS25))","v":2},{"$f":"SUMPRODUCT((A20:E25=AP22)*(BT20:BT25))+SUMPRODUCT((H20:L25=AP22)*(BU20:BU25))+SUMPRODUCT((M20:Q25=AP22)*(BV20:BV25))+SUMPRODUCT((T20:X25=AP22)*(BW20:BW25))","v":2},{"$f":"SUMPRODUCT((A20:E25=AP22)*(BX20:BX25))+SUMPRODUCT((H20:L25=AP22)*(BY20:BY25))+SUMPRODUCT((M20:Q25=AP22)*(BZ20:BZ25))+SUMPRODUCT((T20:X25=AP22)*(CA20:CA25))","v":2},{"$f":"SUMPRODUCT((A20:E25=AP22)*(CB20:CB25))+SUMPRODUCT((H20:L25=AP22)*(CC20:CC25))+SUMPRODUCT((M20:Q25=AP22)*(CD20:CD25))+SUMPRODUCT((T20:X25=AP22)*(CE20:CE25))","v":8},{"$f":"SUMPRODUCT((A20:E25=AP22)*(CH20:CH25))+SUMPRODUCT((H20:L25=AP22)*(CI20:CI25))+SUMPRODUCT((M20:Q25=AP22)*(CJ20:CJ25))+SUMPRODUCT((T20:X25=AP22)*(CK20:CK25))","v":7},1,null,null,3,0,1,1,4,1,1,1,1,1,1,false,false,false,false,false,1,1,false,1,false,false,3,1,1,1,4,2,1,3,1,1,2,4,{"$f":"IF(AU20=1,IF(AU23=1,SUM(AV20*1000+(BC20)/10+(BA20)/100+(BJ22)/1000+((F22+S22)-(G22+R22))/10000+(F22+S22)/100000+(S22)/1000000)))","v":false},{"$f":"IF(AU21=1,IF(AU22=1,SUM(AV21*1000+(BC21)/10+(BA21)/100+(BJ28)/1000+((F28+S28)-(G28+R28))/10000+(F28+S28)/100000+(S28)/1000000)))","v":false},{"$f":"IF(AU22=1,IF(AU21=1,SUM(AV22*1000+(BC22)/10+(BA22)/100+(BK28)/1000+((G28+R28)-(F28+S28))/10000+(G28+R28)/1000000+(G28)/1000000)))","v":false},{"$f":"IF(AU23=1,IF(AU21=1,SUM(AV23*1000+(BC23)/10+(BA23)/100+(BK24)/1000+((G24+R24)-(F24+S24))/10000+(G24-R24)/100000+(G24)/1000000)))","v":false},{"$f":"IF(AU20=2,IF(AU23=2,SUM(AV20*1000+(BC20)/10+(BA20)/100+(BJ22)/1000+((F22+S22)-(G22+R22))/10000+(F22+S22)/100000+(S22)/1000000)))","v":false},{"$f":"IF(AU21=2,IF(AU22=2,SUM(AV21*1000+(BC21)/10+(BA21)/100+(BJ28)/1000+((F28+S28)-(G28+R28))/10000+(F28+S28)/100000+(S28)/1000000)))","v":false},{"$f":"IF(AU22=2,IF(AU21=2,SUM(AV22*1000+(BC22)/10+(BA22)/100+(BK28)/1000+((G28+R28)-(F28+S28))/10000+(G28+R28)/1000000+(G28)/1000000)))","v":false},{"$f":"IF(AU23=2,IF(AU21=2,SUM(AV23*1000+(BC23)/10+(BA23)/100+(BK24)/1000+((G24+R24)-(F24+S24))/10000+(G24-R24)/100000+(G24)/1000000)))","v":false},{"$f":"IF(AU20=3,IF(AU23=3,SUM(AV20*1000+(BC20)/10+(BA20)/100+(BJ22)/1000+((F22+S22)-(G22+R22))/10000+(F22+S22)/100000+(S22)/1000000)))","v":false},{"$f":"IF(AU21=3,IF(AU22=3,SUM(AV21*1000+(BC21)/10+(BA21)/100+(BJ28)/1000+((F28+S28)-(G28+R28))/10000+(F28+S28)/100000+(S28)/1000000)))","v":false},{"$f":"IF(AU22=3,IF(AU21=3,SUM(AV22*1000+(BC22)/10+(BA22)/100+(BK28)/1000+((G28+R28)-(F28+S28))/10000+(G28+R28)/1000000+(G28)/1000000)))","v":false},{"$f":"IF(AU23=3,IF(AU21=3,SUM(AV23*1000+(BC23)/10+(BA23)/100+(BK24)/1000+((G24+R24)-(F24+S24))/10000+(G24-R24)/100000+(G24)/1000000)))","v":false},{"$f":"IF(AU20=4,IF(AU23=4,SUM(AV20*1000+(BC20)/10+(BA20)/100+(BJ22)/1000+((F22+S22)-(G22+R22))/10000+(F22+S22)/100000+(S22)/1000000)))","v":false},{"$f":"IF(AU21=4,IF(AU22=4,SUM(AV21*1000+(BC21)/10+(BA21)/100+(BJ28)/1000+((F28+S28)-(G28+R28))/10000+(F28+S28)/100000+(S28)/1000000)))","v":false},{"$f":"IF(AU22=4,IF(AU21=4,SUM(AV22*1000+(BC22)/10+(BA22)/100+(BK28)/1000+((G28+R28)-(F28+S28))/10000+(G28+R28)/1000000+(G28)/1000000)))","v":false},{"$f":"IF(AU23=4,IF(AU21=4,SUM(AV23*1000+(BC23)/10+(BA23)/100+(BK24)/1000+((G24+R24)-(F24+S24))/10000+(G24-R24)/100000+(G24)/1000000)))","v":false}]
[{"$f":"AP21","v":"CAMEROUN"},null,null,null,null,1,1,{"$f":"AP22","v":"ZAMBIE"},null,null,null,null,"ZAMBIE",null,null,null,null,2,2,"CAMEROUN",null,null,null,null,null,{"$f":"VLOOKUP(AN32,AO29:AT32,2,0)","v":"ALGÉRIE"},null,null,null,null,4,{"$f":"VLOOKUP(Z23,AP20:BC23,7,0)","v":2},{"$f":"VLOOKUP(Z23,AP20:BC23,8,0)","v":6},{"$f":"VLOOKUP(Z23,AP20:BC23,9,0)","v":0},{"$f":"VLOOKUP(Z23,AP20:BC23,10,0)","v":2},{"$f":"VLOOKUP(Z23,AP20:BC23,11,0)","v":4},{"$f":"VLOOKUP(Z23,AP20:BC23,12,0)","v":4},{"$f":"VLOOKUP(Z23,AP20:BC23,13,0)","v":11},{"$f":"VLOOKUP(Z23,AP20:BC23,14,0)","v":-7},null,null,"ALGÉRIE",null,null,null,null,{"$f":"RANK(AV23,AV20:AV23)","v":4},{"$f":"SUMPRODUCT((A20:E25=AP23)*(BF20:BF25))+SUMPRODUCT((H20:L25=AP23)*(BG20:BG25))+SUMPRODUCT((M20:Q25=AP23)*(BH20:BH25))+SUMPRODUCT((T20:X25=AP23)*(BI20:BI25))","v":2},{"$f":"SUMPRODUCT((A20:E25=AP23)*(BL20:BL25))+SUMPRODUCT((H20:L25=AP23)*(BM20:BM25))+SUMPRODUCT((M20:Q25=AP23)*(BN20:BN25))+SUMPRODUCT((T20:X25=AP23)*(BO20:BO25))","v":6},{"$f":"SUMPRODUCT((A20:E25=AP23)*(BP20:BP25))+SUMPRODUCT((H20:L25=AP23)*(BQ20:BQ25))+SUMPRODUCT((M20:Q25=AP23)*(BR20:BR25))+SUMPRODUCT((T20:X25=AP23)*(BS20:BS25))","v":0},{"$f":"SUMPRODUCT((A20:E25=AP23)*(BT20:BT25))+SUMPRODUCT((H20:L25=AP23)*(BU20:BU25))+SUMPRODUCT((M20:Q25=AP23)*(BV20:BV25))+SUMPRODUCT((T20:X25=AP23)*(BW20:BW25))","v":2},{"$f":"SUMPRODUCT((A20:E25=AP23)*(BX20:BX25))+SUMPRODUCT((H20:L25=AP23)*(BY20:BY25))+SUMPRODUCT((M20:Q25=AP23)*(BZ20:BZ25))+SUMPRODUCT((T20:X25=AP23)*(CA20:CA25))","v":4},{"$f":"SUMPRODUCT((A20:E25=AP23)*(CB20:CB25))+SUMPRODUCT((H20:L25=AP23)*(CC20:CC25))+SUMPRODUCT((M20:Q25=AP23)*(CD20:CD25))+SUMPRODUCT((T20:X25=AP23)*(CE20:CE25))","v":4},{"$f":"SUMPRODUCT((A20:E25=AP23)*(CH20:CH25))+SUMPRODUCT((H20:L25=AP23)*(CI20:CI25))+SUMPRODUCT((M20:Q25=AP23)*(CJ20:CJ25))+SUMPRODUCT((T20:X25=AP23)*(CK20:CK25))","v":11},-7,null,null,1,1,1,1,2,2,1,1,1,1,false,false,false,false,1,1,1,1,false,false,false,false,1,1,2,2,3,3,1,1,2,2,3,3,{"$f":"IF(AU20=1,IF(AU23=1,SUM(AV20*1000+(BC20)/10+(BA20)/100+(BJ22)/1000+((F22+S22)-(G22+R22))/10000+(F22+S22)/100000+(S22)/1000000)))","v":false},{"$f":"IF(AU21=1,IF(AU23=1,SUM(AV21*1000+(BC21)/10+(BA21)/100+(BJ24)/1000+((F24+S24)-(G24+R24))/10000+(F24+S24)/100000+(S24)/1000000)))","v":false},{"$f":"IF(AU22=1,IF(AU23=1,SUM(AV22*1000+(BC22)/10+(BA22)/100+(BJ25)/1000+((F25+S25)-(G25+R25))/10000+(F25+S25)/100000+(S25)/1000000)))","v":false},{"$f":"IF(AU23=1,IF(AU22=1,SUM(AV23*1000+(BC23)/10+(BA23)/100+(BK25)/1000+((G25+R25)-(F25+S25))/10000+(G25+R25)/100000+(G25)/1000000)))","v":false},{"$f":"IF(AU20=2,IF(AU23=2,SUM(AV20*1000+(BC20)/10+(BA20)/100+(BJ22)/1000+((F22+S22)-(G22+R22))/10000+(F22+S22)/100000+(S22)/1000000)))","v":false},{"$f":"IF(AU21=2,IF(AU23=2,SUM(AV21*1000+(BC21)/10+(BA21)/100+(BJ24)/1000+((F24+S24)-(G24+R24))/10000+(F24+S24)/100000+(S24)/1000000)))","v":false},{"$f":"IF(AU22=2,IF(AU23=2,SUM(AV22*1000+(BC22)/10+(BA22)/100+(BJ25)/1000+((F25+S25)-(G25+R25))/10000+(F25+S25)/100000+(S25)/1000000)))","v":false},{"$f":"IF(AU23=2,IF(AU22=2,SUM(AV23*1000+(BC23)/10+(BA23)/100+(BK25)/1000+((G25+R25)-(F25+S25))/10000+(G25+R25)/100000+(G25)/1000000)))","v":false},{"$f":"IF(AU20=3,IF(AU23=3,SUM(AV20*1000+(BC20)/10+(BA20)/100+(BJ22)/1000+((F22+S22)-(G22+R22))/10000+(F22+S22)/100000+(S22)/1000000)))","v":false},{"$f":"IF(AU21=3,IF(AU23=3,SUM(AV21*1000+(BC21)/10+(BA21)/100+(BJ24)/1000+((F24+S24)-(G24+R24))/10000+(F24+S24)/100000+(S24)/1000000)))","v":false},{"$f":"IF(AU22=3,IF(AU23=3,SUM(AV22*1000+(BC22)/10+(BA22)/100+(BJ25)/1000+((F25+S25)-(G25+R25))/10000+(F25+S25)/100000+(S25)/1000000)))","v":false},{"$f":"IF(AU23=3,IF(AU22=3,SUM(AV23*1000+(BC23)/10+(BA23)/100+(BK25)/1000+((G25+R25)-(F25+S25))/10000+(G25+R25)/100000+(G25)/1000000)))","v":false},{"$f":"IF(AU20=4,IF(AU23=4,SUM(AV20*1000+(BC20)/10+(BA20)/100+(BJ22)/1000+((F22+S22)-(G22+R22))/10000+(F22+S22)/100000+(S22)/1000000)))","v":false},{"$f":"IF(AU21=4,IF(AU23=4,SUM(AV21*1000+(BC21)/10+(BA21)/100+(BJ24)/1000+((F24+S24)-(G24+R24))/10000+(F24+S24)/100000+(S24)/1000000)))","v":false},{"$f":"IF(AU22=4,IF(AU23=4,SUM(AV22*1000+(BC22)/10+(BA22)/100+(BJ25)/1000+((F25+S25)-(G25+R25))/10000+(F25+S25)/100000+(S25)/1000000)))","v":false},{"$f":"IF(AU23=4,IF(AU22=4,SUM(AV23*1000+(BC23)/10+(BA23)/100+(BK25)/1000+((G25+R25)-(F25+S25))/10000+(G25+R25)/100000+(G25)/1000000)))","v":false}]
[{"$f":"AP21","v":"CAMEROUN"},null,null,null,null,2,0,{"$f":"AP23","v":"ALGÉRIE"},null,null,null,null,"ALGÉRIE",null,null,null,null,1,1,"CAMEROUN",null,null,null,null,null,null,null,null,"GROUPE  B",null,null,null,null,null,null,null,null,null,null,null,null,null,null,null,null,null,null,null,null,null,null,null,null,null,null,null,null,3,0,1,1,4,1,1,1,1,1,1,false,false,false,false,false,1,1,false,1,false,false,2,0,1,1,3,1,0,2,1,1,1,3,{"$f":"SUM(CN20:CN23)","v":1000000},0,0,0,0,0,800000,0,0,600000,0,0,0,0,0,400000]
[{"$f":"AP22","v":"ZAMBIE"},null,null,null,null,3,1,{"$f":"AP23","v":"ALGÉRIE"},null,null,null,null,"ALGÉRIE",null,null,null,null,0,1,"ZAMBIE",null,null,null,null,null,null,null,null,null,null,null,null,null,null,null,null,null,null,null,null,null,null,null,null,null,null,null,null,null,null,null,null,null,null,null,null,null,3,0,0,3,6,0,1,1,1,1,1,false,false,1,false,false,false,false,false,1,1,false,3,1,0,1,4,1,1,3,1,0,1,4]
["ÉQUIPE  QUALIFIÉE",null,null,null,null,null,{"$f":"Z20","v":"NIGERIA"}]
[]
[]
[null,null,null,null,null,null,null,null,null,null,null,null,null,null,null,null,null,null,null,null,null,null,null,null,null,null,null,null,null,null,null,null,null,null,null,null,null,null,null,1,{"$f":"BA29","v":1},{"$f":"AP20","v":"NIGERIA"},null,null,null,null,{"$f":"SUM(CN24,CR24,CV24,CZ24)","v":1000000},null,null,{"$f":"AU29+0.00000004","v":1000000.00000004},null,null,{"$f":"RANK(AX29,AX29:AZ32)","v":1},{"$f":"RANK(AU29,AU29:AW32)","v":1},null,{"$f":"VLOOKUP(AN29,AO29:AT32,2,0)","v":"NIGERIA"},null,null,null,null,{"$f":"VLOOKUP(BD29,AP29:AW32,6,0)","v":1000000},null,null,{"$f":"RANK(BI29,BI29:BK32)","v":1}]
[null,null,null,null,null,null,null,null,null,null,null,null,null,null,null,null,null,null,null,null,null,null,null,null,null,null,null,null,null,null,null,null,null,null,null,null,null,null,null,2,{"$f":"BA30","v":3},{"$f":"AP21","v":"CAMEROUN"},null,null,null,null,{"$f":"SUM(CO24,CS24,CW24,DA24)","v":600000},null,null,{"$f":"AU30+0.00000003","v":600000.00000003004},null,null,{"$f":"RANK(AX30,AX29:AZ32)","v":3},{"$f":"RANK(AU30,AU29:AW32)","v":3},null,{"$f":"VLOOKUP(AN30,AO29:AT32,2,0)","v":"ZAMBIE"},null,null,null,null,{"$f":"VLOOKUP(BD30,AP29:AW32,6,0)","v":800000},null,null,{"$f":"RANK(BI30,BI29:BK32)","v":2}]
[null,null,null,null,null,null,null,null,null,null,null,null,null,null,null,null,null,null,null,null,null,null,null,null,null,null,null,null,null,null,null,null,null,null,null,null,null,null,null,3,2,"ZAMBIE",null,null,null,null,{"$f":"SUM(CP24,CT24,CX24,DB24)","v":800000},null,null,{"$f":"AU31+0.00000002","v":800000.00000002002},null,null,{"$f":"RANK(AX31,AX29:AZ32)","v":2},{"$f":"RANK(AU31,AU29:AW32)","v":2},null,{"$f":"VLOOKUP(AN31,AO29:AT32,2,0)","v":"CAMEROUN"},null,null,null,null,{"$f":"VLOOKUP(BD31,AP29:AW32,6,0)","v":600000},null,null,{"$f":"RANK(BI31,BI29:BK32)","v":3}]
[null,null,null,null,null,null,null,null,null,null,null,null,null,null,null,null,null,null,null,null,null,null,null,null,null,null,null,null,null,null,null,null,null,null,null,null,null,null,null,4,4,"ALGÉRIE",null,null,null,null,{"$f":"SUM(CQ24,CU24,CY24,DC24)","v":400000},null,null,{"$f":"AU32+0.00000001","v":400000.00000001001},null,null,{"$f":"RANK(AX32,AX29:AZ32)","v":4},{"$f":"RANK(AU32,AU29:AW32)","v":4},null,{"$f":"VLOOKUP(AN32,AO29:AT32,2,0)","v":"ALGÉRIE"},null,null,null,null,{"$f":"VLOOKUP(BD32,AP29:AW32,6,0)","v":400000},null,null,{"$f":"RANK(BI32,BI29:BK32)","v":4}]
["MATCHS  ALLER",null,null,null,null,null,null,null,null,"GROUPE  C",null,null,null,null,null,"MATCHS  RETOUR",null,null,null,null,null,null,null,null,null,"CLASSEMENT",null,null,null,null,null,null,null,null,null,null,null,null,null,null,null,"CLASSEMENT"]
[]
["Équipes",null,null,null,null,"Bts","Bts","Équipes",null,null,null,null,"Équipes",null,null,null,null,"Bts","Bts","Équipes",null,null,null,null,null,"Équipes",null,null,null,null,"R","Pts","J","G","N","P","B +","B -","Diff",null,null,"Équipes",null,null,null,null,"R","Pts","J","G","N","P","B +","B -","Diff",null,null,"pts","pts","pts","pts","t pts","t pts","j","j","j","j","g","g","g","g","n","n","n","n","p","p","p","p","b+","b+","b+","b+","b+","b+","b-","b-","b-","b-","b-","b-",{"$f":"AP36","v":"CÔTE D'IVOIRE"},{"$f":"AP37","v":"MAROC"},{"$f":"AP38","v":"GABON"},{"$f":"AP39","v":"MALI"},{"$f":"CN35","v":"CÔTE D'IVOIRE"},{"$f":"CO35","v":"MAROC"},{"$f":"CP35","v":"GABON"},{"$f":"CQ35","v":"MALI"},{"$f":"CN35","v":"CÔTE D'IVOIRE"},{"$f":"CO35","v":"MAROC"},{"$f":"CP35","v":"GABON"},{"$f":"CQ35","v":"MALI"},{"$f":"CN35","v":"CÔTE D'IVOIRE"},{"$f":"CO35","v":"MAROC"},{"$f":"CP35","v":"GABON"},{"$f":"CQ35","v":"MALI"}]
[{"$f":"AP36","v":"CÔTE D'IVOIRE"},null,null,null,null,0,2,{"$f":"AP37","v":"MAROC"},null,null,null,null,{"$f":"H36","v":"MAROC"},null,null,null,null,0,0,{"$f":"A36","v":"CÔTE D'IVOIRE"},null,null,null,null,null,{"$f":"VLOOKUP(AN45,AO45:AT48,2,0)","v":"MAROC"},null,null,null,null,1,{"$f":"VLOOKUP(Z36,AP36:BC39,7,0)","v":12},{"$f":"VLOOKUP(Z36,AP36:BC39,8,0)","v":6},{"$f":"VLOOKUP(Z36,AP36:BC39,9,0)","v":3},{"$f":"VLOOKUP(Z36,AP36:BC39,10,0)","v":3},{"$f":"VLOOKUP(Z36,AP36:BC39,11,0)","v":0},{"$f":"VLOOKUP(Z36,AP36:BC39,12,0)","v":11},{"$f":"VLOOKUP(Z36,AP36:BC39,13,0)","v":0},{"$f":"VLOOKUP(Z36,AP36:BC39,14,0)","v":11},null,null,"CÔTE D'IVOIRE",null,null,null,null,{"$f":"RANK(AV36,AV36:AV39)","v":2},{"$f":"SUMPRODUCT((A36:E41=AP36)*(BF36:BF41))+SUMPRODUCT((H36:L41=AP36)*(BG36:BG41))+SUMPRODUCT((M36:Q41=AP36)*(BH36:BH41))+SUMPRODUCT((T36:X41=AP36)*(BI36:BI41))","v":8},{"$f":"SUMPRODUCT((A36:E41=AP36)*(BL36:BL41))+SUMPRODUCT((H36:L41=AP36)*(BM36:BM41))+SUMPRODUCT((M36:Q41=AP36)*(BN36:BN41))+SUMPRODUCT((T36:X41=AP36)*(BO36:BO41))","v":6},{"$f":"SUMPRODUCT((A36:E41=AP36)*(BP36:BP41))+SUMPRODUCT((H36:L41=AP36)*(BQ36:BQ41))+SUMPRODUCT((M36:Q41=AP36)*(BR36:BR41))+SUMPRODUCT((T36:X41=AP36)*(BS36:BS41))","v":2},{"$f":"SUMPRODUCT((A36:E41=AP36)*(BT36:BT41))+SUMPRODUCT((H36:L41=AP36)*(BU36:BU41))+SUMPRODUCT((M36:Q41=AP36)*(BV36:BV41))+SUMPRODUCT((T36:X41=AP36)*(BW36:BW41))","v":2},{"$f":"SUMPRODUCT((A36:E41=AP36)*(BX36:BX41))+SUMPRODUCT((H36:L41=AP36)*(BY36:BY41))+SUMPRODUCT((M36:Q41=AP36)*(BZ36:BZ41))+SUMPRODUCT((T36:X41=AP36)*(CA36:CA41))","v":2},{"$f":"SUMPRODUCT((A36:E41=AP36)*(CB36:CB41))+SUMPRODUCT((H36:L41=AP36)*(CC36:CC41))+SUMPRODUCT((M36:Q41=AP36)*(CD36:CD41))+SUMPRODUCT((T36:X41=AP36)*(CE36:CE41))","v":7},{"$f":"SUMPRODUCT((A36:E41=AP36)*(CH36:CH41))+SUMPRODUCT((H36:L41=AP36)*(CI36:CI41))+SUMPRODUCT((M36:Q41=AP36)*(CJ36:CJ41))+SUMPRODUCT((T36:X41=AP36)*(CK36:CK41))","v":5},{"$f":"BA36-BB36","v":2},null,null,{"$f":"IF(F36=\"\",0,IF(F36>G36,3,IF(F36=G36,1,IF(F36<G36,0))))","v":0},{"$f":"IF(G36=\"\",0,IF(G36>F36,3,IF(G36=F36,1,IF(G36<F36,0))))","v":3},{"$f":"IF(R36=\"\",0,IF(R36>S36,3,IF(R36=S36,1,IF(R36<S36,0))))","v":1},{"$f":"IF(S36=\"\",0,IF(S36>R36,3,IF(S36=R36,1,IF(S36<R36,0))))","v":1},{"$f":"BF36+BI36","v":1},{"$f":"BG36+BH36","v":4},{"$f":"IF(F36=\"\",0,1)","v":1},{"$f":"IF(G36=\"\",0,1)","v":1},{"$f":"IF(R36=\"\",0,1)","v":1},{"$f":"IF(S36=\"\",0,1)","v":1},{"$f":"IF(F36<>\"\",IF(F36>G36,1))","v":false},{"$f":"IF(G36<>\"\",IF(G36>F36,1))","v":1},{"$f":"IF(R36<>\"\",IF(R36>S36,1))","v":false},{"$f":"IF(S36<>\"\",IF(S36>R36,1))","v":false},{"$f":"IF(F36<>\"\",IF(F36=G36,1))","v":false},{"$f":"IF(G36<>\"\",IF(G36=F36,1))","v":false},{"$f":"IF(R36<>\"\",IF(R36=S36,1))","v":1},{"$f":"IF(S36<>\"\",IF(S36=R36,1))","v":1},{"$f":"IF(F36<>\"\",IF(F36<G36,1))","v":1},{"$f":"IF(G36<>\"\",IF(G36<F36,1))","v":false},{"$f":"IF(R36<>\"\",IF(R36<S36,1))","v":false},{"$f":"IF(S36<>\"\",IF(S36<R36,1))","v":false},{"$f":"F36","v":0},{"$f":"G36","v":2},{"$f":"R36","v":0},{"$f":"S36","v":0},{"$f":"CB36+CE36","v":0},{"$f":"CC36+CD36","v":2},{"$f":"G36","v":2},{"$f":"F36","v":0},{"$f":"S36","v":0},{"$f":"R36","v":0},{"$f":"CH36+CK36","v":2},{"$f":"CI36+CJ36","v":0},{"$f":"IF(AU36=1,1000000)","v":false},{"$f":"IF(AU37=1,1000000)","v":1000000},{"$f":"IF(AU38=1,1000000)","v":false},{"$f":"IF(AU39=1,1000000)","v":false},{"$f":"IF(AU36=2,800000)","v":800000},{"$f":"IF(AU37=2,800000)","v":false},{"$f":"IF(AU38=2,800000)","v":false},{"$f":"IF(AU39=2,800000)","v":false},{"$f":"IF(AU36=3,600000)","v":false},{"$f":"IF(AU37=3,600000)","v":false},{"$f":"IF(AU38=3,600000)","v":600000},{"$f":"IF(AU39=3,600000)","v":false},{"$f":"IF(AU36=4,400000)","v":false},{"$f":"IF(AU37=4,400000)","v":false},{"$f":"IF(AU38=4,400000)","v":false},{"$f":"IF(AU39=4,400000)","v":400000}]
[{"$f":"AP36","v":"CÔTE D'IVOIRE"},null,null,null,null,1,2,{"$f":"AP38","v":"GABON"},null,null,null,null,{"$f":"H37","v":"GABON"},null,null,null,null,0,3,{"$f":"A37","v":"CÔTE D'IVOIRE"},null,null,null,null,null,{"$f":"VLOOKUP(AN46,AO45:AT48,2,0)","v":"CÔTE D'IVOIRE"},null,null,null,null,{"$f":"IF(BI46=BI45,BL45,BL46)","v":2},{"$f":"VLOOKUP(Z37,AP36:BC39,7,0)","v":8},{"$f":"VLOOKUP(Z37,AP36:BC39,8,0)","v":6},{"$f":"VLOOKUP(Z37,AP36:BC39,9,0)","v":2},{"$f":"VLOOKUP(Z37,AP36:BC39,10,0)","v":2},{"$f":"VLOOKUP(Z37,AP36:BC39,11,0)","v":2},{"$f":"VLOOKUP(Z37,AP36:BC39,12,0)","v":7},{"$f":"VLOOKUP(Z37,AP36:BC39,13,0)","v":5},{"$f":"VLOOKUP(Z37,AP36:BC39,14,0)","v":2},null,null,"MAROC",null,null,null,null,{"$f":"RANK(AV37,AV36:AV39)","v":1},{"$f":"SUMPRODUCT((A36:E41=AP37)*(BF36:BF41))+SUMPRODUCT((H36:L41=AP37)*(BG36:BG41))+SUMPRODUCT((M36:Q41=AP37)*(BH36:BH41))+SUMPRODUCT((T36:X41=AP37)*(BI36:BI41))","v":12},{"$f":"SUMPRODUCT((A36:E41=AP37)*(BL36:BL41))+SUMPRODUCT((H36:L41=AP37)*(BM36:BM41))+SUMPRODUCT((M36:Q41=AP37)*(BN36:BN41))+SUMPRODUCT((T36:X41=AP37)*(BO36:BO41))","v":6},{"$f":"SUMPRODUCT((A36:E41=AP37)*(BP36:BP41))+SUMPRODUCT((H36:L41=AP37)*(BQ36:BQ41))+SUMPRODUCT((M36:Q41=AP37)*(BR36:BR41))+SUMPRODUCT((T36:X41=AP37)*(BS36:BS41))","v":3},{"$f":"SUMPRODUCT((A36:E41=AP37)*(BT36:BT41))+SUMPRODUCT((H36:L41=AP37)*(BU36:BU41))+SUMPRODUCT((M36:Q41=AP37)*(BV36:BV41))+SUMPRODUCT((T36:X41=AP37)*(BW36:BW41))","v":3},{"$f":"SUMPRODUCT((A36:E41=AP37)*(BX36:BX41))+SUMPRODUCT((H36:L41=AP37)*(BY36:BY41))+SUMPRODUCT((M36:Q41=AP37)*(BZ36:BZ41))+SUMPRODUCT((T36:X41=AP37)*(CA36:CA41))","v":0},{"$f":"SUMPRODUCT((A36:E41=AP37)*(CB36:CB41))+SUMPRODUCT((H36:L41=AP37)*(CC36:CC41))+SUMPRODUCT((M36:Q41=AP37)*(CD36:CD41))+SUMPRODUCT((T36:X41=AP37)*(CE36:CE41))","v":11},{"$f":"SUMPRODUCT((A36:E41=AP37)*(CH36:CH41))+SUMPRODUCT((H36:L41=AP37)*(CI36:CI41))+SUMPRODUCT((M36:Q41=AP37)*(CJ36:CJ41))+SUMPRODUCT((T36:X41=AP37)*(CK36:CK41))","v":0},{"$f":"BA37-BB37","v":11},null,null,{"$f":"IF(F37=\"\",0,IF(F37>G37,3,IF(F37=G37,1,IF(F37<G37,0))))","v":0},{"$f":"IF(G37=\"\",0,IF(G37>F37,3,IF(G37=F37,1,IF(G37<F37,0))))","v":3},{"$f":"IF(R37=\"\",0,IF(R37>S37,3,IF(R37=S37,1,IF(R37<S37,0))))","v":0},{"$f":"IF(S37=\"\",0,IF(S37>R37,3,IF(S37=R37,1,IF(S37<R37,0))))","v":3},{"$f":"BF37+BI37","v":3},{"$f":"BG37+BH37","v":3},{"$f":"IF(F37=\"\",0,1)","v":1},{"$f":"IF(G37=\"\",0,1)","v":1},{"$f":"IF(R37=\"\",0,1)","v":1},{"$f":"IF(S37=\"\",0,1)","v":1},{"$f":"IF(F37<>\"\",IF(F37>G37,1))","v":false},{"$f":"IF(G37<>\"\",IF(G37>F37,1))","v":1},{"$f":"IF(R37<>\"\",IF(R37>S37,1))","v":false},{"$f":"IF(S37<>\"\",IF(S37>R37,1))","v":1},{"$f":"IF(F37<>\"\",IF(F37=G37,1))","v":false},{"$f":"IF(G37<>\"\",IF(G37=F37,1))","v":false},{"$f":"IF(R37<>\"\",IF(R37=S37,1))","v":false},{"$f":"IF(S37<>\"\",IF(S37=R37,1))","v":false},{"$f":"IF(F37<>\"\",IF(F37<G37,1))","v":1},{"$f":"IF(G37<>\"\",IF(G37<F37,1))","v":false},{"$f":"IF(R37<>\"\",IF(R37<S37,1))","v":1},{"$f":"IF(S37<>\"\",IF(S37<R37,1))","v":false},{"$f":"F37","v":1},{"$f":"G37","v":2},{"$f":"R37","v":0},{"$f":"S37","v":3},{"$f":"CB37+CE37","v":4},{"$f":"CC37+CD37","v":2},{"$f":"G37","v":2},{"$f":"F37","v":1},{"$f":"S37","v":3},{"$f":"R37","v":0},{"$f":"CH37+CK37","v":2},{"$f":"CI37+CJ37","v":4},{"$f":"IF(AU36=1,IF(AU37=1,SUM(AV36*1000+(BC36)/10+(BA36)/100+(BJ36)/1000+((F36+S36)-(G36+R36))/10000+(F36+S36)/100000+(S36)/1000000)))","v":false},{"$f":"IF(AU37=1,IF(AU36=1,SUM(AV37*1000+(BC37)/10+(BA37)/100+(BK36)/1000+((G36+R36)-(F36+S36))/10000+(G36+R36)/100000+(G36)/1000000)))","v":false},{"$f":"IF(AU38=1,IF(AU36=1,SUM(AV38*1000+(BC38)/10+(BA38)/100+(BK37)/1000+((G37+R37)-(F37+S37))/10000+(G37+R37)/100000+(G37)/1000000)))","v":false},{"$f":"IF(AU39=1,IF(AU36=1,SUM(AV39*1000+(BC39)/10+(BA39)/100+(BK38)/1000+((G38+R38)-(F38+S38))/10000+(G38+R38)/100000+(G38)/1000000)))","v":false},{"$f":"IF(AU36=2,IF(AU37=2,SUM(AV36*1000+(BC36)/10+(BA36)/100+(BJ36)/1000+((F36+S36)-(G36+R36))/10000+(F36+S36)/100000+(S36)/1000000)))","v":false},{"$f":"IF(AU37=2,IF(AU36=2,SUM(AV37*1000+(BC37)/10+(BA37)/100+(BK36)/1000+((G36+R36)-(F36+S36))/10000+(G36+R36)/100000+(G36)/1000000)))","v":false},{"$f":"IF(AU38=2,IF(AU36=2,SUM(AV38*1000+(BC38)/10+(BA38)/100+(BK37)/1000+((G37+R37)-(F37+S37))/10000+(G37+R37)/100000+(G37)/1000000)))","v":false},{"$f":"IF(AU39=2,IF(AU36=2,SUM(AV39*1000+(BC39)/10+(BA39)/100+(BK38)/1000+((G38+R38)-(F38+S38))/10000+(G38+R38)/100000+(G38)/1000000)))","v":false},{"$f":"IF(AU36=3,IF(AU37=3,SUM(AV36*1000+(BC36)/10+(BA36)/100+(BJ36)/1000+((F36+S36)-(G36+R36))/10000+(F36+S36)/100000+(S36)/1000000)))","v":false},{"$f":"IF(AU37=3,IF(AU36=3,SUM(AV37*1000+(BC37)/10+(BA37)/100+(BK36)/1000+((G36+R36)-(F36+S36))/10000+(G36+R36)/100000+(G36)/1000000)))","v":false},{"$f":"IF(AU38=3,IF(AU36=3,SUM(AV38*1000+(BC38)/10+(BA38)/100+(BK37)/1000+((G37+R37)-(F37+S37))/10000+(G37+R37)/100000+(G37)/1000000)))","v":false},{"$f":"IF(AU39=3,IF(AU36=3,SUM(AV39*1000+(BC39)/10+(BA39)/100+(BK38)/1000+((G38+R38)-(F38+S38))/10000+(G38+R38)/100000+(G38)/1000000)))","v":false},{"$f":"IF(AU36=4,IF(AU37=4,SUM(AV36*1000+(BC36)/10+(BA36)/100+(BJ36)/1000+((F36+S36)-(G36+R36))/10000+(F36+S36)/100000+(S36)/1000000)))","v":false},{"$f":"IF(AU37=4,IF(AU36=4,SUM(AV37*1000+(BC37)/10+(BA37)/100+(BK36)/1000+((G36+R36)-(F36+S36))/10000+(G36+R36)/100000+(G36)/1000000)))","v":false},{"$f":"IF(AU38=4,IF(AU36=4,SUM(AV38*1000+(BC38)/10+(BA38)/100+(BK37)/1000+((G37+R37)-(F37+S37))/10000+(G37+R37)/100000+(G37)/1000000)))","v":false},{"$f":"IF(AU39=4,IF(AU36=4,SUM(AV39*1000+(BC39)/10+(BA39)/100+(BK38)/1000+((G38+R38)-(F38+S38))/10000+(G38+R38)/100000+(G38)/1000000)))","v":false}]
[{"$f":"AP36","v":"CÔTE D'IVOIRE"},null,null,null,null,3,1,{"$f":"AP39","v":"MALI"},null,null,null,null,"MALI",null,null,null,null,0,0,"CÔTE D'IVOIRE",null,null,null,null,null,{"$f":"VLOOKUP(AN47,AO45:AT48,2,0)","v":"GABON"},null,null,null,null,{"$f":"IF(BI47=BI46,BL46,BL47)","v":3},{"$f":"VLOOKUP(Z38,AP36:BC39,7,0)","v":5},{"$f":"VLOOKUP(Z38,AP36:BC39,8,0)","v":5},{"$f":"VLOOKUP(Z38,AP36:BC39,9,0)","v":1},{"$f":"VLOOKUP(Z38,AP36:BC39,10,0)","v":2},{"$f":"VLOOKUP(Z38,AP36:BC39,11,0)","v":2},{"$f":"VLOOKUP(Z38,AP36:BC39,12,0)","v":2},{"$f":"VLOOKUP(Z38,AP36:BC39,13,0)","v":7},{"$f":"VLOOKUP(Z38,AP36:BC39,14,0)","v":-5},null,null,"GABON",null,null,null,null,{"$f":"RANK(AV38,AV36:AV39)","v":3},{"$f":"SUMPRODUCT((A36:E41=AP38)*(BF36:BF41))+SUMPRODUCT((H36:L41=AP38)*(BG36:BG41))+SUMPRODUCT((M36:Q41=AP38)*(BH36:BH41))+SUMPRODUCT((T36:X41=AP38)*(BI36:BI41))","v":5},{"$f":"SUMPRODUCT((A36:E41=AP38)*(BL36:BL41))+SUMPRODUCT((H36:L41=AP38)*(BM36:BM41))+SUMPRODUCT((M36:Q41=AP38)*(BN36:BN41))+SUMPRODUCT((T36:X41=AP38)*(BO36:BO41))","v":5},{"$f":"SUMPRODUCT((A36:E41=AP38)*(BP36:BP41))+SUMPRODUCT((H36:L41=AP38)*(BQ36:BQ41))+SUMPRODUCT((M36:Q41=AP38)*(BR36:BR41))+SUMPRODUCT((T36:X41=AP38)*(BS36:BS41))","v":1},{"$f":"SUMPRODUCT((A36:E41=AP38)*(BT36:BT41))+SUMPRODUCT((H36:L41=AP38)*(BU36:BU41))+SUMPRODUCT((M36:Q41=AP38)*(BV36:BV41))+SUMPRODUCT((T36:X41=AP38)*(BW36:BW41))","v":2},{"$f":"SUMPRODUCT((A36:E41=AP38)*(BX36:BX41))+SUMPRODUCT((H36:L41=AP38)*(BY36:BY41))+SUMPRODUCT((M36:Q41=AP38)*(BZ36:BZ41))+SUMPRODUCT((T36:X41=AP38)*(CA36:CA41))","v":2},{"$f":"SUMPRODUCT((A36:E41=AP38)*(CB36:CB41))+SUMPRODUCT((H36:L41=AP38)*(CC36:CC41))+SUMPRODUCT((M36:Q41=AP38)*(CD36:CD41))+SUMPRODUCT((T36:X41=AP38)*(CE36:CE41))","v":2},{"$f":"SUMPRODUCT((A36:E41=AP38)*(CH36:CH41))+SUMPRODUCT((H36:L41=AP38)*(CI36:CI41))+SUMPRODUCT((M36:Q41=AP38)*(CJ36:CJ41))+SUMPRODUCT((T36:X41=AP38)*(CK36:CK41))","v":7},-5,null,null,3,0,1,1,4,1,1,1,1,1,1,false,false,false,false,false,1,1,false,1,false,false,3,1,0,0,3,1,1,3,0,0,1,3,{"$f":"IF(AU36=1,IF(AU39=1,SUM(AV36*1000+(BC36)/10+(BA36)/100+(BJ38)/1000+((F38+S38)-(G38+R38))/10000+(F38+S38)/100000+(S38)/1000000)))","v":false},{"$f":"IF(AU37=1,IF(AU38=1,SUM(AV37*1000+(BC37)/10+(BA37)/100+(BJ44)/1000+((F44+S44)-(G44+R44))/10000+(F44+S44)/100000+(S44)/1000000)))","v":false},{"$f":"IF(AU38=1,IF(AU37=1,SUM(AV38*1000+(BC38)/10+(BA38)/100+(BK44)/1000+((G44+R44)-(F44+S44))/10000+(G44+R44)/1000000+(G44)/1000000)))","v":false},{"$f":"IF(AU39=1,IF(AU37=1,SUM(AV39*1000+(BC39)/10+(BA39)/100+(BK40)/1000+((G40+R40)-(F40+S40))/10000+(G40-R40)/100000+(G40)/1000000)))","v":false},{"$f":"IF(AU36=2,IF(AU39=2,SUM(AV36*1000+(BC36)/10+(BA36)/100+(BJ38)/1000+((F38+S38)-(G38+R38))/10000+(F38+S38)/100000+(S38)/1000000)))","v":false},{"$f":"IF(AU37=2,IF(AU38=2,SUM(AV37*1000+(BC37)/10+(BA37)/100+(BJ44)/1000+((F44+S44)-(G44+R44))/10000+(F44+S44)/100000+(S44)/1000000)))","v":false},{"$f":"IF(AU38=2,IF(AU37=2,SUM(AV38*1000+(BC38)/10+(BA38)/100+(BK44)/1000+((G44+R44)-(F44+S44))/10000+(G44+R44)/1000000+(G44)/1000000)))","v":false},{"$f":"IF(AU39=2,IF(AU37=2,SUM(AV39*1000+(BC39)/10+(BA39)/100+(BK40)/1000+((G40+R40)-(F40+S40))/10000+(G40-R40)/100000+(G40)/1000000)))","v":false},{"$f":"IF(AU36=3,IF(AU39=3,SUM(AV36*1000+(BC36)/10+(BA36)/100+(BJ38)/1000+((F38+S38)-(G38+R38))/10000+(F38+S38)/100000+(S38)/1000000)))","v":false},{"$f":"IF(AU37=3,IF(AU38=3,SUM(AV37*1000+(BC37)/10+(BA37)/100+(BJ44)/1000+((F44+S44)-(G44+R44))/10000+(F44+S44)/100000+(S44)/1000000)))","v":false},{"$f":"IF(AU38=3,IF(AU37=3,SUM(AV38*1000+(BC38)/10+(BA38)/100+(BK44)/1000+((G44+R44)-(F44+S44))/10000+(G44+R44)/1000000+(G44)/1000000)))","v":false},{"$f":"IF(AU39=3,IF(AU37=3,SUM(AV39*1000+(BC39)/10+(BA39)/100+(BK40)/1000+((G40+R40)-(F40+S40))/10000+(G40-R40)/100000+(G40)/1000000)))","v":false},{"$f":"IF(AU36=4,IF(AU39=4,SUM(AV36*1000+(BC36)/10+(BA36)/100+(BJ38)/1000+((F38+S38)-(G38+R38))/10000+(F38+S38)/100000+(S38)/1000000)))","v":false},{"$f":"IF(AU37=4,IF(AU38=4,SUM(AV37*1000+(BC37)/10+(BA37)/100+(BJ44)/1000+((F44+S44)-(G44+R44))/10000+(F44+S44)/100000+(S44)/1000000)))","v":false},{"$f":"IF(AU38=4,IF(AU37=4,SUM(AV38*1000+(BC38)/10+(BA38)/100+(BK44)/1000+((G44+R44)-(F44+S44))/10000+(G44+R44)/1000000+(G44)/1000000)))","v":false},{"$f":"IF(AU39=4,IF(AU37=4,SUM(AV39*1000+(BC39)/10+(BA39)/100+(BK40)/1000+((G40+R40)-(F40+S40))/10000+(G40-R40)/100000+(G40)/1000000)))","v":false}]
[{"$f":"AP37","v":"MAROC"},null,null,null,null,3,0,{"$f":"AP38","v":"GABON"},null,null,null,null,"GABON",null,null,null,null,0,0,"MAROC",null,null,null,null,null,{"$f":"VLOOKUP(AN48,AO45:AT48,2,0)","v":"MALI"},null,null,null,null,4,{"$f":"VLOOKUP(Z39,AP36:BC39,7,0)","v":3},{"$f":"VLOOKUP(Z39,AP36:BC39,8,0)","v":5},{"$f":"VLOOKUP(Z39,AP36:BC39,9,0)","v":0},{"$f":"VLOOKUP(Z39,AP36:BC39,10,0)","v":3},{"$f":"VLOOKUP(Z39,AP36:BC39,11,0)","v":2},{"$f":"VLOOKUP(Z39,AP36:BC39,12,0)","v":1},{"$f":"VLOOKUP(Z39,AP36:BC39,13,0)","v":9},{"$f":"VLOOKUP(Z39,AP36:BC39,14,0)","v":-8},null,null,"MALI",null,null,null,null,{"$f":"RANK(AV39,AV36:AV39)","v":4},{"$f":"SUMPRODUCT((A36:E41=AP39)*(BF36:BF41))+SUMPRODUCT((H36:L41=AP39)*(BG36:BG41))+SUMPRODUCT((M36:Q41=AP39)*(BH36:BH41))+SUMPRODUCT((T36:X41=AP39)*(BI36:BI41))","v":3},{"$f":"SUMPRODUCT((A36:E41=AP39)*(BL36:BL41))+SUMPRODUCT((H36:L41=AP39)*(BM36:BM41))+SUMPRODUCT((M36:Q41=AP39)*(BN36:BN41))+SUMPRODUCT((T36:X41=AP39)*(BO36:BO41))","v":5},{"$f":"SUMPRODUCT((A36:E41=AP39)*(BP36:BP41))+SUMPRODUCT((H36:L41=AP39)*(BQ36:BQ41))+SUMPRODUCT((M36:Q41=AP39)*(BR36:BR41))+SUMPRODUCT((T36:X41=AP39)*(BS36:BS41))","v":0},{"$f":"SUMPRODUCT((A36:E41=AP39)*(BT36:BT41))+SUMPRODUCT((H36:L41=AP39)*(BU36:BU41))+SUMPRODUCT((M36:Q41=AP39)*(BV36:BV41))+SUMPRODUCT((T36:X41=AP39)*(BW36:BW41))","v":3},{"$f":"SUMPRODUCT((A36:E41=AP39)*(BX36:BX41))+SUMPRODUCT((H36:L41=AP39)*(BY36:BY41))+SUMPRODUCT((M36:Q41=AP39)*(BZ36:BZ41))+SUMPRODUCT((T36:X41=AP39)*(CA36:CA41))","v":2},{"$f":"SUMPRODUCT((A36:E41=AP39)*(CB36:CB41))+SUMPRODUCT((H36:L41=AP39)*(CC36:CC41))+SUMPRODUCT((M36:Q41=AP39)*(CD36:CD41))+SUMPRODUCT((T36:X41=AP39)*(CE36:CE41))","v":1},{"$f":"SUMPRODUCT((A36:E41=AP39)*(CH36:CH41))+SUMPRODUCT((H36:L41=AP39)*(CI36:CI41))+SUMPRODUCT((M36:Q41=AP39)*(CJ36:CJ41))+SUMPRODUCT((T36:X41=AP39)*(CK36:CK41))","v":9},-8,null,null,3,0,1,1,4,1,1,1,1,1,1,false,false,false,false,false,1,1,false,1,false,false,3,0,0,0,3,0,0,3,0,0,0,3,{"$f":"IF(AU36=1,IF(AU39=1,SUM(AV36*1000+(BC36)/10+(BA36)/100+(BJ38)/1000+((F38+S38)-(G38+R38))/10000+(F38+S38)/100000+(S38)/1000000)))","v":false},{"$f":"IF(AU37=1,IF(AU39=1,SUM(AV37*1000+(BC37)/10+(BA37)/100+(BJ40)/1000+((F40+S40)-(G40+R40))/10000+(F40+S40)/100000+(S40)/1000000)))","v":false},{"$f":"IF(AU38=1,IF(AU39=1,SUM(AV38*1000+(BC38)/10+(BA38)/100+(BJ41)/1000+((F41+S41)-(G41+R41))/10000+(F41+S41)/100000+(S41)/1000000)))","v":false},{"$f":"IF(AU39=1,IF(AU38=1,SUM(AV39*1000+(BC39)/10+(BA39)/100+(BK41)/1000+((G41+R41)-(F41+S41))/10000+(G41+R41)/100000+(G41)/1000000)))","v":false},{"$f":"IF(AU36=2,IF(AU39=2,SUM(AV36*1000+(BC36)/10+(BA36)/100+(BJ38)/1000+((F38+S38)-(G38+R38))/10000+(F38+S38)/100000+(S38)/1000000)))","v":false},{"$f":"IF(AU37=2,IF(AU39=2,SUM(AV37*1000+(BC37)/10+(BA37)/100+(BJ40)/1000+((F40+S40)-(G40+R40))/10000+(F40+S40)/100000+(S40)/1000000)))","v":false},{"$f":"IF(AU38=2,IF(AU39=2,SUM(AV38*1000+(BC38)/10+(BA38)/100+(BJ41)/1000+((F41+S41)-(G41+R41))/10000+(F41+S41)/100000+(S41)/1000000)))","v":false},{"$f":"IF(AU39=2,IF(AU38=2,SUM(AV39*1000+(BC39)/10+(BA39)/100+(BK41)/1000+((G41+R41)-(F41+S41))/10000+(G41+R41)/100000+(G41)/1000000)))","v":false},{"$f":"IF(AU36=3,IF(AU39=3,SUM(AV36*1000+(BC36)/10+(BA36)/100+(BJ38)/1000+((F38+S38)-(G38+R38))/10000+(F38+S38)/100000+(S38)/1000000)))","v":false},{"$f":"IF(AU37=3,IF(AU39=3,SUM(AV37*1000+(BC37)/10+(BA37)/100+(BJ40)/1000+((F40+S40)-(G40+R40))/10000+(F40+S40)/100000+(S40)/1000000)))","v":false},{"$f":"IF(AU38=3,IF(AU39=3,SUM(AV38*1000+(BC38)/10+(BA38)/100+(BJ41)/1000+((F41+S41)-(G41+R41))/10000+(F41+S41)/100000+(S41)/1000000)))","v":false},{"$f":"IF(AU39=3,IF(AU38=3,SUM(AV39*1000+(BC39)/10+(BA39)/100+(BK41)/1000+((G41+R41)-(F41+S41))/10000+(G41+R41)/100000+(G41)/1000000)))","v":false},{"$f":"IF(AU36=4,IF(AU39=4,SUM(AV36*1000+(BC36)/10+(BA36)/100+(BJ38)/1000+((F38+S38)-(G38+R38))/10000+(F38+S38)/100000+(S38)/1000000)))","v":false},{"$f":"IF(AU37=4,IF(AU39=4,SUM(AV37*1000+(BC37)/10+(BA37)/100+(BJ40)/1000+((F40+S40)-(G40+R40))/10000+(F40+S40)/100000+(S40)/1000000)))","v":false},{"$f":"IF(AU38=4,IF(AU39=4,SUM(AV38*1000+(BC38)/10+(BA38)/100+(BJ41)/1000+((F41+S41)-(G41+R41))/10000+(F41+S41)/100000+(S41)/1000000)))","v":false},{"$f":"IF(AU39=4,IF(AU38=4,SUM(AV39*1000+(BC39)/10+(BA39)/100+(BK41)/1000+((G41+R41)-(F41+S41))/10000+(G41+R41)/100000+(G41)/1000000)))","v":false}]
[{"$f":"AP37","v":"MAROC"},null,null,null,null,6,0,{"$f":"AP39","v":"MALI"},null,null,null,null,"MALI",null,null,null,null,0,0,"MAROC",null,null,null,null,null,null,null,null,"GROUPE  C",null,null,null,null,null,null,null,null,null,null,null,null,null,null,null,null,null,null,null,null,null,null,null,null,null,null,null,null,3,0,1,1,4,1,1,1,1,1,1,false,false,false,false,false,1,1,false,1,false,false,6,0,0,0,6,0,0,6,0,0,0,6,{"$f":"SUM(CN36:CN39)","v":0},1000000,0,0,800000,0,0,0,0,0,600000,0,0,0,0,400000]
[{"$f":"AP38","v":"GABON"},null,null,null,null,null,null,{"$f":"AP39","v":"MALI"},null,null,null,null,"MALI",null,null,null,null,0,0,"GABON",null,null,null,null,null,null,null,null,null,null,null,null,null,null,null,null,null,null,null,null,null,null,null,null,null,null,null,null,null,null,null,null,null,null,null,null,null,0,0,1,1,1,1,0,0,1,1,false,false,false,false,false,false,1,1,false,false,false,false,0,0,0,0,0,0,0,0,0,0,0,0]
["ÉQUIPE  QUALIFIÉE",null,null,null,null,null,{"$f":"Z36","v":"MAROC"}]
[]
[]
[null,null,null,null,null,null,null,null,null,null,null,null,null,null,null,null,null,null,null,null,null,null,null,null,null,null,null,null,null,null,null,null,null,null,null,null,null,null,null,1,{"$f":"BA45","v":2},{"$f":"AP36","v":"CÔTE D'IVOIRE"},null,null,null,null,{"$f":"SUM(CN40,CR40,CV40,CZ40)","v":800000},null,null,{"$f":"AU45+0.00000004","v":800000.00000004005},null,null,{"$f":"RANK(AX45,AX45:AZ48)","v":2},{"$f":"RANK(AU45,AU45:AW48)","v":2},null,{"$f":"VLOOKUP(AN45,AO45:AT48,2,0)","v":"MAROC"},null,null,null,null,{"$f":"VLOOKUP(BD45,AP45:AW48,6,0)","v":1000000},null,null,{"$f":"RANK(BI45,BI45:BK48)","v":1}]
[null,null,null,null,null,null,null,null,null,null,null,null,null,null,null,null,null,null,null,null,null,null,null,null,null,null,null,null,null,null,null,null,null,null,null,null,null,null,null,2,{"$f":"BA46","v":1},{"$f":"AP37","v":"MAROC"},null,null,null,null,{"$f":"SUM(CO40,CS40,CW40,DA40)","v":1000000},null,null,{"$f":"AU46+0.00000003","v":1000000.00000003},null,null,{"$f":"RANK(AX46,AX45:AZ48)","v":1},{"$f":"RANK(AU46,AU45:AW48)","v":1},null,{"$f":"VLOOKUP(AN46,AO45:AT48,2,0)","v":"CÔTE D'IVOIRE"},null,null,null,null,{"$f":"VLOOKUP(BD46,AP45:AW48,6,0)","v":800000},null,null,{"$f":"RANK(BI46,BI45:BK48)","v":2}]
[null,null,null,null,null,null,null,null,null,null,null,null,null,null,null,null,null,null,null,null,null,null,null,null,null,null,null,null,null,null,null,null,null,null,null,null,null,null,null,3,3,"GABON",null,null,null,null,{"$f":"SUM(CP40,CT40,CX40,DB40)","v":600000},null,null,{"$f":"AU47+0.00000002","v":600000.00000002002},null,null,{"$f":"RANK(AX47,AX45:AZ48)","v":3},{"$f":"RANK(AU47,AU45:AW48)","v":3},null,{"$f":"VLOOKUP(AN47,AO45:AT48,2,0)","v":"GABON"},null,null,null,null,{"$f":"VLOOKUP(BD47,AP45:AW48,6,0)","v":600000},null,null,{"$f":"RANK(BI47,BI45:BK48)","v":3}]
[null,null,null,null,null,null,null,null,null,null,null,null,null,null,null,null,null,null,null,null,null,null,null,null,null,null,null,null,null,null,null,null,null,null,null,null,null,null,null,4,4,"MALI",null,null,null,null,{"$f":"SUM(CQ40,CU40,CY40,DC40)","v":400000},null,null,{"$f":"AU48+0.00000001","v":400000.00000001001},null,null,{"$f":"RANK(AX48,AX45:AZ48)","v":4},{"$f":"RANK(AU48,AU45:AW48)","v":4},null,{"$f":"VLOOKUP(AN48,AO45:AT48,2,0)","v":"MALI"},null,null,null,null,{"$f":"VLOOKUP(BD48,AP45:AW48,6,0)","v":400000},null,null,{"$f":"RANK(BI48,BI45:BK48)","v":4}]
["MATCHS  ALLER",null,null,null,null,null,null,null,null,"GROUPE  D",null,null,null,null,null,"MATCHS  RETOUR",null,null,null,null,null,null,null,null,null,"CLASSEMENT",null,null,null,null,null,null,null,null,null,null,null,null,null,null,null,"CLASSEMENT"]
[]
["Équipes",null,null,null,null,"Bts","Bts","Équipes",null,null,null,null,"Équipes",null,null,null,null,"Bts","Bts","Équipes",null,null,null,null,null,"Équipes",null,null,null,null,"R","Pts","J","G","N","P","B +","B -","Diff",null,null,"Équipes",null,null,null,null,"R","Pts","J","G","N","P","B +","B -","Diff",null,null,"pts","pts","pts","pts","t pts","t pts","j","j","j","j","g","g","g","g","n","n","n","n","p","p","p","p","b+","b+","b+","b+","b+","b+","b-","b-","b-","b-","b-","b-",{"$f":"AP52","v":"BURKINA FASO"},{"$f":"AP53","v":"AFRIQUE DU SUD"},{"$f":"AP54","v":"SÉNÉGAL"},{"$f":"AP55","v":"CAP VERT"},{"$f":"CN51","v":"BURKINA FASO"},{"$f":"CO51","v":"AFRIQUE DU SUD"},{"$f":"CP51","v":"SÉNÉGAL"},{"$f":"CQ51","v":"CAP VERT"},{"$f":"CN51","v":"BURKINA FASO"},{"$f":"CO51","v":"AFRIQUE DU SUD"},{"$f":"CP51","v":"SÉNÉGAL"},{"$f":"CQ51","v":"CAP VERT"},{"$f":"CN51","v":"BURKINA FASO"},{"$f":"CO51","v":"AFRIQUE DU SUD"},{"$f":"CP51","v":"SÉNÉGAL"},{"$f":"CQ51","v":"CAP VERT"}]
[{"$f":"AP52","v":"BURKINA FASO"},null,null,null,null,1,1,{"$f":"AP53","v":"AFRIQUE DU SUD"},null,null,null,null,{"$f":"H52","v":"AFRIQUE DU SUD"},null,null,null,null,3,1,{"$f":"A52","v":"BURKINA FASO"},null,null,null,null,null,{"$f":"VLOOKUP(AN61,AO61:AT64,2,0)","v":"SÉNÉGAL"},null,null,null,null,1,{"$f":"VLOOKUP(Z52,AP52:BC55,7,0)","v":11},{"$f":"VLOOKUP(Z52,AP52:BC55,8,0)","v":6},{"$f":"VLOOKUP(Z52,AP52:BC55,9,0)","v":3},{"$f":"VLOOKUP(Z52,AP52:BC55,10,0)","v":2},{"$f":"VLOOKUP(Z52,AP52:BC55,11,0)","v":1},{"$f":"VLOOKUP(Z52,AP52:BC55,12,0)","v":9},{"$f":"VLOOKUP(Z52,AP52:BC55,13,0)","v":5},{"$f":"VLOOKUP(Z52,AP52:BC55,14,0)","v":4},null,null,"BURKINA FASO",null,null,null,null,{"$f":"RANK(AV52,AV52:AV55)","v":2},{"$f":"SUMPRODUCT((A52:E57=AP52)*(BF52:BF57))+SUMPRODUCT((H52:L57=AP52)*(BG52:BG57))+SUMPRODUCT((M52:Q57=AP52)*(BH52:BH57))+SUMPRODUCT((T52:X57=AP52)*(BI52:BI57))","v":9},{"$f":"SUMPRODUCT((A52:E57=AP52)*(BL52:BL57))+SUMPRODUCT((H52:L57=AP52)*(BM52:BM57))+SUMPRODUCT((M52:Q57=AP52)*(BN52:BN57))+SUMPRODUCT((T52:X57=AP52)*(BO52:BO57))","v":6},{"$f":"SUMPRODUCT((A52:E57=AP52)*(BP52:BP57))+SUMPRODUCT((H52:L57=AP52)*(BQ52:BQ57))+SUMPRODUCT((M52:Q57=AP52)*(BR52:BR57))+SUMPRODUCT((T52:X57=AP52)*(BS52:BS57))","v":2},{"$f":"SUMPRODUCT((A52:E57=AP52)*(BT52:BT57))+SUMPRODUCT((H52:L57=AP52)*(BU52:BU57))+SUMPRODUCT((M52:Q57=AP52)*(BV52:BV57))+SUMPRODUCT((T52:X57=AP52)*(BW52:BW57))","v":3},{"$f":"SUMPRODUCT((A52:E57=AP52)*(BX52:BX57))+SUMPRODUCT((H52:L57=AP52)*(BY52:BY57))+SUMPRODUCT((M52:Q57=AP52)*(BZ52:BZ57))+SUMPRODUCT((T52:X57=AP52)*(CA52:CA57))","v":1},{"$f":"SUMPRODUCT((A52:E57=AP52)*(CB52:CB57))+SUMPRODUCT((H52:L57=AP52)*(CC52:CC57))+SUMPRODUCT((M52:Q57=AP52)*(CD52:CD57))+SUMPRODUCT((T52:X57=AP52)*(CE52:CE57))","v":10},{"$f":"SUMPRODUCT((A52:E57=AP52)*(CH52:CH57))+SUMPRODUCT((H52:L57=AP52)*(CI52:CI57))+SUMPRODUCT((M52:Q57=AP52)*(CJ52:CJ57))+SUMPRODUCT((T52:X57=AP52)*(CK52:CK57))","v":6},{"$f":"BA52-BB52","v":4},null,null,{"$f":"IF(F52=\"\",0,IF(F52>G52,3,IF(F52=G52,1,IF(F52<G52,0))))","v":1},{"$f":"IF(G52=\"\",0,IF(G52>F52,3,IF(G52=F52,1,IF(G52<F52,0))))","v":1},{"$f":"IF(R52=\"\",0,IF(R52>S52,3,IF(R52=S52,1,IF(R52<S52,0))))","v":3},{"$f":"IF(S52=\"\",0,IF(S52>R52,3,IF(S52=R52,1,IF(S52<R52,0))))","v":0},{"$f":"BF52+BI52","v":1},{"$f":"BG52+BH52","v":4},{"$f":"IF(F52=\"\",0,1)","v":1},{"$f":"IF(G52=\"\",0,1)","v":1},{"$f":"IF(R52=\"\",0,1)","v":1},{"$f":"IF(S52=\"\",0,1)","v":1},{"$f":"IF(F52<>\"\",IF(F52>G52,1))","v":false},{"$f":"IF(G52<>\"\",IF(G52>F52,1))","v":false},{"$f":"IF(R52<>\"\",IF(R52>S52,1))","v":1},{"$f":"IF(S52<>\"\",IF(S52>R52,1))","v":false},{"$f":"IF(F52<>\"\",IF(F52=G52,1))","v":1},{"$f":"IF(G52<>\"\",IF(G52=F52,1))","v":1},{"$f":"IF(R52<>\"\",IF(R52=S52,1))","v":false},{"$f":"IF(S52<>\"\",IF(S52=R52,1))","v":false},{"$f":"IF(F52<>\"\",IF(F52<G52,1))","v":false},{"$f":"IF(G52<>\"\",IF(G52<F52,1))","v":false},{"$f":"IF(R52<>\"\",IF(R52<S52,1))","v":false},{"$f":"IF(S52<>\"\",IF(S52<R52,1))","v":1},{"$f":"F52","v":1},{"$f":"G52","v":1},{"$f":"R52","v":3},{"$f":"S52","v":1},{"$f":"CB52+CE52","v":2},{"$f":"CC52+CD52","v":4},{"$f":"G52","v":1},{"$f":"F52","v":1},{"$f":"S52","v":1},{"$f":"R52","v":3},{"$f":"CH52+CK52","v":4},{"$f":"CI52+CJ52","v":2},{"$f":"IF(AU52=1,1000000)","v":false},{"$f":"IF(AU53=1,1000000)","v":false},{"$f":"IF(AU54=1,1000000)","v":1000000},{"$f":"IF(AU55=1,1000000)","v":false},{"$f":"IF(AU52=2,800000)","v":800000},{"$f":"IF(AU53=2,800000)","v":false},{"$f":"IF(AU54=2,800000)","v":false},{"$f":"IF(AU55=2,800000)","v":false},{"$f":"IF(AU52=3,600000)","v":false},{"$f":"IF(AU53=3,600000)","v":600000},{"$f":"IF(AU54=3,600000)","v":false},{"$f":"IF(AU55=3,600000)","v":false},{"$f":"IF(AU52=4,400000)","v":false},{"$f":"IF(AU53=4,400000)","v":false},{"$f":"IF(AU54=4,400000)","v":false},{"$f":"IF(AU55=4,400000)","v":400000}]
[{"$f":"AP52","v":"BURKINA FASO"},null,null,null,null,2,2,{"$f":"AP54","v":"SÉNÉGAL"},null,null,null,null,{"$f":"H53","v":"SÉNÉGAL"},null,null,null,null,0,0,{"$f":"A53","v":"BURKINA FASO"},null,null,null,null,null,{"$f":"VLOOKUP(AN62,AO61:AT64,2,0)","v":"BURKINA FASO"},null,null,null,null,{"$f":"IF(BI62=BI61,BL61,BL62)","v":2},{"$f":"VLOOKUP(Z53,AP52:BC55,7,0)","v":9},{"$f":"VLOOKUP(Z53,AP52:BC55,8,0)","v":6},{"$f":"VLOOKUP(Z53,AP52:BC55,9,0)","v":2},{"$f":"VLOOKUP(Z53,AP52:BC55,10,0)","v":3},{"$f":"VLOOKUP(Z53,AP52:BC55,11,0)","v":1},{"$f":"VLOOKUP(Z53,AP52:BC55,12,0)","v":10},{"$f":"VLOOKUP(Z53,AP52:BC55,13,0)","v":6},{"$f":"VLOOKUP(Z53,AP52:BC55,14,0)","v":4},null,null,"AFRIQUE DU SUD",null,null,null,null,{"$f":"RANK(AV53,AV52:AV55)","v":3},{"$f":"SUMPRODUCT((A52:E57=AP53)*(BF52:BF57))+SUMPRODUCT((H52:L57=AP53)*(BG52:BG57))+SUMPRODUCT((M52:Q57=AP53)*(BH52:BH57))+SUMPRODUCT((T52:X57=AP53)*(BI52:BI57))","v":7},{"$f":"SUMPRODUCT((A52:E57=AP53)*(BL52:BL57))+SUMPRODUCT((H52:L57=AP53)*(BM52:BM57))+SUMPRODUCT((M52:Q57=AP53)*(BN52:BN57))+SUMPRODUCT((T52:X57=AP53)*(BO52:BO57))","v":6},{"$f":"SUMPRODUCT((A52:E57=AP53)*(BP52:BP57))+SUMPRODUCT((H52:L57=AP53)*(BQ52:BQ57))+SUMPRODUCT((M52:Q57=AP53)*(BR52:BR57))+SUMPRODUCT((T52:X57=AP53)*(BS52:BS57))","v":2},{"$f":"SUMPRODUCT((A52:E57=AP53)*(BT52:BT57))+SUMPRODUCT((H52:L57=AP53)*(BU52:BU57))+SUMPRODUCT((M52:Q57=AP53)*(BV52:BV57))+SUMPRODUCT((T52:X57=AP53)*(BW52:BW57))","v":1},{"$f":"SUMPRODUCT((A52:E57=AP53)*(BX52:BX57))+SUMPRODUCT((H52:L57=AP53)*(BY52:BY57))+SUMPRODUCT((M52:Q57=AP53)*(BZ52:BZ57))+SUMPRODUCT((T52:X57=AP53)*(CA52:CA57))","v":3},{"$f":"SUMPRODUCT((A52:E57=AP53)*(CB52:CB57))+SUMPRODUCT((H52:L57=AP53)*(CC52:CC57))+SUMPRODUCT((M52:Q57=AP53)*(CD52:CD57))+SUMPRODUCT((T52:X57=AP53)*(CE52:CE57))","v":9},{"$f":"SUMPRODUCT((A52:E57=AP53)*(CH52:CH57))+SUMPRODUCT((H52:L57=AP53)*(CI52:CI57))+SUMPRODUCT((M52:Q57=AP53)*(CJ52:CJ57))+SUMPRODUCT((T52:X57=AP53)*(CK52:CK57))","v":9},{"$f":"BA53-BB53","v":0},null,null,{"$f":"IF(F53=\"\",0,IF(F53>G53,3,IF(F53=G53,1,IF(F53<G53,0))))","v":1},{"$f":"IF(G53=\"\",0,IF(G53>F53,3,IF(G53=F53,1,IF(G53<F53,0))))","v":1},{"$f":"IF(R53=\"\",0,IF(R53>S53,3,IF(R53=S53,1,IF(R53<S53,0))))","v":1},{"$f":"IF(S53=\"\",0,IF(S53>R53,3,IF(S53=R53,1,IF(S53<R53,0))))","v":1},{"$f":"BF53+BI53","v":2},{"$f":"BG53+BH53","v":2},{"$f":"IF(F53=\"\",0,1)","v":1},{"$f":"IF(G53=\"\",0,1)","v":1},{"$f":"IF(R53=\"\",0,1)","v":1},{"$f":"IF(S53=\"\",0,1)","v":1},{"$f":"IF(F53<>\"\",IF(F53>G53,1))","v":false},{"$f":"IF(G53<>\"\",IF(G53>F53,1))","v":false},{"$f":"IF(R53<>\"\",IF(R53>S53,1))","v":false},{"$f":"IF(S53<>\"\",IF(S53>R53,1))","v":false},{"$f":"IF(F53<>\"\",IF(F53=G53,1))","v":1},{"$f":"IF(G53<>\"\",IF(G53=F53,1))","v":1},{"$f":"IF(R53<>\"\",IF(R53=S53,1))","v":1},{"$f":"IF(S53<>\"\",IF(S53=R53,1))","v":1},{"$f":"IF(F53<>\"\",IF(F53<G53,1))","v":false},{"$f":"IF(G53<>\"\",IF(G53<F53,1))","v":false},{"$f":"IF(R53<>\"\",IF(R53<S53,1))","v":false},{"$f":"IF(S53<>\"\",IF(S53<R53,1))","v":false},{"$f":"F53","v":2},{"$f":"G53","v":2},{"$f":"R53","v":0},{"$f":"S53","v":0},{"$f":"CB53+CE53","v":2},{"$f":"CC53+CD53","v":2},{"$f":"G53","v":2},{"$f":"F53","v":2},{"$f":"S53","v":0},{"$f":"R53","v":0},{"$f":"CH53+CK53","v":2},{"$f":"CI53+CJ53","v":2},{"$f":"IF(AU52=1,IF(AU53=1,SUM(AV52*1000+(BC52)/10+(BA52)/100+(BJ52)/1000+((F52+S52)-(G52+R52))/10000+(F52+S52)/100000+(S52)/1000000)))","v":false},{"$f":"IF(AU53=1,IF(AU52=1,SUM(AV53*1000+(BC53)/10+(BA53)/100+(BK52)/1000+((G52+R52)-(F52+S52))/10000+(G52+R52)/100000+(G52)/1000000)))","v":false},{"$f":"IF(AU54=1,IF(AU52=1,SUM(AV54*1000+(BC54)/10+(BA54)/100+(BK53)/1000+((G53+R53)-(F53+S53))/10000+(G53+R53)/100000+(G53)/1000000)))","v":false},{"$f":"IF(AU55=1,IF(AU52=1,SUM(AV55*1000+(BC55)/10+(BA55)/100+(BK54)/1000+((G54+R54)-(F54+S54))/10000+(G54+R54)/100000+(G54)/1000000)))","v":false},{"$f":"IF(AU52=2,IF(AU53=2,SUM(AV52*1000+(BC52)/10+(BA52)/100+(BJ52)/1000+((F52+S52)-(G52+R52))/10000+(F52+S52)/100000+(S52)/1000000)))","v":false},{"$f":"IF(AU53=2,IF(AU52=2,SUM(AV53*1000+(BC53)/10+(BA53)/100+(BK52)/1000+((G52+R52)-(F52+S52))/10000+(G52+R52)/100000+(G52)/1000000)))","v":false},{"$f":"IF(AU54=2,IF(AU52=2,SUM(AV54*1000+(BC54)/10+(BA54)/100+(BK53)/1000+((G53+R53)-(F53+S53))/10000+(G53+R53)/100000+(G53)/1000000)))","v":false},{"$f":"IF(AU55=2,IF(AU52=2,SUM(AV55*1000+(BC55)/10+(BA55)/100+(BK54)/1000+((G54+R54)-(F54+S54))/10000+(G54+R54)/100000+(G54)/1000000)))","v":false},{"$f":"IF(AU52=3,IF(AU53=3,SUM(AV52*1000+(BC52)/10+(BA52)/100+(BJ52)/1000+((F52+S52)-(G52+R52))/10000+(F52+S52)/100000+(S52)/1000000)))","v":false},{"$f":"IF(AU53=3,IF(AU52=3,SUM(AV53*1000+(BC53)/10+(BA53)/100+(BK52)/1000+((G52+R52)-(F52+S52))/10000+(G52+R52)/100000+(G52)/1000000)))","v":false},{"$f":"IF(AU54=3,IF(AU52=3,SUM(AV54*1000+(BC54)/10+(BA54)/100+(BK53)/1000+((G53+R53)-(F53+S53))/10000+(G53+R53)/100000+(G53)/1000000)))","v":false},{"$f":"IF(AU55=3,IF(AU52=3,SUM(AV55*1000+(BC55)/10+(BA55)/100+(BK54)/1000+((G54+R54)-(F54+S54))/10000+(G54+R54)/100000+(G54)/1000000)))","v":false},{"$f":"IF(AU52=4,IF(AU53=4,SUM(AV52*1000+(BC52)/10+(BA52)/100+(BJ52)/1000+((F52+S52)-(G52+R52))/10000+(F52+S52)/100000+(S52)/1000000)))","v":false},{"$f":"IF(AU53=4,IF(AU52=4,SUM(AV53*1000+(BC53)/10+(BA53)/100+(BK52)/1000+((G52+R52)-(F52+S52))/10000+(G52+R52)/100000+(G52)/1000000)))","v":false},{"$f":"IF(AU54=4,IF(AU52=4,SUM(AV54*1000+(BC54)/10+(BA54)/100+(BK53)/1000+((G53+R53)-(F53+S53))/10000+(G53+R53)/100000+(G53)/1000000)))","v":false},{"$f":"IF(AU55=4,IF(AU52=4,SUM(AV55*1000+(BC55)/10+(BA55)/100+(BK54)/1000+((G54+R54)-(F54+S54))/10000+(G54+R54)/100000+(G54)/1000000)))","v":false}]
[{"$f":"AP52","v":"BURKINA FASO"},null,null,null,null,4,0,{"$f":"AP55","v":"CAP VERT"},null,null,null,null,"CAP VERT",null,null,null,null,0,2,"BURKINA FASO",null,null,null,null,null,{"$f":"VLOOKUP(AN63,AO61:AT64,2,0)","v":"AFRIQUE DU SUD"},null,null,null,null,{"$f":"IF(BI63=BI62,BL62,BL63)","v":3},{"$f":"VLOOKUP(Z54,AP52:BC55,7,0)","v":7},{"$f":"VLOOKUP(Z54,AP52:BC55,8,0)","v":6},{"$f":"VLOOKUP(Z54,AP52:BC55,9,0)","v":2},{"$f":"VLOOKUP(Z54,AP52:BC55,10,0)","v":1},{"$f":"VLOOKUP(Z54,AP52:BC55,11,0)","v":3},{"$f":"VLOOKUP(Z54,AP52:BC55,12,0)","v":9},{"$f":"VLOOKUP(Z54,AP52:BC55,13,0)","v":9},{"$f":"VLOOKUP(Z54,AP52:BC55,14,0)","v":0},null,null,"SÉNÉGAL",null,null,null,null,{"$f":"RANK(AV54,AV52:AV55)","v":1},{"$f":"SUMPRODUCT((A52:E57=AP54)*(BF52:BF57))+SUMPRODUCT((H52:L57=AP54)*(BG52:BG57))+SUMPRODUCT((M52:Q57=AP54)*(BH52:BH57))+SUMPRODUCT((T52:X57=AP54)*(BI52:BI57))","v":11},{"$f":"SUMPRODUCT((A52:E57=AP54)*(BL52:BL57))+SUMPRODUCT((H52:L57=AP54)*(BM52:BM57))+SUMPRODUCT((M52:Q57=AP54)*(BN52:BN57))+SUMPRODUCT((T52:X57=AP54)*(BO52:BO57))","v":6},{"$f":"SUMPRODUCT((A52:E57=AP54)*(BP52:BP57))+SUMPRODUCT((H52:L57=AP54)*(BQ52:BQ57))+SUMPRODUCT((M52:Q57=AP54)*(BR52:BR57))+SUMPRODUCT((T52:X57=AP54)*(BS52:BS57))","v":3},{"$f":"SUMPRODUCT((A52:E57=AP54)*(BT52:BT57))+SUMPRODUCT((H52:L57=AP54)*(BU52:BU57))+SUMPRODUCT((M52:Q57=AP54)*(BV52:BV57))+SUMPRODUCT((T52:X57=AP54)*(BW52:BW57))","v":2},{"$f":"SUMPRODUCT((A52:E57=AP54)*(BX52:BX57))+SUMPRODUCT((H52:L57=AP54)*(BY52:BY57))+SUMPRODUCT((M52:Q57=AP54)*(BZ52:BZ57))+SUMPRODUCT((T52:X57=AP54)*(CA52:CA57))","v":1},{"$f":"SUMPRODUCT((A52:E57=AP54)*(CB52:CB57))+SUMPRODUCT((H52:L57=AP54)*(CC52:CC57))+SUMPRODUCT((M52:Q57=AP54)*(CD52:CD57))+SUMPRODUCT((T52:X57=AP54)*(CE52:CE57))","v":9},{"$f":"SUMPRODUCT((A52:E57=AP54)*(CH52:CH57))+SUMPRODUCT((H52:L57=AP54)*(CI52:CI57))+SUMPRODUCT((M52:Q57=AP54)*(CJ52:CJ57))+SUMPRODUCT((T52:X57=AP54)*(CK52:CK57))","v":5},4,null,null,3,0,0,3,6,0,1,1,1,1,1,false,false,1,false,false,false,false,false,1,1,false,4,0,0,2,6,0,0,4,2,0,0,6,{"$f":"IF(AU52=1,IF(AU55=1,SUM(AV52*1000+(BC52)/10+(BA52)/100+(BJ54)/1000+((F54+S54)-(G54+R54))/10000+(F54+S54)/100000+(S54)/1000000)))","v":false},{"$f":"IF(AU53=1,IF(AU54=1,SUM(AV53*1000+(BC53)/10+(BA53)/100+(BJ60)/1000+((F60+S60)-(G60+R60))/10000+(F60+S60)/100000+(S60)/1000000)))","v":false},{"$f":"IF(AU54=1,IF(AU53=1,SUM(AV54*1000+(BC54)/10+(BA54)/100+(BK60)/1000+((G60+R60)-(F60+S60))/10000+(G60+R60)/1000000+(G60)/1000000)))","v":false},{"$f":"IF(AU55=1,IF(AU53=1,SUM(AV55*1000+(BC55)/10+(BA55)/100+(BK56)/1000+((G56+R56)-(F56+S56))/10000+(G56-R56)/100000+(G56)/1000000)))","v":false},{"$f":"IF(AU52=2,IF(AU55=2,SUM(AV52*1000+(BC52)/10+(BA52)/100+(BJ54)/1000+((F54+S54)-(G54+R54))/10000+(F54+S54)/100000+(S54)/1000000)))","v":false},{"$f":"IF(AU53=2,IF(AU54=2,SUM(AV53*1000+(BC53)/10+(BA53)/100+(BJ60)/1000+((F60+S60)-(G60+R60))/10000+(F60+S60)/100000+(S60)/1000000)))","v":false},{"$f":"IF(AU54=2,IF(AU53=2,SUM(AV54*1000+(BC54)/10+(BA54)/100+(BK60)/1000+((G60+R60)-(F60+S60))/10000+(G60+R60)/1000000+(G60)/1000000)))","v":false},{"$f":"IF(AU55=2,IF(AU53=2,SUM(AV55*1000+(BC55)/10+(BA55)/100+(BK56)/1000+((G56+R56)-(F56+S56))/10000+(G56-R56)/100000+(G56)/1000000)))","v":false},{"$f":"IF(AU52=3,IF(AU55=3,SUM(AV52*1000+(BC52)/10+(BA52)/100+(BJ54)/1000+((F54+S54)-(G54+R54))/10000+(F54+S54)/100000+(S54)/1000000)))","v":false},{"$f":"IF(AU53=3,IF(AU54=3,SUM(AV53*1000+(BC53)/10+(BA53)/100+(BJ60)/1000+((F60+S60)-(G60+R60))/10000+(F60+S60)/100000+(S60)/1000000)))","v":false},{"$f":"IF(AU54=3,IF(AU53=3,SUM(AV54*1000+(BC54)/10+(BA54)/100+(BK60)/1000+((G60+R60)-(F60+S60))/10000+(G60+R60)/1000000+(G60)/1000000)))","v":false},{"$f":"IF(AU55=3,IF(AU53=3,SUM(AV55*1000+(BC55)/10+(BA55)/100+(BK56)/1000+((G56+R56)-(F56+S56))/10000+(G56-R56)/100000+(G56)/1000000)))","v":false},{"$f":"IF(AU52=4,IF(AU55=4,SUM(AV52*1000+(BC52)/10+(BA52)/100+(BJ54)/1000+((F54+S54)-(G54+R54))/10000+(F54+S54)/100000+(S54)/1000000)))","v":false},{"$f":"IF(AU53=4,IF(AU54=4,SUM(AV53*1000+(BC53)/10+(BA53)/100+(BJ60)/1000+((F60+S60)-(G60+R60))/10000+(F60+S60)/100000+(S60)/1000000)))","v":false},{"$f":"IF(AU54=4,IF(AU53=4,SUM(AV54*1000+(BC54)/10+(BA54)/100+(BK60)/1000+((G60+R60)-(F60+S60))/10000+(G60+R60)/1000000+(G60)/1000000)))","v":false},{"$f":"IF(AU55=4,IF(AU53=4,SUM(AV55*1000+(BC55)/10+(BA55)/100+(BK56)/1000+((G56+R56)-(F56+S56))/10000+(G56-R56)/100000+(G56)/1000000)))","v":false}]
[{"$f":"AP53","v":"AFRIQUE DU SUD"},null,null,null,null,2,1,{"$f":"AP54","v":"SÉNÉGAL"},null,null,null,null,"SÉNÉGAL",null,null,null,null,2,1,"AFRIQUE DU SUD",null,null,null,null,null,{"$f":"VLOOKUP(AN64,AO61:AT64,2,0)","v":"CAP VERT"},null,null,null,null,4,{"$f":"VLOOKUP(Z55,AP52:BC55,7,0)","v":6},{"$f":"VLOOKUP(Z55,AP52:BC55,8,0)","v":6},{"$f":"VLOOKUP(Z55,AP52:BC55,9,0)","v":2},{"$f":"VLOOKUP(Z55,AP52:BC55,10,0)","v":0},{"$f":"VLOOKUP(Z55,AP52:BC55,11,0)","v":4},{"$f":"VLOOKUP(Z55,AP52:BC55,12,0)","v":4},{"$f":"VLOOKUP(Z55,AP52:BC55,13,0)","v":12},{"$f":"VLOOKUP(Z55,AP52:BC55,14,0)","v":-8},null,null,"CAP VERT",null,null,null,null,{"$f":"RANK(AV55,AV52:AV55)","v":4},{"$f":"SUMPRODUCT((A52:E57=AP55)*(BF52:BF57))+SUMPRODUCT((H52:L57=AP55)*(BG52:BG57))+SUMPRODUCT((M52:Q57=AP55)*(BH52:BH57))+SUMPRODUCT((T52:X57=AP55)*(BI52:BI57))","v":6},{"$f":"SUMPRODUCT((A52:E57=AP55)*(BL52:BL57))+SUMPRODUCT((H52:L57=AP55)*(BM52:BM57))+SUMPRODUCT((M52:Q57=AP55)*(BN52:BN57))+SUMPRODUCT((T52:X57=AP55)*(BO52:BO57))","v":6},{"$f":"SUMPRODUCT((A52:E57=AP55)*(BP52:BP57))+SUMPRODUCT((H52:L57=AP55)*(BQ52:BQ57))+SUMPRODUCT((M52:Q57=AP55)*(BR52:BR57))+SUMPRODUCT((T52:X57=AP55)*(BS52:BS57))","v":2},{"$f":"SUMPRODUCT((A52:E57=AP55)*(BT52:BT57))+SUMPRODUCT((H52:L57=AP55)*(BU52:BU57))+SUMPRODUCT((M52:Q57=AP55)*(BV52:BV57))+SUMPRODUCT((T52:X57=AP55)*(BW52:BW57))","v":0},{"$f":"SUMPRODUCT((A52:E57=AP55)*(BX52:BX57))+SUMPRODUCT((H52:L57=AP55)*(BY52:BY57))+SUMPRODUCT((M52:Q57=AP55)*(BZ52:BZ57))+SUMPRODUCT((T52:X57=AP55)*(CA52:CA57))","v":4},{"$f":"SUMPRODUCT((A52:E57=AP55)*(CB52:CB57))+SUMPRODUCT((H52:L57=AP55)*(CC52:CC57))+SUMPRODUCT((M52:Q57=AP55)*(CD52:CD57))+SUMPRODUCT((T52:X57=AP55)*(CE52:CE57))","v":4},{"$f":"SUMPRODUCT((A52:E57=AP55)*(CH52:CH57))+SUMPRODUCT((H52:L57=AP55)*(CI52:CI57))+SUMPRODUCT((M52:Q57=AP55)*(CJ52:CJ57))+SUMPRODUCT((T52:X57=AP55)*(CK52:CK57))","v":12},-8,null,null,3,0,3,0,3,3,1,1,1,1,1,false,1,false,false,false,false,false,false,1,false,1,2,1,2,1,3,3,1,2,1,2,3,3,{"$f":"IF(AU52=1,IF(AU55=1,SUM(AV52*1000+(BC52)/10+(BA52)/100+(BJ54)/1000+((F54+S54)-(G54+R54))/10000+(F54+S54)/100000+(S54)/1000000)))","v":false},{"$f":"IF(AU53=1,IF(AU55=1,SUM(AV53*1000+(BC53)/10+(BA53)/100+(BJ56)/1000+((F56+S56)-(G56+R56))/10000+(F56+S56)/100000+(S56)/1000000)))","v":false},{"$f":"IF(AU54=1,IF(AU55=1,SUM(AV54*1000+(BC54)/10+(BA54)/100+(BJ57)/1000+((F57+S57)-(G57+R57))/10000+(F57+S57)/100000+(S57)/1000000)))","v":false},{"$f":"IF(AU55=1,IF(AU54=1,SUM(AV55*1000+(BC55)/10+(BA55)/100+(BK57)/1000+((G57+R57)-(F57+S57))/10000+(G57+R57)/100000+(G57)/1000000)))","v":false},{"$f":"IF(AU52=2,IF(AU55=2,SUM(AV52*1000+(BC52)/10+(BA52)/100+(BJ54)/1000+((F54+S54)-(G54+R54))/10000+(F54+S54)/100000+(S54)/1000000)))","v":false},{"$f":"IF(AU53=2,IF(AU55=2,SUM(AV53*1000+(BC53)/10+(BA53)/100+(BJ56)/1000+((F56+S56)-(G56+R56))/10000+(F56+S56)/100000+(S56)/1000000)))","v":false},{"$f":"IF(AU54=2,IF(AU55=2,SUM(AV54*1000+(BC54)/10+(BA54)/100+(BJ57)/1000+((F57+S57)-(G57+R57))/10000+(F57+S57)/100000+(S57)/1000000)))","v":false},{"$f":"IF(AU55=2,IF(AU54=2,SUM(AV55*1000+(BC55)/10+(BA55)/100+(BK57)/1000+((G57+R57)-(F57+S57))/10000+(G57+R57)/100000+(G57)/1000000)))","v":false},{"$f":"IF(AU52=3,IF(AU55=3,SUM(AV52*1000+(BC52)/10+(BA52)/100+(BJ54)/1000+((F54+S54)-(G54+R54))/10000+(F54+S54)/100000+(S54)/1000000)))","v":false},{"$f":"IF(AU53=3,IF(AU55=3,SUM(AV53*1000+(BC53)/10+(BA53)/100+(BJ56)/1000+((F56+S56)-(G56+R56))/10000+(F56+S56)/100000+(S56)/1000000)))","v":false},{"$f":"IF(AU54=3,IF(AU55=3,SUM(AV54*1000+(BC54)/10+(BA54)/100+(BJ57)/1000+((F57+S57)-(G57+R57))/10000+(F57+S57)/100000+(S57)/1000000)))","v":false},{"$f":"IF(AU55=3,IF(AU54=3,SUM(AV55*1000+(BC55)/10+(BA55)/100+(BK57)/1000+((G57+R57)-(F57+S57))/10000+(G57+R57)/100000+(G57)/1000000)))","v":false},{"$f":"IF(AU52=4,IF(AU55=4,SUM(AV52*1000+(BC52)/10+(BA52)/100+(BJ54)/1000+((F54+S54)-(G54+R54))/10000+(F54+S54)/100000+(S54)/1000000)))","v":false},{"$f":"IF(AU53=4,IF(AU55=4,SUM(AV53*1000+(BC53)/10+(BA53)/100+(BJ56)/1000+((F56+S56)-(G56+R56))/10000+(F56+S56)/100000+(S56)/1000000)))","v":false},{"$f":"IF(AU54=4,IF(AU55=4,SUM(AV54*1000+(BC54)/10+(BA54)/100+(BJ57)/1000+((F57+S57)-(G57+R57))/10000+(F57+S57)/100000+(S57)/1000000)))","v":false},{"$f":"IF(AU55=4,IF(AU54=4,SUM(AV55*1000+(BC55)/10+(BA55)/100+(BK57)/1000+((G57+R57)-(F57+S57))/10000+(G57+R57)/100000+(G57)/1000000)))","v":false}]
[{"$f":"AP53","v":"AFRIQUE DU SUD"},null,null,null,null,1,2,{"$f":"AP55","v":"CAP VERT"},null,null,null,null,"CAP VERT",null,null,null,null,2,1,"AFRIQUE DU SUD",null,null,null,null,null,null,null,null,"GROUPE  D",null,null,null,null,null,null,null,null,null,null,null,null,null,null,null,null,null,null,null,null,null,null,null,null,null,null,null,null,0,3,3,0,0,6,1,1,1,1,false,1,1,false,false,false,false,false,1,false,false,1,1,2,2,1,2,4,2,1,1,2,4,2,{"$f":"SUM(CN52:CN55)","v":0},0,1000000,0,800000,0,0,0,0,600000,0,0,0,0,0,400000]
[{"$f":"AP54","v":"SÉNÉGAL"},null,null,null,null,2,0,{"$f":"AP55","v":"CAP VERT"},null,null,null,null,"CAP VERT",null,null,null,null,0,2,"SÉNÉGAL",null,null,null,null,null,null,null,null,null,null,null,null,null,null,null,null,null,null,null,null,null,null,null,null,null,null,null,null,null,null,null,null,null,null,null,null,null,3,0,0,3,6,0,1,1,1,1,1,false,false,1,false,false,false,false,false,1,1,false,2,0,0,2,4,0,0,2,2,0,0,4]
["ÉQUIPE  QUALIFIÉE",null,null,null,null,null,{"$f":"Z52","v":"SÉNÉGAL"}]
[]
[]
[null,null,null,null,null,null,null,null,null,null,null,null,null,null,null,null,null,null,null,null,null,null,null,null,null,null,null,null,null,null,null,null,null,null,null,null,null,null,null,1,{"$f":"BA61","v":2},{"$f":"AP52","v":"BURKINA FASO"},null,null,null,null,{"$f":"SUM(CN56,CR56,CV56,CZ56)","v":800000},null,null,{"$f":"AU61+0.00000004","v":800000.00000004005},null,null,{"$f":"RANK(AX61,AX61:AZ64)","v":2},{"$f":"RANK(AU61,AU61:AW64)","v":2},null,{"$f":"VLOOKUP(AN61,AO61:AT64,2,0)","v":"SÉNÉGAL"},null,null,null,null,{"$f":"VLOOKUP(BD61,AP61:AW64,6,0)","v":1000000},null,null,{"$f":"RANK(BI61,BI61:BK64)","v":1}]
[null,null,null,null,null,null,null,null,null,null,null,null,null,null,null,null,null,null,null,null,null,null,null,null,null,null,null,null,null,null,null,null,null,null,null,null,null,null,null,2,{"$f":"BA62","v":3},{"$f":"AP53","v":"AFRIQUE DU SUD"},null,null,null,null,{"$f":"SUM(CO56,CS56,CW56,DA56)","v":600000},null,null,{"$f":"AU62+0.00000003","v":600000.00000003004},null,null,{"$f":"RANK(AX62,AX61:AZ64)","v":3},{"$f":"RANK(AU62,AU61:AW64)","v":3},null,{"$f":"VLOOKUP(AN62,AO61:AT64,2,0)","v":"BURKINA FASO"},null,null,null,null,{"$f":"VLOOKUP(BD62,AP61:AW64,6,0)","v":800000},null,null,{"$f":"RANK(BI62,BI61:BK64)","v":2}]
[null,null,null,null,null,null,null,null,null,null,null,null,null,null,null,null,null,null,null,null,null,null,null,null,null,null,null,null,null,null,null,null,null,null,null,null,null,null,null,3,1,"SÉNÉGAL",null,null,null,null,{"$f":"SUM(CP56,CT56,CX56,DB56)","v":1000000},null,null,{"$f":"AU63+0.00000002","v":1000000.00000002},null,null,{"$f":"RANK(AX63,AX61:AZ64)","v":1},{"$f":"RANK(AU63,AU61:AW64)","v":1},null,{"$f":"VLOOKUP(AN63,AO61:AT64,2,0)","v":"AFRIQUE DU SUD"},null,null,null,null,{"$f":"VLOOKUP(BD63,AP61:AW64,6,0)","v":600000},null,null,{"$f":"RANK(BI63,BI61:BK64)","v":3}]
[null,null,null,null,null,null,null,null,null,null,null,null,null,null,null,null,null,null,null,null,null,null,null,null,null,null,null,null,null,null,null,null,null,null,null,null,null,null,null,4,4,"CAP VERT",null,null,null,null,{"$f":"SUM(CQ56,CU56,CY56,DC56)","v":400000},null,null,{"$f":"AU64+0.00000001","v":400000.00000001001},null,null,{"$f":"RANK(AX64,AX61:AZ64)","v":4},{"$f":"RANK(AU64,AU61:AW64)","v":4},null,{"$f":"VLOOKUP(AN64,AO61:AT64,2,0)","v":"CAP VERT"},null,null,null,null,{"$f":"VLOOKUP(BD64,AP61:AW64,6,0)","v":400000},null,null,{"$f":"RANK(BI64,BI61:BK64)","v":4}]
["MATCHS  ALLER",null,null,null,null,null,null,null,null,"GROUPE  E",null,null,null,null,null,"MATCHS  RETOUR",null,null,null,null,null,null,null,null,null,"CLASSEMENT",null,null,null,null,null,null,null,null,null,null,null,null,null,null,null,"CLASSEMENT"]
[]
["Équipes",null,null,null,null,"Bts","Bts","Équipes",null,null,null,null,"Équipes",null,null,null,null,"Bts","Bts","Équipes",null,null,null,null,null,"Équipes",null,null,null,null,"R","Pts","J","G","N","P","B +","B -","Diff",null,null,"Équipes",null,null,null,null,"R","Pts","J","G","N","P","B +","B -","Diff",null,null,"pts","pts","pts","pts","t pts","t pts","j","j","j","j","g","g","g","g","n","n","n","n","p","p","p","p","b+","b+","b+","b+","b+","b+","b-","b-","b-","b-","b-","b-",{"$f":"AP68","v":"ÉGYPTE"},{"$f":"AP69","v":"OUGANDA"},{"$f":"AP70","v":"GHANA"},{"$f":"AP71","v":"CONGO"},{"$f":"CN67","v":"ÉGYPTE"},{"$f":"CO67","v":"OUGANDA"},{"$f":"CP67","v":"GHANA"},{"$f":"CQ67","v":"CONGO"},{"$f":"CN67","v":"ÉGYPTE"},{"$f":"CO67","v":"OUGANDA"},{"$f":"CP67","v":"GHANA"},{"$f":"CQ67","v":"CONGO"},{"$f":"CN67","v":"ÉGYPTE"},{"$f":"CO67","v":"OUGANDA"},{"$f":"CP67","v":"GHANA"},{"$f":"CQ67","v":"CONGO"}]
[{"$f":"AP68","v":"ÉGYPTE"},null,null,null,null,1,0,{"$f":"AP69","v":"OUGANDA"},null,null,null,null,{"$f":"H68","v":"OUGANDA"},null,null,null,null,1,0,{"$f":"A68","v":"ÉGYPTE"},null,null,null,null,null,{"$f":"VLOOKUP(AN77,AO77:AT80,2,0)","v":"ÉGYPTE"},null,null,null,null,1,{"$f":"VLOOKUP(Z68,AP68:BC71,7,0)","v":13},{"$f":"VLOOKUP(Z68,AP68:BC71,8,0)","v":6},{"$f":"VLOOKUP(Z68,AP68:BC71,9,0)","v":4},{"$f":"VLOOKUP(Z68,AP68:BC71,10,0)","v":1},{"$f":"VLOOKUP(Z68,AP68:BC71,11,0)","v":1},{"$f":"VLOOKUP(Z68,AP68:BC71,12,0)","v":8},{"$f":"VLOOKUP(Z68,AP68:BC71,13,0)","v":4},{"$f":"VLOOKUP(Z68,AP68:BC71,14,0)","v":4},null,null,"ÉGYPTE",null,null,null,null,{"$f":"RANK(AV68,AV68:AV71)","v":1},{"$f":"SUMPRODUCT((A68:E73=AP68)*(BF68:BF73))+SUMPRODUCT((H68:L73=AP68)*(BG68:BG73))+SUMPRODUCT((M68:Q73=AP68)*(BH68:BH73))+SUMPRODUCT((T68:X73=AP68)*(BI68:BI73))","v":13},{"$f":"SUMPRODUCT((A68:E73=AP68)*(BL68:BL73))+SUMPRODUCT((H68:L73=AP68)*(BM68:BM73))+SUMPRODUCT((M68:Q73=AP68)*(BN68:BN73))+SUMPRODUCT((T68:X73=AP68)*(BO68:BO73))","v":6},{"$f":"SUMPRODUCT((A68:E73=AP68)*(BP68:BP73))+SUMPRODUCT((H68:L73=AP68)*(BQ68:BQ73))+SUMPRODUCT((M68:Q73=AP68)*(BR68:BR73))+SUMPRODUCT((T68:X73=AP68)*(BS68:BS73))","v":4},{"$f":"SUMPRODUCT((A68:E73=AP68)*(BT68:BT73))+SUMPRODUCT((H68:L73=AP68)*(BU68:BU73))+SUMPRODUCT((M68:Q73=AP68)*(BV68:BV73))+SUMPRODUCT((T68:X73=AP68)*(BW68:BW73))","v":1},{"$f":"SUMPRODUCT((A68:E73=AP68)*(BX68:BX73))+SUMPRODUCT((H68:L73=AP68)*(BY68:BY73))+SUMPRODUCT((M68:Q73=AP68)*(BZ68:BZ73))+SUMPRODUCT((T68:X73=AP68)*(CA68:CA73))","v":1},{"$f":"SUMPRODUCT((A68:E73=AP68)*(CB68:CB73))+SUMPRODUCT((H68:L73=AP68)*(CC68:CC73))+SUMPRODUCT((M68:Q73=AP68)*(CD68:CD73))+SUMPRODUCT((T68:X73=AP68)*(CE68:CE73))","v":8},{"$f":"SUMPRODUCT((A68:E73=AP68)*(CH68:CH73))+SUMPRODUCT((H68:L73=AP68)*(CI68:CI73))+SUMPRODUCT((M68:Q73=AP68)*(CJ68:CJ73))+SUMPRODUCT((T68:X73=AP68)*(CK68:CK73))","v":4},{"$f":"BA68-BB68","v":4},null,null,{"$f":"IF(F68=\"\",0,IF(F68>G68,3,IF(F68=G68,1,IF(F68<G68,0))))","v":3},{"$f":"IF(G68=\"\",0,IF(G68>F68,3,IF(G68=F68,1,IF(G68<F68,0))))","v":0},{"$f":"IF(R68=\"\",0,IF(R68>S68,3,IF(R68=S68,1,IF(R68<S68,0))))","v":3},{"$f":"IF(S68=\"\",0,IF(S68>R68,3,IF(S68=R68,1,IF(S68<R68,0))))","v":0},{"$f":"BF68+BI68","v":3},{"$f":"BG68+BH68","v":3},{"$f":"IF(F68=\"\",0,1)","v":1},{"$f":"IF(G68=\"\",0,1)","v":1},{"$f":"IF(R68=\"\",0,1)","v":1},{"$f":"IF(S68=\"\",0,1)","v":1},{"$f":"IF(F68<>\"\",IF(F68>G68,1))","v":1},{"$f":"IF(G68<>\"\",IF(G68>F68,1))","v":false},{"$f":"IF(R68<>\"\",IF(R68>S68,1))","v":1},{"$f":"IF(S68<>\"\",IF(S68>R68,1))","v":false},{"$f":"IF(F68<>\"\",IF(F68=G68,1))","v":false},{"$f":"IF(G68<>\"\",IF(G68=F68,1))","v":false},{"$f":"IF(R68<>\"\",IF(R68=S68,1))","v":false},{"$f":"IF(S68<>\"\",IF(S68=R68,1))","v":false},{"$f":"IF(F68<>\"\",IF(F68<G68,1))","v":false},{"$f":"IF(G68<>\"\",IF(G68<F68,1))","v":1},{"$f":"IF(R68<>\"\",IF(R68<S68,1))","v":false},{"$f":"IF(S68<>\"\",IF(S68<R68,1))","v":1},{"$f":"F68","v":1},{"$f":"G68","v":0},{"$f":"R68","v":1},{"$f":"S68","v":0},{"$f":"CB68+CE68","v":1},{"$f":"CC68+CD68","v":1},{"$f":"G68","v":0},{"$f":"F68","v":1},{"$f":"S68","v":0},{"$f":"R68","v":1},{"$f":"CH68+CK68","v":1},{"$f":"CI68+CJ68","v":1},{"$f":"IF(AU68=1,1000000)","v":1000000},{"$f":"IF(AU69=1,1000000)","v":false},{"$f":"IF(AU70=1,1000000)","v":false},{"$f":"IF(AU71=1,1000000)","v":false},{"$f":"IF(AU68=2,800000)","v":false},{"$f":"IF(AU69=2,800000)","v":800000},{"$f":"IF(AU70=2,800000)","v":false},{"$f":"IF(AU71=2,800000)","v":false},{"$f":"IF(AU68=3,600000)","v":false},{"$f":"IF(AU69=3,600000)","v":false},{"$f":"IF(AU70=3,600000)","v":600000},{"$f":"IF(AU71=3,600000)","v":false},{"$f":"IF(AU68=4,400000)","v":false},{"$f":"IF(AU69=4,400000)","v":false},{"$f":"IF(AU70=4,400000)","v":false},{"$f":"IF(AU71=4,400000)","v":400000}]
[{"$f":"AP68","v":"ÉGYPTE"},null,null,null,null,2,0,{"$f":"AP70","v":"GHANA"},null,null,null,null,{"$f":"H69","v":"GHANA"},null,null,null,null,1,1,{"$f":"A69","v":"ÉGYPTE"},null,null,null,null,null,{"$f":"VLOOKUP(AN78,AO77:AT80,2,0)","v":"OUGANDA"},null,null,null,null,{"$f":"IF(BI78=BI77,BL77,BL78)","v":2},{"$f":"VLOOKUP(Z69,AP68:BC71,7,0)","v":9},{"$f":"VLOOKUP(Z69,AP68:BC71,8,0)","v":6},{"$f":"VLOOKUP(Z69,AP68:BC71,9,0)","v":2},{"$f":"VLOOKUP(Z69,AP68:BC71,10,0)","v":3},{"$f":"VLOOKUP(Z69,AP68:BC71,11,0)","v":1},{"$f":"VLOOKUP(Z69,AP68:BC71,12,0)","v":3},{"$f":"VLOOKUP(Z69,AP68:BC71,13,0)","v":2},{"$f":"VLOOKUP(Z69,AP68:BC71,14,0)","v":1},null,null,"OUGANDA",null,null,null,null,{"$f":"RANK(AV69,AV68:AV71)","v":2},{"$f":"SUMPRODUCT((A68:E73=AP69)*(BF68:BF73))+SUMPRODUCT((H68:L73=AP69)*(BG68:BG73))+SUMPRODUCT((M68:Q73=AP69)*(BH68:BH73))+SUMPRODUCT((T68:X73=AP69)*(BI68:BI73))","v":9},{"$f":"SUMPRODUCT((A68:E73=AP69)*(BL68:BL73))+SUMPRODUCT((H68:L73=AP69)*(BM68:BM73))+SUMPRODUCT((M68:Q73=AP69)*(BN68:BN73))+SUMPRODUCT((T68:X73=AP69)*(BO68:BO73))","v":6},{"$f":"SUMPRODUCT((A68:E73=AP69)*(BP68:BP73))+SUMPRODUCT((H68:L73=AP69)*(BQ68:BQ73))+SUMPRODUCT((M68:Q73=AP69)*(BR68:BR73))+SUMPRODUCT((T68:X73=AP69)*(BS68:BS73))","v":2},{"$f":"SUMPRODUCT((A68:E73=AP69)*(BT68:BT73))+SUMPRODUCT((H68:L73=AP69)*(BU68:BU73))+SUMPRODUCT((M68:Q73=AP69)*(BV68:BV73))+SUMPRODUCT((T68:X73=AP69)*(BW68:BW73))","v":3},{"$f":"SUMPRODUCT((A68:E73=AP69)*(BX68:BX73))+SUMPRODUCT((H68:L73=AP69)*(BY68:BY73))+SUMPRODUCT((M68:Q73=AP69)*(BZ68:BZ73))+SUMPRODUCT((T68:X73=AP69)*(CA68:CA73))","v":1},{"$f":"SUMPRODUCT((A68:E73=AP69)*(CB68:CB73))+SUMPRODUCT((H68:L73=AP69)*(CC68:CC73))+SUMPRODUCT((M68:Q73=AP69)*(CD68:CD73))+SUMPRODUCT((T68:X73=AP69)*(CE68:CE73))","v":3},{"$f":"SUMPRODUCT((A68:E73=AP69)*(CH68:CH73))+SUMPRODUCT((H68:L73=AP69)*(CI68:CI73))+SUMPRODUCT((M68:Q73=AP69)*(CJ68:CJ73))+SUMPRODUCT((T68:X73=AP69)*(CK68:CK73))","v":2},{"$f":"BA69-BB69","v":1},null,null,{"$f":"IF(F69=\"\",0,IF(F69>G69,3,IF(F69=G69,1,IF(F69<G69,0))))","v":3},{"$f":"IF(G69=\"\",0,IF(G69>F69,3,IF(G69=F69,1,IF(G69<F69,0))))","v":0},{"$f":"IF(R69=\"\",0,IF(R69>S69,3,IF(R69=S69,1,IF(R69<S69,0))))","v":1},{"$f":"IF(S69=\"\",0,IF(S69>R69,3,IF(S69=R69,1,IF(S69<R69,0))))","v":1},{"$f":"BF69+BI69","v":4},{"$f":"BG69+BH69","v":1},{"$f":"IF(F69=\"\",0,1)","v":1},{"$f":"IF(G69=\"\",0,1)","v":1},{"$f":"IF(R69=\"\",0,1)","v":1},{"$f":"IF(S69=\"\",0,1)","v":1},{"$f":"IF(F69<>\"\",IF(F69>G69,1))","v":1},{"$f":"IF(G69<>\"\",IF(G69>F69,1))","v":false},{"$f":"IF(R69<>\"\",IF(R69>S69,1))","v":false},{"$f":"IF(S69<>\"\",IF(S69>R69,1))","v":false},{"$f":"IF(F69<>\"\",IF(F69=G69,1))","v":false},{"$f":"IF(G69<>\"\",IF(G69=F69,1))","v":false},{"$f":"IF(R69<>\"\",IF(R69=S69,1))","v":1},{"$f":"IF(S69<>\"\",IF(S69=R69,1))","v":1},{"$f":"IF(F69<>\"\",IF(F69<G69,1))","v":false},{"$f":"IF(G69<>\"\",IF(G69<F69,1))","v":1},{"$f":"IF(R69<>\"\",IF(R69<S69,1))","v":false},{"$f":"IF(S69<>\"\",IF(S69<R69,1))","v":false},{"$f":"F69","v":2},{"$f":"G69","v":0},{"$f":"R69","v":1},{"$f":"S69","v":1},{"$f":"CB69+CE69","v":3},{"$f":"CC69+CD69","v":1},{"$f":"G69","v":0},{"$f":"F69","v":2},{"$f":"S69","v":1},{"$f":"R69","v":1},{"$f":"CH69+CK69","v":1},{"$f":"CI69+CJ69","v":3},{"$f":"IF(AU68=1,IF(AU69=1,SUM(AV68*1000+(BC68)/10+(BA68)/100+(BJ68)/1000+((F68+S68)-(G68+R68))/10000+(F68+S68)/100000+(S68)/1000000)))","v":false},{"$f":"IF(AU69=1,IF(AU68=1,SUM(AV69*1000+(BC69)/10+(BA69)/100+(BK68)/1000+((G68+R68)-(F68+S68))/10000+(G68+R68)/100000+(G68)/1000000)))","v":false},{"$f":"IF(AU70=1,IF(AU68=1,SUM(AV70*1000+(BC70)/10+(BA70)/100+(BK69)/1000+((G69+R69)-(F69+S69))/10000+(G69+R69)/100000+(G69)/1000000)))","v":false},{"$f":"IF(AU71=1,IF(AU68=1,SUM(AV71*1000+(BC71)/10+(BA71)/100+(BK70)/1000+((G70+R70)-(F70+S70))/10000+(G70+R70)/100000+(G70)/1000000)))","v":false},{"$f":"IF(AU68=2,IF(AU69=2,SUM(AV68*1000+(BC68)/10+(BA68)/100+(BJ68)/1000+((F68+S68)-(G68+R68))/10000+(F68+S68)/100000+(S68)/1000000)))","v":false},{"$f":"IF(AU69=2,IF(AU68=2,SUM(AV69*1000+(BC69)/10+(BA69)/100+(BK68)/1000+((G68+R68)-(F68+S68))/10000+(G68+R68)/100000+(G68)/1000000)))","v":false},{"$f":"IF(AU70=2,IF(AU68=2,SUM(AV70*1000+(BC70)/10+(BA70)/100+(BK69)/1000+((G69+R69)-(F69+S69))/10000+(G69+R69)/100000+(G69)/1000000)))","v":false},{"$f":"IF(AU71=2,IF(AU68=2,SUM(AV71*1000+(BC71)/10+(BA71)/100+(BK70)/1000+((G70+R70)-(F70+S70))/10000+(G70+R70)/100000+(G70)/1000000)))","v":false},{"$f":"IF(AU68=3,IF(AU69=3,SUM(AV68*1000+(BC68)/10+(BA68)/100+(BJ68)/1000+((F68+S68)-(G68+R68))/10000+(F68+S68)/100000+(S68)/1000000)))","v":false},{"$f":"IF(AU69=3,IF(AU68=3,SUM(AV69*1000+(BC69)/10+(BA69)/100+(BK68)/1000+((G68+R68)-(F68+S68))/10000+(G68+R68)/100000+(G68)/1000000)))","v":false},{"$f":"IF(AU70=3,IF(AU68=3,SUM(AV70*1000+(BC70)/10+(BA70)/100+(BK69)/1000+((G69+R69)-(F69+S69))/10000+(G69+R69)/100000+(G69)/1000000)))","v":false},{"$f":"IF(AU71=3,IF(AU68=3,SUM(AV71*1000+(BC71)/10+(BA71)/100+(BK70)/1000+((G70+R70)-(F70+S70))/10000+(G70+R70)/100000+(G70)/1000000)))","v":false},{"$f":"IF(AU68=4,IF(AU69=4,SUM(AV68*1000+(BC68)/10+(BA68)/100+(BJ68)/1000+((F68+S68)-(G68+R68))/10000+(F68+S68)/100000+(S68)/1000000)))","v":false},{"$f":"IF(AU69=4,IF(AU68=4,SUM(AV69*1000+(BC69)/10+(BA69)/100+(BK68)/1000+((G68+R68)-(F68+S68))/10000+(G68+R68)/100000+(G68)/1000000)))","v":false},{"$f":"IF(AU70=4,IF(AU68=4,SUM(AV70*1000+(BC70)/10+(BA70)/100+(BK69)/1000+((G69+R69)-(F69+S69))/10000+(G69+R69)/100000+(G69)/1000000)))","v":false},{"$f":"IF(AU71=4,IF(AU68=4,SUM(AV71*1000+(BC71)/10+(BA71)/100+(BK70)/1000+((G70+R70)-(F70+S70))/10000+(G70+R70)/100000+(G70)/1000000)))","v":false}]
[{"$f":"AP68","v":"ÉGYPTE"},null,null,null,null,2,1,{"$f":"AP71","v":"CONGO"},null,null,null,null,"CONGO",null,null,null,null,1,2,"ÉGYPTE",null,null,null,null,null,{"$f":"VLOOKUP(AN79,AO77:AT80,2,0)","v":"GHANA"},null,null,null,null,{"$f":"IF(BI79=BI78,BL78,BL79)","v":3},{"$f":"VLOOKUP(Z70,AP68:BC71,7,0)","v":7},{"$f":"VLOOKUP(Z70,AP68:BC71,8,0)","v":6},{"$f":"VLOOKUP(Z70,AP68:BC71,9,0)","v":1},{"$f":"VLOOKUP(Z70,AP68:BC71,10,0)","v":4},{"$f":"VLOOKUP(Z70,AP68:BC71,11,0)","v":1},{"$f":"VLOOKUP(Z70,AP68:BC71,12,0)","v":7},{"$f":"VLOOKUP(Z70,AP68:BC71,13,0)","v":5},{"$f":"VLOOKUP(Z70,AP68:BC71,14,0)","v":2},null,null,"GHANA",null,null,null,null,{"$f":"RANK(AV70,AV68:AV71)","v":3},{"$f":"SUMPRODUCT((A68:E73=AP70)*(BF68:BF73))+SUMPRODUCT((H68:L73=AP70)*(BG68:BG73))+SUMPRODUCT((M68:Q73=AP70)*(BH68:BH73))+SUMPRODUCT((T68:X73=AP70)*(BI68:BI73))","v":7},{"$f":"SUMPRODUCT((A68:E73=AP70)*(BL68:BL73))+SUMPRODUCT((H68:L73=AP70)*(BM68:BM73))+SUMPRODUCT((M68:Q73=AP70)*(BN68:BN73))+SUMPRODUCT((T68:X73=AP70)*(BO68:BO73))","v":6},{"$f":"SUMPRODUCT((A68:E73=AP70)*(BP68:BP73))+SUMPRODUCT((H68:L73=AP70)*(BQ68:BQ73))+SUMPRODUCT((M68:Q73=AP70)*(BR68:BR73))+SUMPRODUCT((T68:X73=AP70)*(BS68:BS73))","v":1},{"$f":"SUMPRODUCT((A68:E73=AP70)*(BT68:BT73))+SUMPRODUCT((H68:L73=AP70)*(BU68:BU73))+SUMPRODUCT((M68:Q73=AP70)*(BV68:BV73))+SUMPRODUCT((T68:X73=AP70)*(BW68:BW73))","v":4},{"$f":"SUMPRODUCT((A68:E73=AP70)*(BX68:BX73))+SUMPRODUCT((H68:L73=AP70)*(BY68:BY73))+SUMPRODUCT((M68:Q73=AP70)*(BZ68:BZ73))+SUMPRODUCT((T68:X73=AP70)*(CA68:CA73))","v":1},{"$f":"SUMPRODUCT((A68:E73=AP70)*(CB68:CB73))+SUMPRODUCT((H68:L73=AP70)*(CC68:CC73))+SUMPRODUCT((M68:Q73=AP70)*(CD68:CD73))+SUMPRODUCT((T68:X73=AP70)*(CE68:CE73))","v":7},{"$f":"SUMPRODUCT((A68:E73=AP70)*(CH68:CH73))+SUMPRODUCT((H68:L73=AP70)*(CI68:CI73))+SUMPRODUCT((M68:Q73=AP70)*(CJ68:CJ73))+SUMPRODUCT((T68:X73=AP70)*(CK68:CK73))","v":5},2,null,null,3,0,0,3,6,0,1,1,1,1,1,false,false,1,false,false,false,false,false,1,1,false,2,1,1,2,4,2,1,2,2,1,2,4,{"$f":"IF(AU68=1,IF(AU71=1,SUM(AV68*1000+(BC68)/10+(BA68)/100+(BJ70)/1000+((F70+S70)-(G70+R70))/10000+(F70+S70)/100000+(S70)/1000000)))","v":false},{"$f":"IF(AU69=1,IF(AU70=1,SUM(AV69*1000+(BC69)/10+(BA69)/100+(BJ76)/1000+((F76+S76)-(G76+R76))/10000+(F76+S76)/100000+(S76)/1000000)))","v":false},{"$f":"IF(AU70=1,IF(AU69=1,SUM(AV70*1000+(BC70)/10+(BA70)/100+(BK76)/1000+((G76+R76)-(F76+S76))/10000+(G76+R76)/1000000+(G76)/1000000)))","v":false},{"$f":"IF(AU71=1,IF(AU69=1,SUM(AV71*1000+(BC71)/10+(BA71)/100+(BK72)/1000+((G72+R72)-(F72+S72))/10000+(G72-R72)/100000+(G72)/1000000)))","v":false},{"$f":"IF(AU68=2,IF(AU71=2,SUM(AV68*1000+(BC68)/10+(BA68)/100+(BJ70)/1000+((F70+S70)-(G70+R70))/10000+(F70+S70)/100000+(S70)/1000000)))","v":false},{"$f":"IF(AU69=2,IF(AU70=2,SUM(AV69*1000+(BC69)/10+(BA69)/100+(BJ76)/1000+((F76+S76)-(G76+R76))/10000+(F76+S76)/100000+(S76)/1000000)))","v":false},{"$f":"IF(AU70=2,IF(AU69=2,SUM(AV70*1000+(BC70)/10+(BA70)/100+(BK76)/1000+((G76+R76)-(F76+S76))/10000+(G76+R76)/1000000+(G76)/1000000)))","v":false},{"$f":"IF(AU71=2,IF(AU69=2,SUM(AV71*1000+(BC71)/10+(BA71)/100+(BK72)/1000+((G72+R72)-(F72+S72))/10000+(G72-R72)/100000+(G72)/1000000)))","v":false},{"$f":"IF(AU68=3,IF(AU71=3,SUM(AV68*1000+(BC68)/10+(BA68)/100+(BJ70)/1000+((F70+S70)-(G70+R70))/10000+(F70+S70)/100000+(S70)/1000000)))","v":false},{"$f":"IF(AU69=3,IF(AU70=3,SUM(AV69*1000+(BC69)/10+(BA69)/100+(BJ76)/1000+((F76+S76)-(G76+R76))/10000+(F76+S76)/100000+(S76)/1000000)))","v":false},{"$f":"IF(AU70=3,IF(AU69=3,SUM(AV70*1000+(BC70)/10+(BA70)/100+(BK76)/1000+((G76+R76)-(F76+S76))/10000+(G76+R76)/1000000+(G76)/1000000)))","v":false},{"$f":"IF(AU71=3,IF(AU69=3,SUM(AV71*1000+(BC71)/10+(BA71)/100+(BK72)/1000+((G72+R72)-(F72+S72))/10000+(G72-R72)/100000+(G72)/1000000)))","v":false},{"$f":"IF(AU68=4,IF(AU71=4,SUM(AV68*1000+(BC68)/10+(BA68)/100+(BJ70)/1000+((F70+S70)-(G70+R70))/10000+(F70+S70)/100000+(S70)/1000000)))","v":false},{"$f":"IF(AU69=4,IF(AU70=4,SUM(AV69*1000+(BC69)/10+(BA69)/100+(BJ76)/1000+((F76+S76)-(G76+R76))/10000+(F76+S76)/100000+(S76)/1000000)))","v":false},{"$f":"IF(AU70=4,IF(AU69=4,SUM(AV70*1000+(BC70)/10+(BA70)/100+(BK76)/1000+((G76+R76)-(F76+S76))/10000+(G76+R76)/1000000+(G76)/1000000)))","v":false},{"$f":"IF(AU71=4,IF(AU69=4,SUM(AV71*1000+(BC71)/10+(BA71)/100+(BK72)/1000+((G72+R72)-(F72+S72))/10000+(G72-R72)/100000+(G72)/1000000)))","v":false}]
[{"$f":"AP69","v":"OUGANDA"},null,null,null,null,0,0,{"$f":"AP70","v":"GHANA"},null,null,null,null,"GHANA",null,null,null,null,0,0,"OUGANDA",null,null,null,null,null,{"$f":"VLOOKUP(AN80,AO77:AT80,2,0)","v":"CONGO"},null,null,null,null,4,{"$f":"VLOOKUP(Z71,AP68:BC71,7,0)","v":2},{"$f":"VLOOKUP(Z71,AP68:BC71,8,0)","v":6},{"$f":"VLOOKUP(Z71,AP68:BC71,9,0)","v":0},{"$f":"VLOOKUP(Z71,AP68:BC71,10,0)","v":2},{"$f":"VLOOKUP(Z71,AP68:BC71,11,0)","v":4},{"$f":"VLOOKUP(Z71,AP68:BC71,12,0)","v":5},{"$f":"VLOOKUP(Z71,AP68:BC71,13,0)","v":12},{"$f":"VLOOKUP(Z71,AP68:BC71,14,0)","v":-7},null,null,"CONGO",null,null,null,null,{"$f":"RANK(AV71,AV68:AV71)","v":4},{"$f":"SUMPRODUCT((A68:E73=AP71)*(BF68:BF73))+SUMPRODUCT((H68:L73=AP71)*(BG68:BG73))+SUMPRODUCT((M68:Q73=AP71)*(BH68:BH73))+SUMPRODUCT((T68:X73=AP71)*(BI68:BI73))","v":2},{"$f":"SUMPRODUCT((A68:E73=AP71)*(BL68:BL73))+SUMPRODUCT((H68:L73=AP71)*(BM68:BM73))+SUMPRODUCT((M68:Q73=AP71)*(BN68:BN73))+SUMPRODUCT((T68:X73=AP71)*(BO68:BO73))","v":6},{"$f":"SUMPRODUCT((A68:E73=AP71)*(BP68:BP73))+SUMPRODUCT((H68:L73=AP71)*(BQ68:BQ73))+SUMPRODUCT((M68:Q73=AP71)*(BR68:BR73))+SUMPRODUCT((T68:X73=AP71)*(BS68:BS73))","v":0},{"$f":"SUMPRODUCT((A68:E73=AP71)*(BT68:BT73))+SUMPRODUCT((H68:L73=AP71)*(BU68:BU73))+SUMPRODUCT((M68:Q73=AP71)*(BV68:BV73))+SUMPRODUCT((T68:X73=AP71)*(BW68:BW73))","v":2},{"$f":"SUMPRODUCT((A68:E73=AP71)*(BX68:BX73))+SUMPRODUCT((H68:L73=AP71)*(BY68:BY73))+SUMPRODUCT((M68:Q73=AP71)*(BZ68:BZ73))+SUMPRODUCT((T68:X73=AP71)*(CA68:CA73))","v":4},{"$f":"SUMPRODUCT((A68:E73=AP71)*(CB68:CB73))+SUMPRODUCT((H68:L73=AP71)*(CC68:CC73))+SUMPRODUCT((M68:Q73=AP71)*(CD68:CD73))+SUMPRODUCT((T68:X73=AP71)*(CE68:CE73))","v":5},{"$f":"SUMPRODUCT((A68:E73=AP71)*(CH68:CH73))+SUMPRODUCT((H68:L73=AP71)*(CI68:CI73))+SUMPRODUCT((M68:Q73=AP71)*(CJ68:CJ73))+SUMPRODUCT((T68:X73=AP71)*(CK68:CK73))","v":12},-7,null,null,1,1,1,1,2,2,1,1,1,1,false,false,false,false,1,1,1,1,false,false,false,false,0,0,0,0,0,0,0,0,0,0,0,0,{"$f":"IF(AU68=1,IF(AU71=1,SUM(AV68*1000+(BC68)/10+(BA68)/100+(BJ70)/1000+((F70+S70)-(G70+R70))/10000+(F70+S70)/100000+(S70)/1000000)))","v":false},{"$f":"IF(AU69=1,IF(AU71=1,SUM(AV69*1000+(BC69)/10+(BA69)/100+(BJ72)/1000+((F72+S72)-(G72+R72))/10000+(F72+S72)/100000+(S72)/1000000)))","v":false},{"$f":"IF(AU70=1,IF(AU71=1,SUM(AV70*1000+(BC70)/10+(BA70)/100+(BJ73)/1000+((F73+S73)-(G73+R73))/10000+(F73+S73)/100000+(S73)/1000000)))","v":false},{"$f":"IF(AU71=1,IF(AU70=1,SUM(AV71*1000+(BC71)/10+(BA71)/100+(BK73)/1000+((G73+R73)-(F73+S73))/10000+(G73+R73)/100000+(G73)/1000000)))","v":false},{"$f":"IF(AU68=2,IF(AU71=2,SUM(AV68*1000+(BC68)/10+(BA68)/100+(BJ70)/1000+((F70+S70)-(G70+R70))/10000+(F70+S70)/100000+(S70)/1000000)))","v":false},{"$f":"IF(AU69=2,IF(AU71=2,SUM(AV69*1000+(BC69)/10+(BA69)/100+(BJ72)/1000+((F72+S72)-(G72+R72))/10000+(F72+S72)/100000+(S72)/1000000)))","v":false},{"$f":"IF(AU70=2,IF(AU71=2,SUM(AV70*1000+(BC70)/10+(BA70)/100+(BJ73)/1000+((F73+S73)-(G73+R73))/10000+(F73+S73)/100000+(S73)/1000000)))","v":false},{"$f":"IF(AU71=2,IF(AU70=2,SUM(AV71*1000+(BC71)/10+(BA71)/100+(BK73)/1000+((G73+R73)-(F73+S73))/10000+(G73+R73)/100000+(G73)/1000000)))","v":false},{"$f":"IF(AU68=3,IF(AU71=3,SUM(AV68*1000+(BC68)/10+(BA68)/100+(BJ70)/1000+((F70+S70)-(G70+R70))/10000+(F70+S70)/100000+(S70)/1000000)))","v":false},{"$f":"IF(AU69=3,IF(AU71=3,SUM(AV69*1000+(BC69)/10+(BA69)/100+(BJ72)/1000+((F72+S72)-(G72+R72))/10000+(F72+S72)/100000+(S72)/1000000)))","v":false},{"$f":"IF(AU70=3,IF(AU71=3,SUM(AV70*1000+(BC70)/10+(BA70)/100+(BJ73)/1000+((F73+S73)-(G73+R73))/10000+(F73+S73)/100000+(S73)/1000000)))","v":false},{"$f":"IF(AU71=3,IF(AU70=3,SUM(AV71*1000+(BC71)/10+(BA71)/100+(BK73)/1000+((G73+R73)-(F73+S73))/10000+(G73+R73)/100000+(G73)/1000000)))","v":false},{"$f":"IF(AU68=4,IF(AU71=4,SUM(AV68*1000+(BC68)/10+(BA68)/100+(BJ70)/1000+((F70+S70)-(G70+R70))/10000+(F70+S70)/100000+(S70)/1000000)))","v":false},{"$f":"IF(AU69=4,IF(AU71=4,SUM(AV69*1000+(BC69)/10+(BA69)/100+(BJ72)/1000+((F72+S72)-(G72+R72))/10000+(F72+S72)/100000+(S72)/1000000)))","v":false},{"$f":"IF(AU70=4,IF(AU71=4,SUM(AV70*1000+(BC70)/10+(BA70)/100+(BJ73)/1000+((F73+S73)-(G73+R73))/10000+(F73+S73)/100000+(S73)/1000000)))","v":false},{"$f":"IF(AU71=4,IF(AU70=4,SUM(AV71*1000+(BC71)/10+(BA71)/100+(BK73)/1000+((G73+R73)-(F73+S73))/10000+(G73+R73)/100000+(G73)/1000000)))","v":false}]
[{"$f":"AP69","v":"OUGANDA"},null,null,null,null,1,0,{"$f":"AP71","v":"CONGO"},null,null,null,null,"CONGO",null,null,null,null,1,1,"OUGANDA",null,null,null,null,null,null,null,null,"GROUPE  E",null,null,null,null,null,null,null,null,null,null,null,null,null,null,null,null,null,null,null,null,null,null,null,null,null,null,null,null,3,0,1,1,4,1,1,1,1,1,1,false,false,false,false,false,1,1,false,1,false,false,1,0,1,1,2,1,0,1,1,1,1,2,{"$f":"SUM(CN68:CN71)","v":1000000},0,0,0,0,800000,0,0,0,0,600000,0,0,0,0,400000]
[{"$f":"AP70","v":"GHANA"},null,null,null,null,1,1,{"$f":"AP71","v":"CONGO"},null,null,null,null,"CONGO",null,null,null,null,1,5,"GHANA",null,null,null,null,null,null,null,null,null,null,null,null,null,null,null,null,null,null,null,null,null,null,null,null,null,null,null,null,null,null,null,null,null,null,null,null,null,1,1,0,3,4,1,1,1,1,1,false,false,false,1,1,1,false,false,false,false,1,false,1,1,1,5,6,2,1,1,5,1,2,6]
["ÉQUIPE  QUALIFIÉE",null,null,null,null,null,{"$f":"Z68","v":"ÉGYPTE"}]
[]
[]
[null,null,null,null,null,null,null,null,null,null,null,null,null,null,null,null,null,null,null,null,null,null,null,null,null,null,null,null,null,null,null,null,null,null,null,null,null,null,null,1,{"$f":"BA77","v":1},{"$f":"AP68","v":"ÉGYPTE"},null,null,null,null,{"$f":"SUM(CN72,CR72,CV72,CZ72)","v":1000000},null,null,{"$f":"AU77+0.00000004","v":1000000.00000004},null,null,{"$f":"RANK(AX77,AX77:AZ80)","v":1},{"$f":"RANK(AU77,AU77:AW80)","v":1},null,{"$f":"VLOOKUP(AN77,AO77:AT80,2,0)","v":"ÉGYPTE"},null,null,null,null,{"$f":"VLOOKUP(BD77,AP77:AW80,6,0)","v":1000000},null,null,{"$f":"RANK(BI77,BI77:BK80)","v":1}]
[null,null,null,null,null,null,null,null,null,null,null,null,null,null,null,null,null,null,null,null,null,null,null,null,null,null,null,null,null,null,null,null,null,null,null,null,null,null,null,2,{"$f":"BA78","v":2},{"$f":"AP69","v":"OUGANDA"},null,null,null,null,{"$f":"SUM(CO72,CS72,CW72,DA72)","v":800000},null,null,{"$f":"AU78+0.00000003","v":800000.00000003004},null,null,{"$f":"RANK(AX78,AX77:AZ80)","v":2},{"$f":"RANK(AU78,AU77:AW80)","v":2},null,{"$f":"VLOOKUP(AN78,AO77:AT80,2,0)","v":"OUGANDA"},null,null,null,null,{"$f":"VLOOKUP(BD78,AP77:AW80,6,0)","v":800000},null,null,{"$f":"RANK(BI78,BI77:BK80)","v":2}]
[null,null,null,null,null,null,null,null,null,null,null,null,null,null,null,null,null,null,null,null,null,null,null,null,null,null,null,null,null,null,null,null,null,null,null,null,null,null,null,3,3,"GHANA",null,null,null,null,{"$f":"SUM(CP72,CT72,CX72,DB72)","v":600000},null,null,{"$f":"AU79+0.00000002","v":600000.00000002002},null,null,{"$f":"RANK(AX79,AX77:AZ80)","v":3},{"$f":"RANK(AU79,AU77:AW80)","v":3},null,{"$f":"VLOOKUP(AN79,AO77:AT80,2,0)","v":"GHANA"},null,null,null,null,{"$f":"VLOOKUP(BD79,AP77:AW80,6,0)","v":600000},null,null,{"$f":"RANK(BI79,BI77:BK80)","v":3}]
[null,null,null,null,null,null,null,null,null,null,null,null,null,null,null,null,null,null,null,null,null,null,null,null,null,null,null,null,null,null,null,null,null,null,null,null,null,null,null,4,4,"CONGO",null,null,null,null,{"$f":"SUM(CQ72,CU72,CY72,DC72)","v":400000},null,null,{"$f":"AU80+0.00000001","v":400000.00000001001},null,null,{"$f":"RANK(AX80,AX77:AZ80)","v":4},{"$f":"RANK(AU80,AU77:AW80)","v":4},null,{"$f":"VLOOKUP(AN80,AO77:AT80,2,0)","v":"CONGO"},null,null,null,null,{"$f":"VLOOKUP(BD80,AP77:AW80,6,0)","v":400000},null,null,{"$f":"RANK(BI80,BI77:BK80)","v":4}]

{"sheet":"ASIE","index":1,"n_rows":45,"n_cols":128,"rows_kept":45,"cut":false,"hidden":false,"merged":[[36,25,37,28],[36,29,37,38],[12,29,13,38],[14,29,15,38],[16,29,17,38],[12,25,13,28],[14,25,15,28],[16,25,17,28],[32,25,33,28],[32,29,33,38],[34,25,35,28],[34,29,35,38],[0,0,1,8],[0,9,1,14],[0,15,1,23],[0,24,17,24],[0,25,1,38],[0,41,1,54],[2,0,2,4],[2,7,2,11],[2,12,2,16],[2,19,2,23],[4,0,4,4],[4,7,4,11],[4,12,4,16],[4,19,4,23],[4,25,4,29],[4,41,4,45],[2,25,2,29],[2,41,2,45],[3,0,3,4],[3,7,3,11],[3,12,3,16],[3,19,3,23],[3,25,3,29],[3,41,3,45],[6,0,6,4],[6,7,6,11],[6,12,6,16],[6,19,6,23],[6,25,6,29],[6,41,6,45],[5,0,5,4],[5,7,5,11],[5,12,5,16],[5,19,5,23],[5,25,5,29],[5,41,5,45],[8,0,8,4],[8,7,8,11],[8,12,8,16],[8,19,8,23],[8,25,8,29],[8,41,8,45],[7,0,7,4],[7,7,7,11],[7,12,7,16],[7,19,7,23],[7,25,7,29],[7,41,7,45],[9,33,11,34],[9,35,11,36],[9,37,11,38],[10,0,10,4],[10,7,10,11],[10,12,10,16],[10,19,10,23],[9,0,9,4],[9,7,9,11],[9,12,9,16],[9,19,9,23],[9,25,11,26],[11,91,11,96],[11,97,11,99],[12,0,12,4],[12,7,12,11],[12,12,12,16],[12,19,12,23],[12,41,12,45],[12,46,12,48],[9,27,11,28],[12,49,12,51],[12,91,12,96],[12,97,12,99],[10,41,10,45],[10,46,10,48],[10,49,10,51],[11,0,11,4],[11,7,11,11],[11,12,11,16],[11,19,11,23],[11,41,11,45],[11,46,11,48],[11,49,11,51],[9,29,11,30],[9,31,11,32],[13,0,13,4],[13,7,13,11],[13,12,13,16],[13,19,13,23],[13,41,13,45],[13,46,13,48],[13,49,13,51],[13,91,13,96],[13,97,13,99],[16,0,16,4],[16,7,16,11],[16,12,16,16],[16,19,16,23],[16,91,16,96],[16,97,16,99],[14,97,14,99],[15,0,15,4],[15,7,15,11],[15,12,15,16],[15,19,15,23],[15,41,15,45],[15,46,15,48],[15,49,15,51],[15,91,15,96],[14,0,14,4],[14,7,14,11],[14,12,14,16],[14,19,14,23],[14,41,14,45],[14,46,14,48],[14,49,14,51],[14,91,14,96],[15,97,15,99],[20,41,21,54],[22,0,22,4],[22,7,22,11],[22,12,22,16],[22,19,22,23],[22,25,22,29],[22,41,22,45],[17,0,17,4],[17,7,17,11],[17,12,17,16],[17,19,17,23],[18,0,19,38],[20,0,21,8],[20,9,21,14],[20,15,21,23],[20,24,37,24],[20,25,21,38],[24,0,24,4],[24,7,24,11],[24,12,24,16],[24,19,24,23],[24,25,24,29],[24,41,24,45],[23,0,23,4],[23,7,23,11],[23,12,23,16],[23,19,23,23],[23,25,23,29],[23,41,23,45],[26,0,26,4],[26,7,26,11],[26,12,26,16],[26,19,26,23],[26,25,26,29],[26,41,26,45],[25,0,25,4],[25,7,25,11],[25,12,25,16],[25,19,25,23],[25,25,25,29],[25,41,25,45],[29,19,29,23],[29,25,31,26],[28,0,28,4],[28,7,28,11],[28,12,28,16],[28,19,28,23],[28,25,28,29],[28,41,28,45],[27,0,27,4],[27,7,27,11],[27,12,27,16],[27,19,27,23],[27,25,27,29],[27,41,27,45],[33,97,33,99],[34,0,34,4],[30,41,30,45],[30,46,30,48],[30,49,30,51],[31,0,31,4],[31,7,31,11],[31,12,31,16],[31,19,31,23],[31,41,31,45],[31,46,31,48],[31,49,31,51],[29,29,31,30],[29,31,31,32],[29,33,31,34],[29,35,31,36],[29,37,31,38],[30,0,30,4],[30,7,30,11],[30,12,30,16],[30,19,30,23],[29,0,29,4],[29,7,29,11],[29,12,29,16],[37,0,37,4],[37,7,37,11],[37,12,37,16],[37,19,37,23],[31,91,31,96],[31,97,31,99],[32,0,32,4],[32,7,32,11],[32,12,32,16],[32,19,32,23],[32,41,32,45],[32,46,32,48],[29,27,31,28],[32,49,32,51],[32,91,32,96],[32,97,32,99],[33,0,33,4],[33,7,33,11],[33,12,33,16],[33,19,33,23],[33,41,33,45],[33,46,33,48],[33,49,33,51],[33,91,33,96],[38,0,39,38],[35,97,35,99],[36,0,36,4],[36,7,36,11],[36,12,36,16],[36,19,36,23],[36,91,36,96],[36,97,36,99],[34,7,34,11],[34,12,34,16],[34,19,34,23],[34,41,34,45],[34,46,34,48],[34,49,34,51],[34,91,34,96],[34,97,34,99],[35,0,35,4],[35,7,35,11],[35,12,35,16],[35,19,35,23],[35,41,35,45],[35,46,35,48],[35,49,35,51],[35,91,35,96],[42,22,43,28],[40,0,40,6],[40,7,40,8],[40,10,40,11],[40,12,40,13],[40,14,40,20],[41,0,42,6],[41,7,42,8],[43,0,44,6],[43,7,44,8],[41,10,42,11],[43,10,44,11],[41,12,42,13],[43,12,44,13],[41,14,42,20],[43,14,44,20],[41,22,41,28]]}
["MATCHS  ALLER",null,null,null,null,null,null,null,null,"GROUPE  A",null,null,null,null,null,"MATCHS  RETOUR",null,null,null,null,null,null,null,null,"GROUPE  A","CLASSEMENT",null,null,null,null,null,null,null,null,null,null,null,null,null,null,null,"CLASSEMENT"]
[]
["Équipes",null,null,null,null,"Bts","Bts","Équipes",null,null,null,null,"Équipes",null,null,null,null,"Bts","Bts","Équipes",null,null,null,null,null,"Équipes",null,null,null,null,"R","Pts","J","G","N","P","B +","B -","Diff",null,null,"Équipes",null,null,null,null,"R","Pts","J","G","N","P","B +","B -","Diff",null,null,"pts","pts","pts","pts","t pts","t pts","j","j","j","j","g","g","g","g","n","n","n","n","p","p","p","p","b+","b+","b+","b+","b+","b+","b-","b-","b-","b-","b-","b-",{"$f":"AP4","v":"IRAN"},{"$f":"AP5","v":"RÉPUBLIQUE DE CORÉE"},{"$f":"AP6","v":"OUZBÉKISTAN"},{"$f":"AP7","v":"SYRIE"},{"$f":"AP8","v":"RÉPUBLIQUE DE CHINE"},{"$f":"AP9","v":"QATAR"},null,{"$f":"CN3","v":"IRAN"},{"$f":"CO3","v":"RÉPUBLIQUE DE CORÉE"},"OUZBÉKISTAN","SYRIE","RÉPUBLIQUE DE CHINE","QATAR",{"$f":"CN3","v":"IRAN"},{"$f":"CO3","v":"RÉPUBLIQUE DE CORÉE"},"OUZBÉKISTAN","SYRIE","RÉPUBLIQUE DE CHINE","QATAR",{"$f":"CN3","v":"IRAN"},{"$f":"CO3","v":"RÉPUBLIQUE DE CORÉE"},"OUZBÉKISTAN","SYRIE","RÉPUBLIQUE DE CHINE","QATAR",{"$f":"CN3","v":"IRAN"},{"$f":"CO3","v":"RÉPUBLIQUE DE CORÉE"},"OUZBÉKISTAN","SYRIE","RÉPUBLIQUE DE CHINE","QATAR",{"$f":"CN3","v":"IRAN"},{"$f":"CO3","v":"RÉPUBLIQUE DE CORÉE"},"OUZBÉKISTAN","SYRIE","RÉPUBLIQUE DE CHINE","QATAR"]
[{"$f":"AP4","v":"IRAN"},null,null,null,null,1,0,{"$f":"AP5","v":"RÉPUBLIQUE DE CORÉE"},null,null,null,null,{"$f":"H4","v":"RÉPUBLIQUE DE CORÉE"},null,null,null,null,0,0,{"$f":"A4","v":"IRAN"},null,null,null,null,null,{"$f":"VLOOKUP(AN11,AO11:AT16,2,0)","v":"IRAN"},null,null,null,null,1,{"$f":"VLOOKUP(Z4,AP4:BC9,7,0)","v":22},{"$f":"VLOOKUP(Z4,AP4:BC9,8,0)","v":10},{"$f":"VLOOKUP(Z4,AP4:BC9,9,0)","v":6},{"$f":"VLOOKUP(Z4,AP4:BC9,10,0)","v":4},{"$f":"VLOOKUP(Z4,AP4:BC9,11,0)","v":0},{"$f":"VLOOKUP(Z4,AP4:BC9,12,0)","v":10},{"$f":"VLOOKUP(Z4,AP4:BC9,13,0)","v":2},{"$f":"VLOOKUP(Z4,AP4:BC9,14,0)","v":8},null,null,"IRAN",null,null,null,null,{"$f":"RANK(AV4,AV4:AV9)","v":1},{"$f":"SUMPRODUCT((A4:E18=AP4)*(BF4:BF18))+SUMPRODUCT((H4:L18=AP4)*(BG4:BG18))+SUMPRODUCT((M4:Q18=AP4)*(BH4:BH18))+SUMPRODUCT((T4:X18=AP4)*(BI4:BI18))","v":22},{"$f":"SUMPRODUCT((A4:E18=AP4)*(BL4:BL18))+SUMPRODUCT((H4:L18=AP4)*(BM4:BM18))+SUMPRODUCT((M4:Q18=AP4)*(BN4:BN18))+SUMPRODUCT((T4:X18=AP4)*(BO4:BO18))","v":10},{"$f":"SUMPRODUCT((A4:E18=AP4)*(BP4:BP18))+SUMPRODUCT((H4:L18=AP4)*(BQ4:BQ18))+SUMPRODUCT((M4:Q18=AP4)*(BR4:BR18))+SUMPRODUCT((T4:X18=AP4)*(BS4:BS18))","v":6},{"$f":"SUMPRODUCT((A4:E18=AP4)*(BT4:BT18))+SUMPRODUCT((H4:L18=AP4)*(BU4:BU18))+SUMPRODUCT((M4:Q18=AP4)*(BV4:BV18))+SUMPRODUCT((T4:X18=AP4)*(BW4:BW18))","v":4},{"$f":"SUMPRODUCT((A4:E18=AP4)*(BX4:BX18))+SUMPRODUCT((H4:L18=AP4)*(BY4:BY18))+SUMPRODUCT((M4:Q18=AP4)*(BZ4:BZ18))+SUMPRODUCT((T4:X18=AP4)*(CA4:CA18))","v":0},{"$f":"SUMPRODUCT((A4:E18=AP4)*(CB4:CB18))+SUMPRODUCT((H4:L18=AP4)*(CC4:CC18))+SUMPRODUCT((M4:Q18=AP4)*(CD4:CD18))+SUMPRODUCT((T4:X18=AP4)*(CE4:CE18))","v":10},{"$f":"SUMPRODUCT((A4:E18=AP4)*(CH4:CH18))+SUMPRODUCT((H4:L18=AP4)*(CI4:CI18))+SUMPRODUCT((M4:Q18=AP4)*(CJ4:CJ18))+SUMPRODUCT((T4:X18=AP4)*(CK4:CK18))","v":2},{"$f":"BA4-BB4","v":8},null,null,{"$f":"IF(F4=\"\",0,IF(F4>G4,3,IF(F4=G4,1,IF(F4<G4,0))))","v":3},{"$f":"IF(G4=\"\",0,IF(G4>F4,3,IF(G4=F4,1,IF(G4<F4,0))))","v":0},{"$f":"IF(R4=\"\",0,IF(R4>S4,3,IF(R4=S4,1,IF(R4<S4,0))))","v":1},{"$f":"IF(S4=\"\",0,IF(S4>R4,3,IF(S4=R4,1,IF(S4<R4,0))))","v":1},{"$f":"BF4+BI4","v":4},{"$f":"BG4+BH4","v":1},{"$f":"IF(F4=\"\",0,1)","v":1},{"$f":"IF(G4=\"\",0,1)","v":1},{"$f":"IF(R4=\"\",0,1)","v":1},{"$f":"IF(S4=\"\",0,1)","v":1},{"$f":"IF(F4<>\"\",IF(F4>G4,1))","v":1},{"$f":"IF(G4<>\"\",IF(G4>F4,1))","v":false},{"$f":"IF(R4<>\"\",IF(R4>S4,1))","v":false},{"$f":"IF(S4<>\"\",IF(S4>R4,1))","v":false},{"$f":"IF(F4<>\"\",IF(F4=G4,1))","v":false},{"$f":"IF(G4<>\"\",IF(G4=F4,1))","v":false},{"$f":"IF(R4<>\"\",IF(R4=S4,1))","v":1},{"$f":"IF(S4<>\"\",IF(S4=R4,1))","v":1},{"$f":"IF(F4<>\"\",IF(F4<G4,1))","v":false},{"$f":"IF(G4<>\"\",IF(G4<F4,1))","v":1},{"$f":"IF(R4<>\"\",IF(R4<S4,1))","v":false},{"$f":"IF(S4<>\"\",IF(S4<R4,1))","v":false},{"$f":"F4","v":1},{"$f":"G4","v":0},{"$f":"R4","v":0},{"$f":"S4","v":0},{"$f":"CB4+CE4","v":1},{"$f":"CC4+CD4","v":0},{"$f":"G4","v":0},{"$f":"F4","v":1},{"$f":"S4","v":0},{"$f":"R4","v":0},{"$f":"CH4+CK4","v":0},{"$f":"CI4+CJ4","v":1},{"$f":"IF(AU4=1,1000000)","v":1000000},{"$f":"IF(AU5=1,1000000)","v":false},{"$f":"IF(AU6=1,1000000)","v":false},{"$f":"IF(AU7=1,1000000)","v":false},{"$f":"IF(AU8=1,1000000)","v":false},{"$f":"IF(AU9=1,1000000)","v":false},null,{"$f":"IF(AU4=2,800000)","v":false},{"$f":"IF(AU5=2,800000)","v":800000},{"$f":"IF(AU6=2,800000)","v":false},{"$f":"IF(AU7=2,800000)","v":false},{"$f":"IF(AU8=2,800000)","v":false},{"$f":"IF(AU9=2,800000)","v":false},{"$f":"IF(AU4=3,600000)","v":false},{"$f":"IF(AU5=3,600000)","v":false},{"$f":"IF(AU6=3,600000)","v":600000},{"$f":"IF(AU7=3,600000)","v":600000},{"$f":"IF(AU8=3,600000)","v":false},{"$f":"IF(AU9=3,600000)","v":false},{"$f":"IF(AU4=4,400000)","v":false},{"$f":"IF(AU5=4,400000)","v":false},{"$f":"IF(AU6=4,400000)","v":false},{"$f":"IF(AU7=4,400000)","v":false},{"$f":"IF(AU8=4,400000)","v":false},{"$f":"IF(AU9=4,400000)","v":false},{"$f":"IF(AU4=5,200000)","v":false},{"$f":"IF(AU5=5,200000)","v":false},{"$f":"IF(AU6=5,200000)","v":false},{"$f":"IF(AU7=5,200000)","v":false},{"$f":"IF(AU8=5,200000)","v":200000},{"$f":"IF(AU9=5,200000)","v":false},{"$f":"IF(AU4=6,100000)","v":false},{"$f":"IF(AU5=6,100000)","v":false},{"$f":"IF(AU6=6,100000)","v":false},{"$f":"IF(AU7=6,100000)","v":false},{"$f":"IF(AU8=6,100000)","v":false},{"$f":"IF(AU9=6,100000)","v":100000}]
[{"$f":"AP4","v":"IRAN"},null,null,null,null,2,0,{"$f":"AP6","v":"OUZBÉKISTAN"},null,null,null,null,{"$f":"H5","v":"OUZBÉKISTAN"},null,null,null,null,0,1,{"$f":"A5","v":"IRAN"},null,null,null,null,null,{"$f":"VLOOKUP(AN12,AO11:AT16,2,0)","v":"RÉPUBLIQUE DE CORÉE"},null,null,null,null,{"$f":"IF(CT13=CT12,CW12,CW13)","v":2},{"$f":"VLOOKUP(Z5,AP4:BC9,7,0)","v":15},{"$f":"VLOOKUP(Z5,AP4:BC9,8,0)","v":10},{"$f":"VLOOKUP(Z5,AP4:BC9,9,0)","v":4},{"$f":"VLOOKUP(Z5,AP4:BC9,10,0)","v":3},{"$f":"VLOOKUP(Z5,AP4:BC9,11,0)","v":3},{"$f":"VLOOKUP(Z5,AP4:BC9,12,0)","v":11},{"$f":"VLOOKUP(Z5,AP4:BC9,13,0)","v":10},{"$f":"VLOOKUP(Z5,AP4:BC9,14,0)","v":1},null,null,"RÉPUBLIQUE DE CORÉE",null,null,null,null,{"$f":"RANK(AV5,AV4:AV9)","v":2},{"$f":"SUMPRODUCT((A4:E18=AP5)*(BF4:BF18))+SUMPRODUCT((H4:L18=AP5)*(BG4:BG18))+SUMPRODUCT((M4:Q18=AP5)*(BH4:BH18))+SUMPRODUCT((T4:X18=AP5)*(BI4:BI18))","v":15},{"$f":"SUMPRODUCT((A4:E18=AP5)*(BL4:BL18))+SUMPRODUCT((H4:L18=AP5)*(BM4:BM18))+SUMPRODUCT((M4:Q18=AP5)*(BN4:BN18))+SUMPRODUCT((T4:X18=AP5)*(BO4:BO18))","v":10},{"$f":"SUMPRODUCT((A4:E18=AP5)*(BP4:BP18))+SUMPRODUCT((H4:L18=AP5)*(BQ4:BQ18))+SUMPRODUCT((M4:Q18=AP5)*(BR4:BR18))+SUMPRODUCT((T4:X18=AP5)*(BS4:BS18))","v":4},{"$f":"SUMPRODUCT((A4:E18=AP5)*(BT4:BT18))+SUMPRODUCT((H4:L18=AP5)*(BU4:BU18))+SUMPRODUCT((M4:Q18=AP5)*(BV4:BV18))+SUMPRODUCT((T4:X18=AP5)*(BW4:BW18))","v":3},{"$f":"SUMPRODUCT((A4:E18=AP5)*(BX4:BX18))+SUMPRODUCT((H4:L18=AP5)*(BY4:BY18))+SUMPRODUCT((M4:Q18=AP5)*(BZ4:BZ18))+SUMPRODUCT((T4:X18=AP5)*(CA4:CA18))","v":3},{"$f":"SUMPRODUCT((A4:E18=AP5)*(CB4:CB18))+SUMPRODUCT((H4:L18=AP5)*(CC4:CC18))+SUMPRODUCT((M4:Q18=AP5)*(CD4:CD18))+SUMPRODUCT((T4:X18=AP5)*(CE4:CE18))","v":11},{"$f":"SUMPRODUCT((A4:E18=AP5)*(CH4:CH18))+SUMPRODUCT((H4:L18=AP5)*(CI4:CI18))+SUMPRODUCT((M4:Q18=AP5)*(CJ4:CJ18))+SUMPRODUCT((T4:X18=AP5)*(CK4:CK18))","v":10},{"$f":"BA5-BB5","v":1},null,null,{"$f":"IF(F5=\"\",0,IF(F5>G5,3,IF(F5=G5,1,IF(F5<G5,0))))","v":3},{"$f":"IF(G5=\"\",0,IF(G5>F5,3,IF(G5=F5,1,IF(G5<F5,0))))","v":0},{"$f":"IF(R5=\"\",0,IF(R5>S5,3,IF(R5=S5,1,IF(R5<S5,0))))","v":0},{"$f":"IF(S5=\"\",0,IF(S5>R5,3,IF(S5=R5,1,IF(S5<R5,0))))","v":3},{"$f":"BF5+BI5","v":6},{"$f":"BG5+BH5","v":0},{"$f":"IF(F5=\"\",0,1)","v":1},1,{"$f":"IF(R5=\"\",0,1)","v":1},1,{"$f":"IF(F5<>\"\",IF(F5>G5,1))","v":1},{"$f":"IF(G5<>\"\",IF(G5>F5,1))","v":false},{"$f":"IF(R5<>\"\",IF(R5>S5,1))","v":false},{"$f":"IF(S5<>\"\",IF(S5>R5,1))","v":1},{"$f":"IF(F5<>\"\",IF(F5=G5,1))","v":false},{"$f":"IF(G5<>\"\",IF(G5=F5,1))","v":false},{"$f":"IF(R5<>\"\",IF(R5=S5,1))","v":false},{"$f":"IF(S5<>\"\",IF(S5=R5,1))","v":false},{"$f":"IF(F5<>\"\",IF(F5<G5,1))","v":false},{"$f":"IF(G5<>\"\",IF(G5<F5,1))","v":1},{"$f":"IF(R5<>\"\",IF(R5<S5,1))","v":1},{"$f":"IF(S5<>\"\",IF(S5<R5,1))","v":false},{"$f":"F5","v":2},0,{"$f":"R5","v":0},1,{"$f":"CB5+CE5","v":3},{"$f":"CC5+CD5","v":0},{"$f":"G5","v":0},{"$f":"F5","v":2},{"$f":"S5","v":1},{"$f":"R5","v":0},{"$f":"CH5+CK5","v":0},{"$f":"CI5+CJ5","v":3},{"$f":"IF(AU4=1,IF(AU5=1,SUM(AV4*1000+(BC4)/10+(BA4)/100+(BJ4)/1000+((F4+S4)-(G4+R4))/10000+(F4+S4)/100000+(S4)/1000000)))","v":false},{"$f":"IF(AU5=1,IF(AU4=1,SUM(AV5*1000+(BC5)/10+(BA5)/100+(BK4)/1000+((G4+R4)-(F4+S4))/10000+(G4+R4)/100000+(G4)/1000000)))","v":false},{"$f":"IF(AU6=1,IF(AU4=1,SUM(AV6*1000+(BC6)/10+(BA6)/100+(BK5)/1000+((G5+R5)-(F5+S5))/10000+(G5+R5)/100000+(G5)/1000000)))","v":false},{"$f":"IF(AU7=1,IF(AU4=1,SUM(AV7*1000+(BC7)/10+(BA7)/100+(BK6)/1000+((G6+R6)-(F6+S6))/10000+(G6+R6)/100000+(G6)/1000000)))","v":false},{"$f":"IF(AU8=1,IF(AU4=1,SUM(AV8*1000+(BC8)/10+(BA8)/100+(BK7)/1000+((G7+R7)-(F7+S7))/10000+(G7+R7)/100000+(G7)/1000000)))","v":false},{"$f":"IF(AU9=1,IF(AU4=1,SUM(AV9*1000+(BC9)/10+(BA9)/100+(BK8)/1000+((G8+R8)-(F8+S8))/10000+(G8+R8)/100000+(G8)/1000000)))","v":false},null,{"$f":"IF(AU4=2,IF(AU5=2,SUM(AV4*1000+(BC4)/10+(BA4)/100+(BJ4)/1000+((F4+S4)-(G4+R4))/10000+(F4+S4)/100000+(S4)/1000000)))","v":false},{"$f":"IF(AU5=2,IF(AU4=2,SUM(AV5*1000+(BC5)/10+(BA5)/100+(BK4)/1000+((G4+R4)-(F4+S4))/10000+(G4+R4)/100000+(G4)/1000000)))","v":false},{"$f":"IF(AU6=2,IF(AU4=2,SUM(AV6*1000+(BC6)/10+(BA6)/100+(BK5)/1000+((G5+R5)-(F5+S5))/10000+(G5+R5)/100000+(G5)/1000000)))","v":false},{"$f":"IF(AU7=2,IF(AU4=2,SUM(AV7*1000+(BC7)/10+(BA7)/100+(BK6)/1000+((G6+R6)-(F6+S6))/10000+(G6+R6)/100000+(G6)/1000000)))","v":false},{"$f":"IF(AU8=2,IF(AU4=2,SUM(AV8*1000+(BC8)/10+(BA8)/100+(BK7)/1000+((G7+R7)-(F7+S7))/10000+(G7+R7)/100000+(G7)/1000000)))","v":false},{"$f":"IF(AU9=2,IF(AU4=2,SUM(AV9*1000+(BC9)/10+(BA9)/100+(BK8)/1000+((G8+R8)-(F8+S8))/10000+(G8+R8)/100000+(G8)/1000000)))","v":false},{"$f":"IF(AU4=3,IF(AU5=3,SUM(AV4*1000+(BC4)/10+(BA4)/100+(BJ4)/1000+((F4+S4)-(G4+R4))/10000+(F4+S4)/100000+(S4)/1000000)))","v":false},{"$f":"IF(AU5=3,IF(AU4=3,SUM(AV5*1000+(BC5)/10+(BA5)/100+(BK4)/1000+((G4+R4)-(F4+S4))/10000+(G4+R4)/100000+(G4)/1000000)))","v":false},{"$f":"IF(AU6=3,IF(AU4=3,SUM(AV6*1000+(BC6)/10+(BA6)/100+(BK5)/1000+((G5+R5)-(F5+S5))/10000+(G5+R5)/100000+(G5)/1000000)))","v":false},{"$f":"IF(AU7=3,IF(AU4=3,SUM(AV7*1000+(BC7)/10+(BA7)/100+(BK6)/1000+((G6+R6)-(F6+S6))/10000+(G6+R6)/100000+(G6)/1000000)))","v":false},{"$f":"IF(AU8=3,IF(AU4=3,SUM(AV8*1000+(BC8)/10+(BA8)/100+(BK7)/1000+((G7+R7)-(F7+S7))/10000+(G7+R7)/100000+(G7)/1000000)))","v":false},{"$f":"IF(AU9=3,IF(AU4=3,SUM(AV9*1000+(BC9)/10+(BA9)/100+(BK8)/1000+((G8+R8)-(F8+S8))/10000+(G8+R8)/100000+(G8)/1000000)))","v":false},{"$f":"IF(AU4=4,IF(AU5=4,SUM(AV4*1000+(BC4)/10+(BA4)/100+(BJ4)/1000+((F4+S4)-(G4+R4))/10000+(F4+S4)/100000+(S4)/1000000)))","v":false},{"$f":"IF(AU5=4,IF(AU4=4,SUM(AV5*1000+(BC5)/10+(BA5)/100+(BK4)/1000+((G4+R4)-(F4+S4))/10000+(G4+R4)/100000+(G4)/1000000)))","v":false},{"$f":"IF(AU6=4,IF(AU4=4,SUM(AV6*1000+(BC6)/10+(BA6)/100+(BK5)/1000+((G5+R5)-(F5+S5))/10000+(G5+R5)/100000+(G5)/1000000)))","v":false},{"$f":"IF(AU7=4,IF(AU4=4,SUM(AV7*1000+(BC7)/10+(BA7)/100+(BK6)/1000+((G6+R6)-(F6+S6))/10000+(G6+R6)/100000+(G6)/1000000)))","v":false},{"$f":"IF(AU8=4,IF(AU4=4,SUM(AV8*1000+(BC8)/10+(BA8)/100+(BK7)/1000+((G7+R7)-(F7+S7))/10000+(G7+R7)/100000+(G7)/1000000)))","v":false},{"$f":"IF(AU9=4,IF(AU4=4,SUM(AV9*1000+(BC9)/10+(BA9)/100+(BK8)/1000+((G8+R8)-(F8+S8))/10000+(G8+R8)/100000+(G8)/1000000)))","v":false},{"$f":"IF(AU4=5,IF(AU5=5,SUM(AV4*1000+(BC4)/10+(BA4)/100+(BJ4)/1000+((F4+S4)-(G4+R4))/10000+(F4+S4)/100000+(S4)/1000000)))","v":false},{"$f":"IF(AU5=5,IF(AU4=5,SUM(AV5*1000+(BC5)/10+(BA5)/100+(BK4)/1000+((G4+R4)-(F4+S4))/10000+(G4+R4)/100000+(G4)/1000000)))","v":false},{"$f":"IF(AU6=5,IF(AU4=5,SUM(AV6*1000+(BC6)/10+(BA6)/100+(BK5)/1000+((G5+R5)-(F5+S5))/10000+(G5+R5)/100000+(G5)/1000000)))","v":false},{"$f":"IF(AU7=5,IF(AU4=5,SUM(AV7*1000+(BC7)/10+(BA7)/100+(BK6)/1000+((G6+R6)-(F6+S6))/10000+(G6+R6)/100000+(G6)/1000000)))","v":false},{"$f":"IF(AU8=5,IF(AU4=5,SUM(AV8*1000+(BC8)/10+(BA8)/100+(BK7)/1000+((G7+R7)-(F7+S7))/10000+(G7+R7)/100000+(G7)/1000000)))","v":false},{"$f":"IF(AU9=5,IF(AU4=5,SUM(AV9*1000+(BC9)/10+(BA9)/100+(BK8)/1000+((G8+R8)-(F8+S8))/10000+(G8+R8)/100000+(G8)/1000000)))","v":false},{"$f":"IF(AU4=6,IF(AU5=6,SUM(AV4*1000+(BC4)/10+(BA4)/100+(BJ4)/1000+((F4+S4)-(G4+R4))/10000+(F4+S4)/100000+(S4)/1000000)))","v":false},{"$f":"IF(AU5=6,IF(AU4=6,SUM(AV5*1000+(BC5)/10+(BA5)/100+(BK4)/1000+((G4+R4)-(F4+S4))/10000+(G4+R4)/100000+(G4)/1000000)))","v":false},{"$f":"IF(AU6=6,IF(AU4=6,SUM(AV6*1000+(BC6)/10+(BA6)/100+(BK5)/1000+((G5+R5)-(F5+S5))/10000+(G5+R5)/100000+(G5)/1000000)))","v":false},{"$f":"IF(AU7=6,IF(AU4=6,SUM(AV7*1000+(BC7)/10+(BA7)/100+(BK6)/1000+((G6+R6)-(F6+S6))/10000+(G6+R6)/100000+(G6)/1000000)))","v":false},{"$f":"IF(AU8=6,IF(AU4=6,SUM(AV8*1000+(BC8)/10+(BA8)/100+(BK7)/1000+((G7+R7)-(F7+S7))/10000+(G7+R7)/100000+(G7)/1000000)))","v":false},{"$f":"IF(AU9=6,IF(AU4=6,SUM(AV9*1000+(BC9)/10+(BA9)/100+(BK8)/1000+((G8+R8)-(F8+S8))/10000+(G8+R8)/100000+(G8)/1000000)))","v":false}]
[{"$f":"AP4","v":"IRAN"},null,null,null,null,2,2,{"$f":"AP7","v":"SYRIE"},null,null,null,null,"SYRIE",null,null,null,null,0,0,"IRAN",null,null,null,null,null,{"$f":"VLOOKUP(AN13,AO11:AT16,2,0)","v":"SYRIE"},null,null,null,null,{"$f":"IF(CT14=CT13,CW13,CW14)","v":3},{"$f":"VLOOKUP(Z6,AP4:BC9,7,0)","v":13},{"$f":"VLOOKUP(Z6,AP4:BC9,8,0)","v":10},{"$f":"VLOOKUP(Z6,AP4:BC9,9,0)","v":3},{"$f":"VLOOKUP(Z6,AP4:BC9,10,0)","v":4},{"$f":"VLOOKUP(Z6,AP4:BC9,11,0)","v":3},{"$f":"VLOOKUP(Z6,AP4:BC9,12,0)","v":9},{"$f":"VLOOKUP(Z6,AP4:BC9,13,0)","v":8},{"$f":"VLOOKUP(Z6,AP4:BC9,14,0)","v":1},null,null,"OUZBÉKISTAN",null,null,null,null,{"$f":"RANK(AV6,AV4:AV9)","v":3},{"$f":"SUMPRODUCT((A4:E18=AP6)*(BF4:BF18))+SUMPRODUCT((H4:L18=AP6)*(BG4:BG18))+SUMPRODUCT((M4:Q18=AP6)*(BH4:BH18))+SUMPRODUCT((T4:X18=AP6)*(BI4:BI18))","v":13},{"$f":"SUMPRODUCT((A4:E18=AP6)*(BL4:BL18))+SUMPRODUCT((H4:L18=AP6)*(BM4:BM18))+SUMPRODUCT((M4:Q18=AP6)*(BN4:BN18))+SUMPRODUCT((T4:X18=AP6)*(BO4:BO18))","v":10},{"$f":"SUMPRODUCT((A4:E18=AP6)*(BP4:BP18))+SUMPRODUCT((H4:L18=AP6)*(BQ4:BQ18))+SUMPRODUCT((M4:Q18=AP6)*(BR4:BR18))+SUMPRODUCT((T4:X18=AP6)*(BS4:BS18))","v":4},{"$f":"SUMPRODUCT((A4:E18=AP6)*(BT4:BT18))+SUMPRODUCT((H4:L18=AP6)*(BU4:BU18))+SUMPRODUCT((M4:Q18=AP6)*(BV4:BV18))+SUMPRODUCT((T4:X18=AP6)*(BW4:BW18))","v":1},{"$f":"SUMPRODUCT((A4:E18=AP6)*(BX4:BX18))+SUMPRODUCT((H4:L18=AP6)*(BY4:BY18))+SUMPRODUCT((M4:Q18=AP6)*(BZ4:BZ18))+SUMPRODUCT((T4:X18=AP6)*(CA4:CA18))","v":5},{"$f":"SUMPRODUCT((A4:E18=AP6)*(CB4:CB18))+SUMPRODUCT((H4:L18=AP6)*(CC4:CC18))+SUMPRODUCT((M4:Q18=AP6)*(CD4:CD18))+SUMPRODUCT((T4:X18=AP6)*(CE4:CE18))","v":6},{"$f":"SUMPRODUCT((A4:E18=AP6)*(CH4:CH18))+SUMPRODUCT((H4:L18=AP6)*(CI4:CI18))+SUMPRODUCT((M4:Q18=AP6)*(CJ4:CJ18))+SUMPRODUCT((T4:X18=AP6)*(CK4:CK18))","v":7},-1,null,null,1,1,1,1,2,2,1,1,1,1,false,false,false,false,1,1,1,1,false,false,false,false,2,2,0,0,2,2,2,2,0,0,2,2,{"$f":"IF(AU4=1,IF(AU6=1,SUM(AV4*1000+(BC4)/10+(BA4)/100+(BJ5)/1000+((F5+S5)-(G5+R5))/10000+(F5+S5)/100000+(S5)/1000000)))","v":false},{"$f":"IF(AU5=1,IF(AU6=1,SUM(AV5*1000+(BC5)/10+(BA5)/100+(BJ9)/1000+((F9+S9)-(G9+R9))/10000+(F9+S9)/100000+(S9)/1000000)))","v":false},{"$f":"IF(AU6=1,IF(AU5=1,SUM(AV6*1000+(BC6)/10+(BA6)/100+(BK9)/1000+((G9+R9)-(F9+S9))/10000+(G9+R9)/1000000+(G9)/1000000)))","v":false},{"$f":"IF(AU7=1,IF(AU5=1,SUM(AV7*1000+(BC7)/10+(BA7)/100+(BK10)/1000+((G10+R10)-(F10+S10))/10000+(G10+R10)/100000+(G10)/1000000)))","v":false},{"$f":"IF(AU8=1,IF(AU5=1,SUM(AV8*1000+(BC8)/10+(BA8)/100+(BK11)/1000+((G11+R11)-(F11+S11))/10000+(G11+R11)/100000+(G11)/1000000)))","v":false},{"$f":"IF(AU9=1,IF(AU5=1,SUM(AV9*1000+(BC9)/10+(BA9)/100+(BK12)/1000+((G12+R12)-(F12+S12))/10000+(G12+R12)/100000+(G12)/1000000)))","v":false},null,{"$f":"IF(AU4=2,IF(AU6=2,SUM(AV4*1000+(BC4)/10+(BA4)/100+(BJ5)/1000+((F5+S5)-(G5+R5))/10000+(F5+S5)/100000+(S5)/1000000)))","v":false},{"$f":"IF(AU5=2,IF(AU6=2,SUM(AV5*1000+(BC5)/10+(BA5)/100+(BJ9)/1000+((F9+S9)-(G9+R9))/10000+(F9+S9)/100000+(S9)/1000000)))","v":false},{"$f":"IF(AU6=2,IF(AU5=2,SUM(AV6*1000+(BC6)/10+(BA6)/100+(BK9)/1000+((G9+R9)-(F9+S9))/10000+(G9+R9)/1000000+(G9)/1000000)))","v":false},{"$f":"IF(AU7=2,IF(AU5=2,SUM(AV7*1000+(BC7)/10+(BA7)/100+(BK10)/1000+((G10+R10)-(F10+S10))/10000+(G10+R10)/100000+(G10)/1000000)))","v":false},{"$f":"IF(AU8=2,IF(AU5=2,SUM(AV8*1000+(BC8)/10+(BA8)/100+(BK11)/1000+((G11+R11)-(F11+S11))/10000+(G11+R11)/100000+(G11)/1000000)))","v":false},{"$f":"IF(AU9=2,IF(AU5=2,SUM(AV9*1000+(BC9)/10+(BA9)/100+(BK12)/1000+((G12+R12)-(F12+S12))/10000+(G12+R12)/100000+(G12)/1000000)))","v":false},{"$f":"IF(AU4=3,IF(AU6=3,SUM(AV4*1000+(BC4)/10+(BA4)/100+(BJ5)/1000+((F5+S5)-(G5+R5))/10000+(F5+S5)/100000+(S5)/1000000)))","v":false},{"$f":"IF(AU5=3,IF(AU6=3,SUM(AV5*1000+(BC5)/10+(BA5)/100+(BJ9)/1000+((F9+S9)-(G9+R9))/10000+(F9+S9)/100000+(S9)/1000000)))","v":false},{"$f":"IF(AU6=3,IF(AU5=3,SUM(AV6*1000+(BC6)/10+(BA6)/100+(BK9)/1000+((G9+R9)-(F9+S9))/10000+(G9+R9)/1000000+(G9)/1000000)))","v":false},{"$f":"IF(AU7=3,IF(AU5=3,SUM(AV7*1000+(BC7)/10+(BA7)/100+(BK10)/1000+((G10+R10)-(F10+S10))/10000+(G10+R10)/100000+(G10)/1000000)))","v":false},{"$f":"IF(AU8=3,IF(AU5=3,SUM(AV8*1000+(BC8)/10+(BA8)/100+(BK11)/1000+((G11+R11)-(F11+S11))/10000+(G11+R11)/100000+(G11)/1000000)))","v":false},{"$f":"IF(AU9=3,IF(AU5=3,SUM(AV9*1000+(BC9)/10+(BA9)/100+(BK12)/1000+((G12+R12)-(F12+S12))/10000+(G12+R12)/100000+(G12)/1000000)))","v":false},{"$f":"IF(AU4=4,IF(AU6=4,SUM(AV4*1000+(BC4)/10+(BA4)/100+(BJ5)/1000+((F5+S5)-(G5+R5))/10000+(F5+S5)/100000+(S5)/1000000)))","v":false},{"$f":"IF(AU5=4,IF(AU6=4,SUM(AV5*1000+(BC5)/10+(BA5)/100+(BJ9)/1000+((F9+S9)-(G9+R9))/10000+(F9+S9)/100000+(S9)/1000000)))","v":false},{"$f":"IF(AU6=4,IF(AU5=4,SUM(AV6*1000+(BC6)/10+(BA6)/100+(BK9)/1000+((G9+R9)-(F9+S9))/10000+(G9+R9)/1000000+(G9)/1000000)))","v":false},{"$f":"IF(AU7=4,IF(AU5=4,SUM(AV7*1000+(BC7)/10+(BA7)/100+(BK10)/1000+((G10+R10)-(F10+S10))/10000+(G10+R10)/100000+(G10)/1000000)))","v":false},{"$f":"IF(AU8=4,IF(AU5=4,SUM(AV8*1000+(BC8)/10+(BA8)/100+(BK11)/1000+((G11+R11)-(F11+S11))/10000+(G11+R11)/100000+(G11)/1000000)))","v":false},{"$f":"IF(AU9=4,IF(AU5=4,SUM(AV9*1000+(BC9)/10+(BA9)/100+(BK12)/1000+((G12+R12)-(F12+S12))/10000+(G12+R12)/100000+(G12)/1000000)))","v":false},{"$f":"IF(AU4=5,IF(AU6=5,SUM(AV4*1000+(BC4)/10+(BA4)/100+(BJ5)/1000+((F5+S5)-(G5+R5))/10000+(F5+S5)/100000+(S5)/1000000)))","v":false},{"$f":"IF(AU5=5,IF(AU6=5,SUM(AV5*1000+(BC5)/10+(BA5)/100+(BJ9)/1000+((F9+S9)-(G9+R9))/10000+(F9+S9)/100000+(S9)/1000000)))","v":false},{"$f":"IF(AU6=5,IF(AU5=5,SUM(AV6*1000+(BC6)/10+(BA6)/100+(BK9)/1000+((G9+R9)-(F9+S9))/10000+(G9+R9)/1000000+(G9)/1000000)))","v":false},{"$f":"IF(AU7=5,IF(AU5=5,SUM(AV7*1000+(BC7)/10+(BA7)/100+(BK10)/1000+((G10+R10)-(F10+S10))/10000+(G10+R10)/100000+(G10)/1000000)))","v":false},{"$f":"IF(AU8=5,IF(AU5=5,SUM(AV8*1000+(BC8)/10+(BA8)/100+(BK11)/1000+((G11+R11)-(F11+S11))/10000+(G11+R11)/100000+(G11)/1000000)))","v":false},{"$f":"IF(AU9=5,IF(AU5=5,SUM(AV9*1000+(BC9)/10+(BA9)/100+(BK12)/1000+((G12+R12)-(F12+S12))/10000+(G12+R12)/100000+(G12)/1000000)))","v":false},{"$f":"IF(AU4=6,IF(AU6=6,SUM(AV4*1000+(BC4)/10+(BA4)/100+(BJ5)/1000+((F5+S5)-(G5+R5))/10000+(F5+S5)/100000+(S5)/1000000)))","v":false},{"$f":"IF(AU5=6,IF(AU6=6,SUM(AV5*1000+(BC5)/10+(BA5)/100+(BJ9)/1000+((F9+S9)-(G9+R9))/10000+(F9+S9)/100000+(S9)/1000000)))","v":false},{"$f":"IF(AU6=6,IF(AU5=6,SUM(AV6*1000+(BC6)/10+(BA6)/100+(BK9)/1000+((G9+R9)-(F9+S9))/10000+(G9+R9)/1000000+(G9)/1000000)))","v":false},{"$f":"IF(AU7=6,IF(AU5=6,SUM(AV7*1000+(BC7)/10+(BA7)/100+(BK10)/1000+((G10+R10)-(F10+S10))/10000+(G10+R10)/100000+(G10)/1000000)))","v":false},{"$f":"IF(AU8=6,IF(AU5=6,SUM(AV8*1000+(BC8)/10+(BA8)/100+(BK11)/1000+((G11+R11)-(F11+S11))/10000+(G11+R11)/100000+(G11)/1000000)))","v":false},{"$f":"IF(AU9=6,IF(AU5=6,SUM(AV9*1000+(BC9)/10+(BA9)/100+(BK12)/1000+((G12+R12)-(F12+S12))/10000+(G12+R12)/100000+(G12)/1000000)))","v":false}]
[{"$f":"AP4","v":"IRAN"},null,null,null,null,1,0,{"$f":"AP8","v":"RÉPUBLIQUE DE CHINE"},null,null,null,null,"RÉPUBLIQUE DE CHINE",null,null,null,null,0,0,"IRAN",null,null,null,null,null,{"$f":"VLOOKUP(AN14,AO11:AT16,2,0)","v":"OUZBÉKISTAN"},null,null,null,null,4,{"$f":"VLOOKUP(Z7,AP4:BC9,7,0)","v":13},{"$f":"VLOOKUP(Z7,AP4:BC9,8,0)","v":10},{"$f":"VLOOKUP(Z7,AP4:BC9,9,0)","v":4},{"$f":"VLOOKUP(Z7,AP4:BC9,10,0)","v":1},{"$f":"VLOOKUP(Z7,AP4:BC9,11,0)","v":5},{"$f":"VLOOKUP(Z7,AP4:BC9,12,0)","v":6},{"$f":"VLOOKUP(Z7,AP4:BC9,13,0)","v":7},{"$f":"VLOOKUP(Z7,AP4:BC9,14,0)","v":-1},null,null,"SYRIE",null,null,null,null,{"$f":"RANK(AV7,AV4:AV9)","v":3},{"$f":"SUMPRODUCT((A4:E18=AP7)*(BF4:BF18))+SUMPRODUCT((H4:L18=AP7)*(BG4:BG18))+SUMPRODUCT((M4:Q18=AP7)*(BH4:BH18))+SUMPRODUCT((T4:X18=AP7)*(BI4:BI18))","v":13},{"$f":"SUMPRODUCT((A4:E18=AP7)*(BL4:BL18))+SUMPRODUCT((H4:L18=AP7)*(BM4:BM18))+SUMPRODUCT((M4:Q18=AP7)*(BN4:BN18))+SUMPRODUCT((T4:X18=AP7)*(BO4:BO18))","v":10},{"$f":"SUMPRODUCT((A4:E18=AP7)*(BP4:BP18))+SUMPRODUCT((H4:L18=AP7)*(BQ4:BQ18))+SUMPRODUCT((M4:Q18=AP7)*(BR4:BR18))+SUMPRODUCT((T4:X18=AP7)*(BS4:BS18))","v":3},{"$f":"SUMPRODUCT((A4:E18=AP7)*(BT4:BT18))+SUMPRODUCT((H4:L18=AP7)*(BU4:BU18))+SUMPRODUCT((M4:Q18=AP7)*(BV4:BV18))+SUMPRODUCT((T4:X18=AP7)*(BW4:BW18))","v":4},{"$f":"SUMPRODUCT((A4:E18=AP7)*(BX4:BX18))+SUMPRODUCT((H4:L18=AP7)*(BY4:BY18))+SUMPRODUCT((M4:Q18=AP7)*(BZ4:BZ18))+SUMPRODUCT((T4:X18=AP7)*(CA4:CA18))","v":3},{"$f":"SUMPRODUCT((A4:E18=AP7)*(CB4:CB18))+SUMPRODUCT((H4:L18=AP7)*(CC4:CC18))+SUMPRODUCT((M4:Q18=AP7)*(CD4:CD18))+SUMPRODUCT((T4:X18=AP7)*(CE4:CE18))","v":9},{"$f":"SUMPRODUCT((A4:E18=AP7)*(CH4:CH18))+SUMPRODUCT((H4:L18=AP7)*(CI4:CI18))+SUMPRODUCT((M4:Q18=AP7)*(CJ4:CJ18))+SUMPRODUCT((T4:X18=AP7)*(CK4:CK18))","v":8},1,null,null,3,0,1,1,4,1,1,1,1,1,1,false,false,false,false,false,1,1,false,1,false,false,1,0,0,0,1,0,0,1,0,0,0,1,{"$f":"IF(AU4=1,IF(AU7=1,SUM(AV4*1000+(BC4)/10+(BA4)/100+(BJ6)/1000+((F6+S6)-(G6+R6))/10000+(F6+S6)/100000+(S6)/1000000)))","v":false},{"$f":"IF(AU5=1,IF(AU7=1,SUM(AV5*1000+(BC5)/10+(BA5)/100+(BJ10)/1000+((F10+S10)-(G10+R10))/10000+(F10+S10)/100000+(S10)/1000000)))","v":false},{"$f":"IF(AU6=1,IF(AU7=1,SUM(AV6*1000+(BC6)/10+(BA6)/100+(BJ13)/1000+((F13+S13)-(G13+R13))/10000+(F13+S13)/100000+(S13)/1000000)))","v":false},{"$f":"IF(AU7=1,IF(AU6=1,SUM(AV7*1000+(BC7)/10+(BA7)/100+(BK13)/1000+((G13+R13)-(F13+S13))/10000+(G13+R13)/100000+(G13)/1000000)))","v":false},{"$f":"IF(AU8=1,IF(AU6=1,SUM(AV8*1000+(BC8)/10+(BA8)/100+(BK14)/1000+((G14+R14)-(F14+S14))/10000+(G14+R14)/100000+(G14)/1000000)))","v":false},{"$f":"IF(AU9=1,IF(AU6=1,SUM(AV9*1000+(BC9)/10+(BA9)/100+(BK15)/1000+((G15+R15)-(F15+S15))/10000+(G15+R15)/100000+(G15)/1000000)))","v":false},null,{"$f":"IF(AU4=2,IF(AU7=2,SUM(AV4*1000+(BC4)/10+(BA4)/100+(BJ6)/1000+((F6+S6)-(G6+R6))/10000+(F6+S6)/100000+(S6)/1000000)))","v":false},{"$f":"IF(AU5=2,IF(AU7=2,SUM(AV5*1000+(BC5)/10+(BA5)/100+(BJ10)/1000+((F10+S10)-(G10+R10))/10000+(F10+S10)/100000+(S10)/1000000)))","v":false},{"$f":"IF(AU6=2,IF(AU7=2,SUM(AV6*1000+(BC6)/10+(BA6)/100+(BJ13)/1000+((F13+S13)-(G13+R13))/10000+(F13+S13)/100000+(S13)/1000000)))","v":false},{"$f":"IF(AU7=2,IF(AU6=2,SUM(AV7*1000+(BC7)/10+(BA7)/100+(BK13)/1000+((G13+R13)-(F13+S13))/10000+(G13+R13)/100000+(G13)/1000000)))","v":false},{"$f":"IF(AU8=2,IF(AU6=2,SUM(AV8*1000+(BC8)/10+(BA8)/100+(BK14)/1000+((G14+R14)-(F14+S14))/10000+(G14+R14)/100000+(G14)/1000000)))","v":false},{"$f":"IF(AU9=2,IF(AU6=2,SUM(AV9*1000+(BC9)/10+(BA9)/100+(BK15)/1000+((G15+R15)-(F15+S15))/10000+(G15+R15)/100000+(G15)/1000000)))","v":false},{"$f":"IF(AU4=3,IF(AU7=3,SUM(AV4*1000+(BC4)/10+(BA4)/100+(BJ6)/1000+((F6+S6)-(G6+R6))/10000+(F6+S6)/100000+(S6)/1000000)))","v":false},{"$f":"IF(AU5=3,IF(AU7=3,SUM(AV5*1000+(BC5)/10+(BA5)/100+(BJ10)/1000+((F10+S10)-(G10+R10))/10000+(F10+S10)/100000+(S10)/1000000)))","v":false},{"$f":"IF(AU6=3,IF(AU7=3,SUM(AV6*1000+(BC6)/10+(BA6)/100+(BJ13)/1000+((F13+S13)-(G13+R13))/10000+(F13+S13)/100000+(S13)/1000000)))","v":12999.963009999999},{"$f":"IF(AU7=3,IF(AU6=3,SUM(AV7*1000+(BC7)/10+(BA7)/100+(BK13)/1000+((G13+R13)-(F13+S13))/10000+(G13+R13)/100000+(G13)/1000000)))","v":13000.193010000001},{"$f":"IF(AU8=3,IF(AU6=3,SUM(AV8*1000+(BC8)/10+(BA8)/100+(BK14)/1000+((G14+R14)-(F14+S14))/10000+(G14+R14)/100000+(G14)/1000000)))","v":false},{"$f":"IF(AU9=3,IF(AU6=3,SUM(AV9*1000+(BC9)/10+(BA9)/100+(BK15)/1000+((G15+R15)-(F15+S15))/10000+(G15+R15)/100000+(G15)/1000000)))","v":false},{"$f":"IF(AU4=4,IF(AU7=4,SUM(AV4*1000+(BC4)/10+(BA4)/100+(BJ6)/1000+((F6+S6)-(G6+R6))/10000+(F6+S6)/100000+(S6)/1000000)))","v":false},{"$f":"IF(AU5=4,IF(AU7=4,SUM(AV5*1000+(BC5)/10+(BA5)/100+(BJ10)/1000+((F10+S10)-(G10+R10))/10000+(F10+S10)/100000+(S10)/1000000)))","v":false},{"$f":"IF(AU6=4,IF(AU7=4,SUM(AV6*1000+(BC6)/10+(BA6)/100+(BJ13)/1000+((F13+S13)-(G13+R13))/10000+(F13+S13)/100000+(S13)/1000000)))","v":false},{"$f":"IF(AU7=4,IF(AU6=4,SUM(AV7*1000+(BC7)/10+(BA7)/100+(BK13)/1000+((G13+R13)-(F13+S13))/10000+(G13+R13)/100000+(G13)/1000000)))","v":false},{"$f":"IF(AU8=4,IF(AU6=4,SUM(AV8*1000+(BC8)/10+(BA8)/100+(BK14)/1000+((G14+R14)-(F14+S14))/10000+(G14+R14)/100000+(G14)/1000000)))","v":false},{"$f":"IF(AU9=4,IF(AU6=4,SUM(AV9*1000+(BC9)/10+(BA9)/100+(BK15)/1000+((G15+R15)-(F15+S15))/10000+(G15+R15)/100000+(G15)/1000000)))","v":false},{"$f":"IF(AU4=5,IF(AU7=5,SUM(AV4*1000+(BC4)/10+(BA4)/100+(BJ6)/1000+((F6+S6)-(G6+R6))/10000+(F6+S6)/100000+(S6)/1000000)))","v":false},{"$f":"IF(AU5=5,IF(AU7=5,SUM(AV5*1000+(BC5)/10+(BA5)/100+(BJ10)/1000+((F10+S10)-(G10+R10))/10000+(F10+S10)/100000+(S10)/1000000)))","v":false},{"$f":"IF(AU6=5,IF(AU7=5,SUM(AV6*1000+(BC6)/10+(BA6)/100+(BJ13)/1000+((F13+S13)-(G13+R13))/10000+(F13+S13)/100000+(S13)/1000000)))","v":false},{"$f":"IF(AU7=5,IF(AU6=5,SUM(AV7*1000+(BC7)/10+(BA7)/100+(BK13)/1000+((G13+R13)-(F13+S13))/10000+(G13+R13)/100000+(G13)/1000000)))","v":false},{"$f":"IF(AU8=5,IF(AU6=5,SUM(AV8*1000+(BC8)/10+(BA8)/100+(BK14)/1000+((G14+R14)-(F14+S14))/10000+(G14+R14)/100000+(G14)/1000000)))","v":false},{"$f":"IF(AU9=5,IF(AU6=5,SUM(AV9*1000+(BC9)/10+(BA9)/100+(BK15)/1000+((G15+R15)-(F15+S15))/10000+(G15+R15)/100000+(G15)/1000000)))","v":false},{"$f":"IF(AU4=6,IF(AU7=6,SUM(AV4*1000+(BC4)/10+(BA4)/100+(BJ6)/1000+((F6+S6)-(G6+R6))/10000+(F6+S6)/100000+(S6)/1000000)))","v":false},{"$f":"IF(AU5=6,IF(AU7=6,SUM(AV5*1000+(BC5)/10+(BA5)/100+(BJ10)/1000+((F10+S10)-(G10+R10))/10000+(F10+S10)/100000+(S10)/1000000)))","v":false},{"$f":"IF(AU6=6,IF(AU7=6,SUM(AV6*1000+(BC6)/10+(BA6)/100+(BJ13)/1000+((F13+S13)-(G13+R13))/10000+(F13+S13)/100000+(S13)/1000000)))","v":false},{"$f":"IF(AU7=6,IF(AU6=6,SUM(AV7*1000+(BC7)/10+(BA7)/100+(BK13)/1000+((G13+R13)-(F13+S13))/10000+(G13+R13)/100000+(G13)/1000000)))","v":false},{"$f":"IF(AU8=6,IF(AU6=6,SUM(AV8*1000+(BC8)/10+(BA8)/100+(BK14)/1000+((G14+R14)-(F14+S14))/10000+(G14+R14)/100000+(G14)/1000000)))","v":false},{"$f":"IF(AU9=6,IF(AU6=6,SUM(AV9*1000+(BC9)/10+(BA9)/100+(BK15)/1000+((G15+R15)-(F15+S15))/10000+(G15+R15)/100000+(G15)/1000000)))","v":false}]
[{"$f":"AP4","v":"IRAN"},null,null,null,null,2,0,{"$f":"AP9","v":"QATAR"},null,null,null,null,"QATAR",null,null,null,null,0,1,"IRAN",null,null,null,null,null,{"$f":"VLOOKUP(AN15,AO11:AT16,2,0)","v":"RÉPUBLIQUE DE CHINE"},null,null,null,null,5,{"$f":"VLOOKUP(Z8,AP4:BC9,7,0)","v":12},{"$f":"VLOOKUP(Z8,AP4:BC9,8,0)","v":10},{"$f":"VLOOKUP(Z8,AP4:BC9,9,0)","v":3},{"$f":"VLOOKUP(Z8,AP4:BC9,10,0)","v":3},{"$f":"VLOOKUP(Z8,AP4:BC9,11,0)","v":4},{"$f":"VLOOKUP(Z8,AP4:BC9,12,0)","v":8},{"$f":"VLOOKUP(Z8,AP4:BC9,13,0)","v":10},{"$f":"VLOOKUP(Z8,AP4:BC9,14,0)","v":-2},null,null,"RÉPUBLIQUE DE CHINE",null,null,null,null,{"$f":"RANK(AV8,AV4:AV9)","v":5},{"$f":"SUMPRODUCT((A4:E18=AP8)*(BF4:BF18))+SUMPRODUCT((H4:L18=AP8)*(BG4:BG18))+SUMPRODUCT((M4:Q18=AP8)*(BH4:BH18))+SUMPRODUCT((T4:X18=AP8)*(BI4:BI18))","v":12},{"$f":"SUMPRODUCT((A4:E18=AP8)*(BL4:BL18))+SUMPRODUCT((H4:L18=AP8)*(BM4:BM18))+SUMPRODUCT((M4:Q18=AP8)*(BN4:BN18))+SUMPRODUCT((T4:X18=AP8)*(BO4:BO18))","v":10},{"$f":"SUMPRODUCT((A4:E18=AP8)*(BP4:BP18))+SUMPRODUCT((H4:L18=AP8)*(BQ4:BQ18))+SUMPRODUCT((M4:Q18=AP8)*(BR4:BR18))+SUMPRODUCT((T4:X18=AP8)*(BS4:BS18))","v":3},{"$f":"SUMPRODUCT((A4:E18=AP8)*(BT4:BT18))+SUMPRODUCT((H4:L18=AP8)*(BU4:BU18))+SUMPRODUCT((M4:Q18=AP8)*(BV4:BV18))+SUMPRODUCT((T4:X18=AP8)*(BW4:BW18))","v":3},{"$f":"SUMPRODUCT((A4:E18=AP8)*(BX4:BX18))+SUMPRODUCT((H4:L18=AP8)*(BY4:BY18))+SUMPRODUCT((M4:Q18=AP8)*(BZ4:BZ18))+SUMPRODUCT((T4:X18=AP8)*(CA4:CA18))","v":4},{"$f":"SUMPRODUCT((A4:E18=AP8)*(CB4:CB18))+SUMPRODUCT((H4:L18=AP8)*(CC4:CC18))+SUMPRODUCT((M4:Q18=AP8)*(CD4:CD18))+SUMPRODUCT((T4:X18=AP8)*(CE4:CE18))","v":8},{"$f":"SUMPRODUCT((A4:E18=AP8)*(CH4:CH18))+SUMPRODUCT((H4:L18=AP8)*(CI4:CI18))+SUMPRODUCT((M4:Q18=AP8)*(CJ4:CJ18))+SUMPRODUCT((T4:X18=AP8)*(CK4:CK18))","v":10},-2,null,null,3,0,0,3,6,0,1,1,1,1,1,false,false,1,false,false,false,false,false,1,1,false,2,0,0,1,3,0,0,2,1,0,0,3,{"$f":"IF(AU4=1,IF(AU8=1,SUM(AV4*1000+(BC4)/10+(BA4)/100+(BJ7)/1000+((F7+S7)-(G7+R7))/10000+(F7+S7)/100000+(S7)/1000000)))","v":false},{"$f":"IF(AU5=1,IF(AU8=1,SUM(AV5*1000+(BC5)/10+(BA5)/100+(BJ11)/1000+((F11+S11)-(G11+R11))/10000+(F11+S11)/100000+(S11)/1000000)))","v":false},{"$f":"IF(AU6=1,IF(AU8=1,SUM(AV6*1000+(BC6)/10+(BA6)/100+(BJ14)/1000+((F14+S14)-(G14+R14))/10000+(F14+S14)/100000+(S14)/1000000)))","v":false},{"$f":"IF(AU7=1,IF(AU8=1,SUM(AV7*1000+(BC7)/10+(BA7)/100+(BJ16)/1000+((F16+S16)-(G16+R16))/10000+(F16+S16)/100000+(S16)/1000000)))","v":false},{"$f":"IF(AU8=1,IF(AU7=1,SUM(AV8*1000+(BC8)/10+(BA8)/100+(BK16)/1000+((G16+R16)-(F16+S16))/10000+(G16+R16)/100000+(G16)/1000000)))","v":false},{"$f":"IF(AU9=1,IF(AU7=1,SUM(AV9*1000+(BC9)/10+(BA9)/100+(BK17)/1000+((G17+R17)-(F17+S17))/10000+(G17+R17)/100000+(G17)/1000000)))","v":false},null,{"$f":"IF(AU4=2,IF(AU8=2,SUM(AV4*1000+(BC4)/10+(BA4)/100+(BJ7)/1000+((F7+S7)-(G7+R7))/10000+(F7+S7)/100000+(S7)/1000000)))","v":false},{"$f":"IF(AU5=2,IF(AU8=2,SUM(AV5*1000+(BC5)/10+(BA5)/100+(BJ11)/1000+((F11+S11)-(G11+R11))/10000+(F11+S11)/100000+(S11)/1000000)))","v":false},{"$f":"IF(AU6=2,IF(AU8=2,SUM(AV6*1000+(BC6)/10+(BA6)/100+(BJ14)/1000+((F14+S14)-(G14+R14))/10000+(F14+S14)/100000+(S14)/1000000)))","v":false},{"$f":"IF(AU7=2,IF(AU8=2,SUM(AV7*1000+(BC7)/10+(BA7)/100+(BJ16)/1000+((F16+S16)-(G16+R16))/10000+(F16+S16)/100000+(S16)/1000000)))","v":false},{"$f":"IF(AU8=2,IF(AU7=2,SUM(AV8*1000+(BC8)/10+(BA8)/100+(BK16)/1000+((G16+R16)-(F16+S16))/10000+(G16+R16)/100000+(G16)/1000000)))","v":false},{"$f":"IF(AU9=2,IF(AU7=2,SUM(AV9*1000+(BC9)/10+(BA9)/100+(BK17)/1000+((G17+R17)-(F17+S17))/10000+(G17+R17)/100000+(G17)/1000000)))","v":false},{"$f":"IF(AU4=3,IF(AU8=3,SUM(AV4*1000+(BC4)/10+(BA4)/100+(BJ7)/1000+((F7+S7)-(G7+R7))/10000+(F7+S7)/100000+(S7)/1000000)))","v":false},{"$f":"IF(AU5=3,IF(AU8=3,SUM(AV5*1000+(BC5)/10+(BA5)/100+(BJ11)/1000+((F11+S11)-(G11+R11))/10000+(F11+S11)/100000+(S11)/1000000)))","v":false},{"$f":"IF(AU6=3,IF(AU8=3,SUM(AV6*1000+(BC6)/10+(BA6)/100+(BJ14)/1000+((F14+S14)-(G14+R14))/10000+(F14+S14)/100000+(S14)/1000000)))","v":false},{"$f":"IF(AU7=3,IF(AU8=3,SUM(AV7*1000+(BC7)/10+(BA7)/100+(BJ16)/1000+((F16+S16)-(G16+R16))/10000+(F16+S16)/100000+(S16)/1000000)))","v":false},{"$f":"IF(AU8=3,IF(AU7=3,SUM(AV8*1000+(BC8)/10+(BA8)/100+(BK16)/1000+((G16+R16)-(F16+S16))/10000+(G16+R16)/100000+(G16)/1000000)))","v":false},{"$f":"IF(AU9=3,IF(AU7=3,SUM(AV9*1000+(BC9)/10+(BA9)/100+(BK17)/1000+((G17+R17)-(F17+S17))/10000+(G17+R17)/100000+(G17)/1000000)))","v":false},{"$f":"IF(AU4=4,IF(AU8=4,SUM(AV4*1000+(BC4)/10+(BA4)/100+(BJ7)/1000+((F7+S7)-(G7+R7))/10000+(F7+S7)/100000+(S7)/1000000)))","v":false},{"$f":"IF(AU5=4,IF(AU8=4,SUM(AV5*1000+(BC5)/10+(BA5)/100+(BJ11)/1000+((F11+S11)-(G11+R11))/10000+(F11+S11)/100000+(S11)/1000000)))","v":false},{"$f":"IF(AU6=4,IF(AU8=4,SUM(AV6*1000+(BC6)/10+(BA6)/100+(BJ14)/1000+((F14+S14)-(G14+R14))/10000+(F14+S14)/100000+(S14)/1000000)))","v":false},{"$f":"IF(AU7=4,IF(AU8=4,SUM(AV7*1000+(BC7)/10+(BA7)/100+(BJ16)/1000+((F16+S16)-(G16+R16))/10000+(F16+S16)/100000+(S16)/1000000)))","v":false},{"$f":"IF(AU8=4,IF(AU7=4,SUM(AV8*1000+(BC8)/10+(BA8)/100+(BK16)/1000+((G16+R16)-(F16+S16))/10000+(G16+R16)/100000+(G16)/1000000)))","v":false},{"$f":"IF(AU9=4,IF(AU7=4,SUM(AV9*1000+(BC9)/10+(BA9)/100+(BK17)/1000+((G17+R17)-(F17+S17))/10000+(G17+R17)/100000+(G17)/1000000)))","v":false},{"$f":"IF(AU4=5,IF(AU8=5,SUM(AV4*1000+(BC4)/10+(BA4)/100+(BJ7)/1000+((F7+S7)-(G7+R7))/10000+(F7+S7)/100000+(S7)/1000000)))","v":false},{"$f":"IF(AU5=5,IF(AU8=5,SUM(AV5*1000+(BC5)/10+(BA5)/100+(BJ11)/1000+((F11+S11)-(G11+R11))/10000+(F11+S11)/100000+(S11)/1000000)))","v":false},{"$f":"IF(AU6=5,IF(AU8=5,SUM(AV6*1000+(BC6)/10+(BA6)/100+(BJ14)/1000+((F14+S14)-(G14+R14))/10000+(F14+S14)/100000+(S14)/1000000)))","v":false},{"$f":"IF(AU7=5,IF(AU8=5,SUM(AV7*1000+(BC7)/10+(BA7)/100+(BJ16)/1000+((F16+S16)-(G16+R16))/10000+(F16+S16)/100000+(S16)/1000000)))","v":false},{"$f":"IF(AU8=5,IF(AU7=5,SUM(AV8*1000+(BC8)/10+(BA8)/100+(BK16)/1000+((G16+R16)-(F16+S16))/10000+(G16+R16)/100000+(G16)/1000000)))","v":false},{"$f":"IF(AU9=5,IF(AU7=5,SUM(AV9*1000+(BC9)/10+(BA9)/100+(BK17)/1000+((G17+R17)-(F17+S17))/10000+(G17+R17)/100000+(G17)/1000000)))","v":false},{"$f":"IF(AU4=6,IF(AU8=6,SUM(AV4*1000+(BC4)/10+(BA4)/100+(BJ7)/1000+((F7+S7)-(G7+R7))/10000+(F7+S7)/100000+(S7)/1000000)))","v":false},{"$f":"IF(AU5=6,IF(AU8=6,SUM(AV5*1000+(BC5)/10+(BA5)/100+(BJ11)/1000+((F11+S11)-(G11+R11))/10000+(F11+S11)/100000+(S11)/1000000)))","v":false},{"$f":"IF(AU6=6,IF(AU8=6,SUM(AV6*1000+(BC6)/10+(BA6)/100+(BJ14)/1000+((F14+S14)-(G14+R14))/10000+(F14+S14)/100000+(S14)/1000000)))","v":false},{"$f":"IF(AU7=6,IF(AU8=6,SUM(AV7*1000+(BC7)/10+(BA7)/100+(BJ16)/1000+((F16+S16)-(G16+R16))/10000+(F16+S16)/100000+(S16)/1000000)))","v":false},{"$f":"IF(AU8=6,IF(AU7=6,SUM(AV8*1000+(BC8)/10+(BA8)/100+(BK16)/1000+((G16+R16)-(F16+S16))/10000+(G16+R16)/100000+(G16)/1000000)))","v":false},{"$f":"IF(AU9=6,IF(AU7=6,SUM(AV9*1000+(BC9)/10+(BA9)/100+(BK17)/1000+((G17+R17)-(F17+S17))/10000+(G17+R17)/100000+(G17)/1000000)))","v":false}]
[{"$f":"AP5","v":"RÉPUBLIQUE DE CORÉE"},null,null,null,null,2,1,{"$f":"AP6","v":"OUZBÉKISTAN"},null,null,null,null,"OUZBÉKISTAN",null,null,null,null,0,0,"RÉPUBLIQUE DE CORÉE",null,null,null,null,null,{"$f":"VLOOKUP(AN16,AO11:AT16,2,0)","v":"QATAR"},null,null,null,null,6,{"$f":"VLOOKUP(Z9,AP4:BC9,7,0)","v":7},{"$f":"VLOOKUP(Z9,AP4:BC9,8,0)","v":10},{"$f":"VLOOKUP(Z9,AP4:BC9,9,0)","v":2},{"$f":"VLOOKUP(Z9,AP4:BC9,10,0)","v":1},{"$f":"VLOOKUP(Z9,AP4:BC9,11,0)","v":7},{"$f":"VLOOKUP(Z9,AP4:BC9,12,0)","v":8},{"$f":"VLOOKUP(Z9,AP4:BC9,13,0)","v":15},{"$f":"VLOOKUP(Z9,AP4:BC9,14,0)","v":-7},null,null,"QATAR",null,null,null,null,{"$f":"RANK(AV9,AV4:AV9)","v":6},{"$f":"SUMPRODUCT((A4:E18=AP9)*(BF4:BF18))+SUMPRODUCT((H4:L18=AP9)*(BG4:BG18))+SUMPRODUCT((M4:Q18=AP9)*(BH4:BH18))+SUMPRODUCT((T4:X18=AP9)*(BI4:BI18))","v":7},{"$f":"SUMPRODUCT((A4:E18=AP9)*(BL4:BL18))+SUMPRODUCT((H4:L18=AP9)*(BM4:BM18))+SUMPRODUCT((M4:Q18=AP9)*(BN4:BN18))+SUMPRODUCT((T4:X18=AP9)*(BO4:BO18))","v":10},{"$f":"SUMPRODUCT((A4:E18=AP9)*(BP4:BP18))+SUMPRODUCT((H4:L18=AP9)*(BQ4:BQ18))+SUMPRODUCT((M4:Q18=AP9)*(BR4:BR18))+SUMPRODUCT((T4:X18=AP9)*(BS4:BS18))","v":2},{"$f":"SUMPRODUCT((A4:E18=AP9)*(BT4:BT18))+SUMPRODUCT((H4:L18=AP9)*(BU4:BU18))+SUMPRODUCT((M4:Q18=AP9)*(BV4:BV18))+SUMPRODUCT((T4:X18=AP9)*(BW4:BW18))","v":1},{"$f":"SUMPRODUCT((A4:E18=AP9)*(BX4:BX18))+SUMPRODUCT((H4:L18=AP9)*(BY4:BY18))+SUMPRODUCT((M4:Q18=AP9)*(BZ4:BZ18))+SUMPRODUCT((T4:X18=AP9)*(CA4:CA18))","v":7},{"$f":"SUMPRODUCT((A4:E18=AP9)*(CB4:CB18))+SUMPRODUCT((H4:L18=AP9)*(CC4:CC18))+SUMPRODUCT((M4:Q18=AP9)*(CD4:CD18))+SUMPRODUCT((T4:X18=AP9)*(CE4:CE18))","v":8},{"$f":"SUMPRODUCT((A4:E18=AP9)*(CH4:CH18))+SUMPRODUCT((H4:L18=AP9)*(CI4:CI18))+SUMPRODUCT((M4:Q18=AP9)*(CJ4:CJ18))+SUMPRODUCT((T4:X18=AP9)*(CK4:CK18))","v":15},-7,null,null,3,0,1,1,4,1,1,1,1,1,1,false,false,false,false,false,1,1,false,1,false,false,2,1,0,0,2,1,1,2,0,0,1,2,{"$f":"IF(AU4=1,IF(AU9=1,SUM(AV4*1000+(BC4)/10+(BA4)/100+(BJ8)/1000+((F8+S8)-(G8+R8))/10000+(F8+S8)/100000+(S8)/1000000)))","v":false},{"$f":"IF(AU5=1,IF(AU9=1,SUM(AV5*1000+(BC5)/10+(BA5)/100+(BJ12)/1000+((F12+S12)-(G12+R12))/10000+(F12+S12)/100000+(S12)/1000000)))","v":false},{"$f":"IF(AU6=1,IF(AU9=1,SUM(AV6*1000+(BC6)/10+(BA6)/100+(BJ15)/1000+((F15+S15)-(G15+R15))/10000+(F15+S15)/100000+(S15)/1000000)))","v":false},{"$f":"IF(AU7=1,IF(AU9=1,SUM(AV7*1000+(BC7)/10+(BA7)/100+(BJ17)/1000+((F17+S17)-(G17+R17))/10000+(F17+S17)/100000+(S17)/1000000)))","v":false},{"$f":"IF(AU8=1,IF(AU9=1,SUM(AV8*1000+(BC8)/10+(BA8)/100+(BJ18)/1000+((F18+S18)-(G18+R18))/10000+(F18+S18)/100000+(S18)/1000000)))","v":false},{"$f":"IF(AU9=1,IF(AU8=1,SUM(AV9*1000+(BC9)/10+(BA9)/100+(BK18)/1000+((G18+R18)-(F18+S18))/10000+(G18+R18)/100000+(G18)/1000000)))","v":false},null,{"$f":"IF(AU4=2,IF(AU9=2,SUM(AV4*1000+(BC4)/10+(BA4)/100+(BJ8)/1000+((F8+S8)-(G8+R8))/10000+(F8+S8)/100000+(S8)/1000000)))","v":false},{"$f":"IF(AU5=2,IF(AU9=2,SUM(AV5*1000+(BC5)/10+(BA5)/100+(BJ12)/1000+((F12+S12)-(G12+R12))/10000+(F12+S12)/100000+(S12)/1000000)))","v":false},{"$f":"IF(AU6=2,IF(AU9=2,SUM(AV6*1000+(BC6)/10+(BA6)/100+(BJ15)/1000+((F15+S15)-(G15+R15))/10000+(F15+S15)/100000+(S15)/1000000)))","v":false},{"$f":"IF(AU7=2,IF(AU9=2,SUM(AV7*1000+(BC7)/10+(BA7)/100+(BJ17)/1000+((F17+S17)-(G17+R17))/10000+(F17+S17)/100000+(S17)/1000000)))","v":false},{"$f":"IF(AU8=2,IF(AU9=2,SUM(AV8*1000+(BC8)/10+(BA8)/100+(BJ18)/1000+((F18+S18)-(G18+R18))/10000+(F18+S18)/100000+(S18)/1000000)))","v":false},{"$f":"IF(AU9=2,IF(AU8=2,SUM(AV9*1000+(BC9)/10+(BA9)/100+(BK18)/1000+((G18+R18)-(F18+S18))/10000+(G18+R18)/100000+(G18)/1000000)))","v":false},{"$f":"IF(AU4=3,IF(AU9=3,SUM(AV4*1000+(BC4)/10+(BA4)/100+(BJ8)/1000+((F8+S8)-(G8+R8))/10000+(F8+S8)/100000+(S8)/1000000)))","v":false},{"$f":"IF(AU5=3,IF(AU9=3,SUM(AV5*1000+(BC5)/10+(BA5)/100+(BJ12)/1000+((F12+S12)-(G12+R12))/10000+(F12+S12)/100000+(S12)/1000000)))","v":false},{"$f":"IF(AU6=3,IF(AU9=3,SUM(AV6*1000+(BC6)/10+(BA6)/100+(BJ15)/1000+((F15+S15)-(G15+R15))/10000+(F15+S15)/100000+(S15)/1000000)))","v":false},{"$f":"IF(AU7=3,IF(AU9=3,SUM(AV7*1000+(BC7)/10+(BA7)/100+(BJ17)/1000+((F17+S17)-(G17+R17))/10000+(F17+S17)/100000+(S17)/1000000)))","v":false},{"$f":"IF(AU8=3,IF(AU9=3,SUM(AV8*1000+(BC8)/10+(BA8)/100+(BJ18)/1000+((F18+S18)-(G18+R18))/10000+(F18+S18)/100000+(S18)/1000000)))","v":false},{"$f":"IF(AU9=3,IF(AU8=3,SUM(AV9*1000+(BC9)/10+(BA9)/100+(BK18)/1000+((G18+R18)-(F18+S18))/10000+(G18+R18)/100000+(G18)/1000000)))","v":false},{"$f":"IF(AU4=4,IF(AU9=4,SUM(AV4*1000+(BC4)/10+(BA4)/100+(BJ8)/1000+((F8+S8)-(G8+R8))/10000+(F8+S8)/100000+(S8)/1000000)))","v":false},{"$f":"IF(AU5=4,IF(AU9=4,SUM(AV5*1000+(BC5)/10+(BA5)/100+(BJ12)/1000+((F12+S12)-(G12+R12))/10000+(F12+S12)/100000+(S12)/1000000)))","v":false},{"$f":"IF(AU6=4,IF(AU9=4,SUM(AV6*1000+(BC6)/10+(BA6)/100+(BJ15)/1000+((F15+S15)-(G15+R15))/10000+(F15+S15)/100000+(S15)/1000000)))","v":false},{"$f":"IF(AU7=4,IF(AU9=4,SUM(AV7*1000+(BC7)/10+(BA7)/100+(BJ17)/1000+((F17+S17)-(G17+R17))/10000+(F17+S17)/100000+(S17)/1000000)))","v":false},{"$f":"IF(AU8=4,IF(AU9=4,SUM(AV8*1000+(BC8)/10+(BA8)/100+(BJ18)/1000+((F18+S18)-(G18+R18))/10000+(F18+S18)/100000+(S18)/1000000)))","v":false},{"$f":"IF(AU9=4,IF(AU8=4,SUM(AV9*1000+(BC9)/10+(BA9)/100+(BK18)/1000+((G18+R18)-(F18+S18))/10000+(G18+R18)/100000+(G18)/1000000)))","v":false},{"$f":"IF(AU4=5,IF(AU9=5,SUM(AV4*1000+(BC4)/10+(BA4)/100+(BJ8)/1000+((F8+S8)-(G8+R8))/10000+(F8+S8)/100000+(S8)/1000000)))","v":false},{"$f":"IF(AU5=5,IF(AU9=5,SUM(AV5*1000+(BC5)/10+(BA5)/100+(BJ12)/1000+((F12+S12)-(G12+R12))/10000+(F12+S12)/100000+(S12)/1000000)))","v":false},{"$f":"IF(AU6=5,IF(AU9=5,SUM(AV6*1000+(BC6)/10+(BA6)/100+(BJ15)/1000+((F15+S15)-(G15+R15))/10000+(F15+S15)/100000+(S15)/1000000)))","v":false},{"$f":"IF(AU7=5,IF(AU9=5,SUM(AV7*1000+(BC7)/10+(BA7)/100+(BJ17)/1000+((F17+S17)-(G17+R17))/10000+(F17+S17)/100000+(S17)/1000000)))","v":false},{"$f":"IF(AU8=5,IF(AU9=5,SUM(AV8*1000+(BC8)/10+(BA8)/100+(BJ18)/1000+((F18+S18)-(G18+R18))/10000+(F18+S18)/100000+(S18)/1000000)))","v":false},{"$f":"IF(AU9=5,IF(AU8=5,SUM(AV9*1000+(BC9)/10+(BA9)/100+(BK18)/1000+((G18+R18)-(F18+S18))/10000+(G18+R18)/100000+(G18)/1000000)))","v":false},{"$f":"IF(AU4=6,IF(AU9=6,SUM(AV4*1000+(BC4)/10+(BA4)/100+(BJ8)/1000+((F8+S8)-(G8+R8))/10000+(F8+S8)/100000+(S8)/1000000)))","v":false},{"$f":"IF(AU5=6,IF(AU9=6,SUM(AV5*1000+(BC5)/10+(BA5)/100+(BJ12)/1000+((F12+S12)-(G12+R12))/10000+(F12+S12)/100000+(S12)/1000000)))","v":false},{"$f":"IF(AU6=6,IF(AU9=6,SUM(AV6*1000+(BC6)/10+(BA6)/100+(BJ15)/1000+((F15+S15)-(G15+R15))/10000+(F15+S15)/100000+(S15)/1000000)))","v":false},{"$f":"IF(AU7=6,IF(AU9=6,SUM(AV7*1000+(BC7)/10+(BA7)/100+(BJ17)/1000+((F17+S17)-(G17+R17))/10000+(F17+S17)/100000+(S17)/1000000)))","v":false},{"$f":"IF(AU8=6,IF(AU9=6,SUM(AV8*1000+(BC8)/10+(BA8)/100+(BJ18)/1000+((F18+S18)-(G18+R18))/10000+(F18+S18)/100000+(S18)/1000000)))","v":false},{"$f":"IF(AU9=6,IF(AU8=6,SUM(AV9*1000+(BC9)/10+(BA9)/100+(BK18)/1000+((G18+R18)-(F18+S18))/10000+(G18+R18)/100000+(G18)/1000000)))","v":false}]
[{"$f":"AP5","v":"RÉPUBLIQUE DE CORÉE"},null,null,null,null,1,0,{"$f":"AP7","v":"SYRIE"},null,null,null,null,"SYRIE",null,null,null,null,0,0,"RÉPUBLIQUE DE CORÉE",null,null,null,null,null,null,null,null,null,null,null,null,null,null,null,null,null,null,null,null,null,null,null,null,null,null,null,null,null,null,null,null,null,null,null,null,null,3,0,1,1,4,1,1,1,1,1,1,false,false,false,false,false,1,1,false,1,false,false,1,0,0,0,1,0,0,1,0,0,0,1,{"$f":"SUM(CN4:CN9)","v":1000000},0,0,0,0,0,null,{"$f":"SUM(CU4:CU9)","v":0},800000,0,0,0,0,0,0,612999.96300999995,613000.19301000005,0,0,0,0,0,0,0,0,0,0,0,0,200000,0,0,0,0,0,0,100000]
[{"$f":"AP5","v":"RÉPUBLIQUE DE CORÉE"},null,null,null,null,3,2,{"$f":"AP8","v":"RÉPUBLIQUE DE CHINE"},null,null,null,null,"RÉPUBLIQUE DE CHINE",null,null,null,null,1,0,"RÉPUBLIQUE DE CORÉE",null,null,null,null,null,null,null,null,null,null,null,null,null,null,null,null,null,null,null,1,{"$f":"BA11","v":1},{"$f":"AP4","v":"IRAN"},null,null,null,null,{"$f":"SUM(CN10,CU10,DA10,DG10,DM10,DS10)","v":1000000},null,null,{"$f":"AU11+0.00000006","v":1000000.00000006},null,null,{"$f":"RANK(AX11,AX11:AZ16)","v":1},{"$f":"RANK(AU11,AU11:AW16)","v":1},null,null,null,3,0,3,0,3,3,1,1,1,1,1,false,1,false,false,false,false,false,false,1,false,1,3,2,1,0,3,3,2,3,0,1,3,3]
[{"$f":"AP5","v":"RÉPUBLIQUE DE CORÉE"},null,null,null,null,3,2,{"$f":"AP9","v":"QATAR"},null,null,null,null,"QATAR",null,null,null,null,3,2,"RÉPUBLIQUE DE CORÉE",null,null,null,null,null,null,null,null,null,null,null,null,null,null,null,null,null,null,null,2,{"$f":"BA12","v":2},{"$f":"AP5","v":"RÉPUBLIQUE DE CORÉE"},null,null,null,null,{"$f":"SUM(CO10,CV10,DB10,DH10,DN10,DT10)","v":800000},null,null,{"$f":"AU12+0.00000005","v":800000.00000004994},null,null,{"$f":"RANK(AX12,AX11:AZ16)","v":2},{"$f":"RANK(AU12,AU11:AW16)","v":2},null,null,null,3,0,3,0,3,3,1,1,1,1,1,false,1,false,false,false,false,false,false,1,false,1,3,2,3,2,5,5,2,3,2,3,5,5,{"$f":"VLOOKUP(AN11,AO11:AT16,2,0)","v":"IRAN"},null,null,null,null,null,{"$f":"VLOOKUP(CN12,AP11:AW16,6,0)","v":1000000},null,null,{"$f":"RANK(CT12,CT12:CV17)","v":1}]
[{"$f":"AP6","v":"OUZBÉKISTAN"},null,null,null,null,1,0,{"$f":"AP7","v":"SYRIE"},null,null,null,null,"SYRIE",null,null,null,null,1,0,"OUZBÉKISTAN",null,null,null,null,null,"ÉQUIPE QUILIFIÉE",null,null,null,{"$f":"Z4","v":"IRAN"},null,null,null,null,null,null,null,null,null,3,4,"OUZBÉKISTAN",null,null,null,null,{"$f":"SUM(CP10,CW10,DC10,DI10,DO10,DU10)","v":612999.96300999995},null,null,{"$f":"AU13+0.00000004","v":612999.96301004},null,null,{"$f":"RANK(AX13,AX11:AZ16)","v":4},{"$f":"RANK(AU13,AU11:AW16)","v":4},null,null,null,3,0,3,0,3,3,1,1,1,1,1,false,1,false,false,false,false,false,false,1,false,1,1,0,1,0,1,1,0,1,0,1,1,1,{"$f":"VLOOKUP(AN12,AO11:AT16,2,0)","v":"RÉPUBLIQUE DE CORÉE"},null,null,null,null,null,{"$f":"VLOOKUP(CN13,AP11:AW16,6,0)","v":800000},null,null,{"$f":"RANK(CT13,CT12:CV17)","v":2}]
[{"$f":"AP6","v":"OUZBÉKISTAN"},null,null,null,null,2,0,{"$f":"AP8","v":"RÉPUBLIQUE DE CHINE"},null,null,null,null,"RÉPUBLIQUE DE CHINE",null,null,null,null,1,0,"OUZBÉKISTAN",null,null,null,null,null,null,null,null,null,null,null,null,null,null,null,null,null,null,null,4,3,"SYRIE",null,null,null,null,{"$f":"SUM(CQ10,CX10,DD10,DJ10,DP10,DV10)","v":613000.19301000005},null,null,{"$f":"AU14+0.00000003","v":613000.19301003008},null,null,{"$f":"RANK(AX14,AX11:AZ16)","v":3},{"$f":"RANK(AU14,AU11:AW16)","v":3},null,null,null,3,0,3,0,3,3,1,1,1,1,1,false,1,false,false,false,false,false,false,1,false,1,2,0,1,0,2,1,0,2,0,1,1,2,{"$f":"VLOOKUP(AN13,AO11:AT16,2,0)","v":"SYRIE"},null,null,null,null,null,{"$f":"VLOOKUP(CN14,AP11:AW16,6,0)","v":613000.19301000005},null,null,{"$f":"RANK(CT14,CT12:CV17)","v":3}]
[{"$f":"AP6","v":"OUZBÉKISTAN"},null,null,null,null,1,0,{"$f":"AP9","v":"QATAR"},null,null,null,null,"QATAR",null,null,null,null,0,1,"OUZBÉKISTAN",null,null,null,null,null,"ÉQUIPE QUILIFIÉE",null,null,null,{"$f":"Z5","v":"RÉPUBLIQUE DE CORÉE"},null,null,null,null,null,null,null,null,null,5,5,"RÉPUBLIQUE DE CHINE",null,null,null,null,{"$f":"SUM(CR10,CY10,DE10,DK10,DQ10,DW10)","v":200000},null,null,{"$f":"AU15+0.00000002","v":200000.00000001999},null,null,{"$f":"RANK(AX15,AX11:AZ16)","v":5},{"$f":"RANK(AU15,AU11:AW16)","v":5},null,null,null,3,0,0,3,6,0,1,1,1,1,1,false,false,1,false,false,false,false,false,1,1,false,1,0,0,1,2,0,0,1,1,0,0,2,{"$f":"VLOOKUP(AN14,AO11:AT16,2,0)","v":"OUZBÉKISTAN"},null,null,null,null,null,{"$f":"VLOOKUP(CN15,AP11:AW16,6,0)","v":612999.96300999995},null,null,{"$f":"RANK(CT15,CT12:CV17)","v":4}]
[{"$f":"AP7","v":"SYRIE"},null,null,null,null,2,2,{"$f":"AP8","v":"RÉPUBLIQUE DE CHINE"},null,null,null,null,"RÉPUBLIQUE DE CHINE",null,null,null,null,0,1,"SYRIE",null,null,null,null,null,null,null,null,null,null,null,null,null,null,null,null,null,null,null,6,6,"QATAR",null,null,null,null,{"$f":"SUM(CS10,CZ10,DF10,DL10,DR10,DX10)","v":100000},null,null,{"$f":"AU16+0.00000001","v":100000.00000001},null,null,{"$f":"RANK(AX16,AX11:AZ16)","v":6},{"$f":"RANK(AU16,AU11:AW16)","v":6},null,null,null,1,1,0,3,4,1,1,1,1,1,false,false,false,1,1,1,false,false,false,false,1,false,2,2,0,1,3,2,2,2,1,0,2,3,{"$f":"VLOOKUP(AN15,AO11:AT16,2,0)","v":"RÉPUBLIQUE DE CHINE"},null,null,null,null,null,{"$f":"VLOOKUP(CN16,AP11:AW16,6,0)","v":200000},null,null,{"$f":"RANK(CT16,CT12:CV17)","v":5}]
[{"$f":"AP7","v":"SYRIE"},null,null,null,null,3,1,{"$f":"AP9","v":"QATAR"},null,null,null,null,"QATAR",null,null,null,null,1,0,"SYRIE",null,null,null,null,null,"BARRAGE",null,null,null,{"$f":"Z6","v":"SYRIE"},null,null,null,null,null,null,null,null,null,null,null,null,null,null,null,null,null,null,null,null,null,null,null,null,null,null,null,3,0,3,0,3,3,1,1,1,1,1,false,1,false,false,false,false,false,false,1,false,1,3,1,1,0,3,2,1,3,0,1,2,3,{"$f":"VLOOKUP(AN16,AO11:AT16,2,0)","v":"QATAR"},null,null,null,null,null,{"$f":"VLOOKUP(CN17,AP11:AW16,6,0)","v":100000},null,null,{"$f":"RANK(CT17,CT12:CV17)","v":6}]
[{"$f":"AP8","v":"RÉPUBLIQUE DE CHINE"},null,null,null,null,0,0,{"$f":"AP9","v":"QATAR"},null,null,null,null,"QATAR",null,null,null,null,1,2,"RÉPUBLIQUE DE CHINE",null,null,null,null,null,null,null,null,null,null,null,null,null,null,null,null,null,null,null,null,null,null,null,null,null,null,null,null,null,null,null,null,null,null,null,null,null,1,1,0,3,4,1,1,1,1,1,false,false,false,1,1,1,false,false,false,false,1,false,0,0,1,2,2,1,0,0,2,1,1,2]
[]
[]
["MATCHS  ALLER",null,null,null,null,null,null,null,null,"GROUPE  B",null,null,null,null,null,"MATCHS  RETOUR",null,null,null,null,null,null,null,null,"GROUPE  A","CLASSEMENT",null,null,null,null,null,null,null,null,null,null,null,null,null,null,null,"CLASSEMENT"]
[]
["Équipes",null,null,null,null,"Bts","Bts","Équipes",null,null,null,null,"Équipes",null,null,null,null,"Bts","Bts","Équipes",null,null,null,null,null,"Équipes",null,null,null,null,"R","Pts","J","G","N","P","B +","B -","Diff",null,null,"Équipes",null,null,null,null,"R","Pts","J","G","N","P","B +","B -","Diff",null,null,"pts","pts","pts","pts","t pts","t pts","j","j","j","j","g","g","g","g","n","n","n","n","p","p","p","p","b+","b+","b+","b+","b+","b+","b-","b-","b-","b-","b-","b-",{"$f":"AP24","v":"JAPON"},{"$f":"AP25","v":"ARABIE SAOUDITE"},{"$f":"AP26","v":"AUSTRALIE"},{"$f":"AP27","v":"EMIRATS ARABES UNIS"},{"$f":"AP28","v":"IRAK"},{"$f":"AP29","v":"THAÏLANDE"},null,{"$f":"CN23","v":"JAPON"},{"$f":"CO23","v":"ARABIE SAOUDITE"},{"$f":"CP23","v":"AUSTRALIE"},{"$f":"CQ23","v":"EMIRATS ARABES UNIS"},{"$f":"CR23","v":"IRAK"},{"$f":"CS23","v":"THAÏLANDE"},{"$f":"CN23","v":"JAPON"},{"$f":"CO23","v":"ARABIE SAOUDITE"},{"$f":"CP23","v":"AUSTRALIE"},{"$f":"CQ23","v":"EMIRATS ARABES UNIS"},{"$f":"CR23","v":"IRAK"},{"$f":"CS23","v":"THAÏLANDE"},{"$f":"CN23","v":"JAPON"},{"$f":"CO23","v":"ARABIE SAOUDITE"},{"$f":"CP23","v":"AUSTRALIE"},{"$f":"CQ23","v":"EMIRATS ARABES UNIS"},{"$f":"CR23","v":"IRAK"},{"$f":"CS23","v":"THAÏLANDE"},{"$f":"CN23","v":"JAPON"},{"$f":"CO23","v":"ARABIE SAOUDITE"},{"$f":"CP23","v":"AUSTRALIE"},{"$f":"CQ23","v":"EMIRATS ARABES UNIS"},{"$f":"CR23","v":"IRAK"},{"$f":"CS23","v":"THAÏLANDE"},{"$f":"CN23","v":"JAPON"},{"$f":"CO23","v":"ARABIE SAOUDITE"},{"$f":"CP23","v":"AUSTRALIE"},{"$f":"CQ23","v":"EMIRATS ARABES UNIS"},{"$f":"CR23","v":"IRAK"},{"$f":"CS23","v":"THAÏLANDE"}]
[{"$f":"AP24","v":"JAPON"},null,null,null,null,2,1,{"$f":"AP25","v":"ARABIE SAOUDITE"},null,null,null,null,{"$f":"H24","v":"ARABIE SAOUDITE"},null,null,null,null,1,0,{"$f":"A24","v":"JAPON"},null,null,null,null,null,{"$f":"VLOOKUP(AN31,AO31:AT36,2,0)","v":"JAPON"},null,null,null,null,1,{"$f":"VLOOKUP(Z24,AP24:BC29,7,0)","v":20},{"$f":"VLOOKUP(Z24,AP24:BC29,8,0)","v":10},{"$f":"VLOOKUP(Z24,AP24:BC29,9,0)","v":6},{"$f":"VLOOKUP(Z24,AP24:BC29,10,0)","v":2},{"$f":"VLOOKUP(Z24,AP24:BC29,11,0)","v":2},{"$f":"VLOOKUP(Z24,AP24:BC29,12,0)","v":17},{"$f":"VLOOKUP(Z24,AP24:BC29,13,0)","v":7},{"$f":"VLOOKUP(Z24,AP24:BC29,14,0)","v":10},null,null,"JAPON",null,null,null,null,{"$f":"RANK(AV24,AV24:AV29)","v":1},{"$f":"SUMPRODUCT((A24:E38=AP24)*(BF24:BF38))+SUMPRODUCT((H24:L38=AP24)*(BG24:BG38))+SUMPRODUCT((M24:Q38=AP24)*(BH24:BH38))+SUMPRODUCT((T24:X38=AP24)*(BI24:BI38))","v":20},{"$f":"SUMPRODUCT((A24:E38=AP24)*(BL24:BL38))+SUMPRODUCT((H24:L38=AP24)*(BM24:BM38))+SUMPRODUCT((M24:Q38=AP24)*(BN24:BN38))+SUMPRODUCT((T24:X38=AP24)*(BO24:BO38))","v":10},{"$f":"SUMPRODUCT((A24:E38=AP24)*(BP24:BP38))+SUMPRODUCT((H24:L38=AP24)*(BQ24:BQ38))+SUMPRODUCT((M24:Q38=AP24)*(BR24:BR38))+SUMPRODUCT((T24:X38=AP24)*(BS24:BS38))","v":6},{"$f":"SUMPRODUCT((A24:E38=AP24)*(BT24:BT38))+SUMPRODUCT((H24:L38=AP24)*(BU24:BU38))+SUMPRODUCT((M24:Q38=AP24)*(BV24:BV38))+SUMPRODUCT((T24:X38=AP24)*(BW24:BW38))","v":2},{"$f":"SUMPRODUCT((A24:E38=AP24)*(BX24:BX38))+SUMPRODUCT((H24:L38=AP24)*(BY24:BY38))+SUMPRODUCT((M24:Q38=AP24)*(BZ24:BZ38))+SUMPRODUCT((T24:X38=AP24)*(CA24:CA38))","v":2},{"$f":"SUMPRODUCT((A24:E38=AP24)*(CB24:CB38))+SUMPRODUCT((H24:L38=AP24)*(CC24:CC38))+SUMPRODUCT((M24:Q38=AP24)*(CD24:CD38))+SUMPRODUCT((T24:X38=AP24)*(CE24:CE38))","v":17},{"$f":"SUMPRODUCT((A24:E38=AP24)*(CH24:CH38))+SUMPRODUCT((H24:L38=AP24)*(CI24:CI38))+SUMPRODUCT((M24:Q38=AP24)*(CJ24:CJ38))+SUMPRODUCT((T24:X38=AP24)*(CK24:CK38))","v":7},{"$f":"BA24-BB24","v":10},null,null,{"$f":"IF(F24=\"\",0,IF(F24>G24,3,IF(F24=G24,1,IF(F24<G24,0))))","v":3},{"$f":"IF(G24=\"\",0,IF(G24>F24,3,IF(G24=F24,1,IF(G24<F24,0))))","v":0},{"$f":"IF(R24=\"\",0,IF(R24>S24,3,IF(R24=S24,1,IF(R24<S24,0))))","v":3},{"$f":"IF(S24=\"\",0,IF(S24>R24,3,IF(S24=R24,1,IF(S24<R24,0))))","v":0},{"$f":"BF24+BI24","v":3},{"$f":"BG24+BH24","v":3},{"$f":"IF(F24=\"\",0,1)","v":1},{"$f":"IF(G24=\"\",0,1)","v":1},{"$f":"IF(R24=\"\",0,1)","v":1},{"$f":"IF(S24=\"\",0,1)","v":1},{"$f":"IF(F24<>\"\",IF(F24>G24,1))","v":1},{"$f":"IF(G24<>\"\",IF(G24>F24,1))","v":false},{"$f":"IF(R24<>\"\",IF(R24>S24,1))","v":1},{"$f":"IF(S24<>\"\",IF(S24>R24,1))","v":false},{"$f":"IF(F24<>\"\",IF(F24=G24,1))","v":false},{"$f":"IF(G24<>\"\",IF(G24=F24,1))","v":false},{"$f":"IF(R24<>\"\",IF(R24=S24,1))","v":false},{"$f":"IF(S24<>\"\",IF(S24=R24,1))","v":false},{"$f":"IF(F24<>\"\",IF(F24<G24,1))","v":false},{"$f":"IF(G24<>\"\",IF(G24<F24,1))","v":1},{"$f":"IF(R24<>\"\",IF(R24<S24,1))","v":false},{"$f":"IF(S24<>\"\",IF(S24<R24,1))","v":1},{"$f":"F24","v":2},{"$f":"G24","v":1},{"$f":"R24","v":1},{"$f":"S24","v":0},{"$f":"CB24+CE24","v":2},{"$f":"CC24+CD24","v":2},{"$f":"G24","v":1},{"$f":"F24","v":2},{"$f":"S24","v":0},{"$f":"R24","v":1},{"$f":"CH24+CK24","v":2},{"$f":"CI24+CJ24","v":2},{"$f":"IF(AU24=1,1000000)","v":1000000},{"$f":"IF(AU25=1,1000000)","v":false},{"$f":"IF(AU26=1,1000000)","v":false},{"$f":"IF(AU27=1,1000000)","v":false},{"$f":"IF(AU28=1,1000000)","v":false},{"$f":"IF(AU29=1,1000000)","v":false},null,{"$f":"IF(AU24=2,800000)","v":false},{"$f":"IF(AU25=2,800000)","v":800000},{"$f":"IF(AU26=2,800000)","v":800000},{"$f":"IF(AU27=2,800000)","v":false},{"$f":"IF(AU28=2,800000)","v":false},{"$f":"IF(AU29=2,800000)","v":false},{"$f":"IF(AU24=3,600000)","v":false},{"$f":"IF(AU25=3,600000)","v":false},{"$f":"IF(AU26=3,600000)","v":false},{"$f":"IF(AU27=3,600000)","v":false},{"$f":"IF(AU28=3,600000)","v":false},{"$f":"IF(AU29=3,600000)","v":false},{"$f":"IF(AU24=4,400000)","v":false},{"$f":"IF(AU25=4,400000)","v":false},{"$f":"IF(AU26=4,400000)","v":false},{"$f":"IF(AU27=4,400000)","v":400000},{"$f":"IF(AU28=4,400000)","v":false},{"$f":"IF(AU29=4,400000)","v":false},{"$f":"IF(AU24=5,200000)","v":false},{"$f":"IF(AU25=5,200000)","v":false},{"$f":"IF(AU26=5,200000)","v":false},{"$f":"IF(AU27=5,200000)","v":false},{"$f":"IF(AU28=5,200000)","v":200000},{"$f":"IF(AU29=5,200000)","v":false},{"$f":"IF(AU24=6,100000)","v":false},{"$f":"IF(AU25=6,100000)","v":false},{"$f":"IF(AU26=6,100000)","v":false},{"$f":"IF(AU27=6,100000)","v":false},{"$f":"IF(AU28=6,100000)","v":false},{"$f":"IF(AU29=6,100000)","v":100000}]
[{"$f":"AP24","v":"JAPON"},null,null,null,null,2,0,{"$f":"AP26","v":"AUSTRALIE"},null,null,null,null,{"$f":"H25","v":"AUSTRALIE"},null,null,null,null,1,1,{"$f":"A25","v":"JAPON"},null,null,null,null,null,{"$f":"VLOOKUP(AN32,AO31:AT36,2,0)","v":"ARABIE SAOUDITE"},null,null,null,null,{"$f":"IF(CT33=CT32,CW32,CW33)","v":2},{"$f":"VLOOKUP(Z25,AP24:BC29,7,0)","v":19},{"$f":"VLOOKUP(Z25,AP24:BC29,8,0)","v":10},{"$f":"VLOOKUP(Z25,AP24:BC29,9,0)","v":6},{"$f":"VLOOKUP(Z25,AP24:BC29,10,0)","v":1},{"$f":"VLOOKUP(Z25,AP24:BC29,11,0)","v":3},{"$f":"VLOOKUP(Z25,AP24:BC29,12,0)","v":17},{"$f":"VLOOKUP(Z25,AP24:BC29,13,0)","v":10},{"$f":"VLOOKUP(Z25,AP24:BC29,14,0)","v":7},null,null,"ARABIE SAOUDITE",null,null,null,null,{"$f":"RANK(AV25,AV24:AV29)","v":2},{"$f":"SUMPRODUCT((A24:E38=AP25)*(BF24:BF38))+SUMPRODUCT((H24:L38=AP25)*(BG24:BG38))+SUMPRODUCT((M24:Q38=AP25)*(BH24:BH38))+SUMPRODUCT((T24:X38=AP25)*(BI24:BI38))","v":19},{"$f":"SUMPRODUCT((A24:E38=AP25)*(BL24:BL38))+SUMPRODUCT((H24:L38=AP25)*(BM24:BM38))+SUMPRODUCT((M24:Q38=AP25)*(BN24:BN38))+SUMPRODUCT((T24:X38=AP25)*(BO24:BO38))","v":10},{"$f":"SUMPRODUCT((A24:E38=AP25)*(BP24:BP38))+SUMPRODUCT((H24:L38=AP25)*(BQ24:BQ38))+SUMPRODUCT((M24:Q38=AP25)*(BR24:BR38))+SUMPRODUCT((T24:X38=AP25)*(BS24:BS38))","v":6},{"$f":"SUMPRODUCT((A24:E38=AP25)*(BT24:BT38))+SUMPRODUCT((H24:L38=AP25)*(BU24:BU38))+SUMPRODUCT((M24:Q38=AP25)*(BV24:BV38))+SUMPRODUCT((T24:X38=AP25)*(BW24:BW38))","v":1},{"$f":"SUMPRODUCT((A24:E38=AP25)*(BX24:BX38))+SUMPRODUCT((H24:L38=AP25)*(BY24:BY38))+SUMPRODUCT((M24:Q38=AP25)*(BZ24:BZ38))+SUMPRODUCT((T24:X38=AP25)*(CA24:CA38))","v":3},{"$f":"SUMPRODUCT((A24:E38=AP25)*(CB24:CB38))+SUMPRODUCT((H24:L38=AP25)*(CC24:CC38))+SUMPRODUCT((M24:Q38=AP25)*(CD24:CD38))+SUMPRODUCT((T24:X38=AP25)*(CE24:CE38))","v":17},{"$f":"SUMPRODUCT((A24:E38=AP25)*(CH24:CH38))+SUMPRODUCT((H24:L38=AP25)*(CI24:CI38))+SUMPRODUCT((M24:Q38=AP25)*(CJ24:CJ38))+SUMPRODUCT((T24:X38=AP25)*(CK24:CK38))","v":10},{"$f":"BA25-BB25","v":7},null,null,{"$f":"IF(F25=\"\",0,IF(F25>G25,3,IF(F25=G25,1,IF(F25<G25,0))))","v":3},{"$f":"IF(G25=\"\",0,IF(G25>F25,3,IF(G25=F25,1,IF(G25<F25,0))))","v":0},{"$f":"IF(R25=\"\",0,IF(R25>S25,3,IF(R25=S25,1,IF(R25<S25,0))))","v":1},{"$f":"IF(S25=\"\",0,IF(S25>R25,3,IF(S25=R25,1,IF(S25<R25,0))))","v":1},{"$f":"BF25+BI25","v":4},{"$f":"BG25+BH25","v":1},{"$f":"IF(F25=\"\",0,1)","v":1},{"$f":"IF(G25=\"\",0,1)","v":1},{"$f":"IF(R25=\"\",0,1)","v":1},{"$f":"IF(S25=\"\",0,1)","v":1},{"$f":"IF(F25<>\"\",IF(F25>G25,1))","v":1},{"$f":"IF(G25<>\"\",IF(G25>F25,1))","v":false},{"$f":"IF(R25<>\"\",IF(R25>S25,1))","v":false},{"$f":"IF(S25<>\"\",IF(S25>R25,1))","v":false},{"$f":"IF(F25<>\"\",IF(F25=G25,1))","v":false},{"$f":"IF(G25<>\"\",IF(G25=F25,1))","v":false},{"$f":"IF(R25<>\"\",IF(R25=S25,1))","v":1},{"$f":"IF(S25<>\"\",IF(S25=R25,1))","v":1},{"$f":"IF(F25<>\"\",IF(F25<G25,1))","v":false},{"$f":"IF(G25<>\"\",IF(G25<F25,1))","v":1},{"$f":"IF(R25<>\"\",IF(R25<S25,1))","v":false},{"$f":"IF(S25<>\"\",IF(S25<R25,1))","v":false},{"$f":"F25","v":2},{"$f":"G25","v":0},{"$f":"R25","v":1},{"$f":"S25","v":1},{"$f":"CB25+CE25","v":3},{"$f":"CC25+CD25","v":1},{"$f":"G25","v":0},{"$f":"F25","v":2},{"$f":"S25","v":1},{"$f":"R25","v":1},{"$f":"CH25+CK25","v":1},{"$f":"CI25+CJ25","v":3},{"$f":"IF(AU24=1,IF(AU25=1,SUM(AV24*1000+(BC24)/10+(BA24)/100+(BJ24)/1000+((F24+S24)-(G24+R24))/10000+(F24+S24)/100000+(S24)/1000000)))","v":false},{"$f":"IF(AU25=1,IF(AU24=1,SUM(AV25*1000+(BC25)/10+(BA25)/100+(BK24)/1000+((G24+R24)-(F24+S24))/10000+(G24+R24)/100000+(G24)/1000000)))","v":false},{"$f":"IF(AU26=1,IF(AU24=1,SUM(AV26*1000+(BC26)/10+(BA26)/100+(BK25)/1000+((G25+R25)-(F25+S25))/10000+(G25+R25)/100000+(G25)/1000000)))","v":false},{"$f":"IF(AU27=1,IF(AU24=1,SUM(AV27*1000+(BC27)/10+(BA27)/100+(BK26)/1000+((G26+R26)-(F26+S26))/10000+(G26+R26)/100000+(G26)/1000000)))","v":false},{"$f":"IF(AU28=1,IF(AU24=1,SUM(AV28*1000+(BC28)/10+(BA28)/100+(BK27)/1000+((G27+R27)-(F27+S27))/10000+(G27+R27)/100000+(G27)/1000000)))","v":false},{"$f":"IF(AU29=1,IF(AU24=1,SUM(AV29*1000+(BC29)/10+(BA29)/100+(BK28)/1000+((G28+R28)-(F28+S28))/10000+(G28+R28)/100000+(G28)/1000000)))","v":false},null,{"$f":"IF(AU24=2,IF(AU25=2,SUM(AV24*1000+(BC24)/10+(BA24)/100+(BJ24)/1000+((F24+S24)-(G24+R24))/10000+(F24+S24)/100000+(S24)/1000000)))","v":false},{"$f":"IF(AU25=2,IF(AU24=2,SUM(AV25*1000+(BC25)/10+(BA25)/100+(BK24)/1000+((G24+R24)-(F24+S24))/10000+(G24+R24)/100000+(G24)/1000000)))","v":false},{"$f":"IF(AU26=2,IF(AU24=2,SUM(AV26*1000+(BC26)/10+(BA26)/100+(BK25)/1000+((G25+R25)-(F25+S25))/10000+(G25+R25)/100000+(G25)/1000000)))","v":false},{"$f":"IF(AU27=2,IF(AU24=2,SUM(AV27*1000+(BC27)/10+(BA27)/100+(BK26)/1000+((G26+R26)-(F26+S26))/10000+(G26+R26)/100000+(G26)/1000000)))","v":false},{"$f":"IF(AU28=2,IF(AU24=2,SUM(AV28*1000+(BC28)/10+(BA28)/100+(BK27)/1000+((G27+R27)-(F27+S27))/10000+(G27+R27)/100000+(G27)/1000000)))","v":false},{"$f":"IF(AU29=2,IF(AU24=2,SUM(AV29*1000+(BC29)/10+(BA29)/100+(BK28)/1000+((G28+R28)-(F28+S28))/10000+(G28+R28)/100000+(G28)/1000000)))","v":false},{"$f":"IF(AU24=3,IF(AU25=3,SUM(AV24*1000+(BC24)/10+(BA24)/100+(BJ24)/1000+((F24+S24)-(G24+R24))/10000+(F24+S24)/100000+(S24)/1000000)))","v":false},{"$f":"IF(AU25=3,IF(AU24=3,SUM(AV25*1000+(BC25)/10+(BA25)/100+(BK24)/1000+((G24+R24)-(F24+S24))/10000+(G24+R24)/100000+(G24)/1000000)))","v":false},{"$f":"IF(AU26=3,IF(AU24=3,SUM(AV26*1000+(BC26)/10+(BA26)/100+(BK25)/1000+((G25+R25)-(F25+S25))/10000+(G25+R25)/100000+(G25)/1000000)))","v":false},{"$f":"IF(AU27=3,IF(AU24=3,SUM(AV27*1000+(BC27)/10+(BA27)/100+(BK26)/1000+((G26+R26)-(F26+S26))/10000+(G26+R26)/100000+(G26)/1000000)))","v":false},{"$f":"IF(AU28=3,IF(AU24=3,SUM(AV28*1000+(BC28)/10+(BA28)/100+(BK27)/1000+((G27+R27)-(F27+S27))/10000+(G27+R27)/100000+(G27)/1000000)))","v":false},{"$f":"IF(AU29=3,IF(AU24=3,SUM(AV29*1000+(BC29)/10+(BA29)/100+(BK28)/1000+((G28+R28)-(F28+S28))/10000+(G28+R28)/100000+(G28)/1000000)))","v":false},{"$f":"IF(AU24=4,IF(AU25=4,SUM(AV24*1000+(BC24)/10+(BA24)/100+(BJ24)/1000+((F24+S24)-(G24+R24))/10000+(F24+S24)/100000+(S24)/1000000)))","v":false},{"$f":"IF(AU25=4,IF(AU24=4,SUM(AV25*1000+(BC25)/10+(BA25)/100+(BK24)/1000+((G24+R24)-(F24+S24))/10000+(G24+R24)/100000+(G24)/1000000)))","v":false},{"$f":"IF(AU26=4,IF(AU24=4,SUM(AV26*1000+(BC26)/10+(BA26)/100+(BK25)/1000+((G25+R25)-(F25+S25))/10000+(G25+R25)/100000+(G25)/1000000)))","v":false},{"$f":"IF(AU27=4,IF(AU24=4,SUM(AV27*1000+(BC27)/10+(BA27)/100+(BK26)/1000+((G26+R26)-(F26+S26))/10000+(G26+R26)/100000+(G26)/1000000)))","v":false},{"$f":"IF(AU28=4,IF(AU24=4,SUM(AV28*1000+(BC28)/10+(BA28)/100+(BK27)/1000+((G27+R27)-(F27+S27))/10000+(G27+R27)/100000+(G27)/1000000)))","v":false},{"$f":"IF(AU29=4,IF(AU24=4,SUM(AV29*1000+(BC29)/10+(BA29)/100+(BK28)/1000+((G28+R28)-(F28+S28))/10000+(G28+R28)/100000+(G28)/1000000)))","v":false},{"$f":"IF(AU24=5,IF(AU25=5,SUM(AV24*1000+(BC24)/10+(BA24)/100+(BJ24)/1000+((F24+S24)-(G24+R24))/10000+(F24+S24)/100000+(S24)/1000000)))","v":false},{"$f":"IF(AU25=5,IF(AU24=5,SUM(AV25*1000+(BC25)/10+(BA25)/100+(BK24)/1000+((G24+R24)-(F24+S24))/10000+(G24+R24)/100000+(G24)/1000000)))","v":false},{"$f":"IF(AU26=5,IF(AU24=5,SUM(AV26*1000+(BC26)/10+(BA26)/100+(BK25)/1000+((G25+R25)-(F25+S25))/10000+(G25+R25)/100000+(G25)/1000000)))","v":false},{"$f":"IF(AU27=5,IF(AU24=5,SUM(AV27*1000+(BC27)/10+(BA27)/100+(BK26)/1000+((G26+R26)-(F26+S26))/10000+(G26+R26)/100000+(G26)/1000000)))","v":false},{"$f":"IF(AU28=5,IF(AU24=5,SUM(AV28*1000+(BC28)/10+(BA28)/100+(BK27)/1000+((G27+R27)-(F27+S27))/10000+(G27+R27)/100000+(G27)/1000000)))","v":false},{"$f":"IF(AU29=5,IF(AU24=5,SUM(AV29*1000+(BC29)/10+(BA29)/100+(BK28)/1000+((G28+R28)-(F28+S28))/10000+(G28+R28)/100000+(G28)/1000000)))","v":false},{"$f":"IF(AU24=6,IF(AU25=6,SUM(AV24*1000+(BC24)/10+(BA24)/100+(BJ24)/1000+((F24+S24)-(G24+R24))/10000+(F24+S24)/100000+(S24)/1000000)))","v":false},{"$f":"IF(AU25=6,IF(AU24=6,SUM(AV25*1000+(BC25)/10+(BA25)/100+(BK24)/1000+((G24+R24)-(F24+S24))/10000+(G24+R24)/100000+(G24)/1000000)))","v":false},{"$f":"IF(AU26=6,IF(AU24=6,SUM(AV26*1000+(BC26)/10+(BA26)/100+(BK25)/1000+((G25+R25)-(F25+S25))/10000+(G25+R25)/100000+(G25)/1000000)))","v":false},{"$f":"IF(AU27=6,IF(AU24=6,SUM(AV27*1000+(BC27)/10+(BA27)/100+(BK26)/1000+((G26+R26)-(F26+S26))/10000+(G26+R26)/100000+(G26)/1000000)))","v":false},{"$f":"IF(AU28=6,IF(AU24=6,SUM(AV28*1000+(BC28)/10+(BA28)/100+(BK27)/1000+((G27+R27)-(F27+S27))/10000+(G27+R27)/100000+(G27)/1000000)))","v":false},{"$f":"IF(AU29=6,IF(AU24=6,SUM(AV29*1000+(BC29)/10+(BA29)/100+(BK28)/1000+((G28+R28)-(F28+S28))/10000+(G28+R28)/100000+(G28)/1000000)))","v":false}]
[{"$f":"AP24","v":"JAPON"},null,null,null,null,1,2,{"$f":"AP27","v":"EMIRATS ARABES UNIS"},null,null,null,null,"EMIRATS ARABES UNIS",null,null,null,null,0,2,"JAPON",null,null,null,null,null,{"$f":"VLOOKUP(AN33,AO31:AT36,2,0)","v":"AUSTRALIE"},null,null,null,null,{"$f":"IF(CT34=CT33,CW33,CW34)","v":3},{"$f":"VLOOKUP(Z26,AP24:BC29,7,0)","v":19},{"$f":"VLOOKUP(Z26,AP24:BC29,8,0)","v":10},{"$f":"VLOOKUP(Z26,AP24:BC29,9,0)","v":5},{"$f":"VLOOKUP(Z26,AP24:BC29,10,0)","v":4},{"$f":"VLOOKUP(Z26,AP24:BC29,11,0)","v":1},{"$f":"VLOOKUP(Z26,AP24:BC29,12,0)","v":16},{"$f":"VLOOKUP(Z26,AP24:BC29,13,0)","v":11},{"$f":"VLOOKUP(Z26,AP24:BC29,14,0)","v":5},null,null,"AUSTRALIE",null,null,null,null,{"$f":"RANK(AV26,AV24:AV29)","v":2},{"$f":"SUMPRODUCT((A24:E38=AP26)*(BF24:BF38))+SUMPRODUCT((H24:L38=AP26)*(BG24:BG38))+SUMPRODUCT((M24:Q38=AP26)*(BH24:BH38))+SUMPRODUCT((T24:X38=AP26)*(BI24:BI38))","v":19},{"$f":"SUMPRODUCT((A24:E38=AP26)*(BL24:BL38))+SUMPRODUCT((H24:L38=AP26)*(BM24:BM38))+SUMPRODUCT((M24:Q38=AP26)*(BN24:BN38))+SUMPRODUCT((T24:X38=AP26)*(BO24:BO38))","v":10},{"$f":"SUMPRODUCT((A24:E38=AP26)*(BP24:BP38))+SUMPRODUCT((H24:L38=AP26)*(BQ24:BQ38))+SUMPRODUCT((M24:Q38=AP26)*(BR24:BR38))+SUMPRODUCT((T24:X38=AP26)*(BS24:BS38))","v":5},{"$f":"SUMPRODUCT((A24:E38=AP26)*(BT24:BT38))+SUMPRODUCT((H24:L38=AP26)*(BU24:BU38))+SUMPRODUCT((M24:Q38=AP26)*(BV24:BV38))+SUMPRODUCT((T24:X38=AP26)*(BW24:BW38))","v":4},{"$f":"SUMPRODUCT((A24:E38=AP26)*(BX24:BX38))+SUMPRODUCT((H24:L38=AP26)*(BY24:BY38))+SUMPRODUCT((M24:Q38=AP26)*(BZ24:BZ38))+SUMPRODUCT((T24:X38=AP26)*(CA24:CA38))","v":1},{"$f":"SUMPRODUCT((A24:E38=AP26)*(CB24:CB38))+SUMPRODUCT((H24:L38=AP26)*(CC24:CC38))+SUMPRODUCT((M24:Q38=AP26)*(CD24:CD38))+SUMPRODUCT((T24:X38=AP26)*(CE24:CE38))","v":16},{"$f":"SUMPRODUCT((A24:E38=AP26)*(CH24:CH38))+SUMPRODUCT((H24:L38=AP26)*(CI24:CI38))+SUMPRODUCT((M24:Q38=AP26)*(CJ24:CJ38))+SUMPRODUCT((T24:X38=AP26)*(CK24:CK38))","v":11},5,null,null,0,3,0,3,3,3,1,1,1,1,false,1,false,1,false,false,false,false,1,false,1,false,1,2,0,2,3,2,2,1,2,0,2,3,{"$f":"IF(AU24=1,IF(AU26=1,SUM(AV24*1000+(BC24)/10+(BA24)/100+(BJ25)/1000+((F25+S25)-(G25+R25))/10000+(F25+S25)/100000+(S25)/1000000)))","v":false},{"$f":"IF(AU25=1,IF(AU26=1,SUM(AV25*1000+(BC25)/10+(BA25)/100+(BJ29)/1000+((F29+S29)-(G29+R29))/10000+(F29+S29)/100000+(S29)/1000000)))","v":false},{"$f":"IF(AU26=1,IF(AU25=1,SUM(AV26*1000+(BC26)/10+(BA26)/100+(BK29)/1000+((G29+R29)-(F29+S29))/10000+(G29+R29)/1000000+(G29)/1000000)))","v":false},{"$f":"IF(AU27=1,IF(AU25=1,SUM(AV27*1000+(BC27)/10+(BA27)/100+(BK30)/1000+((G30+R30)-(F30+S30))/10000+(G30+R30)/100000+(G30)/1000000)))","v":false},{"$f":"IF(AU28=1,IF(AU25=1,SUM(AV28*1000+(BC28)/10+(BA28)/100+(BK31)/1000+((G31+R31)-(F31+S31))/10000+(G31+R31)/100000+(G31)/1000000)))","v":false},{"$f":"IF(AU29=1,IF(AU25=1,SUM(AV29*1000+(BC29)/10+(BA29)/100+(BK32)/1000+((G32+R32)-(F32+S32))/10000+(G32+R32)/100000+(G32)/1000000)))","v":false},null,{"$f":"IF(AU24=2,IF(AU26=2,SUM(AV24*1000+(BC24)/10+(BA24)/100+(BJ25)/1000+((F25+S25)-(G25+R25))/10000+(F25+S25)/100000+(S25)/1000000)))","v":false},{"$f":"IF(AU25=2,IF(AU26=2,SUM(AV25*1000+(BC25)/10+(BA25)/100+(BJ29)/1000+((F29+S29)-(G29+R29))/10000+(F29+S29)/100000+(S29)/1000000)))","v":19000.870941999998},{"$f":"IF(AU26=2,IF(AU25=2,SUM(AV26*1000+(BC26)/10+(BA26)/100+(BK29)/1000+((G29+R29)-(F29+S29))/10000+(G29+R29)/1000000+(G29)/1000000)))","v":19000.664107000004},{"$f":"IF(AU27=2,IF(AU25=2,SUM(AV27*1000+(BC27)/10+(BA27)/100+(BK30)/1000+((G30+R30)-(F30+S30))/10000+(G30+R30)/100000+(G30)/1000000)))","v":false},{"$f":"IF(AU28=2,IF(AU25=2,SUM(AV28*1000+(BC28)/10+(BA28)/100+(BK31)/1000+((G31+R31)-(F31+S31))/10000+(G31+R31)/100000+(G31)/1000000)))","v":false},{"$f":"IF(AU29=2,IF(AU25=2,SUM(AV29*1000+(BC29)/10+(BA29)/100+(BK32)/1000+((G32+R32)-(F32+S32))/10000+(G32+R32)/100000+(G32)/1000000)))","v":false},{"$f":"IF(AU24=3,IF(AU26=3,SUM(AV24*1000+(BC24)/10+(BA24)/100+(BJ25)/1000+((F25+S25)-(G25+R25))/10000+(F25+S25)/100000+(S25)/1000000)))","v":false},{"$f":"IF(AU25=3,IF(AU26=3,SUM(AV25*1000+(BC25)/10+(BA25)/100+(BJ29)/1000+((F29+S29)-(G29+R29))/10000+(F29+S29)/100000+(S29)/1000000)))","v":false},{"$f":"IF(AU26=3,IF(AU25=3,SUM(AV26*1000+(BC26)/10+(BA26)/100+(BK29)/1000+((G29+R29)-(F29+S29))/10000+(G29+R29)/1000000+(G29)/1000000)))","v":false},{"$f":"IF(AU27=3,IF(AU25=3,SUM(AV27*1000+(BC27)/10+(BA27)/100+(BK30)/1000+((G30+R30)-(F30+S30))/10000+(G30+R30)/100000+(G30)/1000000)))","v":false},{"$f":"IF(AU28=3,IF(AU25=3,SUM(AV28*1000+(BC28)/10+(BA28)/100+(BK31)/1000+((G31+R31)-(F31+S31))/10000+(G31+R31)/100000+(G31)/1000000)))","v":false},{"$f":"IF(AU29=3,IF(AU25=3,SUM(AV29*1000+(BC29)/10+(BA29)/100+(BK32)/1000+((G32+R32)-(F32+S32))/10000+(G32+R32)/100000+(G32)/1000000)))","v":false},{"$f":"IF(AU24=4,IF(AU26=4,SUM(AV24*1000+(BC24)/10+(BA24)/100+(BJ25)/1000+((F25+S25)-(G25+R25))/10000+(F25+S25)/100000+(S25)/1000000)))","v":false},{"$f":"IF(AU25=4,IF(AU26=4,SUM(AV25*1000+(BC25)/10+(BA25)/100+(BJ29)/1000+((F29+S29)-(G29+R29))/10000+(F29+S29)/100000+(S29)/1000000)))","v":false},{"$f":"IF(AU26=4,IF(AU25=4,SUM(AV26*1000+(BC26)/10+(BA26)/100+(BK29)/1000+((G29+R29)-(F29+S29))/10000+(G29+R29)/1000000+(G29)/1000000)))","v":false},{"$f":"IF(AU27=4,IF(AU25=4,SUM(AV27*1000+(BC27)/10+(BA27)/100+(BK30)/1000+((G30+R30)-(F30+S30))/10000+(G30+R30)/100000+(G30)/1000000)))","v":false},{"$f":"IF(AU28=4,IF(AU25=4,SUM(AV28*1000+(BC28)/10+(BA28)/100+(BK31)/1000+((G31+R31)-(F31+S31))/10000+(G31+R31)/100000+(G31)/1000000)))","v":false},{"$f":"IF(AU29=4,IF(AU25=4,SUM(AV29*1000+(BC29)/10+(BA29)/100+(BK32)/1000+((G32+R32)-(F32+S32))/10000+(G32+R32)/100000+(G32)/1000000)))","v":false},{"$f":"IF(AU24=5,IF(AU26=5,SUM(AV24*1000+(BC24)/10+(BA24)/100+(BJ25)/1000+((F25+S25)-(G25+R25))/10000+(F25+S25)/100000+(S25)/1000000)))","v":false},{"$f":"IF(AU25=5,IF(AU26=5,SUM(AV25*1000+(BC25)/10+(BA25)/100+(BJ29)/1000+((F29+S29)-(G29+R29))/10000+(F29+S29)/100000+(S29)/1000000)))","v":false},{"$f":"IF(AU26=5,IF(AU25=5,SUM(AV26*1000+(BC26)/10+(BA26)/100+(BK29)/1000+((G29+R29)-(F29+S29))/10000+(G29+R29)/1000000+(G29)/1000000)))","v":false},{"$f":"IF(AU27=5,IF(AU25=5,SUM(AV27*1000+(BC27)/10+(BA27)/100+(BK30)/1000+((G30+R30)-(F30+S30))/10000+(G30+R30)/100000+(G30)/1000000)))","v":false},{"$f":"IF(AU28=5,IF(AU25=5,SUM(AV28*1000+(BC28)/10+(BA28)/100+(BK31)/1000+((G31+R31)-(F31+S31))/10000+(G31+R31)/100000+(G31)/1000000)))","v":false},{"$f":"IF(AU29=5,IF(AU25=5,SUM(AV29*1000+(BC29)/10+(BA29)/100+(BK32)/1000+((G32+R32)-(F32+S32))/10000+(G32+R32)/100000+(G32)/1000000)))","v":false},{"$f":"IF(AU24=6,IF(AU26=6,SUM(AV24*1000+(BC24)/10+(BA24)/100+(BJ25)/1000+((F25+S25)-(G25+R25))/10000+(F25+S25)/100000+(S25)/1000000)))","v":false},{"$f":"IF(AU25=6,IF(AU26=6,SUM(AV25*1000+(BC25)/10+(BA25)/100+(BJ29)/1000+((F29+S29)-(G29+R29))/10000+(F29+S29)/100000+(S29)/1000000)))","v":false},{"$f":"IF(AU26=6,IF(AU25=6,SUM(AV26*1000+(BC26)/10+(BA26)/100+(BK29)/1000+((G29+R29)-(F29+S29))/10000+(G29+R29)/1000000+(G29)/1000000)))","v":false},{"$f":"IF(AU27=6,IF(AU25=6,SUM(AV27*1000+(BC27)/10+(BA27)/100+(BK30)/1000+((G30+R30)-(F30+S30))/10000+(G30+R30)/100000+(G30)/1000000)))","v":false},{"$f":"IF(AU28=6,IF(AU25=6,SUM(AV28*1000+(BC28)/10+(BA28)/100+(BK31)/1000+((G31+R31)-(F31+S31))/10000+(G31+R31)/100000+(G31)/1000000)))","v":false},{"$f":"IF(AU29=6,IF(AU25=6,SUM(AV29*1000+(BC29)/10+(BA29)/100+(BK32)/1000+((G32+R32)-(F32+S32))/10000+(G32+R32)/100000+(G32)/1000000)))","v":false}]
[{"$f":"AP24","v":"JAPON"},null,null,null,null,2,1,{"$f":"AP28","v":"IRAK"},null,null,null,null,"IRAK",null,null,null,null,1,1,"JAPON",null,null,null,null,null,{"$f":"VLOOKUP(AN34,AO31:AT36,2,0)","v":"EMIRATS ARABES UNIS"},null,null,null,null,4,{"$f":"VLOOKUP(Z27,AP24:BC29,7,0)","v":13},{"$f":"VLOOKUP(Z27,AP24:BC29,8,0)","v":10},{"$f":"VLOOKUP(Z27,AP24:BC29,9,0)","v":4},{"$f":"VLOOKUP(Z27,AP24:BC29,10,0)","v":1},{"$f":"VLOOKUP(Z27,AP24:BC29,11,0)","v":5},{"$f":"VLOOKUP(Z27,AP24:BC29,12,0)","v":10},{"$f":"VLOOKUP(Z27,AP24:BC29,13,0)","v":13},{"$f":"VLOOKUP(Z27,AP24:BC29,14,0)","v":-3},null,null,"EMIRATS ARABES UNIS",null,null,null,null,{"$f":"RANK(AV27,AV24:AV29)","v":4},{"$f":"SUMPRODUCT((A24:E38=AP27)*(BF24:BF38))+SUMPRODUCT((H24:L38=AP27)*(BG24:BG38))+SUMPRODUCT((M24:Q38=AP27)*(BH24:BH38))+SUMPRODUCT((T24:X38=AP27)*(BI24:BI38))","v":13},{"$f":"SUMPRODUCT((A24:E38=AP27)*(BL24:BL38))+SUMPRODUCT((H24:L38=AP27)*(BM24:BM38))+SUMPRODUCT((M24:Q38=AP27)*(BN24:BN38))+SUMPRODUCT((T24:X38=AP27)*(BO24:BO38))","v":10},{"$f":"SUMPRODUCT((A24:E38=AP27)*(BP24:BP38))+SUMPRODUCT((H24:L38=AP27)*(BQ24:BQ38))+SUMPRODUCT((M24:Q38=AP27)*(BR24:BR38))+SUMPRODUCT((T24:X38=AP27)*(BS24:BS38))","v":4},{"$f":"SUMPRODUCT((A24:E38=AP27)*(BT24:BT38))+SUMPRODUCT((H24:L38=AP27)*(BU24:BU38))+SUMPRODUCT((M24:Q38=AP27)*(BV24:BV38))+SUMPRODUCT((T24:X38=AP27)*(BW24:BW38))","v":1},{"$f":"SUMPRODUCT((A24:E38=AP27)*(BX24:BX38))+SUMPRODUCT((H24:L38=AP27)*(BY24:BY38))+SUMPRODUCT((M24:Q38=AP27)*(BZ24:BZ38))+SUMPRODUCT((T24:X38=AP27)*(CA24:CA38))","v":5},{"$f":"SUMPRODUCT((A24:E38=AP27)*(CB24:CB38))+SUMPRODUCT((H24:L38=AP27)*(CC24:CC38))+SUMPRODUCT((M24:Q38=AP27)*(CD24:CD38))+SUMPRODUCT((T24:X38=AP27)*(CE24:CE38))","v":10},{"$f":"SUMPRODUCT((A24:E38=AP27)*(CH24:CH38))+SUMPRODUCT((H24:L38=AP27)*(CI24:CI38))+SUMPRODUCT((M24:Q38=AP27)*(CJ24:CJ38))+SUMPRODUCT((T24:X38=AP27)*(CK24:CK38))","v":13},-3,null,null,3,0,1,1,4,1,1,1,1,1,1,false,false,false,false,false,1,1,false,1,false,false,2,1,1,1,3,2,1,2,1,1,2,3,{"$f":"IF(AU24=1,IF(AU27=1,SUM(AV24*1000+(BC24)/10+(BA24)/100+(BJ26)/1000+((F26+S26)-(G26+R26))/10000+(F26+S26)/100000+(S26)/1000000)))","v":false},{"$f":"IF(AU25=1,IF(AU27=1,SUM(AV25*1000+(BC25)/10+(BA25)/100+(BJ30)/1000+((F30+S30)-(G30+R30))/10000+(F30+S30)/100000+(S30)/1000000)))","v":false},{"$f":"IF(AU26=1,IF(AU27=1,SUM(AV26*1000+(BC26)/10+(BA26)/100+(BJ33)/1000+((F33+S33)-(G33+R33))/10000+(F33+S33)/100000+(S33)/1000000)))","v":false},{"$f":"IF(AU27=1,IF(AU26=1,SUM(AV27*1000+(BC27)/10+(BA27)/100+(BK33)/1000+((G33+R33)-(F33+S33))/10000+(G33+R33)/100000+(G33)/1000000)))","v":false},{"$f":"IF(AU28=1,IF(AU26=1,SUM(AV28*1000+(BC28)/10+(BA28)/100+(BK34)/1000+((G34+R34)-(F34+S34))/10000+(G34+R34)/100000+(G34)/1000000)))","v":false},{"$f":"IF(AU29=1,IF(AU26=1,SUM(AV29*1000+(BC29)/10+(BA29)/100+(BK35)/1000+((G35+R35)-(F35+S35))/10000+(G35+R35)/100000+(G35)/1000000)))","v":false},null,{"$f":"IF(AU24=2,IF(AU27=2,SUM(AV24*1000+(BC24)/10+(BA24)/100+(BJ26)/1000+((F26+S26)-(G26+R26))/10000+(F26+S26)/100000+(S26)/1000000)))","v":false},{"$f":"IF(AU25=2,IF(AU27=2,SUM(AV25*1000+(BC25)/10+(BA25)/100+(BJ30)/1000+((F30+S30)-(G30+R30))/10000+(F30+S30)/100000+(S30)/1000000)))","v":false},{"$f":"IF(AU26=2,IF(AU27=2,SUM(AV26*1000+(BC26)/10+(BA26)/100+(BJ33)/1000+((F33+S33)-(G33+R33))/10000+(F33+S33)/100000+(S33)/1000000)))","v":false},{"$f":"IF(AU27=2,IF(AU26=2,SUM(AV27*1000+(BC27)/10+(BA27)/100+(BK33)/1000+((G33+R33)-(F33+S33))/10000+(G33+R33)/100000+(G33)/1000000)))","v":false},{"$f":"IF(AU28=2,IF(AU26=2,SUM(AV28*1000+(BC28)/10+(BA28)/100+(BK34)/1000+((G34+R34)-(F34+S34))/10000+(G34+R34)/100000+(G34)/1000000)))","v":false},{"$f":"IF(AU29=2,IF(AU26=2,SUM(AV29*1000+(BC29)/10+(BA29)/100+(BK35)/1000+((G35+R35)-(F35+S35))/10000+(G35+R35)/100000+(G35)/1000000)))","v":false},{"$f":"IF(AU24=3,IF(AU27=3,SUM(AV24*1000+(BC24)/10+(BA24)/100+(BJ26)/1000+((F26+S26)-(G26+R26))/10000+(F26+S26)/100000+(S26)/1000000)))","v":false},{"$f":"IF(AU25=3,IF(AU27=3,SUM(AV25*1000+(BC25)/10+(BA25)/100+(BJ30)/1000+((F30+S30)-(G30+R30))/10000+(F30+S30)/100000+(S30)/1000000)))","v":false},{"$f":"IF(AU26=3,IF(AU27=3,SUM(AV26*1000+(BC26)/10+(BA26)/100+(BJ33)/1000+((F33+S33)-(G33+R33))/10000+(F33+S33)/100000+(S33)/1000000)))","v":false},{"$f":"IF(AU27=3,IF(AU26=3,SUM(AV27*1000+(BC27)/10+(BA27)/100+(BK33)/1000+((G33+R33)-(F33+S33))/10000+(G33+R33)/100000+(G33)/1000000)))","v":false},{"$f":"IF(AU28=3,IF(AU26=3,SUM(AV28*1000+(BC28)/10+(BA28)/100+(BK34)/1000+((G34+R34)-(F34+S34))/10000+(G34+R34)/100000+(G34)/1000000)))","v":false},{"$f":"IF(AU29=3,IF(AU26=3,SUM(AV29*1000+(BC29)/10+(BA29)/100+(BK35)/1000+((G35+R35)-(F35+S35))/10000+(G35+R35)/100000+(G35)/1000000)))","v":false},{"$f":"IF(AU24=4,IF(AU27=4,SUM(AV24*1000+(BC24)/10+(BA24)/100+(BJ26)/1000+((F26+S26)-(G26+R26))/10000+(F26+S26)/100000+(S26)/1000000)))","v":false},{"$f":"IF(AU25=4,IF(AU27=4,SUM(AV25*1000+(BC25)/10+(BA25)/100+(BJ30)/1000+((F30+S30)-(G30+R30))/10000+(F30+S30)/100000+(S30)/1000000)))","v":false},{"$f":"IF(AU26=4,IF(AU27=4,SUM(AV26*1000+(BC26)/10+(BA26)/100+(BJ33)/1000+((F33+S33)-(G33+R33))/10000+(F33+S33)/100000+(S33)/1000000)))","v":false},{"$f":"IF(AU27=4,IF(AU26=4,SUM(AV27*1000+(BC27)/10+(BA27)/100+(BK33)/1000+((G33+R33)-(F33+S33))/10000+(G33+R33)/100000+(G33)/1000000)))","v":false},{"$f":"IF(AU28=4,IF(AU26=4,SUM(AV28*1000+(BC28)/10+(BA28)/100+(BK34)/1000+((G34+R34)-(F34+S34))/10000+(G34+R34)/100000+(G34)/1000000)))","v":false},{"$f":"IF(AU29=4,IF(AU26=4,SUM(AV29*1000+(BC29)/10+(BA29)/100+(BK35)/1000+((G35+R35)-(F35+S35))/10000+(G35+R35)/100000+(G35)/1000000)))","v":false},{"$f":"IF(AU24=5,IF(AU27=5,SUM(AV24*1000+(BC24)/10+(BA24)/100+(BJ26)/1000+((F26+S26)-(G26+R26))/10000+(F26+S26)/100000+(S26)/1000000)))","v":false},{"$f":"IF(AU25=5,IF(AU27=5,SUM(AV25*1000+(BC25)/10+(BA25)/100+(BJ30)/1000+((F30+S30)-(G30+R30))/10000+(F30+S30)/100000+(S30)/1000000)))","v":false},{"$f":"IF(AU26=5,IF(AU27=5,SUM(AV26*1000+(BC26)/10+(BA26)/100+(BJ33)/1000+((F33+S33)-(G33+R33))/10000+(F33+S33)/100000+(S33)/1000000)))","v":false},{"$f":"IF(AU27=5,IF(AU26=5,SUM(AV27*1000+(BC27)/10+(BA27)/100+(BK33)/1000+((G33+R33)-(F33+S33))/10000+(G33+R33)/100000+(G33)/1000000)))","v":false},{"$f":"IF(AU28=5,IF(AU26=5,SUM(AV28*1000+(BC28)/10+(BA28)/100+(BK34)/1000+((G34+R34)-(F34+S34))/10000+(G34+R34)/100000+(G34)/1000000)))","v":false},{"$f":"IF(AU29=5,IF(AU26=5,SUM(AV29*1000+(BC29)/10+(BA29)/100+(BK35)/1000+((G35+R35)-(F35+S35))/10000+(G35+R35)/100000+(G35)/1000000)))","v":false},{"$f":"IF(AU24=6,IF(AU27=6,SUM(AV24*1000+(BC24)/10+(BA24)/100+(BJ26)/1000+((F26+S26)-(G26+R26))/10000+(F26+S26)/100000+(S26)/1000000)))","v":false},{"$f":"IF(AU25=6,IF(AU27=6,SUM(AV25*1000+(BC25)/10+(BA25)/100+(BJ30)/1000+((F30+S30)-(G30+R30))/10000+(F30+S30)/100000+(S30)/1000000)))","v":false},{"$f":"IF(AU26=6,IF(AU27=6,SUM(AV26*1000+(BC26)/10+(BA26)/100+(BJ33)/1000+((F33+S33)-(G33+R33))/10000+(F33+S33)/100000+(S33)/1000000)))","v":false},{"$f":"IF(AU27=6,IF(AU26=6,SUM(AV27*1000+(BC27)/10+(BA27)/100+(BK33)/1000+((G33+R33)-(F33+S33))/10000+(G33+R33)/100000+(G33)/1000000)))","v":false},{"$f":"IF(AU28=6,IF(AU26=6,SUM(AV28*1000+(BC28)/10+(BA28)/100+(BK34)/1000+((G34+R34)-(F34+S34))/10000+(G34+R34)/100000+(G34)/1000000)))","v":false},{"$f":"IF(AU29=6,IF(AU26=6,SUM(AV29*1000+(BC29)/10+(BA29)/100+(BK35)/1000+((G35+R35)-(F35+S35))/10000+(G35+R35)/100000+(G35)/1000000)))","v":false}]
[{"$f":"AP24","v":"JAPON"},null,null,null,null,4,0,{"$f":"AP29","v":"THAÏLANDE"},null,null,null,null,"THAÏLANDE",null,null,null,null,0,2,"JAPON",null,null,null,null,null,{"$f":"VLOOKUP(AN35,AO31:AT36,2,0)","v":"IRAK"},null,null,null,null,5,{"$f":"VLOOKUP(Z28,AP24:BC29,7,0)","v":11},{"$f":"VLOOKUP(Z28,AP24:BC29,8,0)","v":10},{"$f":"VLOOKUP(Z28,AP24:BC29,9,0)","v":3},{"$f":"VLOOKUP(Z28,AP24:BC29,10,0)","v":2},{"$f":"VLOOKUP(Z28,AP24:BC29,11,0)","v":5},{"$f":"VLOOKUP(Z28,AP24:BC29,12,0)","v":11},{"$f":"VLOOKUP(Z28,AP24:BC29,13,0)","v":12},{"$f":"VLOOKUP(Z28,AP24:BC29,14,0)","v":-1},null,null,"IRAK",null,null,null,null,{"$f":"RANK(AV28,AV24:AV29)","v":5},{"$f":"SUMPRODUCT((A24:E38=AP28)*(BF24:BF38))+SUMPRODUCT((H24:L38=AP28)*(BG24:BG38))+SUMPRODUCT((M24:Q38=AP28)*(BH24:BH38))+SUMPRODUCT((T24:X38=AP28)*(BI24:BI38))","v":11},{"$f":"SUMPRODUCT((A24:E38=AP28)*(BL24:BL38))+SUMPRODUCT((H24:L38=AP28)*(BM24:BM38))+SUMPRODUCT((M24:Q38=AP28)*(BN24:BN38))+SUMPRODUCT((T24:X38=AP28)*(BO24:BO38))","v":10},{"$f":"SUMPRODUCT((A24:E38=AP28)*(BP24:BP38))+SUMPRODUCT((H24:L38=AP28)*(BQ24:BQ38))+SUMPRODUCT((M24:Q38=AP28)*(BR24:BR38))+SUMPRODUCT((T24:X38=AP28)*(BS24:BS38))","v":3},{"$f":"SUMPRODUCT((A24:E38=AP28)*(BT24:BT38))+SUMPRODUCT((H24:L38=AP28)*(BU24:BU38))+SUMPRODUCT((M24:Q38=AP28)*(BV24:BV38))+SUMPRODUCT((T24:X38=AP28)*(BW24:BW38))","v":2},{"$f":"SUMPRODUCT((A24:E38=AP28)*(BX24:BX38))+SUMPRODUCT((H24:L38=AP28)*(BY24:BY38))+SUMPRODUCT((M24:Q38=AP28)*(BZ24:BZ38))+SUMPRODUCT((T24:X38=AP28)*(CA24:CA38))","v":5},{"$f":"SUMPRODUCT((A24:E38=AP28)*(CB24:CB38))+SUMPRODUCT((H24:L38=AP28)*(CC24:CC38))+SUMPRODUCT((M24:Q38=AP28)*(CD24:CD38))+SUMPRODUCT((T24:X38=AP28)*(CE24:CE38))","v":11},{"$f":"SUMPRODUCT((A24:E38=AP28)*(CH24:CH38))+SUMPRODUCT((H24:L38=AP28)*(CI24:CI38))+SUMPRODUCT((M24:Q38=AP28)*(CJ24:CJ38))+SUMPRODUCT((T24:X38=AP28)*(CK24:CK38))","v":12},-1,null,null,3,0,0,3,6,0,1,1,1,1,1,false,false,1,false,false,false,false,false,1,1,false,4,0,0,2,6,0,0,4,2,0,0,6,{"$f":"IF(AU24=1,IF(AU28=1,SUM(AV24*1000+(BC24)/10+(BA24)/100+(BJ27)/1000+((F27+S27)-(G27+R27))/10000+(F27+S27)/100000+(S27)/1000000)))","v":false},{"$f":"IF(AU25=1,IF(AU28=1,SUM(AV25*1000+(BC25)/10+(BA25)/100+(BJ31)/1000+((F31+S31)-(G31+R31))/10000+(F31+S31)/100000+(S31)/1000000)))","v":false},{"$f":"IF(AU26=1,IF(AU28=1,SUM(AV26*1000+(BC26)/10+(BA26)/100+(BJ34)/1000+((F34+S34)-(G34+R34))/10000+(F34+S34)/100000+(S34)/1000000)))","v":false},{"$f":"IF(AU27=1,IF(AU28=1,SUM(AV27*1000+(BC27)/10+(BA27)/100+(BJ36)/1000+((F36+S36)-(G36+R36))/10000+(F36+S36)/100000+(S36)/1000000)))","v":false},{"$f":"IF(AU28=1,IF(AU27=1,SUM(AV28*1000+(BC28)/10+(BA28)/100+(BK36)/1000+((G36+R36)-(F36+S36))/10000+(G36+R36)/100000+(G36)/1000000)))","v":false},{"$f":"IF(AU29=1,IF(AU27=1,SUM(AV29*1000+(BC29)/10+(BA29)/100+(BK37)/1000+((G37+R37)-(F37+S37))/10000+(G37+R37)/100000+(G37)/1000000)))","v":false},null,{"$f":"IF(AU24=2,IF(AU28=2,SUM(AV24*1000+(BC24)/10+(BA24)/100+(BJ27)/1000+((F27+S27)-(G27+R27))/10000+(F27+S27)/100000+(S27)/1000000)))","v":false},{"$f":"IF(AU25=2,IF(AU28=2,SUM(AV25*1000+(BC25)/10+(BA25)/100+(BJ31)/1000+((F31+S31)-(G31+R31))/10000+(F31+S31)/100000+(S31)/1000000)))","v":false},{"$f":"IF(AU26=2,IF(AU28=2,SUM(AV26*1000+(BC26)/10+(BA26)/100+(BJ34)/1000+((F34+S34)-(G34+R34))/10000+(F34+S34)/100000+(S34)/1000000)))","v":false},{"$f":"IF(AU27=2,IF(AU28=2,SUM(AV27*1000+(BC27)/10+(BA27)/100+(BJ36)/1000+((F36+S36)-(G36+R36))/10000+(F36+S36)/100000+(S36)/1000000)))","v":false},{"$f":"IF(AU28=2,IF(AU27=2,SUM(AV28*1000+(BC28)/10+(BA28)/100+(BK36)/1000+((G36+R36)-(F36+S36))/10000+(G36+R36)/100000+(G36)/1000000)))","v":false},{"$f":"IF(AU29=2,IF(AU27=2,SUM(AV29*1000+(BC29)/10+(BA29)/100+(BK37)/1000+((G37+R37)-(F37+S37))/10000+(G37+R37)/100000+(G37)/1000000)))","v":false},{"$f":"IF(AU24=3,IF(AU28=3,SUM(AV24*1000+(BC24)/10+(BA24)/100+(BJ27)/1000+((F27+S27)-(G27+R27))/10000+(F27+S27)/100000+(S27)/1000000)))","v":false},{"$f":"IF(AU25=3,IF(AU28=3,SUM(AV25*1000+(BC25)/10+(BA25)/100+(BJ31)/1000+((F31+S31)-(G31+R31))/10000+(F31+S31)/100000+(S31)/1000000)))","v":false},{"$f":"IF(AU26=3,IF(AU28=3,SUM(AV26*1000+(BC26)/10+(BA26)/100+(BJ34)/1000+((F34+S34)-(G34+R34))/10000+(F34+S34)/100000+(S34)/1000000)))","v":false},{"$f":"IF(AU27=3,IF(AU28=3,SUM(AV27*1000+(BC27)/10+(BA27)/100+(BJ36)/1000+((F36+S36)-(G36+R36))/10000+(F36+S36)/100000+(S36)/1000000)))","v":false},{"$f":"IF(AU28=3,IF(AU27=3,SUM(AV28*1000+(BC28)/10+(BA28)/100+(BK36)/1000+((G36+R36)-(F36+S36))/10000+(G36+R36)/100000+(G36)/1000000)))","v":false},{"$f":"IF(AU29=3,IF(AU27=3,SUM(AV29*1000+(BC29)/10+(BA29)/100+(BK37)/1000+((G37+R37)-(F37+S37))/10000+(G37+R37)/100000+(G37)/1000000)))","v":false},{"$f":"IF(AU24=4,IF(AU28=4,SUM(AV24*1000+(BC24)/10+(BA24)/100+(BJ27)/1000+((F27+S27)-(G27+R27))/10000+(F27+S27)/100000+(S27)/1000000)))","v":false},{"$f":"IF(AU25=4,IF(AU28=4,SUM(AV25*1000+(BC25)/10+(BA25)/100+(BJ31)/1000+((F31+S31)-(G31+R31))/10000+(F31+S31)/100000+(S31)/1000000)))","v":false},{"$f":"IF(AU26=4,IF(AU28=4,SUM(AV26*1000+(BC26)/10+(BA26)/100+(BJ34)/1000+((F34+S34)-(G34+R34))/10000+(F34+S34)/100000+(S34)/1000000)))","v":false},{"$f":"IF(AU27=4,IF(AU28=4,SUM(AV27*1000+(BC27)/10+(BA27)/100+(BJ36)/1000+((F36+S36)-(G36+R36))/10000+(F36+S36)/100000+(S36)/1000000)))","v":false},{"$f":"IF(AU28=4,IF(AU27=4,SUM(AV28*1000+(BC28)/10+(BA28)/100+(BK36)/1000+((G36+R36)-(F36+S36))/10000+(G36+R36)/100000+(G36)/1000000)))","v":false},{"$f":"IF(AU29=4,IF(AU27=4,SUM(AV29*1000+(BC29)/10+(BA29)/100+(BK37)/1000+((G37+R37)-(F37+S37))/10000+(G37+R37)/100000+(G37)/1000000)))","v":false},{"$f":"IF(AU24=5,IF(AU28=5,SUM(AV24*1000+(BC24)/10+(BA24)/100+(BJ27)/1000+((F27+S27)-(G27+R27))/10000+(F27+S27)/100000+(S27)/1000000)))","v":false},{"$f":"IF(AU25=5,IF(AU28=5,SUM(AV25*1000+(BC25)/10+(BA25)/100+(BJ31)/1000+((F31+S31)-(G31+R31))/10000+(F31+S31)/100000+(S31)/1000000)))","v":false},{"$f":"IF(AU26=5,IF(AU28=5,SUM(AV26*1000+(BC26)/10+(BA26)/100+(BJ34)/1000+((F34+S34)-(G34+R34))/10000+(F34+S34)/100000+(S34)/1000000)))","v":false},{"$f":"IF(AU27=5,IF(AU28=5,SUM(AV27*1000+(BC27)/10+(BA27)/100+(BJ36)/1000+((F36+S36)-(G36+R36))/10000+(F36+S36)/100000+(S36)/1000000)))","v":false},{"$f":"IF(AU28=5,IF(AU27=5,SUM(AV28*1000+(BC28)/10+(BA28)/100+(BK36)/1000+((G36+R36)-(F36+S36))/10000+(G36+R36)/100000+(G36)/1000000)))","v":false},{"$f":"IF(AU29=5,IF(AU27=5,SUM(AV29*1000+(BC29)/10+(BA29)/100+(BK37)/1000+((G37+R37)-(F37+S37))/10000+(G37+R37)/100000+(G37)/1000000)))","v":false},{"$f":"IF(AU24=6,IF(AU28=6,SUM(AV24*1000+(BC24)/10+(BA24)/100+(BJ27)/1000+((F27+S27)-(G27+R27))/10000+(F27+S27)/100000+(S27)/1000000)))","v":false},{"$f":"IF(AU25=6,IF(AU28=6,SUM(AV25*1000+(BC25)/10+(BA25)/100+(BJ31)/1000+((F31+S31)-(G31+R31))/10000+(F31+S31)/100000+(S31)/1000000)))","v":false},{"$f":"IF(AU26=6,IF(AU28=6,SUM(AV26*1000+(BC26)/10+(BA26)/100+(BJ34)/1000+((F34+S34)-(G34+R34))/10000+(F34+S34)/100000+(S34)/1000000)))","v":false},{"$f":"IF(AU27=6,IF(AU28=6,SUM(AV27*1000+(BC27)/10+(BA27)/100+(BJ36)/1000+((F36+S36)-(G36+R36))/10000+(F36+S36)/100000+(S36)/1000000)))","v":false},{"$f":"IF(AU28=6,IF(AU27=6,SUM(AV28*1000+(BC28)/10+(BA28)/100+(BK36)/1000+((G36+R36)-(F36+S36))/10000+(G36+R36)/100000+(G36)/1000000)))","v":false},{"$f":"IF(AU29=6,IF(AU27=6,SUM(AV29*1000+(BC29)/10+(BA29)/100+(BK37)/1000+((G37+R37)-(F37+S37))/10000+(G37+R37)/100000+(G37)/1000000)))","v":false}]
[{"$f":"AP25","v":"ARABIE SAOUDITE"},null,null,null,null,2,2,{"$f":"AP26","v":"AUSTRALIE"},null,null,null,null,"AUSTRALIE",null,null,null,null,3,2,"ARABIE SAOUDITE",null,null,null,null,null,{"$f":"VLOOKUP(AN36,AO31:AT36,2,0)","v":"THAÏLANDE"},null,null,null,null,6,{"$f":"VLOOKUP(Z29,AP24:BC29,7,0)","v":2},{"$f":"VLOOKUP(Z29,AP24:BC29,8,0)","v":10},{"$f":"VLOOKUP(Z29,AP24:BC29,9,0)","v":0},{"$f":"VLOOKUP(Z29,AP24:BC29,10,0)","v":2},{"$f":"VLOOKUP(Z29,AP24:BC29,11,0)","v":8},{"$f":"VLOOKUP(Z29,AP24:BC29,12,0)","v":6},{"$f":"VLOOKUP(Z29,AP24:BC29,13,0)","v":24},{"$f":"VLOOKUP(Z29,AP24:BC29,14,0)","v":-18},null,null,"THAÏLANDE",null,null,null,null,{"$f":"RANK(AV29,AV24:AV29)","v":6},{"$f":"SUMPRODUCT((A24:E38=AP29)*(BF24:BF38))+SUMPRODUCT((H24:L38=AP29)*(BG24:BG38))+SUMPRODUCT((M24:Q38=AP29)*(BH24:BH38))+SUMPRODUCT((T24:X38=AP29)*(BI24:BI38))","v":2},{"$f":"SUMPRODUCT((A24:E38=AP29)*(BL24:BL38))+SUMPRODUCT((H24:L38=AP29)*(BM24:BM38))+SUMPRODUCT((M24:Q38=AP29)*(BN24:BN38))+SUMPRODUCT((T24:X38=AP29)*(BO24:BO38))","v":10},{"$f":"SUMPRODUCT((A24:E38=AP29)*(BP24:BP38))+SUMPRODUCT((H24:L38=AP29)*(BQ24:BQ38))+SUMPRODUCT((M24:Q38=AP29)*(BR24:BR38))+SUMPRODUCT((T24:X38=AP29)*(BS24:BS38))","v":0},{"$f":"SUMPRODUCT((A24:E38=AP29)*(BT24:BT38))+SUMPRODUCT((H24:L38=AP29)*(BU24:BU38))+SUMPRODUCT((M24:Q38=AP29)*(BV24:BV38))+SUMPRODUCT((T24:X38=AP29)*(BW24:BW38))","v":2},{"$f":"SUMPRODUCT((A24:E38=AP29)*(BX24:BX38))+SUMPRODUCT((H24:L38=AP29)*(BY24:BY38))+SUMPRODUCT((M24:Q38=AP29)*(BZ24:BZ38))+SUMPRODUCT((T24:X38=AP29)*(CA24:CA38))","v":8},{"$f":"SUMPRODUCT((A24:E38=AP29)*(CB24:CB38))+SUMPRODUCT((H24:L38=AP29)*(CC24:CC38))+SUMPRODUCT((M24:Q38=AP29)*(CD24:CD38))+SUMPRODUCT((T24:X38=AP29)*(CE24:CE38))","v":6},{"$f":"SUMPRODUCT((A24:E38=AP29)*(CH24:CH38))+SUMPRODUCT((H24:L38=AP29)*(CI24:CI38))+SUMPRODUCT((M24:Q38=AP29)*(CJ24:CJ38))+SUMPRODUCT((T24:X38=AP29)*(CK24:CK38))","v":24},-18,null,null,1,1,3,0,1,4,1,1,1,1,false,false,1,false,1,1,false,false,false,false,false,1,2,2,3,2,4,5,2,2,2,3,5,4,{"$f":"IF(AU24=1,IF(AU29=1,SUM(AV24*1000+(BC24)/10+(BA24)/100+(BJ28)/1000+((F28+S28)-(G28+R28))/10000+(F28+S28)/100000+(S28)/1000000)))","v":false},{"$f":"IF(AU25=1,IF(AU29=1,SUM(AV25*1000+(BC25)/10+(BA25)/100+(BJ32)/1000+((F32+S32)-(G32+R32))/10000+(F32+S32)/100000+(S32)/1000000)))","v":false},{"$f":"IF(AU26=1,IF(AU29=1,SUM(AV26*1000+(BC26)/10+(BA26)/100+(BJ35)/1000+((F35+S35)-(G35+R35))/10000+(F35+S35)/100000+(S35)/1000000)))","v":false},{"$f":"IF(AU27=1,IF(AU29=1,SUM(AV27*1000+(BC27)/10+(BA27)/100+(BJ37)/1000+((F37+S37)-(G37+R37))/10000+(F37+S37)/100000+(S37)/1000000)))","v":false},{"$f":"IF(AU28=1,IF(AU29=1,SUM(AV28*1000+(BC28)/10+(BA28)/100+(BJ38)/1000+((F38+S38)-(G38+R38))/10000+(F38+S38)/100000+(S38)/1000000)))","v":false},{"$f":"IF(AU29=1,IF(AU28=1,SUM(AV29*1000+(BC29)/10+(BA29)/100+(BK38)/1000+((G38+R38)-(F38+S38))/10000+(G38+R38)/100000+(G38)/1000000)))","v":false},null,{"$f":"IF(AU24=2,IF(AU29=2,SUM(AV24*1000+(BC24)/10+(BA24)/100+(BJ28)/1000+((F28+S28)-(G28+R28))/10000+(F28+S28)/100000+(S28)/1000000)))","v":false},{"$f":"IF(AU25=2,IF(AU29=2,SUM(AV25*1000+(BC25)/10+(BA25)/100+(BJ32)/1000+((F32+S32)-(G32+R32))/10000+(F32+S32)/100000+(S32)/1000000)))","v":false},{"$f":"IF(AU26=2,IF(AU29=2,SUM(AV26*1000+(BC26)/10+(BA26)/100+(BJ35)/1000+((F35+S35)-(G35+R35))/10000+(F35+S35)/100000+(S35)/1000000)))","v":false},{"$f":"IF(AU27=2,IF(AU29=2,SUM(AV27*1000+(BC27)/10+(BA27)/100+(BJ37)/1000+((F37+S37)-(G37+R37))/10000+(F37+S37)/100000+(S37)/1000000)))","v":false},{"$f":"IF(AU28=2,IF(AU29=2,SUM(AV28*1000+(BC28)/10+(BA28)/100+(BJ38)/1000+((F38+S38)-(G38+R38))/10000+(F38+S38)/100000+(S38)/1000000)))","v":false},{"$f":"IF(AU29=2,IF(AU28=2,SUM(AV29*1000+(BC29)/10+(BA29)/100+(BK38)/1000+((G38+R38)-(F38+S38))/10000+(G38+R38)/100000+(G38)/1000000)))","v":false},{"$f":"IF(AU24=3,IF(AU29=3,SUM(AV24*1000+(BC24)/10+(BA24)/100+(BJ28)/1000+((F28+S28)-(G28+R28))/10000+(F28+S28)/100000+(S28)/1000000)))","v":false},{"$f":"IF(AU25=3,IF(AU29=3,SUM(AV25*1000+(BC25)/10+(BA25)/100+(BJ32)/1000+((F32+S32)-(G32+R32))/10000+(F32+S32)/100000+(S32)/1000000)))","v":false},{"$f":"IF(AU26=3,IF(AU29=3,SUM(AV26*1000+(BC26)/10+(BA26)/100+(BJ35)/1000+((F35+S35)-(G35+R35))/10000+(F35+S35)/100000+(S35)/1000000)))","v":false},{"$f":"IF(AU27=3,IF(AU29=3,SUM(AV27*1000+(BC27)/10+(BA27)/100+(BJ37)/1000+((F37+S37)-(G37+R37))/10000+(F37+S37)/100000+(S37)/1000000)))","v":false},{"$f":"IF(AU28=3,IF(AU29=3,SUM(AV28*1000+(BC28)/10+(BA28)/100+(BJ38)/1000+((F38+S38)-(G38+R38))/10000+(F38+S38)/100000+(S38)/1000000)))","v":false},{"$f":"IF(AU29=3,IF(AU28=3,SUM(AV29*1000+(BC29)/10+(BA29)/100+(BK38)/1000+((G38+R38)-(F38+S38))/10000+(G38+R38)/100000+(G38)/1000000)))","v":false},{"$f":"IF(AU24=4,IF(AU29=4,SUM(AV24*1000+(BC24)/10+(BA24)/100+(BJ28)/1000+((F28+S28)-(G28+R28))/10000+(F28+S28)/100000+(S28)/1000000)))","v":false},{"$f":"IF(AU25=4,IF(AU29=4,SUM(AV25*1000+(BC25)/10+(BA25)/100+(BJ32)/1000+((F32+S32)-(G32+R32))/10000+(F32+S32)/100000+(S32)/1000000)))","v":false},{"$f":"IF(AU26=4,IF(AU29=4,SUM(AV26*1000+(BC26)/10+(BA26)/100+(BJ35)/1000+((F35+S35)-(G35+R35))/10000+(F35+S35)/100000+(S35)/1000000)))","v":false},{"$f":"IF(AU27=4,IF(AU29=4,SUM(AV27*1000+(BC27)/10+(BA27)/100+(BJ37)/1000+((F37+S37)-(G37+R37))/10000+(F37+S37)/100000+(S37)/1000000)))","v":false},{"$f":"IF(AU28=4,IF(AU29=4,SUM(AV28*1000+(BC28)/10+(BA28)/100+(BJ38)/1000+((F38+S38)-(G38+R38))/10000+(F38+S38)/100000+(S38)/1000000)))","v":false},{"$f":"IF(AU29=4,IF(AU28=4,SUM(AV29*1000+(BC29)/10+(BA29)/100+(BK38)/1000+((G38+R38)-(F38+S38))/10000+(G38+R38)/100000+(G38)/1000000)))","v":false},{"$f":"IF(AU24=5,IF(AU29=5,SUM(AV24*1000+(BC24)/10+(BA24)/100+(BJ28)/1000+((F28+S28)-(G28+R28))/10000+(F28+S28)/100000+(S28)/1000000)))","v":false},{"$f":"IF(AU25=5,IF(AU29=5,SUM(AV25*1000+(BC25)/10+(BA25)/100+(BJ32)/1000+((F32+S32)-(G32+R32))/10000+(F32+S32)/100000+(S32)/1000000)))","v":false},{"$f":"IF(AU26=5,IF(AU29=5,SUM(AV26*1000+(BC26)/10+(BA26)/100+(BJ35)/1000+((F35+S35)-(G35+R35))/10000+(F35+S35)/100000+(S35)/1000000)))","v":false},{"$f":"IF(AU27=5,IF(AU29=5,SUM(AV27*1000+(BC27)/10+(BA27)/100+(BJ37)/1000+((F37+S37)-(G37+R37))/10000+(F37+S37)/100000+(S37)/1000000)))","v":false},{"$f":"IF(AU28=5,IF(AU29=5,SUM(AV28*1000+(BC28)/10+(BA28)/100+(BJ38)/1000+((F38+S38)-(G38+R38))/10000+(F38+S38)/100000+(S38)/1000000)))","v":false},{"$f":"IF(AU29=5,IF(AU28=5,SUM(AV29*1000+(BC29)/10+(BA29)/100+(BK38)/1000+((G38+R38)-(F38+S38))/10000+(G38+R38)/100000+(G38)/1000000)))","v":false},{"$f":"IF(AU24=6,IF(AU29=6,SUM(AV24*1000+(BC24)/10+(BA24)/100+(BJ28)/1000+((F28+S28)-(G28+R28))/10000+(F28+S28)/100000+(S28)/1000000)))","v":false},{"$f":"IF(AU25=6,IF(AU29=6,SUM(AV25*1000+(BC25)/10+(BA25)/100+(BJ32)/1000+((F32+S32)-(G32+R32))/10000+(F32+S32)/100000+(S32)/1000000)))","v":false},{"$f":"IF(AU26=6,IF(AU29=6,SUM(AV26*1000+(BC26)/10+(BA26)/100+(BJ35)/1000+((F35+S35)-(G35+R35))/10000+(F35+S35)/100000+(S35)/1000000)))","v":false},{"$f":"IF(AU27=6,IF(AU29=6,SUM(AV27*1000+(BC27)/10+(BA27)/100+(BJ37)/1000+((F37+S37)-(G37+R37))/10000+(F37+S37)/100000+(S37)/1000000)))","v":false},{"$f":"IF(AU28=6,IF(AU29=6,SUM(AV28*1000+(BC28)/10+(BA28)/100+(BJ38)/1000+((F38+S38)-(G38+R38))/10000+(F38+S38)/100000+(S38)/1000000)))","v":false},{"$f":"IF(AU29=6,IF(AU28=6,SUM(AV29*1000+(BC29)/10+(BA29)/100+(BK38)/1000+((G38+R38)-(F38+S38))/10000+(G38+R38)/100000+(G38)/1000000)))","v":false}]
[{"$f":"AP25","v":"ARABIE SAOUDITE"},null,null,null,null,3,0,{"$f":"AP27","v":"EMIRATS ARABES UNIS"},null,null,null,null,"EMIRATS ARABES UNIS",null,null,null,null,2,1,"ARABIE SAOUDITE",null,null,null,null,null,null,null,null,null,null,null,null,null,null,null,null,null,null,null,null,null,null,null,null,null,null,null,null,null,null,null,null,null,null,null,null,null,3,0,3,0,3,3,1,1,1,1,1,false,1,false,false,false,false,false,false,1,false,1,3,0,2,1,4,2,0,3,1,2,2,4,{"$f":"SUM(CN24:CN29)","v":1000000},0,0,0,0,0,null,{"$f":"SUM(CU24:CU29)","v":0},819000.87094199995,819000.66410699999,0,0,0,0,0,0,0,0,0,0,0,0,400000,0,0,0,0,0,0,200000,0,0,0,0,0,0,100000]
[{"$f":"AP25","v":"ARABIE SAOUDITE"},null,null,null,null,1,0,{"$f":"AP28","v":"IRAK"},null,null,null,null,"IRAK",null,null,null,null,1,2,"ARABIE SAOUDITE",null,null,null,null,null,null,null,null,null,null,null,null,null,null,null,null,null,null,null,1,{"$f":"BA31","v":1},{"$f":"AP24","v":"JAPON"},null,null,null,null,{"$f":"SUM(CN30,CU30,DA30,DG30,DM30,DS30)","v":1000000},null,null,{"$f":"AU31+0.00000006","v":1000000.00000006},null,null,{"$f":"RANK(AX31,AX31:AZ36)","v":1},{"$f":"RANK(AU31,AU31:AW36)","v":1},null,null,null,3,0,0,3,6,0,1,1,1,1,1,false,false,1,false,false,false,false,false,1,1,false,1,0,1,2,3,1,0,1,2,1,1,3]
[{"$f":"AP25","v":"ARABIE SAOUDITE"},null,null,null,null,1,0,{"$f":"AP29","v":"THAÏLANDE"},null,null,null,null,"THAÏLANDE",null,null,null,null,0,3,"ARABIE SAOUDITE",null,null,null,null,null,null,null,null,null,null,null,null,null,null,null,null,null,null,null,2,{"$f":"BA32","v":2},{"$f":"AP25","v":"ARABIE SAOUDITE"},null,null,null,null,{"$f":"SUM(CO30,CV30,DB30,DH30,DN30,DT30)","v":819000.87094199995},null,null,{"$f":"AU32+0.00000005","v":819000.87094204989},null,null,{"$f":"RANK(AX32,AX31:AZ36)","v":2},{"$f":"RANK(AU32,AU31:AW36)","v":2},null,null,null,3,0,0,3,6,0,1,1,1,1,1,false,false,1,false,false,false,false,false,1,1,false,1,0,0,3,4,0,0,1,3,0,0,4,{"$f":"VLOOKUP(AN31,AO31:AT36,2,0)","v":"JAPON"},null,null,null,null,null,{"$f":"VLOOKUP(CN32,AP31:AW36,6,0)","v":1000000},null,null,{"$f":"RANK(CT32,CT32:CV37)","v":1}]
[{"$f":"AP26","v":"AUSTRALIE"},null,null,null,null,2,0,{"$f":"AP27","v":"EMIRATS ARABES UNIS"},null,null,null,null,"EMIRATS ARABES UNIS",null,null,null,null,0,1,"AUSTRALIE",null,null,null,null,null,"ÉQUIPE QUILIFIÉE",null,null,null,{"$f":"Z24","v":"JAPON"},null,null,null,null,null,null,null,null,null,3,3,"AUSTRALIE",null,null,null,null,{"$f":"SUM(CP30,CW30,DC30,DI30,DO30,DU30)","v":819000.66410699999},null,null,{"$f":"AU33+0.00000004","v":819000.66410704004},null,null,{"$f":"RANK(AX33,AX31:AZ36)","v":3},{"$f":"RANK(AU33,AU31:AW36)","v":3},null,null,null,3,0,0,3,6,0,1,1,1,1,1,false,false,1,false,false,false,false,false,1,1,false,2,0,0,1,3,0,0,2,1,0,0,3,{"$f":"VLOOKUP(AN32,AO31:AT36,2,0)","v":"ARABIE SAOUDITE"},null,null,null,null,null,{"$f":"VLOOKUP(CN33,AP31:AW36,6,0)","v":819000.87094199995},null,null,{"$f":"RANK(CT33,CT32:CV37)","v":2}]
[{"$f":"AP26","v":"AUSTRALIE"},null,null,null,null,2,0,{"$f":"AP28","v":"IRAK"},null,null,null,null,"IRAK",null,null,null,null,1,1,"AUSTRALIE",null,null,null,null,null,null,null,null,null,null,null,null,null,null,null,null,null,null,null,4,4,"EMIRATS ARABES UNIS",null,null,null,null,{"$f":"SUM(CQ30,CX30,DD30,DJ30,DP30,DV30)","v":400000},null,null,{"$f":"AU34+0.00000003","v":400000.00000002998},null,null,{"$f":"RANK(AX34,AX31:AZ36)","v":4},{"$f":"RANK(AU34,AU31:AW36)","v":4},null,null,null,3,0,1,1,4,1,1,1,1,1,1,false,false,false,false,false,1,1,false,1,false,false,2,0,1,1,3,1,0,2,1,1,1,3,{"$f":"VLOOKUP(AN33,AO31:AT36,2,0)","v":"AUSTRALIE"},null,null,null,null,null,{"$f":"VLOOKUP(CN34,AP31:AW36,6,0)","v":819000.66410699999},null,null,{"$f":"RANK(CT34,CT32:CV37)","v":3}]
[{"$f":"AP26","v":"AUSTRALIE"},null,null,null,null,2,1,{"$f":"AP29","v":"THAÏLANDE"},null,null,null,null,"THAÏLANDE",null,null,null,null,2,2,"AUSTRALIE",null,null,null,null,null,"ÉQUIPE QUILIFIÉE",null,null,null,{"$f":"Z25","v":"ARABIE SAOUDITE"},null,null,null,null,null,null,null,null,null,5,5,"IRAK",null,null,null,null,{"$f":"SUM(CR30,CY30,DE30,DK30,DQ30,DW30)","v":200000},null,null,{"$f":"AU35+0.00000002","v":200000.00000001999},null,null,{"$f":"RANK(AX35,AX31:AZ36)","v":5},{"$f":"RANK(AU35,AU31:AW36)","v":5},null,null,null,3,0,1,1,4,1,1,1,1,1,1,false,false,false,false,false,1,1,false,1,false,false,2,1,2,2,4,3,1,2,2,2,3,4,{"$f":"VLOOKUP(AN34,AO31:AT36,2,0)","v":"EMIRATS ARABES UNIS"},null,null,null,null,null,{"$f":"VLOOKUP(CN35,AP31:AW36,6,0)","v":400000},null,null,{"$f":"RANK(CT35,CT32:CV37)","v":4}]
[{"$f":"AP27","v":"EMIRATS ARABES UNIS"},null,null,null,null,2,0,{"$f":"AP28","v":"IRAK"},null,null,null,null,"IRAK",null,null,null,null,1,0,"EMIRATS ARABES UNIS",null,null,null,null,null,null,null,null,null,null,null,null,null,null,null,null,null,null,null,6,6,"THAÏLANDE",null,null,null,null,{"$f":"SUM(CS30,CZ30,DF30,DL30,DR30,DX30)","v":100000},null,null,{"$f":"AU36+0.00000001","v":100000.00000001},null,null,{"$f":"RANK(AX36,AX31:AZ36)","v":6},{"$f":"RANK(AU36,AU31:AW36)","v":6},null,null,null,3,0,3,0,3,3,1,1,1,1,1,false,1,false,false,false,false,false,false,1,false,1,2,0,1,0,2,1,0,2,0,1,1,2,{"$f":"VLOOKUP(AN35,AO31:AT36,2,0)","v":"IRAK"},null,null,null,null,null,{"$f":"VLOOKUP(CN36,AP31:AW36,6,0)","v":200000},null,null,{"$f":"RANK(CT36,CT32:CV37)","v":5}]
[{"$f":"AP27","v":"EMIRATS ARABES UNIS"},null,null,null,null,3,1,{"$f":"AP29","v":"THAÏLANDE"},null,null,null,null,"THAÏLANDE",null,null,null,null,1,1,"EMIRATS ARABES UNIS",null,null,null,null,null,"BARRAGE",null,null,null,{"$f":"Z26","v":"AUSTRALIE"},null,null,null,null,null,null,null,null,null,null,null,null,null,null,null,null,null,null,null,null,null,null,null,null,null,null,null,3,0,1,1,4,1,1,1,1,1,1,false,false,false,false,false,1,1,false,1,false,false,3,1,1,1,4,2,1,3,1,1,2,4,{"$f":"VLOOKUP(AN36,AO31:AT36,2,0)","v":"THAÏLANDE"},null,null,null,null,null,{"$f":"VLOOKUP(CN37,AP31:AW36,6,0)","v":100000},null,null,{"$f":"RANK(CT37,CT32:CV37)","v":6}]
[{"$f":"AP28","v":"IRAK"},null,null,null,null,4,0,{"$f":"AP29","v":"THAÏLANDE"},null,null,null,null,"THAÏLANDE",null,null,null,null,1,2,"IRAK",null,null,null,null,null,null,null,null,null,null,null,null,null,null,null,null,null,null,null,null,null,null,null,null,null,null,null,null,null,null,null,null,null,null,null,null,null,3,0,0,3,6,0,1,1,1,1,1,false,false,1,false,false,false,false,false,1,1,false,4,0,1,2,6,1,0,4,2,1,1,6]
[]
[]
["ÉQUIPE",null,null,null,null,null,null,"BUTS",null,null,"PENALTIES",null,"BUTS",null,"ÉQUIPE"]
[{"$f":"AD17","v":"SYRIE"},null,null,null,null,null,null,1,null,null,null,null,2,null,{"$f":"AD37","v":"AUSTRALIE"},null,null,null,null,null,null,null,"BARRAGES",null,null,null,null,null,null,null,null,null,null,null,null,null,null,null,null,null,{"$f":"SUM(M44*2)/10+(H42)/100+(K44)/10000","v":0.21000000000000002}]
[null,null,null,null,null,null,null,null,null,null,null,null,null,null,null,null,null,null,null,null,null,null,{"$f":"IF(H42=\"\",\"\",IF(AO42>AO45,A42,A44))","v":"AUSTRALIE"}]
[{"$f":"AD37","v":"AUSTRALIE"},null,null,null,null,null,null,1,null,null,null,null,1,null,{"$f":"AD17","v":"SYRIE"}]
[null,null,null,null,null,null,null,null,null,null,null,null,null,null,null,null,null,null,null,null,null,null,null,null,null,null,null,null,null,null,null,null,null,null,null,null,null,null,null,null,{"$f":"SUM(H44*2)/10+(M42)/100+(K42)/10000","v":0.22}]

{"sheet":"EUROPE","index":2,"n_rows":190,"n_cols":128,"rows_kept":190,"cut":false,"hidden":false,"merged":[[181,3,181,7],[182,3,182,7],[183,3,183,7],[184,3,184,7],[185,3,185,7],[186,3,186,7],[187,3,187,7],[188,3,188,7],[189,3,189,7],[181,8,181,11],[182,8,182,11],[183,8,183,11],[184,8,184,11],[185,8,185,11],[186,8,186,11],[187,8,187,11],[188,8,188,11],[189,8,189,11],[12,25,14,28],[15,25,17,28],[32,25,34,28],[35,25,37,28],[72,25,74,28],[75,25,77,28],[92,25,94,28],[95,25,97,28],[171,91,171,96],[172,91,172,96],[173,91,173,96],[174,91,174,96],[175,91,175,96],[176,91,176,96],[171,97,171,99],[172,97,172,99],[173,97,173,99],[174,97,174,99],[175,97,175,99],[176,97,176,99],[15,49,15,51],[12,41,12,45],[13,41,13,45],[14,41,14,45],[15,41,15,45],[38,0,39,38],[40,0,41,8],[40,9,41,14],[40,15,41,23],[40,24,57,24],[40,25,41,38],[42,0,42,4],[10,49,10,51],[11,49,11,51],[12,49,12,51],[13,49,13,51],[14,49,14,51],[151,91,151,96],[151,97,151,99],[152,91,152,96],[152,97,152,99],[153,91,153,96],[153,97,153,99],[154,91,154,96],[154,97,154,99],[155,91,155,96],[155,97,155,99],[156,91,156,96],[156,97,156,99],[131,91,131,96],[131,97,131,99],[40,41,41,54],[132,91,132,96],[132,97,132,99],[133,91,133,96],[133,97,133,99],[134,91,134,96],[134,97,134,99],[135,91,135,96],[135,97,135,99],[136,91,136,96],[136,97,136,99],[111,91,111,96],[111,97,111,99],[10,46,10,48],[11,46,11,48],[12,46,12,48],[13,46,13,48],[14,46,14,48],[15,46,15,48],[17,19,17,23],[10,19,10,23],[11,19,11,23],[12,19,12,23],[16,0,16,4],[3,41,3,45],[9,31,11,32],[9,33,11,34],[9,35,11,36],[12,29,14,38],[15,29,17,38],[9,37,11,38],[9,29,11,30],[9,25,11,26],[9,27,11,28],[4,41,4,45],[14,19,14,23],[15,19,15,23],[16,19,16,23],[17,7,17,11],[5,25,5,29],[6,25,6,29],[7,25,7,29],[8,25,8,29],[15,7,15,11],[16,7,16,11],[9,7,9,11],[10,7,10,11],[11,7,11,11],[12,7,12,11],[13,7,13,11],[2,41,2,45],[8,41,8,45],[10,41,10,45],[11,41,11,45],[0,0,1,8],[0,15,1,23],[0,9,1,14],[0,24,17,24],[3,19,3,23],[8,19,8,23],[14,0,14,4],[17,12,17,16],[9,19,9,23],[17,0,17,4],[3,7,3,11],[4,7,4,11],[5,7,5,11],[6,7,6,11],[7,7,7,11],[8,7,8,11],[8,0,8,4],[9,0,9,4],[10,12,10,16],[11,12,11,16],[12,12,12,16],[14,7,14,11],[10,0,10,4],[11,0,11,4],[3,0,3,4],[4,0,4,4],[16,12,16,16],[15,0,15,4],[0,25,1,38],[5,41,5,45],[6,41,6,45],[7,41,7,45],[3,25,3,29],[4,25,4,29],[13,12,13,16],[14,12,14,16],[15,12,15,16],[2,0,2,4],[2,7,2,11],[2,12,2,16],[2,19,2,23],[12,0,12,4],[13,0,13,4],[5,0,5,4],[6,0,6,4],[7,0,7,4],[5,19,5,23],[6,19,6,23],[7,19,7,23],[4,19,4,23],[13,19,13,23],[3,12,3,16],[4,12,4,16],[5,12,5,16],[6,12,6,16],[7,12,7,16],[8,12,8,16],[9,12,9,16],[2,25,2,29],[0,41,1,54],[18,0,19,38],[20,0,21,8],[20,9,21,14],[20,15,21,23],[20,24,37,24],[20,25,21,38],[20,41,21,54],[22,0,22,4],[22,7,22,11],[22,12,22,16],[22,19,22,23],[22,25,22,29],[22,41,22,45],[23,0,23,4],[23,7,23,11],[23,12,23,16],[23,19,23,23],[23,25,23,29],[23,41,23,45],[24,0,24,4],[24,7,24,11],[24,12,24,16],[24,19,24,23],[24,25,24,29],[27,0,27,4],[27,7,27,11],[27,12,27,16],[35,7,35,11],[35,12,35,16],[35,19,35,23],[35,29,37,38],[35,41,35,45],[35,46,35,48],[27,19,27,23],[27,25,27,29],[27,41,27,45],[28,0,28,4],[28,7,28,11],[28,12,28,16],[28,19,28,23],[28,25,28,29],[28,41,28,45],[24,41,24,45],[25,0,25,4],[25,7,25,11],[25,12,25,16],[25,19,25,23],[25,25,25,29],[25,41,25,45],[26,0,26,4],[26,7,26,11],[26,12,26,16],[26,19,26,23],[26,25,26,29],[26,41,26,45],[29,35,31,36],[29,37,31,38],[30,0,30,4],[30,7,30,11],[30,12,30,16],[30,19,30,23],[30,41,30,45],[30,46,30,48],[30,49,30,51],[31,0,31,4],[31,7,31,11],[31,12,31,16],[31,19,31,23],[31,41,31,45],[31,46,31,48],[31,49,31,51],[29,0,29,4],[29,7,29,11],[29,12,29,16],[29,19,29,23],[29,25,31,26],[29,27,31,28],[29,29,31,30],[29,31,31,32],[29,33,31,34],[35,49,35,51],[36,0,36,4],[36,7,36,11],[36,12,36,16],[36,19,36,23],[37,0,37,4],[37,7,37,11],[37,12,37,16],[37,19,37,23],[32,0,32,4],[32,7,32,11],[32,12,32,16],[32,19,32,23],[32,29,34,38],[32,41,32,45],[32,46,32,48],[32,49,32,51],[33,0,33,4],[33,7,33,11],[33,12,33,16],[33,19,33,23],[33,41,33,45],[33,46,33,48],[33,49,33,51],[34,0,34,4],[34,7,34,11],[34,12,34,16],[34,19,34,23],[34,41,34,45],[34,46,34,48],[34,49,34,51],[35,0,35,4],[42,7,42,11],[42,12,42,16],[42,19,42,23],[42,25,42,29],[42,41,42,45],[43,0,43,4],[43,7,43,11],[43,12,43,16],[43,19,43,23],[43,25,43,29],[43,41,43,45],[44,0,44,4],[44,7,44,11],[44,12,44,16],[44,19,44,23],[44,25,44,29],[47,0,47,4],[47,7,47,11],[47,12,47,16],[47,19,47,23],[47,25,47,29],[47,41,47,45],[55,7,55,11],[55,12,55,16],[55,19,55,23],[55,29,57,38],[55,41,55,45],[55,46,55,48],[48,0,48,4],[48,7,48,11],[48,12,48,16],[48,19,48,23],[48,25,48,29],[48,41,48,45],[44,41,44,45],[45,0,45,4],[45,7,45,11],[45,12,45,16],[45,19,45,23],[45,25,45,29],[45,41,45,45],[46,0,46,4],[46,7,46,11],[46,12,46,16],[46,19,46,23],[46,25,46,29],[46,41,46,45],[49,35,51,36],[49,37,51,38],[50,0,50,4],[50,7,50,11],[50,12,50,16],[50,19,50,23],[50,41,50,45],[50,46,50,48],[50,49,50,51],[51,0,51,4],[51,7,51,11],[51,12,51,16],[51,19,51,23],[51,41,51,45],[51,46,51,48],[51,49,51,51],[49,0,49,4],[49,7,49,11],[49,12,49,16],[49,19,49,23],[49,25,51,26],[49,27,51,28],[49,29,51,30],[49,31,51,32],[49,33,51,34],[55,49,55,51],[56,0,56,4],[56,7,56,11],[56,12,56,16],[56,19,56,23],[57,0,57,4],[57,7,57,11],[57,12,57,16],[57,19,57,23],[52,0,52,4],[52,7,52,11],[52,12,52,16],[52,19,52,23],[52,29,54,38],[52,41,52,45],[52,46,52,48],[52,49,52,51],[53,0,53,4],[53,7,53,11],[53,12,53,16],[53,19,53,23],[53,41,53,45],[53,46,53,48],[53,49,53,51],[54,0,54,4],[54,7,54,11],[54,12,54,16],[54,19,54,23],[54,41,54,45],[54,46,54,48],[54,49,54,51],[55,0,55,4],[58,0,59,38],[60,0,61,8],[60,9,61,14],[60,15,61,23],[60,24,77,24],[60,25,61,38],[60,41,61,54],[62,0,62,4],[62,7,62,11],[62,12,62,16],[62,19,62,23],[62,25,62,29],[62,41,62,45],[63,0,63,4],[63,7,63,11],[63,12,63,16],[63,19,63,23],[63,25,63,29],[63,41,63,45],[64,0,64,4],[64,7,64,11],[64,12,64,16],[64,19,64,23],[64,25,64,29],[67,0,67,4],[67,7,67,11],[67,12,67,16],[67,19,67,23],[67,25,67,29],[67,41,67,45],[68,0,68,4],[68,7,68,11],[75,7,75,11],[75,12,75,16],[75,19,75,23],[75,29,77,38],[75,41,75,45],[75,46,75,48],[68,12,68,16],[68,19,68,23],[68,25,68,29],[68,41,68,45],[64,41,64,45],[65,0,65,4],[65,7,65,11],[65,12,65,16],[65,19,65,23],[65,25,65,29],[65,41,65,45],[66,0,66,4],[66,7,66,11],[66,12,66,16],[66,19,66,23],[66,25,66,29],[66,41,66,45],[69,35,71,36],[69,37,71,38],[70,0,70,4],[70,7,70,11],[70,12,70,16],[70,19,70,23],[70,41,70,45],[70,46,70,48],[70,49,70,51],[71,0,71,4],[71,7,71,11],[71,12,71,16],[71,19,71,23],[71,41,71,45],[71,46,71,48],[71,49,71,51],[69,0,69,4],[69,7,69,11],[69,12,69,16],[69,19,69,23],[69,25,71,26],[69,27,71,28],[69,29,71,30],[69,31,71,32],[69,33,71,34],[75,49,75,51],[76,0,76,4],[76,7,76,11],[76,12,76,16],[76,19,76,23],[77,0,77,4],[77,7,77,11],[77,12,77,16],[77,19,77,23],[72,0,72,4],[72,7,72,11],[72,12,72,16],[72,19,72,23],[72,29,74,38],[72,41,72,45],[72,46,72,48],[72,49,72,51],[73,0,73,4],[73,7,73,11],[73,12,73,16],[73,19,73,23],[73,41,73,45],[73,46,73,48],[73,49,73,51],[74,0,74,4],[74,7,74,11],[74,12,74,16],[74,19,74,23],[74,41,74,45],[74,46,74,48],[74,49,74,51],[75,0,75,4],[78,0,79,38],[80,0,81,8],[80,9,81,14],[80,15,81,23],[80,24,97,24],[80,25,81,38],[80,41,81,54],[82,0,82,4],[82,7,82,11],[82,12,82,16],[82,19,82,23],[82,25,82,29],[82,41,82,45],[83,0,83,4],[83,7,83,11],[83,12,83,16],[83,19,83,23],[83,25,83,29],[83,41,83,45],[84,0,84,4],[84,7,84,11],[84,12,84,16],[84,19,84,23],[84,25,84,29],[87,0,87,4],[87,7,87,11],[87,12,87,16],[87,19,87,23],[87,25,87,29],[87,41,87,45],[88,0,88,4],[88,7,88,11],[95,7,95,11],[95,12,95,16],[95,19,95,23],[95,29,97,38],[95,41,95,45],[95,46,95,48],[88,12,88,16],[88,19,88,23],[88,25,88,29],[88,41,88,45],[84,41,84,45],[85,0,85,4],[85,7,85,11],[85,12,85,16],[85,19,85,23],[85,25,85,29],[85,41,85,45],[86,0,86,4],[86,7,86,11],[86,12,86,16],[86,19,86,23],[86,25,86,29],[86,41,86,45],[89,35,91,36],[89,37,91,38],[90,0,90,4],[90,7,90,11],[90,12,90,16],[90,19,90,23],[90,41,90,45],[90,46,90,48],[90,49,90,51],[91,0,91,4],[91,7,91,11],[91,12,91,16],[91,19,91,23],[91,41,91,45],[91,46,91,48],[91,49,91,51],[89,0,89,4],[89,7,89,11],[89,12,89,16],[89,19,89,23],[89,25,91,26],[89,27,91,28],[89,29,91,30],[89,31,91,32],[89,33,91,34],[95,49,95,51],[96,0,96,4],[96,7,96,11],[96,12,96,16],[96,19,96,23],[97,0,97,4],[97,7,97,11],[97,12,97,16],[97,19,97,23],[92,0,92,4],[92,7,92,11],[92,12,92,16],[92,19,92,23],[92,29,94,38],[92,41,92,45],[92,46,92,48],[92,49,92,51],[93,0,93,4],[93,7,93,11],[93,12,93,16],[93,19,93,23],[93,41,93,45],[93,46,93,48],[93,49,93,51],[94,0,94,4],[94,7,94,11],[94,12,94,16],[94,19,94,23],[94,41,94,45],[94,46,94,48],[94,49,94,51],[95,0,95,4],[98,0,99,38],[100,0,101,8],[100,9,101,14],[100,15,101,23],[100,24,117,24],[100,25,101,38],[100,41,101,54],[102,0,102,4],[102,7,102,11],[102,12,102,16],[102,19,102,23],[102,25,102,29],[102,41,102,45],[103,0,103,4],[103,7,103,11],[103,12,103,16],[103,19,103,23],[103,25,103,29],[103,41,103,45],[104,0,104,4],[104,7,104,11],[104,12,104,16],[104,19,104,23],[104,25,104,29],[107,0,107,4],[107,7,107,11],[107,12,107,16],[107,19,107,23],[107,25,107,29],[107,41,107,45],[108,0,108,4],[108,7,108,11],[108,12,108,16],[108,19,108,23],[108,25,108,29],[108,41,108,45],[104,41,104,45],[105,0,105,4],[105,7,105,11],[105,12,105,16],[105,19,105,23],[105,25,105,29],[105,41,105,45],[106,0,106,4],[106,7,106,11],[106,12,106,16],[106,19,106,23],[106,25,106,29],[106,41,106,45],[114,12,114,16],[114,19,114,23],[114,41,114,45],[114,46,114,48],[114,49,114,51],[115,0,115,4],[109,35,111,36],[109,37,111,38],[110,0,110,4],[110,7,110,11],[110,12,110,16],[110,19,110,23],[110,41,110,45],[110,46,110,48],[110,49,110,51],[111,0,111,4],[111,7,111,11],[111,12,111,16],[111,19,111,23],[111,41,111,45],[111,46,111,48],[111,49,111,51],[109,0,109,4],[109,7,109,11],[109,12,109,16],[109,19,109,23],[109,25,111,26],[109,27,111,28],[109,29,111,30],[109,31,111,32],[109,33,111,34],[115,7,115,11],[115,12,115,16],[115,19,115,23],[115,29,117,38],[115,41,115,45],[115,46,115,48],[115,49,115,51],[116,0,116,4],[116,7,116,11],[116,12,116,16],[116,19,116,23],[117,0,117,4],[117,7,117,11],[117,12,117,16],[117,19,117,23],[112,0,112,4],[112,7,112,11],[112,12,112,16],[112,19,112,23],[112,29,114,38],[112,41,112,45],[112,46,112,48],[112,49,112,51],[113,0,113,4],[113,7,113,11],[113,12,113,16],[113,19,113,23],[113,41,113,45],[113,46,113,48],[113,49,113,51],[114,0,114,4],[114,7,114,11],[112,25,114,28],[118,0,119,38],[120,0,121,8],[120,9,121,14],[120,15,121,23],[120,24,137,24],[120,25,121,38],[120,41,121,54],[122,0,122,4],[122,7,122,11],[122,12,122,16],[122,19,122,23],[122,25,122,29],[122,41,122,45],[123,0,123,4],[123,7,123,11],[123,12,123,16],[123,19,123,23],[123,25,123,29],[123,41,123,45],[124,0,124,4],[124,7,124,11],[124,12,124,16],[124,19,124,23],[124,25,124,29],[127,0,127,4],[127,7,127,11],[127,12,127,16],[127,19,127,23],[127,25,127,29],[127,41,127,45],[128,0,128,4],[128,7,128,11],[135,7,135,11],[135,12,135,16],[135,19,135,23],[135,29,137,38],[135,41,135,45],[135,46,135,48],[128,12,128,16],[128,19,128,23],[128,25,128,29],[128,41,128,45],[124,41,124,45],[125,0,125,4],[125,7,125,11],[125,12,125,16],[125,19,125,23],[125,25,125,29],[125,41,125,45],[126,0,126,4],[126,7,126,11],[126,12,126,16],[126,19,126,23],[126,25,126,29],[126,41,126,45],[129,35,131,36],[129,37,131,38],[130,0,130,4],[130,7,130,11],[130,12,130,16],[130,19,130,23],[130,41,130,45],[130,46,130,48],[130,49,130,51],[131,0,131,4],[131,7,131,11],[131,12,131,16],[131,19,131,23],[131,41,131,45],[131,46,131,48],[131,49,131,51],[129,0,129,4],[129,7,129,11],[129,12,129,16],[129,19,129,23],[129,25,131,26],[129,27,131,28],[129,29,131,30],[129,31,131,32],[129,33,131,34],[135,49,135,51],[136,0,136,4],[136,7,136,11],[136,12,136,16],[136,19,136,23],[137,0,137,4],[137,7,137,11],[137,12,137,16],[137,19,137,23],[132,0,132,4],[132,7,132,11],[132,12,132,16],[132,19,132,23],[132,29,134,38],[132,41,132,45],[132,46,132,48],[132,49,132,51],[133,0,133,4],[133,7,133,11],[133,12,133,16],[133,19,133,23],[133,41,133,45],[133,46,133,48],[133,49,133,51],[134,0,134,4],[134,7,134,11],[134,12,134,16],[134,19,134,23],[134,41,134,45],[134,46,134,48],[134,49,134,51],[135,0,135,4],[138,0,139,38],[140,0,141,8],[140,9,141,14],[140,15,141,23],[140,24,157,24],[140,25,141,38],[140,41,141,54],[142,0,142,4],[142,7,142,11],[142,12,142,16],[142,19,142,23],[142,25,142,29],[142,41,142,45],[143,0,143,4],[143,7,143,11],[143,12,143,16],[143,19,143,23],[143,25,143,29],[143,41,143,45],[144,0,144,4],[144,7,144,11],[144,12,144,16],[144,19,144,23],[144,25,144,29],[147,0,147,4],[147,7,147,11],[147,12,147,16],[147,19,147,23],[147,25,147,29],[147,41,147,45],[148,0,148,4],[148,7,148,11],[155,7,155,11],[155,12,155,16],[155,19,155,23],[155,29,157,38],[155,41,155,45],[155,46,155,48],[148,12,148,16],[148,19,148,23],[148,25,148,29],[148,41,148,45],[144,41,144,45],[145,0,145,4],[145,7,145,11],[145,12,145,16],[145,19,145,23],[145,25,145,29],[145,41,145,45],[146,0,146,4],[146,7,146,11],[146,12,146,16],[146,19,146,23],[146,25,146,29],[146,41,146,45],[149,35,151,36],[149,37,151,38],[150,0,150,4],[150,7,150,11],[150,12,150,16],[150,19,150,23],[150,41,150,45],[150,46,150,48],[150,49,150,51],[151,0,151,4],[151,7,151,11],[151,12,151,16],[151,19,151,23],[151,41,151,45],[151,46,151,48],[151,49,151,51],[149,0,149,4],[149,7,149,11],[149,12,149,16],[149,19,149,23],[149,25,151,26],[149,27,151,28],[149,29,151,30],[149,31,151,32],[149,33,151,34],[155,49,155,51],[156,0,156,4],[156,7,156,11],[156,12,156,16],[156,19,156,23],[157,0,157,4],[157,7,157,11],[157,12,157,16],[157,19,157,23],[152,0,152,4],[152,7,152,11],[152,12,152,16],[152,19,152,23],[152,29,154,38],[152,41,152,45],[152,46,152,48],[152,49,152,51],[153,0,153,4],[153,7,153,11],[153,12,153,16],[153,19,153,23],[153,41,153,45],[153,46,153,48],[153,49,153,51],[154,0,154,4],[154,7,154,11],[154,12,154,16],[154,19,154,23],[154,41,154,45],[154,46,154,48],[154,49,154,51],[155,0,155,4],[158,0,159,38],[160,0,161,8],[160,9,161,14],[160,15,161,23],[160,24,177,24],[160,25,161,38],[160,41,161,54],[162,0,162,4],[162,7,162,11],[162,12,162,16],[162,19,162,23],[162,25,162,29],[162,41,162,45],[163,0,163,4],[163,7,163,11],[163,12,163,16],[163,19,163,23],[163,25,163,29],[163,41,163,45],[164,0,164,4],[164,7,164,11],[164,12,164,16],[164,19,164,23],[164,25,164,29],[169,33,171,34],[167,0,167,4],[167,7,167,11],[167,12,167,16],[167,19,167,23],[167,25,167,29],[167,41,167,45],[168,0,168,4],[168,7,168,11],[168,12,168,16],[168,19,168,23],[168,25,168,29],[168,41,168,45],[164,41,164,45],[165,0,165,4],[165,7,165,11]],"merged_total":1152,"flags":["merged_cut"]}
["MATCHS  ALLER",null,null,null,null,null,null,null,null,"GROUPE  A",null,null,null,null,null,"MATCHS  RETOUR",null,null,null,null,null,null,null,null,"GROUPE  A","CLASSEMENT",null,null,null,null,null,null,null,null,null,null,null,null,null,null,null,"CLASSEMENT"]
[]
["Équipes",null,null,null,null,"Bts","Bts","Équipes",null,null,null,null,"Équipes",null,null,null,null,"Bts","Bts","Équipes",null,null,null,null,null,"Équipes",null,null,null,null,"R","Pts","J","G","N","P","B +","B -","Diff",null,null,"Équipes",null,null,null,null,"R","Pts","J","G","N","P","B +","B -","Diff",null,null,"pts","pts","pts","pts","t pts","t pts","j","j","j","j","g","g","g","g","n","n","n","n","p","p","p","p","b+","b+","b+","b+","b+","b+","b-","b-","b-","b-","b-","b-",{"$f":"AP4","v":"FRANCE"},{"$f":"AP5","v":"SUÈDE"},{"$f":"AP6","v":"BULGARIE"},{"$f":"AP7","v":"PAYS-BAS"},{"$f":"AP8","v":"BIELORUSSIE"},{"$f":"AP9","v":"LUXEMBOURG"},null,{"$f":"CN3","v":"FRANCE"},{"$f":"CO3","v":"SUÈDE"},"BULGARIE","PAYS-BAS","BIELORUSSIE","LUXEMBOURG",{"$f":"CN3","v":"FRANCE"},{"$f":"CO3","v":"SUÈDE"},"BULGARIE","PAYS-BAS","BIELORUSSIE","LUXEMBOURG",{"$f":"CN3","v":"FRANCE"},{"$f":"CO3","v":"SUÈDE"},"BULGARIE","PAYS-BAS","BIELORUSSIE","LUXEMBOURG",{"$f":"CN3","v":"FRANCE"},{"$f":"CO3","v":"SUÈDE"},"BULGARIE","PAYS-BAS","BIELORUSSIE","LUXEMBOURG",{"$f":"CN3","v":"FRANCE"},{"$f":"CO3","v":"SUÈDE"},"BULGARIE","PAYS-BAS","BIELORUSSIE","LUXEMBOURG"]
[{"$f":"AP4","v":"FRANCE"},null,null,null,null,2,1,{"$f":"AP5","v":"SUÈDE"},null,null,null,null,{"$f":"H4","v":"SUÈDE"},null,null,null,null,2,1,{"$f":"A4","v":"FRANCE"},null,null,null,null,null,{"$f":"VLOOKUP(AN11,AO11:AT16,2,0)","v":"FRANCE"},null,null,null,null,1,{"$f":"VLOOKUP(Z4,AP4:BC9,7,0)","v":23},{"$f":"VLOOKUP(Z4,AP4:BC9,8,0)","v":10},{"$f":"VLOOKUP(Z4,AP4:BC9,9,0)","v":7},{"$f":"VLOOKUP(Z4,AP4:BC9,10,0)","v":2},{"$f":"VLOOKUP(Z4,AP4:BC9,11,0)","v":1},{"$f":"VLOOKUP(Z4,AP4:BC9,12,0)","v":18},{"$f":"VLOOKUP(Z4,AP4:BC9,13,0)","v":6},{"$f":"VLOOKUP(Z4,AP4:BC9,14,0)","v":12},null,null,"FRANCE",null,null,null,null,{"$f":"RANK(AV4,AV4:AV9)","v":1},{"$f":"SUMPRODUCT((A4:E18=AP4)*(BF4:BF18))+SUMPRODUCT((H4:L18=AP4)*(BG4:BG18))+SUMPRODUCT((M4:Q18=AP4)*(BH4:BH18))+SUMPRODUCT((T4:X18=AP4)*(BI4:BI18))","v":23},{"$f":"SUMPRODUCT((A4:E18=AP4)*(BL4:BL18))+SUMPRODUCT((H4:L18=AP4)*(BM4:BM18))+SUMPRODUCT((M4:Q18=AP4)*(BN4:BN18))+SUMPRODUCT((T4:X18=AP4)*(BO4:BO18))","v":10},{"$f":"SUMPRODUCT((A4:E18=AP4)*(BP4:BP18))+SUMPRODUCT((H4:L18=AP4)*(BQ4:BQ18))+SUMPRODUCT((M4:Q18=AP4)*(BR4:BR18))+SUMPRODUCT((T4:X18=AP4)*(BS4:BS18))","v":7},{"$f":"SUMPRODUCT((A4:E18=AP4)*(BT4:BT18))+SUMPRODUCT((H4:L18=AP4)*(BU4:BU18))+SUMPRODUCT((M4:Q18=AP4)*(BV4:BV18))+SUMPRODUCT((T4:X18=AP4)*(BW4:BW18))","v":2},{"$f":"SUMPRODUCT((A4:E18=AP4)*(BX4:BX18))+SUMPRODUCT((H4:L18=AP4)*(BY4:BY18))+SUMPRODUCT((M4:Q18=AP4)*(BZ4:BZ18))+SUMPRODUCT((T4:X18=AP4)*(CA4:CA18))","v":1},{"$f":"SUMPRODUCT((A4:E18=AP4)*(CB4:CB18))+SUMPRODUCT((H4:L18=AP4)*(CC4:CC18))+SUMPRODUCT((M4:Q18=AP4)*(CD4:CD18))+SUMPRODUCT((T4:X18=AP4)*(CE4:CE18))","v":18},{"$f":"SUMPRODUCT((A4:E18=AP4)*(CH4:CH18))+SUMPRODUCT((H4:L18=AP4)*(CI4:CI18))+SUMPRODUCT((M4:Q18=AP4)*(CJ4:CJ18))+SUMPRODUCT((T4:X18=AP4)*(CK4:CK18))","v":6},{"$f":"BA4-BB4","v":12},null,null,{"$f":"IF(F4=\"\",0,IF(F4>G4,3,IF(F4=G4,1,IF(F4<G4,0))))","v":3},{"$f":"IF(G4=\"\",0,IF(G4>F4,3,IF(G4=F4,1,IF(G4<F4,0))))","v":0},{"$f":"IF(R4=\"\",0,IF(R4>S4,3,IF(R4=S4,1,IF(R4<S4,0))))","v":3},{"$f":"IF(S4=\"\",0,IF(S4>R4,3,IF(S4=R4,1,IF(S4<R4,0))))","v":0},{"$f":"BF4+BI4","v":3},{"$f":"BG4+BH4","v":3},{"$f":"IF(F4=\"\",0,1)","v":1},{"$f":"IF(G4=\"\",0,1)","v":1},{"$f":"IF(R4=\"\",0,1)","v":1},{"$f":"IF(S4=\"\",0,1)","v":1},{"$f":"IF(F4<>\"\",IF(F4>G4,1))","v":1},{"$f":"IF(G4<>\"\",IF(G4>F4,1))","v":false},{"$f":"IF(R4<>\"\",IF(R4>S4,1))","v":1},{"$f":"IF(S4<>\"\",IF(S4>R4,1))","v":false},{"$f":"IF(F4<>\"\",IF(F4=G4,1))","v":false},{"$f":"IF(G4<>\"\",IF(G4=F4,1))","v":false},{"$f":"IF(R4<>\"\",IF(R4=S4,1))","v":false},{"$f":"IF(S4<>\"\",IF(S4=R4,1))","v":false},{"$f":"IF(F4<>\"\",IF(F4<G4,1))","v":false},{"$f":"IF(G4<>\"\",IF(G4<F4,1))","v":1},{"$f":"IF(R4<>\"\",IF(R4<S4,1))","v":false},{"$f":"IF(S4<>\"\",IF(S4<R4,1))","v":1},{"$f":"F4","v":2},{"$f":"G4","v":1},{"$f":"R4","v":2},{"$f":"S4","v":1},{"$f":"CB4+CE4","v":3},{"$f":"CC4+CD4","v":3},{"$f":"G4","v":1},{"$f":"F4","v":2},{"$f":"S4","v":1},{"$f":"R4","v":2},{"$f":"CH4+CK4","v":3},{"$f":"CI4+CJ4","v":3},{"$f":"IF(AU4=1,1000000)","v":1000000},{"$f":"IF(AU5=1,1000000)","v":false},{"$f":"IF(AU6=1,1000000)","v":false},{"$f":"IF(AU7=1,1000000)","v":false},{"$f":"IF(AU8=1,1000000)","v":false},{"$f":"IF(AU9=1,1000000)","v":false},null,{"$f":"IF(AU4=2,800000)","v":false},{"$f":"IF(AU5=2,800000)","v":800000},{"$f":"IF(AU6=2,800000)","v":false},{"$f":"IF(AU7=2,800000)","v":800000},{"$f":"IF(AU8=2,800000)","v":false},{"$f":"IF(AU9=2,800000)","v":false},{"$f":"IF(AU4=3,600000)","v":false},{"$f":"IF(AU5=3,600000)","v":false},{"$f":"IF(AU6=3,600000)","v":false},{"$f":"IF(AU7=3,600000)","v":false},{"$f":"IF(AU8=3,600000)","v":false},{"$f":"IF(AU9=3,600000)","v":false},{"$f":"IF(AU4=4,400000)","v":false},{"$f":"IF(AU5=4,400000)","v":false},{"$f":"IF(AU6=4,400000)","v":400000},{"$f":"IF(AU7=4,400000)","v":false},{"$f":"IF(AU8=4,400000)","v":false},{"$f":"IF(AU9=4,400000)","v":false},{"$f":"IF(AU4=5,200000)","v":false},{"$f":"IF(AU5=5,200000)","v":false},{"$f":"IF(AU6=5,200000)","v":false},{"$f":"IF(AU7=5,200000)","v":false},{"$f":"IF(AU8=5,200000)","v":false},{"$f":"IF(AU9=5,200000)","v":200000},{"$f":"IF(AU4=6,100000)","v":false},{"$f":"IF(AU5=6,100000)","v":false},{"$f":"IF(AU6=6,100000)","v":false},{"$f":"IF(AU7=6,100000)","v":false},{"$f":"IF(AU8=6,100000)","v":100000},{"$f":"IF(AU9=6,100000)","v":false}]
[{"$f":"AP4","v":"FRANCE"},null,null,null,null,4,1,{"$f":"AP6","v":"BULGARIE"},null,null,null,null,{"$f":"H5","v":"BULGARIE"},null,null,null,null,0,1,{"$f":"A5","v":"FRANCE"},null,null,null,null,null,{"$f":"VLOOKUP(AN12,AO11:AT16,2,0)","v":"SUÈDE"},null,null,null,null,{"$f":"IF(CT13=CT12,CW12,CW13)","v":2},{"$f":"VLOOKUP(Z5,AP4:BC9,7,0)","v":19},{"$f":"VLOOKUP(Z5,AP4:BC9,8,0)","v":10},{"$f":"VLOOKUP(Z5,AP4:BC9,9,0)","v":6},{"$f":"VLOOKUP(Z5,AP4:BC9,10,0)","v":1},{"$f":"VLOOKUP(Z5,AP4:BC9,11,0)","v":3},{"$f":"VLOOKUP(Z5,AP4:BC9,12,0)","v":26},{"$f":"VLOOKUP(Z5,AP4:BC9,13,0)","v":9},{"$f":"VLOOKUP(Z5,AP4:BC9,14,0)","v":17},null,null,"SUÈDE",null,null,null,null,{"$f":"RANK(AV5,AV4:AV9)","v":2},{"$f":"SUMPRODUCT((A4:E18=AP5)*(BF4:BF18))+SUMPRODUCT((H4:L18=AP5)*(BG4:BG18))+SUMPRODUCT((M4:Q18=AP5)*(BH4:BH18))+SUMPRODUCT((T4:X18=AP5)*(BI4:BI18))","v":19},{"$f":"SUMPRODUCT((A4:E18=AP5)*(BL4:BL18))+SUMPRODUCT((H4:L18=AP5)*(BM4:BM18))+SUMPRODUCT((M4:Q18=AP5)*(BN4:BN18))+SUMPRODUCT((T4:X18=AP5)*(BO4:BO18))","v":10},{"$f":"SUMPRODUCT((A4:E18=AP5)*(BP4:BP18))+SUMPRODUCT((H4:L18=AP5)*(BQ4:BQ18))+SUMPRODUCT((M4:Q18=AP5)*(BR4:BR18))+SUMPRODUCT((T4:X18=AP5)*(BS4:BS18))","v":6},{"$f":"SUMPRODUCT((A4:E18=AP5)*(BT4:BT18))+SUMPRODUCT((H4:L18=AP5)*(BU4:BU18))+SUMPRODUCT((M4:Q18=AP5)*(BV4:BV18))+SUMPRODUCT((T4:X18=AP5)*(BW4:BW18))","v":1},{"$f":"SUMPRODUCT((A4:E18=AP5)*(BX4:BX18))+SUMPRODUCT((H4:L18=AP5)*(BY4:BY18))+SUMPRODUCT((M4:Q18=AP5)*(BZ4:BZ18))+SUMPRODUCT((T4:X18=AP5)*(CA4:CA18))","v":3},{"$f":"SUMPRODUCT((A4:E18=AP5)*(CB4:CB18))+SUMPRODUCT((H4:L18=AP5)*(CC4:CC18))+SUMPRODUCT((M4:Q18=AP5)*(CD4:CD18))+SUMPRODUCT((T4:X18=AP5)*(CE4:CE18))","v":26},{"$f":"SUMPRODUCT((A4:E18=AP5)*(CH4:CH18))+SUMPRODUCT((H4:L18=AP5)*(CI4:CI18))+SUMPRODUCT((M4:Q18=AP5)*(CJ4:CJ18))+SUMPRODUCT((T4:X18=AP5)*(CK4:CK18))","v":9},{"$f":"BA5-BB5","v":17},null,null,{"$f":"IF(F5=\"\",0,IF(F5>G5,3,IF(F5=G5,1,IF(F5<G5,0))))","v":3},{"$f":"IF(G5=\"\",0,IF(G5>F5,3,IF(G5=F5,1,IF(G5<F5,0))))","v":0},{"$f":"IF(R5=\"\",0,IF(R5>S5,3,IF(R5=S5,1,IF(R5<S5,0))))","v":0},{"$f":"IF(S5=\"\",0,IF(S5>R5,3,IF(S5=R5,1,IF(S5<R5,0))))","v":3},{"$f":"BF5+BI5","v":6},{"$f":"BG5+BH5","v":0},{"$f":"IF(F5=\"\",0,1)","v":1},{"$f":"IF(G5=\"\",0,1)","v":1},{"$f":"IF(R5=\"\",0,1)","v":1},{"$f":"IF(S5=\"\",0,1)","v":1},{"$f":"IF(F5<>\"\",IF(F5>G5,1))","v":1},{"$f":"IF(G5<>\"\",IF(G5>F5,1))","v":false},{"$f":"IF(R5<>\"\",IF(R5>S5,1))","v":false},{"$f":"IF(S5<>\"\",IF(S5>R5,1))","v":1},{"$f":"IF(F5<>\"\",IF(F5=G5,1))","v":false},{"$f":"IF(G5<>\"\",IF(G5=F5,1))","v":false},{"$f":"IF(R5<>\"\",IF(R5=S5,1))","v":false},{"$f":"IF(S5<>\"\",IF(S5=R5,1))","v":false},{"$f":"IF(F5<>\"\",IF(F5<G5,1))","v":false},{"$f":"IF(G5<>\"\",IF(G5<F5,1))","v":1},{"$f":"IF(R5<>\"\",IF(R5<S5,1))","v":1},{"$f":"IF(S5<>\"\",IF(S5<R5,1))","v":false},{"$f":"F5","v":4},{"$f":"G5","v":1},{"$f":"R5","v":0},{"$f":"S5","v":1},{"$f":"CB5+CE5","v":5},{"$f":"CC5+CD5","v":1},{"$f":"G5","v":1},{"$f":"F5","v":4},{"$f":"S5","v":1},{"$f":"R5","v":0},{"$f":"CH5+CK5","v":1},{"$f":"CI5+CJ5","v":5},{"$f":"IF(AU4=1,IF(AU5=1,SUM(AV4*1000+(BC4)/10+(BA4)/100+(BJ4)/1000+((F4+S4)-(G4+R4))/10000+(F4+S4)/100000+(S4)/1000000)))","v":false},{"$f":"IF(AU5=1,IF(AU4=1,SUM(AV5*1000+(BC5)/10+(BA5)/100+(BK4)/1000+((G4+R4)-(F4+S4))/10000+(G4+R4)/100000+(G4)/1000000)))","v":false},{"$f":"IF(AU6=1,IF(AU4=1,SUM(AV6*1000+(BC6)/10+(BA6)/100+(BK5)/1000+((G5+R5)-(F5+S5))/10000+(G5+R5)/100000+(G5)/1000000)))","v":false},{"$f":"IF(AU7=1,IF(AU4=1,SUM(AV7*1000+(BC7)/10+(BA7)/100+(BK6)/1000+((G6+R6)-(F6+S6))/10000+(G6+R6)/100000+(G6)/1000000)))","v":false},{"$f":"IF(AU8=1,IF(AU4=1,SUM(AV8*1000+(BC8)/10+(BA8)/100+(BK7)/1000+((G7+R7)-(F7+S7))/10000+(G7+R7)/100000+(G7)/1000000)))","v":false},{"$f":"IF(AU9=1,IF(AU4=1,SUM(AV9*1000+(BC9)/10+(BA9)/100+(BK8)/1000+((G8+R8)-(F8+S8))/10000+(G8+R8)/100000+(G8)/1000000)))","v":false},null,{"$f":"IF(AU4=2,IF(AU5=2,SUM(AV4*1000+(BC4)/10+(BA4)/100+(BJ4)/1000+((F4+S4)-(G4+R4))/10000+(F4+S4)/100000+(S4)/1000000)))","v":false},{"$f":"IF(AU5=2,IF(AU4=2,SUM(AV5*1000+(BC5)/10+(BA5)/100+(BK4)/1000+((G4+R4)-(F4+S4))/10000+(G4+R4)/100000+(G4)/1000000)))","v":false},{"$f":"IF(AU6=2,IF(AU4=2,SUM(AV6*1000+(BC6)/10+(BA6)/100+(BK5)/1000+((G5+R5)-(F5+S5))/10000+(G5+R5)/100000+(G5)/1000000)))","v":false},{"$f":"IF(AU7=2,IF(AU4=2,SUM(AV7*1000+(BC7)/10+(BA7)/100+(BK6)/1000+((G6+R6)-(F6+S6))/10000+(G6+R6)/100000+(G6)/1000000)))","v":false},{"$f":"IF(AU8=2,IF(AU4=2,SUM(AV8*1000+(BC8)/10+(BA8)/100+(BK7)/1000+((G7+R7)-(F7+S7))/10000+(G7+R7)/100000+(G7)/1000000)))","v":false},{"$f":"IF(AU9=2,IF(AU4=2,SUM(AV9*1000+(BC9)/10+(BA9)/100+(BK8)/1000+((G8+R8)-(F8+S8))/10000+(G8+R8)/100000+(G8)/1000000)))","v":false},{"$f":"IF(AU4=3,IF(AU5=3,SUM(AV4*1000+(BC4)/10+(BA4)/100+(BJ4)/1000+((F4+S4)-(G4+R4))/10000+(F4+S4)/100000+(S4)/1000000)))","v":false},{"$f":"IF(AU5=3,IF(AU4=3,SUM(AV5*1000+(BC5)/10+(BA5)/100+(BK4)/1000+((G4+R4)-(F4+S4))/10000+(G4+R4)/100000+(G4)/1000000)))","v":false},{"$f":"IF(AU6=3,IF(AU4=3,SUM(AV6*1000+(BC6)/10+(BA6)/100+(BK5)/1000+((G5+R5)-(F5+S5))/10000+(G5+R5)/100000+(G5)/1000000)))","v":false},{"$f":"IF(AU7=3,IF(AU4=3,SUM(AV7*1000+(BC7)/10+(BA7)/100+(BK6)/1000+((G6+R6)-(F6+S6))/10000+(G6+R6)/100000+(G6)/1000000)))","v":false},{"$f":"IF(AU8=3,IF(AU4=3,SUM(AV8*1000+(BC8)/10+(BA8)/100+(BK7)/1000+((G7+R7)-(F7+S7))/10000+(G7+R7)/100000+(G7)/1000000)))","v":false},{"$f":"IF(AU9=3,IF(AU4=3,SUM(AV9*1000+(BC9)/10+(BA9)/100+(BK8)/1000+((G8+R8)-(F8+S8))/10000+(G8+R8)/100000+(G8)/1000000)))","v":false},{"$f":"IF(AU4=4,IF(AU5=4,SUM(AV4*1000+(BC4)/10+(BA4)/100+(BJ4)/1000+((F4+S4)-(G4+R4))/10000+(F4+S4)/100000+(S4)/1000000)))","v":false},{"$f":"IF(AU5=4,IF(AU4=4,SUM(AV5*1000+(BC5)/10+(BA5)/100+(BK4)/1000+((G4+R4)-(F4+S4))/10000+(G4+R4)/100000+(G4)/1000000)))","v":false},{"$f":"IF(AU6=4,IF(AU4=4,SUM(AV6*1000+(BC6)/10+(BA6)/100+(BK5)/1000+((G5+R5)-(F5+S5))/10000+(G5+R5)/100000+(G5)/1000000)))","v":false},{"$f":"IF(AU7=4,IF(AU4=4,SUM(AV7*1000+(BC7)/10+(BA7)/100+(BK6)/1000+((G6+R6)-(F6+S6))/10000+(G6+R6)/100000+(G6)/1000000)))","v":false},{"$f":"IF(AU8=4,IF(AU4=4,SUM(AV8*1000+(BC8)/10+(BA8)/100+(BK7)/1000+((G7+R7)-(F7+S7))/10000+(G7+R7)/100000+(G7)/1000000)))","v":false},{"$f":"IF(AU9=4,IF(AU4=4,SUM(AV9*1000+(BC9)/10+(BA9)/100+(BK8)/1000+((G8+R8)-(F8+S8))/10000+(G8+R8)/100000+(G8)/1000000)))","v":false},{"$f":"IF(AU4=5,IF(AU5=5,SUM(AV4*1000+(BC4)/10+(BA4)/100+(BJ4)/1000+((F4+S4)-(G4+R4))/10000+(F4+S4)/100000+(S4)/1000000)))","v":false},{"$f":"IF(AU5=5,IF(AU4=5,SUM(AV5*1000+(BC5)/10+(BA5)/100+(BK4)/1000+((G4+R4)-(F4+S4))/10000+(G4+R4)/100000+(G4)/1000000)))","v":false},{"$f":"IF(AU6=5,IF(AU4=5,SUM(AV6*1000+(BC6)/10+(BA6)/100+(BK5)/1000+((G5+R5)-(F5+S5))/10000+(G5+R5)/100000+(G5)/1000000)))","v":false},{"$f":"IF(AU7=5,IF(AU4=5,SUM(AV7*1000+(BC7)/10+(BA7)/100+(BK6)/1000+((G6+R6)-(F6+S6))/10000+(G6+R6)/100000+(G6)/1000000)))","v":false},{"$f":"IF(AU8=5,IF(AU4=5,SUM(AV8*1000+(BC8)/10+(BA8)/100+(BK7)/1000+((G7+R7)-(F7+S7))/10000+(G7+R7)/100000+(G7)/1000000)))","v":false},{"$f":"IF(AU9=5,IF(AU4=5,SUM(AV9*1000+(BC9)/10+(BA9)/100+(BK8)/1000+((G8+R8)-(F8+S8))/10000+(G8+R8)/100000+(G8)/1000000)))","v":false},{"$f":"IF(AU4=6,IF(AU5=6,SUM(AV4*1000+(BC4)/10+(BA4)/100+(BJ4)/1000+((F4+S4)-(G4+R4))/10000+(F4+S4)/100000+(S4)/1000000)))","v":false},{"$f":"IF(AU5=6,IF(AU4=6,SUM(AV5*1000+(BC5)/10+(BA5)/100+(BK4)/1000+((G4+R4)-(F4+S4))/10000+(G4+R4)/100000+(G4)/1000000)))","v":false},{"$f":"IF(AU6=6,IF(AU4=6,SUM(AV6*1000+(BC6)/10+(BA6)/100+(BK5)/1000+((G5+R5)-(F5+S5))/10000+(G5+R5)/100000+(G5)/1000000)))","v":false},{"$f":"IF(AU7=6,IF(AU4=6,SUM(AV7*1000+(BC7)/10+(BA7)/100+(BK6)/1000+((G6+R6)-(F6+S6))/10000+(G6+R6)/100000+(G6)/1000000)))","v":false},{"$f":"IF(AU8=6,IF(AU4=6,SUM(AV8*1000+(BC8)/10+(BA8)/100+(BK7)/1000+((G7+R7)-(F7+S7))/10000+(G7+R7)/100000+(G7)/1000000)))","v":false},{"$f":"IF(AU9=6,IF(AU4=6,SUM(AV9*1000+(BC9)/10+(BA9)/100+(BK8)/1000+((G8+R8)-(F8+S8))/10000+(G8+R8)/100000+(G8)/1000000)))","v":false}]
[{"$f":"AP4","v":"FRANCE"},null,null,null,null,4,0,{"$f":"AP7","v":"PAYS-BAS"},null,null,null,null,"PAYS-BAS",null,null,null,null,0,1,"FRANCE",null,null,null,null,null,{"$f":"VLOOKUP(AN13,AO11:AT16,2,0)","v":"PAYS-BAS"},null,null,null,null,{"$f":"IF(CT14=CT13,CW13,CW14)","v":3},{"$f":"VLOOKUP(Z6,AP4:BC9,7,0)","v":19},{"$f":"VLOOKUP(Z6,AP4:BC9,8,0)","v":10},{"$f":"VLOOKUP(Z6,AP4:BC9,9,0)","v":6},{"$f":"VLOOKUP(Z6,AP4:BC9,10,0)","v":1},{"$f":"VLOOKUP(Z6,AP4:BC9,11,0)","v":3},{"$f":"VLOOKUP(Z6,AP4:BC9,12,0)","v":21},{"$f":"VLOOKUP(Z6,AP4:BC9,13,0)","v":12},{"$f":"VLOOKUP(Z6,AP4:BC9,14,0)","v":9},null,null,"BULGARIE",null,null,null,null,{"$f":"RANK(AV6,AV4:AV9)","v":4},{"$f":"SUMPRODUCT((A4:E18=AP6)*(BF4:BF18))+SUMPRODUCT((H4:L18=AP6)*(BG4:BG18))+SUMPRODUCT((M4:Q18=AP6)*(BH4:BH18))+SUMPRODUCT((T4:X18=AP6)*(BI4:BI18))","v":13},{"$f":"SUMPRODUCT((A4:E18=AP6)*(BL4:BL18))+SUMPRODUCT((H4:L18=AP6)*(BM4:BM18))+SUMPRODUCT((M4:Q18=AP6)*(BN4:BN18))+SUMPRODUCT((T4:X18=AP6)*(BO4:BO18))","v":10},{"$f":"SUMPRODUCT((A4:E18=AP6)*(BP4:BP18))+SUMPRODUCT((H4:L18=AP6)*(BQ4:BQ18))+SUMPRODUCT((M4:Q18=AP6)*(BR4:BR18))+SUMPRODUCT((T4:X18=AP6)*(BS4:BS18))","v":4},{"$f":"SUMPRODUCT((A4:E18=AP6)*(BT4:BT18))+SUMPRODUCT((H4:L18=AP6)*(BU4:BU18))+SUMPRODUCT((M4:Q18=AP6)*(BV4:BV18))+SUMPRODUCT((T4:X18=AP6)*(BW4:BW18))","v":1},{"$f":"SUMPRODUCT((A4:E18=AP6)*(BX4:BX18))+SUMPRODUCT((H4:L18=AP6)*(BY4:BY18))+SUMPRODUCT((M4:Q18=AP6)*(BZ4:BZ18))+SUMPRODUCT((T4:X18=AP6)*(CA4:CA18))","v":5},{"$f":"SUMPRODUCT((A4:E18=AP6)*(CB4:CB18))+SUMPRODUCT((H4:L18=AP6)*(CC4:CC18))+SUMPRODUCT((M4:Q18=AP6)*(CD4:CD18))+SUMPRODUCT((T4:X18=AP6)*(CE4:CE18))","v":14},{"$f":"SUMPRODUCT((A4:E18=AP6)*(CH4:CH18))+SUMPRODUCT((H4:L18=AP6)*(CI4:CI18))+SUMPRODUCT((M4:Q18=AP6)*(CJ4:CJ18))+SUMPRODUCT((T4:X18=AP6)*(CK4:CK18))","v":19},-5,null,null,3,0,0,3,6,0,1,1,1,1,1,false,false,1,false,false,false,false,false,1,1,false,4,0,0,1,5,0,0,4,1,0,0,5,{"$f":"IF(AU4=1,IF(AU6=1,SUM(AV4*1000+(BC4)/10+(BA4)/100+(BJ5)/1000+((F5+S5)-(G5+R5))/10000+(F5+S5)/100000+(S5)/1000000)))","v":false},{"$f":"IF(AU5=1,IF(AU6=1,SUM(AV5*1000+(BC5)/10+(BA5)/100+(BJ9)/1000+((F9+S9)-(G9+R9))/10000+(F9+S9)/100000+(S9)/1000000)))","v":false},{"$f":"IF(AU6=1,IF(AU5=1,SUM(AV6*1000+(BC6)/10+(BA6)/100+(BK9)/1000+((G9+R9)-(F9+S9))/10000+(G9+R9)/1000000+(G9)/1000000)))","v":false},{"$f":"IF(AU7=1,IF(AU5=1,SUM(AV7*1000+(BC7)/10+(BA7)/100+(BK10)/1000+((G10+R10)-(F10+S10))/10000+(G10+R10)/100000+(G10)/1000000)))","v":false},{"$f":"IF(AU8=1,IF(AU5=1,SUM(AV8*1000+(BC8)/10+(BA8)/100+(BK11)/1000+((G11+R11)-(F11+S11))/10000+(G11+R11)/100000+(G11)/1000000)))","v":false},{"$f":"IF(AU9=1,IF(AU5=1,SUM(AV9*1000+(BC9)/10+(BA9)/100+(BK12)/1000+((G12+R12)-(F12+S12))/10000+(G12+R12)/100000+(G12)/1000000)))","v":false},null,{"$f":"IF(AU4=2,IF(AU6=2,SUM(AV4*1000+(BC4)/10+(BA4)/100+(BJ5)/1000+((F5+S5)-(G5+R5))/10000+(F5+S5)/100000+(S5)/1000000)))","v":false},{"$f":"IF(AU5=2,IF(AU6=2,SUM(AV5*1000+(BC5)/10+(BA5)/100+(BJ9)/1000+((F9+S9)-(G9+R9))/10000+(F9+S9)/100000+(S9)/1000000)))","v":false},{"$f":"IF(AU6=2,IF(AU5=2,SUM(AV6*1000+(BC6)/10+(BA6)/100+(BK9)/1000+((G9+R9)-(F9+S9))/10000+(G9+R9)/1000000+(G9)/1000000)))","v":false},{"$f":"IF(AU7=2,IF(AU5=2,SUM(AV7*1000+(BC7)/10+(BA7)/100+(BK10)/1000+((G10+R10)-(F10+S10))/10000+(G10+R10)/100000+(G10)/1000000)))","v":19001.114231},{"$f":"IF(AU8=2,IF(AU5=2,SUM(AV8*1000+(BC8)/10+(BA8)/100+(BK11)/1000+((G11+R11)-(F11+S11))/10000+(G11+R11)/100000+(G11)/1000000)))","v":false},{"$f":"IF(AU9=2,IF(AU5=2,SUM(AV9*1000+(BC9)/10+(BA9)/100+(BK12)/1000+((G12+R12)-(F12+S12))/10000+(G12+R12)/100000+(G12)/1000000)))","v":false},{"$f":"IF(AU4=3,IF(AU6=3,SUM(AV4*1000+(BC4)/10+(BA4)/100+(BJ5)/1000+((F5+S5)-(G5+R5))/10000+(F5+S5)/100000+(S5)/1000000)))","v":false},{"$f":"IF(AU5=3,IF(AU6=3,SUM(AV5*1000+(BC5)/10+(BA5)/100+(BJ9)/1000+((F9+S9)-(G9+R9))/10000+(F9+S9)/100000+(S9)/1000000)))","v":false},{"$f":"IF(AU6=3,IF(AU5=3,SUM(AV6*1000+(BC6)/10+(BA6)/100+(BK9)/1000+((G9+R9)-(F9+S9))/10000+(G9+R9)/1000000+(G9)/1000000)))","v":false},{"$f":"IF(AU7=3,IF(AU5=3,SUM(AV7*1000+(BC7)/10+(BA7)/100+(BK10)/1000+((G10+R10)-(F10+S10))/10000+(G10+R10)/100000+(G10)/1000000)))","v":false},{"$f":"IF(AU8=3,IF(AU5=3,SUM(AV8*1000+(BC8)/10+(BA8)/100+(BK11)/1000+((G11+R11)-(F11+S11))/10000+(G11+R11)/100000+(G11)/1000000)))","v":false},{"$f":"IF(AU9=3,IF(AU5=3,SUM(AV9*1000+(BC9)/10+(BA9)/100+(BK12)/1000+((G12+R12)-(F12+S12))/10000+(G12+R12)/100000+(G12)/1000000)))","v":false},{"$f":"IF(AU4=4,IF(AU6=4,SUM(AV4*1000+(BC4)/10+(BA4)/100+(BJ5)/1000+((F5+S5)-(G5+R5))/10000+(F5+S5)/100000+(S5)/1000000)))","v":false},{"$f":"IF(AU5=4,IF(AU6=4,SUM(AV5*1000+(BC5)/10+(BA5)/100+(BJ9)/1000+((F9+S9)-(G9+R9))/10000+(F9+S9)/100000+(S9)/1000000)))","v":false},{"$f":"IF(AU6=4,IF(AU5=4,SUM(AV6*1000+(BC6)/10+(BA6)/100+(BK9)/1000+((G9+R9)-(F9+S9))/10000+(G9+R9)/1000000+(G9)/1000000)))","v":false},{"$f":"IF(AU7=4,IF(AU5=4,SUM(AV7*1000+(BC7)/10+(BA7)/100+(BK10)/1000+((G10+R10)-(F10+S10))/10000+(G10+R10)/100000+(G10)/1000000)))","v":false},{"$f":"IF(AU8=4,IF(AU5=4,SUM(AV8*1000+(BC8)/10+(BA8)/100+(BK11)/1000+((G11+R11)-(F11+S11))/10000+(G11+R11)/100000+(G11)/1000000)))","v":false},{"$f":"IF(AU9=4,IF(AU5=4,SUM(AV9*1000+(BC9)/10+(BA9)/100+(BK12)/1000+((G12+R12)-(F12+S12))/10000+(G12+R12)/100000+(G12)/1000000)))","v":false},{"$f":"IF(AU4=5,IF(AU6=5,SUM(AV4*1000+(BC4)/10+(BA4)/100+(BJ5)/1000+((F5+S5)-(G5+R5))/10000+(F5+S5)/100000+(S5)/1000000)))","v":false},{"$f":"IF(AU5=5,IF(AU6=5,SUM(AV5*1000+(BC5)/10+(BA5)/100+(BJ9)/1000+((F9+S9)-(G9+R9))/10000+(F9+S9)/100000+(S9)/1000000)))","v":false},{"$f":"IF(AU6=5,IF(AU5=5,SUM(AV6*1000+(BC6)/10+(BA6)/100+(BK9)/1000+((G9+R9)-(F9+S9))/10000+(G9+R9)/1000000+(G9)/1000000)))","v":false},{"$f":"IF(AU7=5,IF(AU5=5,SUM(AV7*1000+(BC7)/10+(BA7)/100+(BK10)/1000+((G10+R10)-(F10+S10))/10000+(G10+R10)/100000+(G10)/1000000)))","v":false},{"$f":"IF(AU8=5,IF(AU5=5,SUM(AV8*1000+(BC8)/10+(BA8)/100+(BK11)/1000+((G11+R11)-(F11+S11))/10000+(G11+R11)/100000+(G11)/1000000)))","v":false},{"$f":"IF(AU9=5,IF(AU5=5,SUM(AV9*1000+(BC9)/10+(BA9)/100+(BK12)/1000+((G12+R12)-(F12+S12))/10000+(G12+R12)/100000+(G12)/1000000)))","v":false},{"$f":"IF(AU4=6,IF(AU6=6,SUM(AV4*1000+(BC4)/10+(BA4)/100+(BJ5)/1000+((F5+S5)-(G5+R5))/10000+(F5+S5)/100000+(S5)/1000000)))","v":false},{"$f":"IF(AU5=6,IF(AU6=6,SUM(AV5*1000+(BC5)/10+(BA5)/100+(BJ9)/1000+((F9+S9)-(G9+R9))/10000+(F9+S9)/100000+(S9)/1000000)))","v":false},{"$f":"IF(AU6=6,IF(AU5=6,SUM(AV6*1000+(BC6)/10+(BA6)/100+(BK9)/1000+((G9+R9)-(F9+S9))/10000+(G9+R9)/1000000+(G9)/1000000)))","v":false},{"$f":"IF(AU7=6,IF(AU5=6,SUM(AV7*1000+(BC7)/10+(BA7)/100+(BK10)/1000+((G10+R10)-(F10+S10))/10000+(G10+R10)/100000+(G10)/1000000)))","v":false},{"$f":"IF(AU8=6,IF(AU5=6,SUM(AV8*1000+(BC8)/10+(BA8)/100+(BK11)/1000+((G11+R11)-(F11+S11))/10000+(G11+R11)/100000+(G11)/1000000)))","v":false},{"$f":"IF(AU9=6,IF(AU5=6,SUM(AV9*1000+(BC9)/10+(BA9)/100+(BK12)/1000+((G12+R12)-(F12+S12))/10000+(G12+R12)/100000+(G12)/1000000)))","v":false}]
[{"$f":"AP4","v":"FRANCE"},null,null,null,null,2,1,{"$f":"AP8","v":"BIELORUSSIE"},null,null,null,null,"BIELORUSSIE",null,null,null,null,0,0,"FRANCE",null,null,null,null,null,{"$f":"VLOOKUP(AN14,AO11:AT16,2,0)","v":"BULGARIE"},null,null,null,null,4,{"$f":"VLOOKUP(Z7,AP4:BC9,7,0)","v":13},{"$f":"VLOOKUP(Z7,AP4:BC9,8,0)","v":10},{"$f":"VLOOKUP(Z7,AP4:BC9,9,0)","v":4},{"$f":"VLOOKUP(Z7,AP4:BC9,10,0)","v":1},{"$f":"VLOOKUP(Z7,AP4:BC9,11,0)","v":5},{"$f":"VLOOKUP(Z7,AP4:BC9,12,0)","v":14},{"$f":"VLOOKUP(Z7,AP4:BC9,13,0)","v":19},{"$f":"VLOOKUP(Z7,AP4:BC9,14,0)","v":-5},null,null,"PAYS-BAS",null,null,null,null,{"$f":"RANK(AV7,AV4:AV9)","v":2},{"$f":"SUMPRODUCT((A4:E18=AP7)*(BF4:BF18))+SUMPRODUCT((H4:L18=AP7)*(BG4:BG18))+SUMPRODUCT((M4:Q18=AP7)*(BH4:BH18))+SUMPRODUCT((T4:X18=AP7)*(BI4:BI18))","v":19},{"$f":"SUMPRODUCT((A4:E18=AP7)*(BL4:BL18))+SUMPRODUCT((H4:L18=AP7)*(BM4:BM18))+SUMPRODUCT((M4:Q18=AP7)*(BN4:BN18))+SUMPRODUCT((T4:X18=AP7)*(BO4:BO18))","v":10},{"$f":"SUMPRODUCT((A4:E18=AP7)*(BP4:BP18))+SUMPRODUCT((H4:L18=AP7)*(BQ4:BQ18))+SUMPRODUCT((M4:Q18=AP7)*(BR4:BR18))+SUMPRODUCT((T4:X18=AP7)*(BS4:BS18))","v":6},{"$f":"SUMPRODUCT((A4:E18=AP7)*(BT4:BT18))+SUMPRODUCT((H4:L18=AP7)*(BU4:BU18))+SUMPRODUCT((M4:Q18=AP7)*(BV4:BV18))+SUMPRODUCT((T4:X18=AP7)*(BW4:BW18))","v":1},{"$f":"SUMPRODUCT((A4:E18=AP7)*(BX4:BX18))+SUMPRODUCT((H4:L18=AP7)*(BY4:BY18))+SUMPRODUCT((M4:Q18=AP7)*(BZ4:BZ18))+SUMPRODUCT((T4:X18=AP7)*(CA4:CA18))","v":3},{"$f":"SUMPRODUCT((A4:E18=AP7)*(CB4:CB18))+SUMPRODUCT((H4:L18=AP7)*(CC4:CC18))+SUMPRODUCT((M4:Q18=AP7)*(CD4:CD18))+SUMPRODUCT((T4:X18=AP7)*(CE4:CE18))","v":21},{"$f":"SUMPRODUCT((A4:E18=AP7)*(CH4:CH18))+SUMPRODUCT((H4:L18=AP7)*(CI4:CI18))+SUMPRODUCT((M4:Q18=AP7)*(CJ4:CJ18))+SUMPRODUCT((T4:X18=AP7)*(CK4:CK18))","v":12},9,null,null,3,0,1,1,4,1,1,1,1,1,1,false,false,false,false,false,1,1,false,1,false,false,2,1,0,0,2,1,1,2,0,0,1,2,{"$f":"IF(AU4=1,IF(AU7=1,SUM(AV4*1000+(BC4)/10+(BA4)/100+(BJ6)/1000+((F6+S6)-(G6+R6))/10000+(F6+S6)/100000+(S6)/1000000)))","v":false},{"$f":"IF(AU5=1,IF(AU7=1,SUM(AV5*1000+(BC5)/10+(BA5)/100+(BJ10)/1000+((F10+S10)-(G10+R10))/10000+(F10+S10)/100000+(S10)/1000000)))","v":false},{"$f":"IF(AU6=1,IF(AU7=1,SUM(AV6*1000+(BC6)/10+(BA6)/100+(BJ13)/1000+((F13+S13)-(G13+R13))/10000+(F13+S13)/100000+(S13)/1000000)))","v":false},{"$f":"IF(AU7=1,IF(AU6=1,SUM(AV7*1000+(BC7)/10+(BA7)/100+(BK13)/1000+((G13+R13)-(F13+S13))/10000+(G13+R13)/100000+(G13)/1000000)))","v":false},{"$f":"IF(AU8=1,IF(AU6=1,SUM(AV8*1000+(BC8)/10+(BA8)/100+(BK14)/1000+((G14+R14)-(F14+S14))/10000+(G14+R14)/100000+(G14)/1000000)))","v":false},{"$f":"IF(AU9=1,IF(AU6=1,SUM(AV9*1000+(BC9)/10+(BA9)/100+(BK15)/1000+((G15+R15)-(F15+S15))/10000+(G15+R15)/100000+(G15)/1000000)))","v":false},null,{"$f":"IF(AU4=2,IF(AU7=2,SUM(AV4*1000+(BC4)/10+(BA4)/100+(BJ6)/1000+((F6+S6)-(G6+R6))/10000+(F6+S6)/100000+(S6)/1000000)))","v":false},{"$f":"IF(AU5=2,IF(AU7=2,SUM(AV5*1000+(BC5)/10+(BA5)/100+(BJ10)/1000+((F10+S10)-(G10+R10))/10000+(F10+S10)/100000+(S10)/1000000)))","v":19001.96081},{"$f":"IF(AU6=2,IF(AU7=2,SUM(AV6*1000+(BC6)/10+(BA6)/100+(BJ13)/1000+((F13+S13)-(G13+R13))/10000+(F13+S13)/100000+(S13)/1000000)))","v":false},{"$f":"IF(AU7=2,IF(AU6=2,SUM(AV7*1000+(BC7)/10+(BA7)/100+(BK13)/1000+((G13+R13)-(F13+S13))/10000+(G13+R13)/100000+(G13)/1000000)))","v":false},{"$f":"IF(AU8=2,IF(AU6=2,SUM(AV8*1000+(BC8)/10+(BA8)/100+(BK14)/1000+((G14+R14)-(F14+S14))/10000+(G14+R14)/100000+(G14)/1000000)))","v":false},{"$f":"IF(AU9=2,IF(AU6=2,SUM(AV9*1000+(BC9)/10+(BA9)/100+(BK15)/1000+((G15+R15)-(F15+S15))/10000+(G15+R15)/100000+(G15)/1000000)))","v":false},{"$f":"IF(AU4=3,IF(AU7=3,SUM(AV4*1000+(BC4)/10+(BA4)/100+(BJ6)/1000+((F6+S6)-(G6+R6))/10000+(F6+S6)/100000+(S6)/1000000)))","v":false},{"$f":"IF(AU5=3,IF(AU7=3,SUM(AV5*1000+(BC5)/10+(BA5)/100+(BJ10)/1000+((F10+S10)-(G10+R10))/10000+(F10+S10)/100000+(S10)/1000000)))","v":false},{"$f":"IF(AU6=3,IF(AU7=3,SUM(AV6*1000+(BC6)/10+(BA6)/100+(BJ13)/1000+((F13+S13)-(G13+R13))/10000+(F13+S13)/100000+(S13)/1000000)))","v":false},{"$f":"IF(AU7=3,IF(AU6=3,SUM(AV7*1000+(BC7)/10+(BA7)/100+(BK13)/1000+((G13+R13)-(F13+S13))/10000+(G13+R13)/100000+(G13)/1000000)))","v":false},{"$f":"IF(AU8=3,IF(AU6=3,SUM(AV8*1000+(BC8)/10+(BA8)/100+(BK14)/1000+((G14+R14)-(F14+S14))/10000+(G14+R14)/100000+(G14)/1000000)))","v":false},{"$f":"IF(AU9=3,IF(AU6=3,SUM(AV9*1000+(BC9)/10+(BA9)/100+(BK15)/1000+((G15+R15)-(F15+S15))/10000+(G15+R15)/100000+(G15)/1000000)))","v":false},{"$f":"IF(AU4=4,IF(AU7=4,SUM(AV4*1000+(BC4)/10+(BA4)/100+(BJ6)/1000+((F6+S6)-(G6+R6))/10000+(F6+S6)/100000+(S6)/1000000)))","v":false},{"$f":"IF(AU5=4,IF(AU7=4,SUM(AV5*1000+(BC5)/10+(BA5)/100+(BJ10)/1000+((F10+S10)-(G10+R10))/10000+(F10+S10)/100000+(S10)/1000000)))","v":false},{"$f":"IF(AU6=4,IF(AU7=4,SUM(AV6*1000+(BC6)/10+(BA6)/100+(BJ13)/1000+((F13+S13)-(G13+R13))/10000+(F13+S13)/100000+(S13)/1000000)))","v":false},{"$f":"IF(AU7=4,IF(AU6=4,SUM(AV7*1000+(BC7)/10+(BA7)/100+(BK13)/1000+((G13+R13)-(F13+S13))/10000+(G13+R13)/100000+(G13)/1000000)))","v":false},{"$f":"IF(AU8=4,IF(AU6=4,SUM(AV8*1000+(BC8)/10+(BA8)/100+(BK14)/1000+((G14+R14)-(F14+S14))/10000+(G14+R14)/100000+(G14)/1000000)))","v":false},{"$f":"IF(AU9=4,IF(AU6=4,SUM(AV9*1000+(BC9)/10+(BA9)/100+(BK15)/1000+((G15+R15)-(F15+S15))/10000+(G15+R15)/100000+(G15)/1000000)))","v":false},{"$f":"IF(AU4=5,IF(AU7=5,SUM(AV4*1000+(BC4)/10+(BA4)/100+(BJ6)/1000+((F6+S6)-(G6+R6))/10000+(F6+S6)/100000+(S6)/1000000)))","v":false},{"$f":"IF(AU5=5,IF(AU7=5,SUM(AV5*1000+(BC5)/10+(BA5)/100+(BJ10)/1000+((F10+S10)-(G10+R10))/10000+(F10+S10)/100000+(S10)/1000000)))","v":false},{"$f":"IF(AU6=5,IF(AU7=5,SUM(AV6*1000+(BC6)/10+(BA6)/100+(BJ13)/1000+((F13+S13)-(G13+R13))/10000+(F13+S13)/100000+(S13)/1000000)))","v":false},{"$f":"IF(AU7=5,IF(AU6=5,SUM(AV7*1000+(BC7)/10+(BA7)/100+(BK13)/1000+((G13+R13)-(F13+S13))/10000+(G13+R13)/100000+(G13)/1000000)))","v":false},{"$f":"IF(AU8=5,IF(AU6=5,SUM(AV8*1000+(BC8)/10+(BA8)/100+(BK14)/1000+((G14+R14)-(F14+S14))/10000+(G14+R14)/100000+(G14)/1000000)))","v":false},{"$f":"IF(AU9=5,IF(AU6=5,SUM(AV9*1000+(BC9)/10+(BA9)/100+(BK15)/1000+((G15+R15)-(F15+S15))/10000+(G15+R15)/100000+(G15)/1000000)))","v":false},{"$f":"IF(AU4=6,IF(AU7=6,SUM(AV4*1000+(BC4)/10+(BA4)/100+(BJ6)/1000+((F6+S6)-(G6+R6))/10000+(F6+S6)/100000+(S6)/1000000)))","v":false},{"$f":"IF(AU5=6,IF(AU7=6,SUM(AV5*1000+(BC5)/10+(BA5)/100+(BJ10)/1000+((F10+S10)-(G10+R10))/10000+(F10+S10)/100000+(S10)/1000000)))","v":false},{"$f":"IF(AU6=6,IF(AU7=6,SUM(AV6*1000+(BC6)/10+(BA6)/100+(BJ13)/1000+((F13+S13)-(G13+R13))/10000+(F13+S13)/100000+(S13)/1000000)))","v":false},{"$f":"IF(AU7=6,IF(AU6=6,SUM(AV7*1000+(BC7)/10+(BA7)/100+(BK13)/1000+((G13+R13)-(F13+S13))/10000+(G13+R13)/100000+(G13)/1000000)))","v":false},{"$f":"IF(AU8=6,IF(AU6=6,SUM(AV8*1000+(BC8)/10+(BA8)/100+(BK14)/1000+((G14+R14)-(F14+S14))/10000+(G14+R14)/100000+(G14)/1000000)))","v":false},{"$f":"IF(AU9=6,IF(AU6=6,SUM(AV9*1000+(BC9)/10+(BA9)/100+(BK15)/1000+((G15+R15)-(F15+S15))/10000+(G15+R15)/100000+(G15)/1000000)))","v":false}]
[{"$f":"AP4","v":"FRANCE"},null,null,null,null,0,0,{"$f":"AP9","v":"LUXEMBOURG"},null,null,null,null,"LUXEMBOURG",null,null,null,null,1,3,"FRANCE",null,null,null,null,null,{"$f":"VLOOKUP(AN15,AO11:AT16,2,0)","v":"LUXEMBOURG"},null,null,null,null,5,{"$f":"VLOOKUP(Z8,AP4:BC9,7,0)","v":6},{"$f":"VLOOKUP(Z8,AP4:BC9,8,0)","v":10},{"$f":"VLOOKUP(Z8,AP4:BC9,9,0)","v":1},{"$f":"VLOOKUP(Z8,AP4:BC9,10,0)","v":3},{"$f":"VLOOKUP(Z8,AP4:BC9,11,0)","v":6},{"$f":"VLOOKUP(Z8,AP4:BC9,12,0)","v":8},{"$f":"VLOOKUP(Z8,AP4:BC9,13,0)","v":26},{"$f":"VLOOKUP(Z8,AP4:BC9,14,0)","v":-18},null,null,"BIELORUSSIE",null,null,null,null,{"$f":"RANK(AV8,AV4:AV9)","v":6},{"$f":"SUMPRODUCT((A4:E18=AP8)*(BF4:BF18))+SUMPRODUCT((H4:L18=AP8)*(BG4:BG18))+SUMPRODUCT((M4:Q18=AP8)*(BH4:BH18))+SUMPRODUCT((T4:X18=AP8)*(BI4:BI18))","v":5},{"$f":"SUMPRODUCT((A4:E18=AP8)*(BL4:BL18))+SUMPRODUCT((H4:L18=AP8)*(BM4:BM18))+SUMPRODUCT((M4:Q18=AP8)*(BN4:BN18))+SUMPRODUCT((T4:X18=AP8)*(BO4:BO18))","v":10},{"$f":"SUMPRODUCT((A4:E18=AP8)*(BP4:BP18))+SUMPRODUCT((H4:L18=AP8)*(BQ4:BQ18))+SUMPRODUCT((M4:Q18=AP8)*(BR4:BR18))+SUMPRODUCT((T4:X18=AP8)*(BS4:BS18))","v":1},{"$f":"SUMPRODUCT((A4:E18=AP8)*(BT4:BT18))+SUMPRODUCT((H4:L18=AP8)*(BU4:BU18))+SUMPRODUCT((M4:Q18=AP8)*(BV4:BV18))+SUMPRODUCT((T4:X18=AP8)*(BW4:BW18))","v":2},{"$f":"SUMPRODUCT((A4:E18=AP8)*(BX4:BX18))+SUMPRODUCT((H4:L18=AP8)*(BY4:BY18))+SUMPRODUCT((M4:Q18=AP8)*(BZ4:BZ18))+SUMPRODUCT((T4:X18=AP8)*(CA4:CA18))","v":7},{"$f":"SUMPRODUCT((A4:E18=AP8)*(CB4:CB18))+SUMPRODUCT((H4:L18=AP8)*(CC4:CC18))+SUMPRODUCT((M4:Q18=AP8)*(CD4:CD18))+SUMPRODUCT((T4:X18=AP8)*(CE4:CE18))","v":6},{"$f":"SUMPRODUCT((A4:E18=AP8)*(CH4:CH18))+SUMPRODUCT((H4:L18=AP8)*(CI4:CI18))+SUMPRODUCT((M4:Q18=AP8)*(CJ4:CJ18))+SUMPRODUCT((T4:X18=AP8)*(CK4:CK18))","v":21},-15,null,null,1,1,0,3,4,1,1,1,1,1,false,false,false,1,1,1,false,false,false,false,1,false,0,0,1,3,3,1,0,0,3,1,1,3,{"$f":"IF(AU4=1,IF(AU8=1,SUM(AV4*1000+(BC4)/10+(BA4)/100+(BJ7)/1000+((F7+S7)-(G7+R7))/10000+(F7+S7)/100000+(S7)/1000000)))","v":false},{"$f":"IF(AU5=1,IF(AU8=1,SUM(AV5*1000+(BC5)/10+(BA5)/100+(BJ11)/1000+((F11+S11)-(G11+R11))/10000+(F11+S11)/100000+(S11)/1000000)))","v":false},{"$f":"IF(AU6=1,IF(AU8=1,SUM(AV6*1000+(BC6)/10+(BA6)/100+(BJ14)/1000+((F14+S14)-(G14+R14))/10000+(F14+S14)/100000+(S14)/1000000)))","v":false},{"$f":"IF(AU7=1,IF(AU8=1,SUM(AV7*1000+(BC7)/10+(BA7)/100+(BJ16)/1000+((F16+S16)-(G16+R16))/10000+(F16+S16)/100000+(S16)/1000000)))","v":false},{"$f":"IF(AU8=1,IF(AU7=1,SUM(AV8*1000+(BC8)/10+(BA8)/100+(BK16)/1000+((G16+R16)-(F16+S16))/10000+(G16+R16)/100000+(G16)/1000000)))","v":false},{"$f":"IF(AU9=1,IF(AU7=1,SUM(AV9*1000+(BC9)/10+(BA9)/100+(BK17)/1000+((G17+R17)-(F17+S17))/10000+(G17+R17)/100000+(G17)/1000000)))","v":false},null,{"$f":"IF(AU4=2,IF(AU8=2,SUM(AV4*1000+(BC4)/10+(BA4)/100+(BJ7)/1000+((F7+S7)-(G7+R7))/10000+(F7+S7)/100000+(S7)/1000000)))","v":false},{"$f":"IF(AU5=2,IF(AU8=2,SUM(AV5*1000+(BC5)/10+(BA5)/100+(BJ11)/1000+((F11+S11)-(G11+R11))/10000+(F11+S11)/100000+(S11)/1000000)))","v":false},{"$f":"IF(AU6=2,IF(AU8=2,SUM(AV6*1000+(BC6)/10+(BA6)/100+(BJ14)/1000+((F14+S14)-(G14+R14))/10000+(F14+S14)/100000+(S14)/1000000)))","v":false},{"$f":"IF(AU7=2,IF(AU8=2,SUM(AV7*1000+(BC7)/10+(BA7)/100+(BJ16)/1000+((F16+S16)-(G16+R16))/10000+(F16+S16)/100000+(S16)/1000000)))","v":false},{"$f":"IF(AU8=2,IF(AU7=2,SUM(AV8*1000+(BC8)/10+(BA8)/100+(BK16)/1000+((G16+R16)-(F16+S16))/10000+(G16+R16)/100000+(G16)/1000000)))","v":false},{"$f":"IF(AU9=2,IF(AU7=2,SUM(AV9*1000+(BC9)/10+(BA9)/100+(BK17)/1000+((G17+R17)-(F17+S17))/10000+(G17+R17)/100000+(G17)/1000000)))","v":false},{"$f":"IF(AU4=3,IF(AU8=3,SUM(AV4*1000+(BC4)/10+(BA4)/100+(BJ7)/1000+((F7+S7)-(G7+R7))/10000+(F7+S7)/100000+(S7)/1000000)))","v":false},{"$f":"IF(AU5=3,IF(AU8=3,SUM(AV5*1000+(BC5)/10+(BA5)/100+(BJ11)/1000+((F11+S11)-(G11+R11))/10000+(F11+S11)/100000+(S11)/1000000)))","v":false},{"$f":"IF(AU6=3,IF(AU8=3,SUM(AV6*1000+(BC6)/10+(BA6)/100+(BJ14)/1000+((F14+S14)-(G14+R14))/10000+(F14+S14)/100000+(S14)/1000000)))","v":false},{"$f":"IF(AU7=3,IF(AU8=3,SUM(AV7*1000+(BC7)/10+(BA7)/100+(BJ16)/1000+((F16+S16)-(G16+R16))/10000+(F16+S16)/100000+(S16)/1000000)))","v":false},{"$f":"IF(AU8=3,IF(AU7=3,SUM(AV8*1000+(BC8)/10+(BA8)/100+(BK16)/1000+((G16+R16)-(F16+S16))/10000+(G16+R16)/100000+(G16)/1000000)))","v":false},{"$f":"IF(AU9=3,IF(AU7=3,SUM(AV9*1000+(BC9)/10+(BA9)/100+(BK17)/1000+((G17+R17)-(F17+S17))/10000+(G17+R17)/100000+(G17)/1000000)))","v":false},{"$f":"IF(AU4=4,IF(AU8=4,SUM(AV4*1000+(BC4)/10+(BA4)/100+(BJ7)/1000+((F7+S7)-(G7+R7))/10000+(F7+S7)/100000+(S7)/1000000)))","v":false},{"$f":"IF(AU5=4,IF(AU8=4,SUM(AV5*1000+(BC5)/10+(BA5)/100+(BJ11)/1000+((F11+S11)-(G11+R11))/10000+(F11+S11)/100000+(S11)/1000000)))","v":false},{"$f":"IF(AU6=4,IF(AU8=4,SUM(AV6*1000+(BC6)/10+(BA6)/100+(BJ14)/1000+((F14+S14)-(G14+R14))/10000+(F14+S14)/100000+(S14)/1000000)))","v":false},{"$f":"IF(AU7=4,IF(AU8=4,SUM(AV7*1000+(BC7)/10+(BA7)/100+(BJ16)/1000+((F16+S16)-(G16+R16))/10000+(F16+S16)/100000+(S16)/1000000)))","v":false},{"$f":"IF(AU8=4,IF(AU7=4,SUM(AV8*1000+(BC8)/10+(BA8)/100+(BK16)/1000+((G16+R16)-(F16+S16))/10000+(G16+R16)/100000+(G16)/1000000)))","v":false},{"$f":"IF(AU9=4,IF(AU7=4,SUM(AV9*1000+(BC9)/10+(BA9)/100+(BK17)/1000+((G17+R17)-(F17+S17))/10000+(G17+R17)/100000+(G17)/1000000)))","v":false},{"$f":"IF(AU4=5,IF(AU8=5,SUM(AV4*1000+(BC4)/10+(BA4)/100+(BJ7)/1000+((F7+S7)-(G7+R7))/10000+(F7+S7)/100000+(S7)/1000000)))","v":false},{"$f":"IF(AU5=5,IF(AU8=5,SUM(AV5*1000+(BC5)/10+(BA5)/100+(BJ11)/1000+((F11+S11)-(G11+R11))/10000+(F11+S11)/100000+(S11)/1000000)))","v":false},{"$f":"IF(AU6=5,IF(AU8=5,SUM(AV6*1000+(BC6)/10+(BA6)/100+(BJ14)/1000+((F14+S14)-(G14+R14))/10000+(F14+S14)/100000+(S14)/1000000)))","v":false},{"$f":"IF(AU7=5,IF(AU8=5,SUM(AV7*1000+(BC7)/10+(BA7)/100+(BJ16)/1000+((F16+S16)-(G16+R16))/10000+(F16+S16)/100000+(S16)/1000000)))","v":false},{"$f":"IF(AU8=5,IF(AU7=5,SUM(AV8*1000+(BC8)/10+(BA8)/100+(BK16)/1000+((G16+R16)-(F16+S16))/10000+(G16+R16)/100000+(G16)/1000000)))","v":false},{"$f":"IF(AU9=5,IF(AU7=5,SUM(AV9*1000+(BC9)/10+(BA9)/100+(BK17)/1000+((G17+R17)-(F17+S17))/10000+(G17+R17)/100000+(G17)/1000000)))","v":false},{"$f":"IF(AU4=6,IF(AU8=6,SUM(AV4*1000+(BC4)/10+(BA4)/100+(BJ7)/1000+((F7+S7)-(G7+R7))/10000+(F7+S7)/100000+(S7)/1000000)))","v":false},{"$f":"IF(AU5=6,IF(AU8=6,SUM(AV5*1000+(BC5)/10+(BA5)/100+(BJ11)/1000+((F11+S11)-(G11+R11))/10000+(F11+S11)/100000+(S11)/1000000)))","v":false},{"$f":"IF(AU6=6,IF(AU8=6,SUM(AV6*1000+(BC6)/10+(BA6)/100+(BJ14)/1000+((F14+S14)-(G14+R14))/10000+(F14+S14)/100000+(S14)/1000000)))","v":false},{"$f":"IF(AU7=6,IF(AU8=6,SUM(AV7*1000+(BC7)/10+(BA7)/100+(BJ16)/1000+((F16+S16)-(G16+R16))/10000+(F16+S16)/100000+(S16)/1000000)))","v":false},{"$f":"IF(AU8=6,IF(AU7=6,SUM(AV8*1000+(BC8)/10+(BA8)/100+(BK16)/1000+((G16+R16)-(F16+S16))/10000+(G16+R16)/100000+(G16)/1000000)))","v":false},{"$f":"IF(AU9=6,IF(AU7=6,SUM(AV9*1000+(BC9)/10+(BA9)/100+(BK17)/1000+((G17+R17)-(F17+S17))/10000+(G17+R17)/100000+(G17)/1000000)))","v":false}]
[{"$f":"AP5","v":"SUÈDE"},null,null,null,null,3,0,{"$f":"AP6","v":"BULGARIE"},null,null,null,null,"BULGARIE",null,null,null,null,3,2,"SUÈDE",null,null,null,null,null,{"$f":"VLOOKUP(AN16,AO11:AT16,2,0)","v":"BIELORUSSIE"},null,null,null,null,6,{"$f":"VLOOKUP(Z9,AP4:BC9,7,0)","v":5},{"$f":"VLOOKUP(Z9,AP4:BC9,8,0)","v":10},{"$f":"VLOOKUP(Z9,AP4:BC9,9,0)","v":1},{"$f":"VLOOKUP(Z9,AP4:BC9,10,0)","v":2},{"$f":"VLOOKUP(Z9,AP4:BC9,11,0)","v":7},{"$f":"VLOOKUP(Z9,AP4:BC9,12,0)","v":6},{"$f":"VLOOKUP(Z9,AP4:BC9,13,0)","v":21},{"$f":"VLOOKUP(Z9,AP4:BC9,14,0)","v":-15},null,null,"LUXEMBOURG",null,null,null,null,{"$f":"RANK(AV9,AV4:AV9)","v":5},{"$f":"SUMPRODUCT((A4:E18=AP9)*(BF4:BF18))+SUMPRODUCT((H4:L18=AP9)*(BG4:BG18))+SUMPRODUCT((M4:Q18=AP9)*(BH4:BH18))+SUMPRODUCT((T4:X18=AP9)*(BI4:BI18))","v":6},{"$f":"SUMPRODUCT((A4:E18=AP9)*(BL4:BL18))+SUMPRODUCT((H4:L18=AP9)*(BM4:BM18))+SUMPRODUCT((M4:Q18=AP9)*(BN4:BN18))+SUMPRODUCT((T4:X18=AP9)*(BO4:BO18))","v":10},{"$f":"SUMPRODUCT((A4:E18=AP9)*(BP4:BP18))+SUMPRODUCT((H4:L18=AP9)*(BQ4:BQ18))+SUMPRODUCT((M4:Q18=AP9)*(BR4:BR18))+SUMPRODUCT((T4:X18=AP9)*(BS4:BS18))","v":1},{"$f":"SUMPRODUCT((A4:E18=AP9)*(BT4:BT18))+SUMPRODUCT((H4:L18=AP9)*(BU4:BU18))+SUMPRODUCT((M4:Q18=AP9)*(BV4:BV18))+SUMPRODUCT((T4:X18=AP9)*(BW4:BW18))","v":3},{"$f":"SUMPRODUCT((A4:E18=AP9)*(BX4:BX18))+SUMPRODUCT((H4:L18=AP9)*(BY4:BY18))+SUMPRODUCT((M4:Q18=AP9)*(BZ4:BZ18))+SUMPRODUCT((T4:X18=AP9)*(CA4:CA18))","v":6},{"$f":"SUMPRODUCT((A4:E18=AP9)*(CB4:CB18))+SUMPRODUCT((H4:L18=AP9)*(CC4:CC18))+SUMPRODUCT((M4:Q18=AP9)*(CD4:CD18))+SUMPRODUCT((T4:X18=AP9)*(CE4:CE18))","v":8},{"$f":"SUMPRODUCT((A4:E18=AP9)*(CH4:CH18))+SUMPRODUCT((H4:L18=AP9)*(CI4:CI18))+SUMPRODUCT((M4:Q18=AP9)*(CJ4:CJ18))+SUMPRODUCT((T4:X18=AP9)*(CK4:CK18))","v":26},-18,null,null,3,0,3,0,3,3,1,1,1,1,1,false,1,false,false,false,false,false,false,1,false,1,3,0,3,2,5,3,0,3,2,3,3,5,{"$f":"IF(AU4=1,IF(AU9=1,SUM(AV4*1000+(BC4)/10+(BA4)/100+(BJ8)/1000+((F8+S8)-(G8+R8))/10000+(F8+S8)/100000+(S8)/1000000)))","v":false},{"$f":"IF(AU5=1,IF(AU9=1,SUM(AV5*1000+(BC5)/10+(BA5)/100+(BJ12)/1000+((F12+S12)-(G12+R12))/10000+(F12+S12)/100000+(S12)/1000000)))","v":false},{"$f":"IF(AU6=1,IF(AU9=1,SUM(AV6*1000+(BC6)/10+(BA6)/100+(BJ15)/1000+((F15+S15)-(G15+R15))/10000+(F15+S15)/100000+(S15)/1000000)))","v":false},{"$f":"IF(AU7=1,IF(AU9=1,SUM(AV7*1000+(BC7)/10+(BA7)/100+(BJ17)/1000+((F17+S17)-(G17+R17))/10000+(F17+S17)/100000+(S17)/1000000)))","v":false},{"$f":"IF(AU8=1,IF(AU9=1,SUM(AV8*1000+(BC8)/10+(BA8)/100+(BJ18)/1000+((F18+S18)-(G18+R18))/10000+(F18+S18)/100000+(S18)/1000000)))","v":false},{"$f":"IF(AU9=1,IF(AU8=1,SUM(AV9*1000+(BC9)/10+(BA9)/100+(BK18)/1000+((G18+R18)-(F18+S18))/10000+(G18+R18)/100000+(G18)/1000000)))","v":false},null,{"$f":"IF(AU4=2,IF(AU9=2,SUM(AV4*1000+(BC4)/10+(BA4)/100+(BJ8)/1000+((F8+S8)-(G8+R8))/10000+(F8+S8)/100000+(S8)/1000000)))","v":false},{"$f":"IF(AU5=2,IF(AU9=2,SUM(AV5*1000+(BC5)/10+(BA5)/100+(BJ12)/1000+((F12+S12)-(G12+R12))/10000+(F12+S12)/100000+(S12)/1000000)))","v":false},{"$f":"IF(AU6=2,IF(AU9=2,SUM(AV6*1000+(BC6)/10+(BA6)/100+(BJ15)/1000+((F15+S15)-(G15+R15))/10000+(F15+S15)/100000+(S15)/1000000)))","v":false},{"$f":"IF(AU7=2,IF(AU9=2,SUM(AV7*1000+(BC7)/10+(BA7)/100+(BJ17)/1000+((F17+S17)-(G17+R17))/10000+(F17+S17)/100000+(S17)/1000000)))","v":false},{"$f":"IF(AU8=2,IF(AU9=2,SUM(AV8*1000+(BC8)/10+(BA8)/100+(BJ18)/1000+((F18+S18)-(G18+R18))/10000+(F18+S18)/100000+(S18)/1000000)))","v":false},{"$f":"IF(AU9=2,IF(AU8=2,SUM(AV9*1000+(BC9)/10+(BA9)/100+(BK18)/1000+((G18+R18)-(F18+S18))/10000+(G18+R18)/100000+(G18)/1000000)))","v":false},{"$f":"IF(AU4=3,IF(AU9=3,SUM(AV4*1000+(BC4)/10+(BA4)/100+(BJ8)/1000+((F8+S8)-(G8+R8))/10000+(F8+S8)/100000+(S8)/1000000)))","v":false},{"$f":"IF(AU5=3,IF(AU9=3,SUM(AV5*1000+(BC5)/10+(BA5)/100+(BJ12)/1000+((F12+S12)-(G12+R12))/10000+(F12+S12)/100000+(S12)/1000000)))","v":false},{"$f":"IF(AU6=3,IF(AU9=3,SUM(AV6*1000+(BC6)/10+(BA6)/100+(BJ15)/1000+((F15+S15)-(G15+R15))/10000+(F15+S15)/100000+(S15)/1000000)))","v":false},{"$f":"IF(AU7=3,IF(AU9=3,SUM(AV7*1000+(BC7)/10+(BA7)/100+(BJ17)/1000+((F17+S17)-(G17+R17))/10000+(F17+S17)/100000+(S17)/1000000)))","v":false},{"$f":"IF(AU8=3,IF(AU9=3,SUM(AV8*1000+(BC8)/10+(BA8)/100+(BJ18)/1000+((F18+S18)-(G18+R18))/10000+(F18+S18)/100000+(S18)/1000000)))","v":false},{"$f":"IF(AU9=3,IF(AU8=3,SUM(AV9*1000+(BC9)/10+(BA9)/100+(BK18)/1000+((G18+R18)-(F18+S18))/10000+(G18+R18)/100000+(G18)/1000000)))","v":false},{"$f":"IF(AU4=4,IF(AU9=4,SUM(AV4*1000+(BC4)/10+(BA4)/100+(BJ8)/1000+((F8+S8)-(G8+R8))/10000+(F8+S8)/100000+(S8)/1000000)))","v":false},{"$f":"IF(AU5=4,IF(AU9=4,SUM(AV5*1000+(BC5)/10+(BA5)/100+(BJ12)/1000+((F12+S12)-(G12+R12))/10000+(F12+S12)/100000+(S12)/1000000)))","v":false},{"$f":"IF(AU6=4,IF(AU9=4,SUM(AV6*1000+(BC6)/10+(BA6)/100+(BJ15)/1000+((F15+S15)-(G15+R15))/10000+(F15+S15)/100000+(S15)/1000000)))","v":false},{"$f":"IF(AU7=4,IF(AU9=4,SUM(AV7*1000+(BC7)/10+(BA7)/100+(BJ17)/1000+((F17+S17)-(G17+R17))/10000+(F17+S17)/100000+(S17)/1000000)))","v":false},{"$f":"IF(AU8=4,IF(AU9=4,SUM(AV8*1000+(BC8)/10+(BA8)/100+(BJ18)/1000+((F18+S18)-(G18+R18))/10000+(F18+S18)/100000+(S18)/1000000)))","v":false},{"$f":"IF(AU9=4,IF(AU8=4,SUM(AV9*1000+(BC9)/10+(BA9)/100+(BK18)/1000+((G18+R18)-(F18+S18))/10000+(G18+R18)/100000+(G18)/1000000)))","v":false},{"$f":"IF(AU4=5,IF(AU9=5,SUM(AV4*1000+(BC4)/10+(BA4)/100+(BJ8)/1000+((F8+S8)-(G8+R8))/10000+(F8+S8)/100000+(S8)/1000000)))","v":false},{"$f":"IF(AU5=5,IF(AU9=5,SUM(AV5*1000+(BC5)/10+(BA5)/100+(BJ12)/1000+((F12+S12)-(G12+R12))/10000+(F12+S12)/100000+(S12)/1000000)))","v":false},{"$f":"IF(AU6=5,IF(AU9=5,SUM(AV6*1000+(BC6)/10+(BA6)/100+(BJ15)/1000+((F15+S15)-(G15+R15))/10000+(F15+S15)/100000+(S15)/1000000)))","v":false},{"$f":"IF(AU7=5,IF(AU9=5,SUM(AV7*1000+(BC7)/10+(BA7)/100+(BJ17)/1000+((F17+S17)-(G17+R17))/10000+(F17+S17)/100000+(S17)/1000000)))","v":false},{"$f":"IF(AU8=5,IF(AU9=5,SUM(AV8*1000+(BC8)/10+(BA8)/100+(BJ18)/1000+((F18+S18)-(G18+R18))/10000+(F18+S18)/100000+(S18)/1000000)))","v":false},{"$f":"IF(AU9=5,IF(AU8=5,SUM(AV9*1000+(BC9)/10+(BA9)/100+(BK18)/1000+((G18+R18)-(F18+S18))/10000+(G18+R18)/100000+(G18)/1000000)))","v":false},{"$f":"IF(AU4=6,IF(AU9=6,SUM(AV4*1000+(BC4)/10+(BA4)/100+(BJ8)/1000+((F8+S8)-(G8+R8))/10000+(F8+S8)/100000+(S8)/1000000)))","v":false},{"$f":"IF(AU5=6,IF(AU9=6,SUM(AV5*1000+(BC5)/10+(BA5)/100+(BJ12)/1000+((F12+S12)-(G12+R12))/10000+(F12+S12)/100000+(S12)/1000000)))","v":false},{"$f":"IF(AU6=6,IF(AU9=6,SUM(AV6*1000+(BC6)/10+(BA6)/100+(BJ15)/1000+((F15+S15)-(G15+R15))/10000+(F15+S15)/100000+(S15)/1000000)))","v":false},{"$f":"IF(AU7=6,IF(AU9=6,SUM(AV7*1000+(BC7)/10+(BA7)/100+(BJ17)/1000+((F17+S17)-(G17+R17))/10000+(F17+S17)/100000+(S17)/1000000)))","v":false},{"$f":"IF(AU8=6,IF(AU9=6,SUM(AV8*1000+(BC8)/10+(BA8)/100+(BJ18)/1000+((F18+S18)-(G18+R18))/10000+(F18+S18)/100000+(S18)/1000000)))","v":false},{"$f":"IF(AU9=6,IF(AU8=6,SUM(AV9*1000+(BC9)/10+(BA9)/100+(BK18)/1000+((G18+R18)-(F18+S18))/10000+(G18+R18)/100000+(G18)/1000000)))","v":false}]
[{"$f":"AP5","v":"SUÈDE"},null,null,null,null,1,1,{"$f":"AP7","v":"PAYS-BAS"},null,null,null,null,"PAYS-BAS",null,null,null,null,2,0,"SUÈDE",null,null,null,null,null,null,null,null,null,null,null,null,null,null,null,null,null,null,null,null,null,null,null,null,null,null,null,null,null,null,null,null,null,null,null,null,null,1,1,3,0,1,4,1,1,1,1,false,false,1,false,1,1,false,false,false,false,false,1,1,1,2,0,1,3,1,1,0,2,3,1,{"$f":"SUM(CN4:CN9)","v":1000000},0,0,0,0,0,null,{"$f":"SUM(CU4:CU9)","v":0},819001.96080999996,0,819001.11423099996,0,0,{"$f":"SUM(DA4:DA9)","v":0},0,0,0,0,0,{"$f":"SUM(DG4:DG9)","v":0},0,400000,0,0,0,{"$f":"SUM(DM4:DM9)","v":0},0,0,0,0,200000,{"$f":"SUM(DS4:DS9)","v":0},0,0,0,100000,0]
[{"$f":"AP5","v":"SUÈDE"},null,null,null,null,4,0,{"$f":"AP8","v":"BIELORUSSIE"},null,null,null,null,"BIELORUSSIE",null,null,null,null,0,4,"SUÈDE",null,null,null,null,null,null,null,null,null,null,null,null,null,null,null,null,null,null,null,1,{"$f":"BA11","v":1},{"$f":"AP4","v":"FRANCE"},null,null,null,null,{"$f":"SUM(CN10,CU10,DA10,DG10,DM10,DS10)","v":1000000},null,null,{"$f":"AU11+0.00000006","v":1000000.00000006},null,null,{"$f":"RANK(AX11,AX11:AZ16)","v":1},{"$f":"RANK(AU11,AU11:AW16)","v":1},null,null,null,3,0,0,3,6,0,1,1,1,1,1,false,false,1,false,false,false,false,false,1,1,false,4,0,0,4,8,0,0,4,4,0,0,8]
[{"$f":"AP5","v":"SUÈDE"},null,null,null,null,8,0,{"$f":"AP9","v":"LUXEMBOURG"},null,null,null,null,"LUXEMBOURG",null,null,null,null,0,1,"SUÈDE",null,null,null,null,null,null,null,null,null,null,null,null,null,null,null,null,null,null,null,2,{"$f":"BA12","v":2},{"$f":"AP5","v":"SUÈDE"},null,null,null,null,{"$f":"SUM(CO10,CV10,DB10,DH10,DN10,DT10)","v":819001.96080999996},null,null,{"$f":"AU12+0.00000005","v":819001.9608100499},null,null,{"$f":"RANK(AX12,AX11:AZ16)","v":2},{"$f":"RANK(AU12,AU11:AW16)","v":2},null,null,null,3,0,0,3,6,0,1,1,1,1,1,false,false,1,false,false,false,false,false,1,1,false,8,0,0,1,9,0,0,8,1,0,0,9,{"$f":"VLOOKUP(AN11,AO11:AT16,2,0)","v":"FRANCE"},null,null,null,null,null,{"$f":"VLOOKUP(CN12,AP11:AW16,6,0)","v":1000000},null,null,{"$f":"RANK(CT12,CT12:CV17)","v":1}]
[{"$f":"AP6","v":"BULGARIE"},null,null,null,null,2,0,{"$f":"AP7","v":"PAYS-BAS"},null,null,null,null,"PAYS-BAS",null,null,null,null,3,1,"BULGARIE",null,null,null,null,null,"ÉQUIPE QUALIFIÉE",null,null,null,{"$f":"Z4","v":"FRANCE"},null,null,null,null,null,null,null,null,null,3,4,"BULGARIE",null,null,null,null,{"$f":"SUM(CP10,CW10,DC10,DI10,DO10,DU10)","v":400000},null,null,{"$f":"AU13+0.00000004","v":400000.00000003999},null,null,{"$f":"RANK(AX13,AX11:AZ16)","v":4},{"$f":"RANK(AU13,AU11:AW16)","v":4},null,null,null,3,0,3,0,3,3,1,1,1,1,1,false,1,false,false,false,false,false,false,1,false,1,2,0,3,1,3,3,0,2,1,3,3,3,{"$f":"VLOOKUP(AN12,AO11:AT16,2,0)","v":"SUÈDE"},null,null,null,null,null,{"$f":"VLOOKUP(CN13,AP11:AW16,6,0)","v":819001.96080999996},null,null,{"$f":"RANK(CT13,CT12:CV17)","v":2}]
[{"$f":"AP6","v":"BULGARIE"},null,null,null,null,1,0,{"$f":"AP8","v":"BIELORUSSIE"},null,null,null,null,"BIELORUSSIE",null,null,null,null,2,1,"BULGARIE",null,null,null,null,null,null,null,null,null,null,null,null,null,null,null,null,null,null,null,4,3,"PAYS-BAS",null,null,null,null,{"$f":"SUM(CQ10,CX10,DD10,DJ10,DP10,DV10)","v":819001.11423099996},null,null,{"$f":"AU14+0.00000003","v":819001.11423102999},null,null,{"$f":"RANK(AX14,AX11:AZ16)","v":3},{"$f":"RANK(AU14,AU11:AW16)","v":3},null,null,null,3,0,3,0,3,3,1,1,1,1,1,false,1,false,false,false,false,false,false,1,false,1,1,0,2,1,2,2,0,1,1,2,2,2,{"$f":"VLOOKUP(AN13,AO11:AT16,2,0)","v":"PAYS-BAS"},null,null,null,null,null,{"$f":"VLOOKUP(CN14,AP11:AW16,6,0)","v":819001.11423099996},null,null,{"$f":"RANK(CT14,CT12:CV17)","v":3}]
[{"$f":"AP6","v":"BULGARIE"},null,null,null,null,4,3,{"$f":"AP9","v":"LUXEMBOURG"},null,null,null,null,"LUXEMBOURG",null,null,null,null,1,1,"BULGARIE",null,null,null,null,null,null,null,null,null,null,null,null,null,null,null,null,null,null,null,5,6,"BIELORUSSIE",null,null,null,null,{"$f":"SUM(CR10,CY10,DE10,DK10,DQ10,DW10)","v":100000},null,null,{"$f":"AU15+0.00000002","v":100000.00000001999},null,null,{"$f":"RANK(AX15,AX11:AZ16)","v":6},{"$f":"RANK(AU15,AU11:AW16)","v":6},null,null,null,3,0,1,1,4,1,1,1,1,1,1,false,false,false,false,false,1,1,false,1,false,false,4,3,1,1,5,4,3,4,1,1,4,5,{"$f":"VLOOKUP(AN14,AO11:AT16,2,0)","v":"BULGARIE"},null,null,null,null,null,{"$f":"VLOOKUP(CN15,AP11:AW16,6,0)","v":400000},null,null,{"$f":"RANK(CT15,CT12:CV17)","v":4}]
[{"$f":"AP7","v":"PAYS-BAS"},null,null,null,null,4,1,{"$f":"AP8","v":"BIELORUSSIE"},null,null,null,null,"BIELORUSSIE",null,null,null,null,1,3,"PAYS-BAS",null,null,null,null,null,"BARRAGE",null,null,null,{"$f":"IF(M182=9,\"\",D182)","v":"SUÈDE"},null,null,null,null,null,null,null,null,null,6,5,"LUXEMBOURG",null,null,null,null,{"$f":"SUM(CS10,CZ10,DF10,DL10,DR10,DX10)","v":200000},null,null,{"$f":"AU16+0.00000001","v":200000.00000001001},null,null,{"$f":"RANK(AX16,AX11:AZ16)","v":5},{"$f":"RANK(AU16,AU11:AW16)","v":5},null,null,null,3,0,0,3,6,0,1,1,1,1,1,false,false,1,false,false,false,false,false,1,1,false,4,1,1,3,7,2,1,4,3,1,2,7,{"$f":"VLOOKUP(AN15,AO11:AT16,2,0)","v":"LUXEMBOURG"},null,null,null,null,null,{"$f":"VLOOKUP(CN16,AP11:AW16,6,0)","v":200000},null,null,{"$f":"RANK(CT16,CT12:CV17)","v":5}]
[{"$f":"AP7","v":"PAYS-BAS"},null,null,null,null,5,0,{"$f":"AP9","v":"LUXEMBOURG"},null,null,null,null,"LUXEMBOURG",null,null,null,null,1,3,"PAYS-BAS",null,null,null,null,null,null,null,null,null,null,null,null,null,null,null,null,null,null,null,null,null,null,null,null,null,null,null,null,null,null,null,null,null,null,null,null,null,3,0,0,3,6,0,1,1,1,1,1,false,false,1,false,false,false,false,false,1,1,false,5,0,1,3,8,1,0,5,3,1,1,8,{"$f":"VLOOKUP(AN16,AO11:AT16,2,0)","v":"BIELORUSSIE"},null,null,null,null,null,{"$f":"VLOOKUP(CN17,AP11:AW16,6,0)","v":100000},null,null,{"$f":"RANK(CT17,CT12:CV17)","v":6}]
[{"$f":"AP8","v":"BIELORUSSIE"},null,null,null,null,1,1,{"$f":"AP9","v":"LUXEMBOURG"},null,null,null,null,"LUXEMBOURG",null,null,null,null,1,0,"BIELORUSSIE",null,null,null,null,null,null,null,null,null,null,null,null,null,null,null,null,null,null,null,null,null,null,null,null,null,null,null,null,null,null,null,null,null,null,null,null,null,1,1,3,0,1,4,1,1,1,1,false,false,1,false,1,1,false,false,false,false,false,1,1,1,1,0,1,2,1,1,0,1,2,1]
[]
[]
["MATCHS  ALLER",null,null,null,null,null,null,null,null,"GROUPE  B",null,null,null,null,null,"MATCHS  RETOUR",null,null,null,null,null,null,null,null,"GROUPE  B","CLASSEMENT",null,null,null,null,null,null,null,null,null,null,null,null,null,null,null,"CLASSEMENT"]
[]
["Équipes",null,null,null,null,"Bts","Bts","Équipes",null,null,null,null,"Équipes",null,null,null,null,"Bts","Bts","Équipes",null,null,null,null,null,"Équipes",null,null,null,null,"R","Pts","J","G","N","P","B +","B -","Diff",null,null,"Équipes",null,null,null,null,"R","Pts","J","G","N","P","B +","B -","Diff",null,null,"pts","pts","pts","pts","t pts","t pts","j","j","j","j","g","g","g","g","n","n","n","n","p","p","p","p","b+","b+","b+","b+","b+","b+","b-","b-","b-","b-","b-","b-",{"$f":"AP24","v":"SUISSE"},{"$f":"AP25","v":"PORTUGAL"},{"$f":"AP26","v":"HONGRIE"},{"$f":"AP27","v":"ILES FEROE"},{"$f":"AP28","v":"LETTONIE"},{"$f":"AP29","v":"ANDORRE"},null,{"$f":"CN23","v":"SUISSE"},{"$f":"CO23","v":"PORTUGAL"},{"$f":"CP23","v":"HONGRIE"},{"$f":"CQ23","v":"ILES FEROE"},{"$f":"CR23","v":"LETTONIE"},{"$f":"CS23","v":"ANDORRE"},{"$f":"CN23","v":"SUISSE"},{"$f":"CO23","v":"PORTUGAL"},{"$f":"CP23","v":"HONGRIE"},{"$f":"CQ23","v":"ILES FEROE"},{"$f":"CR23","v":"LETTONIE"},{"$f":"CS23","v":"ANDORRE"},{"$f":"CN23","v":"SUISSE"},{"$f":"CO23","v":"PORTUGAL"},{"$f":"CP23","v":"HONGRIE"},{"$f":"CQ23","v":"ILES FEROE"},{"$f":"CR23","v":"LETTONIE"},{"$f":"CS23","v":"ANDORRE"},{"$f":"CN23","v":"SUISSE"},{"$f":"CO23","v":"PORTUGAL"},{"$f":"CP23","v":"HONGRIE"},{"$f":"CQ23","v":"ILES FEROE"},{"$f":"CR23","v":"LETTONIE"},{"$f":"CS23","v":"ANDORRE"},{"$f":"CN23","v":"SUISSE"},{"$f":"CO23","v":"PORTUGAL"},{"$f":"CP23","v":"HONGRIE"},{"$f":"CQ23","v":"ILES FEROE"},{"$f":"CR23","v":"LETTONIE"},{"$f":"CS23","v":"ANDORRE"}]
[{"$f":"AP24","v":"SUISSE"},null,null,null,null,2,0,{"$f":"AP25","v":"PORTUGAL"},null,null,null,null,{"$f":"H24","v":"PORTUGAL"},null,null,null,null,2,0,{"$f":"A24","v":"SUISSE"},null,null,null,null,null,{"$f":"VLOOKUP(AN31,AO31:AT36,2,0)","v":"PORTUGAL"},null,null,null,null,1,{"$f":"VLOOKUP(Z24,AP24:BC29,7,0)","v":27},{"$f":"VLOOKUP(Z24,AP24:BC29,8,0)","v":10},{"$f":"VLOOKUP(Z24,AP24:BC29,9,0)","v":9},{"$f":"VLOOKUP(Z24,AP24:BC29,10,0)","v":0},{"$f":"VLOOKUP(Z24,AP24:BC29,11,0)","v":1},{"$f":"VLOOKUP(Z24,AP24:BC29,12,0)","v":32},{"$f":"VLOOKUP(Z24,AP24:BC29,13,0)","v":4},{"$f":"VLOOKUP(Z24,AP24:BC29,14,0)","v":28},null,null,"SUISSE",null,null,null,null,{"$f":"RANK(AV24,AV24:AV29)","v":1},{"$f":"SUMPRODUCT((A24:E38=AP24)*(BF24:BF38))+SUMPRODUCT((H24:L38=AP24)*(BG24:BG38))+SUMPRODUCT((M24:Q38=AP24)*(BH24:BH38))+SUMPRODUCT((T24:X38=AP24)*(BI24:BI38))","v":27},{"$f":"SUMPRODUCT((A24:E38=AP24)*(BL24:BL38))+SUMPRODUCT((H24:L38=AP24)*(BM24:BM38))+SUMPRODUCT((M24:Q38=AP24)*(BN24:BN38))+SUMPRODUCT((T24:X38=AP24)*(BO24:BO38))","v":10},{"$f":"SUMPRODUCT((A24:E38=AP24)*(BP24:BP38))+SUMPRODUCT((H24:L38=AP24)*(BQ24:BQ38))+SUMPRODUCT((M24:Q38=AP24)*(BR24:BR38))+SUMPRODUCT((T24:X38=AP24)*(BS24:BS38))","v":9},{"$f":"SUMPRODUCT((A24:E38=AP24)*(BT24:BT38))+SUMPRODUCT((H24:L38=AP24)*(BU24:BU38))+SUMPRODUCT((M24:Q38=AP24)*(BV24:BV38))+SUMPRODUCT((T24:X38=AP24)*(BW24:BW38))","v":0},{"$f":"SUMPRODUCT((A24:E38=AP24)*(BX24:BX38))+SUMPRODUCT((H24:L38=AP24)*(BY24:BY38))+SUMPRODUCT((M24:Q38=AP24)*(BZ24:BZ38))+SUMPRODUCT((T24:X38=AP24)*(CA24:CA38))","v":1},{"$f":"SUMPRODUCT((A24:E38=AP24)*(CB24:CB38))+SUMPRODUCT((H24:L38=AP24)*(CC24:CC38))+SUMPRODUCT((M24:Q38=AP24)*(CD24:CD38))+SUMPRODUCT((T24:X38=AP24)*(CE24:CE38))","v":23},{"$f":"SUMPRODUCT((A24:E38=AP24)*(CH24:CH38))+SUMPRODUCT((H24:L38=AP24)*(CI24:CI38))+SUMPRODUCT((M24:Q38=AP24)*(CJ24:CJ38))+SUMPRODUCT((T24:X38=AP24)*(CK24:CK38))","v":7},{"$f":"BA24-BB24","v":16},null,null,{"$f":"IF(F24=\"\",0,IF(F24>G24,3,IF(F24=G24,1,IF(F24<G24,0))))","v":3},{"$f":"IF(G24=\"\",0,IF(G24>F24,3,IF(G24=F24,1,IF(G24<F24,0))))","v":0},{"$f":"IF(R24=\"\",0,IF(R24>S24,3,IF(R24=S24,1,IF(R24<S24,0))))","v":3},{"$f":"IF(S24=\"\",0,IF(S24>R24,3,IF(S24=R24,1,IF(S24<R24,0))))","v":0},{"$f":"BF24+BI24","v":3},{"$f":"BG24+BH24","v":3},{"$f":"IF(F24=\"\",0,1)","v":1},{"$f":"IF(G24=\"\",0,1)","v":1},{"$f":"IF(R24=\"\",0,1)","v":1},{"$f":"IF(S24=\"\",0,1)","v":1},{"$f":"IF(F24<>\"\",IF(F24>G24,1))","v":1},{"$f":"IF(G24<>\"\",IF(G24>F24,1))","v":false},{"$f":"IF(R24<>\"\",IF(R24>S24,1))","v":1},{"$f":"IF(S24<>\"\",IF(S24>R24,1))","v":false},{"$f":"IF(F24<>\"\",IF(F24=G24,1))","v":false},{"$f":"IF(G24<>\"\",IF(G24=F24,1))","v":false},{"$f":"IF(R24<>\"\",IF(R24=S24,1))","v":false},{"$f":"IF(S24<>\"\",IF(S24=R24,1))","v":false},{"$f":"IF(F24<>\"\",IF(F24<G24,1))","v":false},{"$f":"IF(G24<>\"\",IF(G24<F24,1))","v":1},{"$f":"IF(R24<>\"\",IF(R24<S24,1))","v":false},{"$f":"IF(S24<>\"\",IF(S24<R24,1))","v":1},{"$f":"F24","v":2},{"$f":"G24","v":0},{"$f":"R24","v":2},{"$f":"S24","v":0},{"$f":"CB24+CE24","v":2},{"$f":"CC24+CD24","v":2},{"$f":"G24","v":0},{"$f":"F24","v":2},{"$f":"S24","v":0},{"$f":"R24","v":2},{"$f":"CH24+CK24","v":2},{"$f":"CI24+CJ24","v":2},{"$f":"IF(AU24=1,1000000)","v":1000000},{"$f":"IF(AU25=1,1000000)","v":1000000},{"$f":"IF(AU26=1,1000000)","v":false},{"$f":"IF(AU27=1,1000000)","v":false},{"$f":"IF(AU28=1,1000000)","v":false},{"$f":"IF(AU29=1,1000000)","v":false},null,{"$f":"IF(AU24=2,800000)","v":false},{"$f":"IF(AU25=2,800000)","v":false},{"$f":"IF(AU26=2,800000)","v":false},{"$f":"IF(AU27=2,800000)","v":false},{"$f":"IF(AU28=2,800000)","v":false},{"$f":"IF(AU29=2,800000)","v":false},{"$f":"IF(AU24=3,600000)","v":false},{"$f":"IF(AU25=3,600000)","v":false},{"$f":"IF(AU26=3,600000)","v":600000},{"$f":"IF(AU27=3,600000)","v":false},{"$f":"IF(AU28=3,600000)","v":false},{"$f":"IF(AU29=3,600000)","v":false},{"$f":"IF(AU24=4,400000)","v":false},{"$f":"IF(AU25=4,400000)","v":false},{"$f":"IF(AU26=4,400000)","v":false},{"$f":"IF(AU27=4,400000)","v":400000},{"$f":"IF(AU28=4,400000)","v":false},{"$f":"IF(AU29=4,400000)","v":false},{"$f":"IF(AU24=5,200000)","v":false},{"$f":"IF(AU25=5,200000)","v":false},{"$f":"IF(AU26=5,200000)","v":false},{"$f":"IF(AU27=5,200000)","v":false},{"$f":"IF(AU28=5,200000)","v":200000},{"$f":"IF(AU29=5,200000)","v":false},{"$f":"IF(AU24=6,100000)","v":false},{"$f":"IF(AU25=6,100000)","v":false},{"$f":"IF(AU26=6,100000)","v":false},{"$f":"IF(AU27=6,100000)","v":false},{"$f":"IF(AU28=6,100000)","v":false},{"$f":"IF(AU29=6,100000)","v":100000}]
[{"$f":"AP24","v":"SUISSE"},null,null,null,null,5,2,{"$f":"AP26","v":"HONGRIE"},null,null,null,null,{"$f":"H25","v":"HONGRIE"},null,null,null,null,2,3,{"$f":"A25","v":"SUISSE"},null,null,null,null,null,{"$f":"VLOOKUP(AN32,AO31:AT36,2,0)","v":"SUISSE"},null,null,null,null,{"$f":"IF(CT33=CT32,CW32,CW33)","v":2},{"$f":"VLOOKUP(Z25,AP24:BC29,7,0)","v":27},{"$f":"VLOOKUP(Z25,AP24:BC29,8,0)","v":10},{"$f":"VLOOKUP(Z25,AP24:BC29,9,0)","v":9},{"$f":"VLOOKUP(Z25,AP24:BC29,10,0)","v":0},{"$f":"VLOOKUP(Z25,AP24:BC29,11,0)","v":1},{"$f":"VLOOKUP(Z25,AP24:BC29,12,0)","v":23},{"$f":"VLOOKUP(Z25,AP24:BC29,13,0)","v":7},{"$f":"VLOOKUP(Z25,AP24:BC29,14,0)","v":16},null,null,"PORTUGAL",null,null,null,null,{"$f":"RANK(AV25,AV24:AV29)","v":1},{"$f":"SUMPRODUCT((A24:E38=AP25)*(BF24:BF38))+SUMPRODUCT((H24:L38=AP25)*(BG24:BG38))+SUMPRODUCT((M24:Q38=AP25)*(BH24:BH38))+SUMPRODUCT((T24:X38=AP25)*(BI24:BI38))","v":27},{"$f":"SUMPRODUCT((A24:E38=AP25)*(BL24:BL38))+SUMPRODUCT((H24:L38=AP25)*(BM24:BM38))+SUMPRODUCT((M24:Q38=AP25)*(BN24:BN38))+SUMPRODUCT((T24:X38=AP25)*(BO24:BO38))","v":10},{"$f":"SUMPRODUCT((A24:E38=AP25)*(BP24:BP38))+SUMPRODUCT((H24:L38=AP25)*(BQ24:BQ38))+SUMPRODUCT((M24:Q38=AP25)*(BR24:BR38))+SUMPRODUCT((T24:X38=AP25)*(BS24:BS38))","v":9},{"$f":"SUMPRODUCT((A24:E38=AP25)*(BT24:BT38))+SUMPRODUCT((H24:L38=AP25)*(BU24:BU38))+SUMPRODUCT((M24:Q38=AP25)*(BV24:BV38))+SUMPRODUCT((T24:X38=AP25)*(BW24:BW38))","v":0},{"$f":"SUMPRODUCT((A24:E38=AP25)*(BX24:BX38))+SUMPRODUCT((H24:L38=AP25)*(BY24:BY38))+SUMPRODUCT((M24:Q38=AP25)*(BZ24:BZ38))+SUMPRODUCT((T24:X38=AP25)*(CA24:CA38))","v":1},{"$f":"SUMPRODUCT((A24:E38=AP25)*(CB24:CB38))+SUMPRODUCT((H24:L38=AP25)*(CC24:CC38))+SUMPRODUCT((M24:Q38=AP25)*(CD24:CD38))+SUMPRODUCT((T24:X38=AP25)*(CE24:CE38))","v":32},{"$f":"SUMPRODUCT((A24:E38=AP25)*(CH24:CH38))+SUMPRODUCT((H24:L38=AP25)*(CI24:CI38))+SUMPRODUCT((M24:Q38=AP25)*(CJ24:CJ38))+SUMPRODUCT((T24:X38=AP25)*(CK24:CK38))","v":4},{"$f":"BA25-BB25","v":28},null,null,{"$f":"IF(F25=\"\",0,IF(F25>G25,3,IF(F25=G25,1,IF(F25<G25,0))))","v":3},{"$f":"IF(G25=\"\",0,IF(G25>F25,3,IF(G25=F25,1,IF(G25<F25,0))))","v":0},{"$f":"IF(R25=\"\",0,IF(R25>S25,3,IF(R25=S25,1,IF(R25<S25,0))))","v":0},{"$f":"IF(S25=\"\",0,IF(S25>R25,3,IF(S25=R25,1,IF(S25<R25,0))))","v":3},{"$f":"BF25+BI25","v":6},{"$f":"BG25+BH25","v":0},{"$f":"IF(F25=\"\",0,1)","v":1},{"$f":"IF(G25=\"\",0,1)","v":1},{"$f":"IF(R25=\"\",0,1)","v":1},{"$f":"IF(S25=\"\",0,1)","v":1},{"$f":"IF(F25<>\"\",IF(F25>G25,1))","v":1},{"$f":"IF(G25<>\"\",IF(G25>F25,1))","v":false},{"$f":"IF(R25<>\"\",IF(R25>S25,1))","v":false},{"$f":"IF(S25<>\"\",IF(S25>R25,1))","v":1},{"$f":"IF(F25<>\"\",IF(F25=G25,1))","v":false},{"$f":"IF(G25<>\"\",IF(G25=F25,1))","v":false},{"$f":"IF(R25<>\"\",IF(R25=S25,1))","v":false},{"$f":"IF(S25<>\"\",IF(S25=R25,1))","v":false},{"$f":"IF(F25<>\"\",IF(F25<G25,1))","v":false},{"$f":"IF(G25<>\"\",IF(G25<F25,1))","v":1},{"$f":"IF(R25<>\"\",IF(R25<S25,1))","v":1},{"$f":"IF(S25<>\"\",IF(S25<R25,1))","v":false},{"$f":"F25","v":5},{"$f":"G25","v":2},{"$f":"R25","v":2},{"$f":"S25","v":3},{"$f":"CB25+CE25","v":8},{"$f":"CC25+CD25","v":4},{"$f":"G25","v":2},{"$f":"F25","v":5},{"$f":"S25","v":3},{"$f":"R25","v":2},{"$f":"CH25+CK25","v":4},{"$f":"CI25+CJ25","v":8},{"$f":"IF(AU24=1,IF(AU25=1,SUM(AV24*1000+(BC24)/10+(BA24)/100+(BJ24)/1000+((F24+S24)-(G24+R24))/10000+(F24+S24)/100000+(S24)/1000000)))","v":27001.833019999998},{"$f":"IF(AU25=1,IF(AU24=1,SUM(AV25*1000+(BC25)/10+(BA25)/100+(BK24)/1000+((G24+R24)-(F24+S24))/10000+(G24+R24)/100000+(G24)/1000000)))","v":27003.123019999999},{"$f":"IF(AU26=1,IF(AU24=1,SUM(AV26*1000+(BC26)/10+(BA26)/100+(BK25)/1000+((G25+R25)-(F25+S25))/10000+(G25+R25)/100000+(G25)/1000000)))","v":false},{"$f":"IF(AU27=1,IF(AU24=1,SUM(AV27*1000+(BC27)/10+(BA27)/100+(BK26)/1000+((G26+R26)-(F26+S26))/10000+(G26+R26)/100000+(G26)/1000000)))","v":false},{"$f":"IF(AU28=1,IF(AU24=1,SUM(AV28*1000+(BC28)/10+(BA28)/100+(BK27)/1000+((G27+R27)-(F27+S27))/10000+(G27+R27)/100000+(G27)/1000000)))","v":false},{"$f":"IF(AU29=1,IF(AU24=1,SUM(AV29*1000+(BC29)/10+(BA29)/100+(BK28)/1000+((G28+R28)-(F28+S28))/10000+(G28+R28)/100000+(G28)/1000000)))","v":false},null,{"$f":"IF(AU24=2,IF(AU25=2,SUM(AV24*1000+(BC24)/10+(BA24)/100+(BJ24)/1000+((F24+S24)-(G24+R24))/10000+(F24+S24)/100000+(S24)/1000000)))","v":false},{"$f":"IF(AU25=2,IF(AU24=2,SUM(AV25*1000+(BC25)/10+(BA25)/100+(BK24)/1000+((G24+R24)-(F24+S24))/10000+(G24+R24)/100000+(G24)/1000000)))","v":false},{"$f":"IF(AU26=2,IF(AU24=2,SUM(AV26*1000+(BC26)/10+(BA26)/100+(BK25)/1000+((G25+R25)-(F25+S25))/10000+(G25+R25)/100000+(G25)/1000000)))","v":false},{"$f":"IF(AU27=2,IF(AU24=2,SUM(AV27*1000+(BC27)/10+(BA27)/100+(BK26)/1000+((G26+R26)-(F26+S26))/10000+(G26+R26)/100000+(G26)/1000000)))","v":false},{"$f":"IF(AU28=2,IF(AU24=2,SUM(AV28*1000+(BC28)/10+(BA28)/100+(BK27)/1000+((G27+R27)-(F27+S27))/10000+(G27+R27)/100000+(G27)/1000000)))","v":false},{"$f":"IF(AU29=2,IF(AU24=2,SUM(AV29*1000+(BC29)/10+(BA29)/100+(BK28)/1000+((G28+R28)-(F28+S28))/10000+(G28+R28)/100000+(G28)/1000000)))","v":false},{"$f":"IF(AU24=3,IF(AU25=3,SUM(AV24*1000+(BC24)/10+(BA24)/100+(BJ24)/1000+((F24+S24)-(G24+R24))/10000+(F24+S24)/100000+(S24)/1000000)))","v":false},{"$f":"IF(AU25=3,IF(AU24=3,SUM(AV25*1000+(BC25)/10+(BA25)/100+(BK24)/1000+((G24+R24)-(F24+S24))/10000+(G24+R24)/100000+(G24)/1000000)))","v":false},{"$f":"IF(AU26=3,IF(AU24=3,SUM(AV26*1000+(BC26)/10+(BA26)/100+(BK25)/1000+((G25+R25)-(F25+S25))/10000+(G25+R25)/100000+(G25)/1000000)))","v":false},{"$f":"IF(AU27=3,IF(AU24=3,SUM(AV27*1000+(BC27)/10+(BA27)/100+(BK26)/1000+((G26+R26)-(F26+S26))/10000+(G26+R26)/100000+(G26)/1000000)))","v":false},{"$f":"IF(AU28=3,IF(AU24=3,SUM(AV28*1000+(BC28)/10+(BA28)/100+(BK27)/1000+((G27+R27)-(F27+S27))/10000+(G27+R27)/100000+(G27)/1000000)))","v":false},{"$f":"IF(AU29=3,IF(AU24=3,SUM(AV29*1000+(BC29)/10+(BA29)/100+(BK28)/1000+((G28+R28)-(F28+S28))/10000+(G28+R28)/100000+(G28)/1000000)))","v":false},{"$f":"IF(AU24=4,IF(AU25=4,SUM(AV24*1000+(BC24)/10+(BA24)/100+(BJ24)/1000+((F24+S24)-(G24+R24))/10000+(F24+S24)/100000+(S24)/1000000)))","v":false},{"$f":"IF(AU25=4,IF(AU24=4,SUM(AV25*1000+(BC25)/10+(BA25)/100+(BK24)/1000+((G24+R24)-(F24+S24))/10000+(G24+R24)/100000+(G24)/1000000)))","v":false},{"$f":"IF(AU26=4,IF(AU24=4,SUM(AV26*1000+(BC26)/10+(BA26)/100+(BK25)/1000+((G25+R25)-(F25+S25))/10000+(G25+R25)/100000+(G25)/1000000)))","v":false},{"$f":"IF(AU27=4,IF(AU24=4,SUM(AV27*1000+(BC27)/10+(BA27)/100+(BK26)/1000+((G26+R26)-(F26+S26))/10000+(G26+R26)/100000+(G26)/1000000)))","v":false},{"$f":"IF(AU28=4,IF(AU24=4,SUM(AV28*1000+(BC28)/10+(BA28)/100+(BK27)/1000+((G27+R27)-(F27+S27))/10000+(G27+R27)/100000+(G27)/1000000)))","v":false},{"$f":"IF(AU29=4,IF(AU24=4,SUM(AV29*1000+(BC29)/10+(BA29)/100+(BK28)/1000+((G28+R28)-(F28+S28))/10000+(G28+R28)/100000+(G28)/1000000)))","v":false},{"$f":"IF(AU24=5,IF(AU25=5,SUM(AV24*1000+(BC24)/10+(BA24)/100+(BJ24)/1000+((F24+S24)-(G24+R24))/10000+(F24+S24)/100000+(S24)/1000000)))","v":false},{"$f":"IF(AU25=5,IF(AU24=5,SUM(AV25*1000+(BC25)/10+(BA25)/100+(BK24)/1000+((G24+R24)-(F24+S24))/10000+(G24+R24)/100000+(G24)/1000000)))","v":false},{"$f":"IF(AU26=5,IF(AU24=5,SUM(AV26*1000+(BC26)/10+(BA26)/100+(BK25)/1000+((G25+R25)-(F25+S25))/10000+(G25+R25)/100000+(G25)/1000000)))","v":false},{"$f":"IF(AU27=5,IF(AU24=5,SUM(AV27*1000+(BC27)/10+(BA27)/100+(BK26)/1000+((G26+R26)-(F26+S26))/10000+(G26+R26)/100000+(G26)/1000000)))","v":false},{"$f":"IF(AU28=5,IF(AU24=5,SUM(AV28*1000+(BC28)/10+(BA28)/100+(BK27)/1000+((G27+R27)-(F27+S27))/10000+(G27+R27)/100000+(G27)/1000000)))","v":false},{"$f":"IF(AU29=5,IF(AU24=5,SUM(AV29*1000+(BC29)/10+(BA29)/100+(BK28)/1000+((G28+R28)-(F28+S28))/10000+(G28+R28)/100000+(G28)/1000000)))","v":false},{"$f":"IF(AU24=6,IF(AU25=6,SUM(AV24*1000+(BC24)/10+(BA24)/100+(BJ24)/1000+((F24+S24)-(G24+R24))/10000+(F24+S24)/100000+(S24)/1000000)))","v":false},{"$f":"IF(AU25=6,IF(AU24=6,SUM(AV25*1000+(BC25)/10+(BA25)/100+(BK24)/1000+((G24+R24)-(F24+S24))/10000+(G24+R24)/100000+(G24)/1000000)))","v":false},{"$f":"IF(AU26=6,IF(AU24=6,SUM(AV26*1000+(BC26)/10+(BA26)/100+(BK25)/1000+((G25+R25)-(F25+S25))/10000+(G25+R25)/100000+(G25)/1000000)))","v":false},{"$f":"IF(AU27=6,IF(AU24=6,SUM(AV27*1000+(BC27)/10+(BA27)/100+(BK26)/1000+((G26+R26)-(F26+S26))/10000+(G26+R26)/100000+(G26)/1000000)))","v":false},{"$f":"IF(AU28=6,IF(AU24=6,SUM(AV28*1000+(BC28)/10+(BA28)/100+(BK27)/1000+((G27+R27)-(F27+S27))/10000+(G27+R27)/100000+(G27)/1000000)))","v":false},{"$f":"IF(AU29=6,IF(AU24=6,SUM(AV29*1000+(BC29)/10+(BA29)/100+(BK28)/1000+((G28+R28)-(F28+S28))/10000+(G28+R28)/100000+(G28)/1000000)))","v":false}]
[{"$f":"AP24","v":"SUISSE"},null,null,null,null,2,0,{"$f":"AP27","v":"ILES FEROE"},null,null,null,null,"ILES FEROE",null,null,null,null,0,2,"SUISSE",null,null,null,null,null,{"$f":"VLOOKUP(AN33,AO31:AT36,2,0)","v":"HONGRIE"},null,null,null,null,{"$f":"IF(CT34=CT33,CW33,CW34)","v":3},{"$f":"VLOOKUP(Z26,AP24:BC29,7,0)","v":13},{"$f":"VLOOKUP(Z26,AP24:BC29,8,0)","v":10},{"$f":"VLOOKUP(Z26,AP24:BC29,9,0)","v":4},{"$f":"VLOOKUP(Z26,AP24:BC29,10,0)","v":1},{"$f":"VLOOKUP(Z26,AP24:BC29,11,0)","v":5},{"$f":"VLOOKUP(Z26,AP24:BC29,12,0)","v":14},{"$f":"VLOOKUP(Z26,AP24:BC29,13,0)","v":14},{"$f":"VLOOKUP(Z26,AP24:BC29,14,0)","v":0},null,null,"HONGRIE",null,null,null,null,{"$f":"RANK(AV26,AV24:AV29)","v":3},{"$f":"SUMPRODUCT((A24:E38=AP26)*(BF24:BF38))+SUMPRODUCT((H24:L38=AP26)*(BG24:BG38))+SUMPRODUCT((M24:Q38=AP26)*(BH24:BH38))+SUMPRODUCT((T24:X38=AP26)*(BI24:BI38))","v":13},{"$f":"SUMPRODUCT((A24:E38=AP26)*(BL24:BL38))+SUMPRODUCT((H24:L38=AP26)*(BM24:BM38))+SUMPRODUCT((M24:Q38=AP26)*(BN24:BN38))+SUMPRODUCT((T24:X38=AP26)*(BO24:BO38))","v":10},{"$f":"SUMPRODUCT((A24:E38=AP26)*(BP24:BP38))+SUMPRODUCT((H24:L38=AP26)*(BQ24:BQ38))+SUMPRODUCT((M24:Q38=AP26)*(BR24:BR38))+SUMPRODUCT((T24:X38=AP26)*(BS24:BS38))","v":4},{"$f":"SUMPRODUCT((A24:E38=AP26)*(BT24:BT38))+SUMPRODUCT((H24:L38=AP26)*(BU24:BU38))+SUMPRODUCT((M24:Q38=AP26)*(BV24:BV38))+SUMPRODUCT((T24:X38=AP26)*(BW24:BW38))","v":1},{"$f":"SUMPRODUCT((A24:E38=AP26)*(BX24:BX38))+SUMPRODUCT((H24:L38=AP26)*(BY24:BY38))+SUMPRODUCT((M24:Q38=AP26)*(BZ24:BZ38))+SUMPRODUCT((T24:X38=AP26)*(CA24:CA38))","v":5},{"$f":"SUMPRODUCT((A24:E38=AP26)*(CB24:CB38))+SUMPRODUCT((H24:L38=AP26)*(CC24:CC38))+SUMPRODUCT((M24:Q38=AP26)*(CD24:CD38))+SUMPRODUCT((T24:X38=AP26)*(CE24:CE38))","v":14},{"$f":"SUMPRODUCT((A24:E38=AP26)*(CH24:CH38))+SUMPRODUCT((H24:L38=AP26)*(CI24:CI38))+SUMPRODUCT((M24:Q38=AP26)*(CJ24:CJ38))+SUMPRODUCT((T24:X38=AP26)*(CK24:CK38))","v":14},0,null,null,3,0,0,3,6,0,1,1,1,1,1,false,false,1,false,false,false,false,false,1,1,false,2,0,0,2,4,0,0,2,2,0,0,4,{"$f":"IF(AU24=1,IF(AU26=1,SUM(AV24*1000+(BC24)/10+(BA24)/100+(BJ25)/1000+((F25+S25)-(G25+R25))/10000+(F25+S25)/100000+(S25)/1000000)))","v":false},{"$f":"IF(AU25=1,IF(AU26=1,SUM(AV25*1000+(BC25)/10+(BA25)/100+(BJ29)/1000+((F29+S29)-(G29+R29))/10000+(F29+S29)/100000+(S29)/1000000)))","v":false},{"$f":"IF(AU26=1,IF(AU25=1,SUM(AV26*1000+(BC26)/10+(BA26)/100+(BK29)/1000+((G29+R29)-(F29+S29))/10000+(G29+R29)/1000000+(G29)/1000000)))","v":false},{"$f":"IF(AU27=1,IF(AU25=1,SUM(AV27*1000+(BC27)/10+(BA27)/100+(BK30)/1000+((G30+R30)-(F30+S30))/10000+(G30+R30)/100000+(G30)/1000000)))","v":false},{"$f":"IF(AU28=1,IF(AU25=1,SUM(AV28*1000+(BC28)/10+(BA28)/100+(BK31)/1000+((G31+R31)-(F31+S31))/10000+(G31+R31)/100000+(G31)/1000000)))","v":false},{"$f":"IF(AU29=1,IF(AU25=1,SUM(AV29*1000+(BC29)/10+(BA29)/100+(BK32)/1000+((G32+R32)-(F32+S32))/10000+(G32+R32)/100000+(G32)/1000000)))","v":false},null,{"$f":"IF(AU24=2,IF(AU26=2,SUM(AV24*1000+(BC24)/10+(BA24)/100+(BJ25)/1000+((F25+S25)-(G25+R25))/10000+(F25+S25)/100000+(S25)/1000000)))","v":false},{"$f":"IF(AU25=2,IF(AU26=2,SUM(AV25*1000+(BC25)/10+(BA25)/100+(BJ29)/1000+((F29+S29)-(G29+R29))/10000+(F29+S29)/100000+(S29)/1000000)))","v":false},{"$f":"IF(AU26=2,IF(AU25=2,SUM(AV26*1000+(BC26)/10+(BA26)/100+(BK29)/1000+((G29+R29)-(F29+S29))/10000+(G29+R29)/1000000+(G29)/1000000)))","v":false},{"$f":"IF(AU27=2,IF(AU25=2,SUM(AV27*1000+(BC27)/10+(BA27)/100+(BK30)/1000+((G30+R30)-(F30+S30))/10000+(G30+R30)/100000+(G30)/1000000)))","v":false},{"$f":"IF(AU28=2,IF(AU25=2,SUM(AV28*1000+(BC28)/10+(BA28)/100+(BK31)/1000+((G31+R31)-(F31+S31))/10000+(G31+R31)/100000+(G31)/1000000)))","v":false},{"$f":"IF(AU29=2,IF(AU25=2,SUM(AV29*1000+(BC29)/10+(BA29)/100+(BK32)/1000+((G32+R32)-(F32+S32))/10000+(G32+R32)/100000+(G32)/1000000)))","v":false},{"$f":"IF(AU24=3,IF(AU26=3,SUM(AV24*1000+(BC24)/10+(BA24)/100+(BJ25)/1000+((F25+S25)-(G25+R25))/10000+(F25+S25)/100000+(S25)/1000000)))","v":false},{"$f":"IF(AU25=3,IF(AU26=3,SUM(AV25*1000+(BC25)/10+(BA25)/100+(BJ29)/1000+((F29+S29)-(G29+R29))/10000+(F29+S29)/100000+(S29)/1000000)))","v":false},{"$f":"IF(AU26=3,IF(AU25=3,SUM(AV26*1000+(BC26)/10+(BA26)/100+(BK29)/1000+((G29+R29)-(F29+S29))/10000+(G29+R29)/1000000+(G29)/1000000)))","v":false},{"$f":"IF(AU27=3,IF(AU25=3,SUM(AV27*1000+(BC27)/10+(BA27)/100+(BK30)/1000+((G30+R30)-(F30+S30))/10000+(G30+R30)/100000+(G30)/1000000)))","v":false},{"$f":"IF(AU28=3,IF(AU25=3,SUM(AV28*1000+(BC28)/10+(BA28)/100+(BK31)/1000+((G31+R31)-(F31+S31))/10000+(G31+R31)/100000+(G31)/1000000)))","v":false},{"$f":"IF(AU29=3,IF(AU25=3,SUM(AV29*1000+(BC29)/10+(BA29)/100+(BK32)/1000+((G32+R32)-(F32+S32))/10000+(G32+R32)/100000+(G32)/1000000)))","v":false},{"$f":"IF(AU24=4,IF(AU26=4,SUM(AV24*1000+(BC24)/10+(BA24)/100+(BJ25)/1000+((F25+S25)-(G25+R25))/10000+(F25+S25)/100000+(S25)/1000000)))","v":false},{"$f":"IF(AU25=4,IF(AU26=4,SUM(AV25*1000+(BC25)/10+(BA25)/100+(BJ29)/1000+((F29+S29)-(G29+R29))/10000+(F29+S29)/100000+(S29)/1000000)))","v":false},{"$f":"IF(AU26=4,IF(AU25=4,SUM(AV26*1000+(BC26)/10+(BA26)/100+(BK29)/1000+((G29+R29)-(F29+S29))/10000+(G29+R29)/1000000+(G29)/1000000)))","v":false},{"$f":"IF(AU27=4,IF(AU25=4,SUM(AV27*1000+(BC27)/10+(BA27)/100+(BK30)/1000+((G30+R30)-(F30+S30))/10000+(G30+R30)/100000+(G30)/1000000)))","v":false},{"$f":"IF(AU28=4,IF(AU25=4,SUM(AV28*1000+(BC28)/10+(BA28)/100+(BK31)/1000+((G31+R31)-(F31+S31))/10000+(G31+R31)/100000+(G31)/1000000)))","v":false},{"$f":"IF(AU29=4,IF(AU25=4,SUM(AV29*1000+(BC29)/10+(BA29)/100+(BK32)/1000+((G32+R32)-(F32+S32))/10000+(G32+R32)/100000+(G32)/1000000)))","v":false},{"$f":"IF(AU24=5,IF(AU26=5,SUM(AV24*1000+(BC24)/10+(BA24)/100+(BJ25)/1000+((F25+S25)-(G25+R25))/10000+(F25+S25)/100000+(S25)/1000000)))","v":false},{"$f":"IF(AU25=5,IF(AU26=5,SUM(AV25*1000+(BC25)/10+(BA25)/100+(BJ29)/1000+((F29+S29)-(G29+R29))/10000+(F29+S29)/100000+(S29)/1000000)))","v":false},{"$f":"IF(AU26=5,IF(AU25=5,SUM(AV26*1000+(BC26)/10+(BA26)/100+(BK29)/1000+((G29+R29)-(F29+S29))/10000+(G29+R29)/1000000+(G29)/1000000)))","v":false},{"$f":"IF(AU27=5,IF(AU25=5,SUM(AV27*1000+(BC27)/10+(BA27)/100+(BK30)/1000+((G30+R30)-(F30+S30))/10000+(G30+R30)/100000+(G30)/1000000)))","v":false},{"$f":"IF(AU28=5,IF(AU25=5,SUM(AV28*1000+(BC28)/10+(BA28)/100+(BK31)/1000+((G31+R31)-(F31+S31))/10000+(G31+R31)/100000+(G31)/1000000)))","v":false},{"$f":"IF(AU29=5,IF(AU25=5,SUM(AV29*1000+(BC29)/10+(BA29)/100+(BK32)/1000+((G32+R32)-(F32+S32))/10000+(G32+R32)/100000+(G32)/1000000)))","v":false},{"$f":"IF(AU24=6,IF(AU26=6,SUM(AV24*1000+(BC24)/10+(BA24)/100+(BJ25)/1000+((F25+S25)-(G25+R25))/10000+(F25+S25)/100000+(S25)/1000000)))","v":false},{"$f":"IF(AU25=6,IF(AU26=6,SUM(AV25*1000+(BC25)/10+(BA25)/100+(BJ29)/1000+((F29+S29)-(G29+R29))/10000+(F29+S29)/100000+(S29)/1000000)))","v":false},{"$f":"IF(AU26=6,IF(AU25=6,SUM(AV26*1000+(BC26)/10+(BA26)/100+(BK29)/1000+((G29+R29)-(F29+S29))/10000+(G29+R29)/1000000+(G29)/1000000)))","v":false},{"$f":"IF(AU27=6,IF(AU25=6,SUM(AV27*1000+(BC27)/10+(BA27)/100+(BK30)/1000+((G30+R30)-(F30+S30))/10000+(G30+R30)/100000+(G30)/1000000)))","v":false},{"$f":"IF(AU28=6,IF(AU25=6,SUM(AV28*1000+(BC28)/10+(BA28)/100+(BK31)/1000+((G31+R31)-(F31+S31))/10000+(G31+R31)/100000+(G31)/1000000)))","v":false},{"$f":"IF(AU29=6,IF(AU25=6,SUM(AV29*1000+(BC29)/10+(BA29)/100+(BK32)/1000+((G32+R32)-(F32+S32))/10000+(G32+R32)/100000+(G32)/1000000)))","v":false}]
[{"$f":"AP24","v":"SUISSE"},null,null,null,null,1,0,{"$f":"AP28","v":"LETTONIE"},null,null,null,null,"LETTONIE",null,null,null,null,0,3,"SUISSE",null,null,null,null,null,{"$f":"VLOOKUP(AN34,AO31:AT36,2,0)","v":"ILES FEROE"},null,null,null,null,4,{"$f":"VLOOKUP(Z27,AP24:BC29,7,0)","v":9},{"$f":"VLOOKUP(Z27,AP24:BC29,8,0)","v":10},{"$f":"VLOOKUP(Z27,AP24:BC29,9,0)","v":2},{"$f":"VLOOKUP(Z27,AP24:BC29,10,0)","v":3},{"$f":"VLOOKUP(Z27,AP24:BC29,11,0)","v":5},{"$f":"VLOOKUP(Z27,AP24:BC29,12,0)","v":4},{"$f":"VLOOKUP(Z27,AP24:BC29,13,0)","v":16},{"$f":"VLOOKUP(Z27,AP24:BC29,14,0)","v":-12},null,null,"ILES FEROE",null,null,null,null,{"$f":"RANK(AV27,AV24:AV29)","v":4},{"$f":"SUMPRODUCT((A24:E38=AP27)*(BF24:BF38))+SUMPRODUCT((H24:L38=AP27)*(BG24:BG38))+SUMPRODUCT((M24:Q38=AP27)*(BH24:BH38))+SUMPRODUCT((T24:X38=AP27)*(BI24:BI38))","v":9},{"$f":"SUMPRODUCT((A24:E38=AP27)*(BL24:BL38))+SUMPRODUCT((H24:L38=AP27)*(BM24:BM38))+SUMPRODUCT((M24:Q38=AP27)*(BN24:BN38))+SUMPRODUCT((T24:X38=AP27)*(BO24:BO38))","v":10},{"$f":"SUMPRODUCT((A24:E38=AP27)*(BP24:BP38))+SUMPRODUCT((H24:L38=AP27)*(BQ24:BQ38))+SUMPRODUCT((M24:Q38=AP27)*(BR24:BR38))+SUMPRODUCT((T24:X38=AP27)*(BS24:BS38))","v":2},{"$f":"SUMPRODUCT((A24:E38=AP27)*(BT24:BT38))+SUMPRODUCT((H24:L38=AP27)*(BU24:BU38))+SUMPRODUCT((M24:Q38=AP27)*(BV24:BV38))+SUMPRODUCT((T24:X38=AP27)*(BW24:BW38))","v":3},{"$f":"SUMPRODUCT((A24:E38=AP27)*(BX24:BX38))+SUMPRODUCT((H24:L38=AP27)*(BY24:BY38))+SUMPRODUCT((M24:Q38=AP27)*(BZ24:BZ38))+SUMPRODUCT((T24:X38=AP27)*(CA24:CA38))","v":5},{"$f":"SUMPRODUCT((A24:E38=AP27)*(CB24:CB38))+SUMPRODUCT((H24:L38=AP27)*(CC24:CC38))+SUMPRODUCT((M24:Q38=AP27)*(CD24:CD38))+SUMPRODUCT((T24:X38=AP27)*(CE24:CE38))","v":4},{"$f":"SUMPRODUCT((A24:E38=AP27)*(CH24:CH38))+SUMPRODUCT((H24:L38=AP27)*(CI24:CI38))+SUMPRODUCT((M24:Q38=AP27)*(CJ24:CJ38))+SUMPRODUCT((T24:X38=AP27)*(CK24:CK38))","v":16},-12,null,null,3,0,0,3,6,0,1,1,1,1,1,false,false,1,false,false,false,false,false,1,1,false,1,0,0,3,4,0,0,1,3,0,0,4,{"$f":"IF(AU24=1,IF(AU27=1,SUM(AV24*1000+(BC24)/10+(BA24)/100+(BJ26)/1000+((F26+S26)-(G26+R26))/10000+(F26+S26)/100000+(S26)/1000000)))","v":false},{"$f":"IF(AU25=1,IF(AU27=1,SUM(AV25*1000+(BC25)/10+(BA25)/100+(BJ30)/1000+((F30+S30)-(G30+R30))/10000+(F30+S30)/100000+(S30)/1000000)))","v":false},{"$f":"IF(AU26=1,IF(AU27=1,SUM(AV26*1000+(BC26)/10+(BA26)/100+(BJ33)/1000+((F33+S33)-(G33+R33))/10000+(F33+S33)/100000+(S33)/1000000)))","v":false},{"$f":"IF(AU27=1,IF(AU26=1,SUM(AV27*1000+(BC27)/10+(BA27)/100+(BK33)/1000+((G33+R33)-(F33+S33))/10000+(G33+R33)/100000+(G33)/1000000)))","v":false},{"$f":"IF(AU28=1,IF(AU26=1,SUM(AV28*1000+(BC28)/10+(BA28)/100+(BK34)/1000+((G34+R34)-(F34+S34))/10000+(G34+R34)/100000+(G34)/1000000)))","v":false},{"$f":"IF(AU29=1,IF(AU26=1,SUM(AV29*1000+(BC29)/10+(BA29)/100+(BK35)/1000+((G35+R35)-(F35+S35))/10000+(G35+R35)/100000+(G35)/1000000)))","v":false},null,{"$f":"IF(AU24=2,IF(AU27=2,SUM(AV24*1000+(BC24)/10+(BA24)/100+(BJ26)/1000+((F26+S26)-(G26+R26))/10000+(F26+S26)/100000+(S26)/1000000)))","v":false},{"$f":"IF(AU25=2,IF(AU27=2,SUM(AV25*1000+(BC25)/10+(BA25)/100+(BJ30)/1000+((F30+S30)-(G30+R30))/10000+(F30+S30)/100000+(S30)/1000000)))","v":false},{"$f":"IF(AU26=2,IF(AU27=2,SUM(AV26*1000+(BC26)/10+(BA26)/100+(BJ33)/1000+((F33+S33)-(G33+R33))/10000+(F33+S33)/100000+(S33)/1000000)))","v":false},{"$f":"IF(AU27=2,IF(AU26=2,SUM(AV27*1000+(BC27)/10+(BA27)/100+(BK33)/1000+((G33+R33)-(F33+S33))/10000+(G33+R33)/100000+(G33)/1000000)))","v":false},{"$f":"IF(AU28=2,IF(AU26=2,SUM(AV28*1000+(BC28)/10+(BA28)/100+(BK34)/1000+((G34+R34)-(F34+S34))/10000+(G34+R34)/100000+(G34)/1000000)))","v":false},{"$f":"IF(AU29=2,IF(AU26=2,SUM(AV29*1000+(BC29)/10+(BA29)/100+(BK35)/1000+((G35+R35)-(F35+S35))/10000+(G35+R35)/100000+(G35)/1000000)))","v":false},{"$f":"IF(AU24=3,IF(AU27=3,SUM(AV24*1000+(BC24)/10+(BA24)/100+(BJ26)/1000+((F26+S26)-(G26+R26))/10000+(F26+S26)/100000+(S26)/1000000)))","v":false},{"$f":"IF(AU25=3,IF(AU27=3,SUM(AV25*1000+(BC25)/10+(BA25)/100+(BJ30)/1000+((F30+S30)-(G30+R30))/10000+(F30+S30)/100000+(S30)/1000000)))","v":false},{"$f":"IF(AU26=3,IF(AU27=3,SUM(AV26*1000+(BC26)/10+(BA26)/100+(BJ33)/1000+((F33+S33)-(G33+R33))/10000+(F33+S33)/100000+(S33)/1000000)))","v":false},{"$f":"IF(AU27=3,IF(AU26=3,SUM(AV27*1000+(BC27)/10+(BA27)/100+(BK33)/1000+((G33+R33)-(F33+S33))/10000+(G33+R33)/100000+(G33)/1000000)))","v":false},{"$f":"IF(AU28=3,IF(AU26=3,SUM(AV28*1000+(BC28)/10+(BA28)/100+(BK34)/1000+((G34+R34)-(F34+S34))/10000+(G34+R34)/100000+(G34)/1000000)))","v":false},{"$f":"IF(AU29=3,IF(AU26=3,SUM(AV29*1000+(BC29)/10+(BA29)/100+(BK35)/1000+((G35+R35)-(F35+S35))/10000+(G35+R35)/100000+(G35)/1000000)))","v":false},{"$f":"IF(AU24=4,IF(AU27=4,SUM(AV24*1000+(BC24)/10+(BA24)/100+(BJ26)/1000+((F26+S26)-(G26+R26))/10000+(F26+S26)/100000+(S26)/1000000)))","v":false},{"$f":"IF(AU25=4,IF(AU27=4,SUM(AV25*1000+(BC25)/10+(BA25)/100+(BJ30)/1000+((F30+S30)-(G30+R30))/10000+(F30+S30)/100000+(S30)/1000000)))","v":false},{"$f":"IF(AU26=4,IF(AU27=4,SUM(AV26*1000+(BC26)/10+(BA26)/100+(BJ33)/1000+((F33+S33)-(G33+R33))/10000+(F33+S33)/100000+(S33)/1000000)))","v":false},{"$f":"IF(AU27=4,IF(AU26=4,SUM(AV27*1000+(BC27)/10+(BA27)/100+(BK33)/1000+((G33+R33)-(F33+S33))/10000+(G33+R33)/100000+(G33)/1000000)))","v":false},{"$f":"IF(AU28=4,IF(AU26=4,SUM(AV28*1000+(BC28)/10+(BA28)/100+(BK34)/1000+((G34+R34)-(F34+S34))/10000+(G34+R34)/100000+(G34)/1000000)))","v":false},{"$f":"IF(AU29=4,IF(AU26=4,SUM(AV29*1000+(BC29)/10+(BA29)/100+(BK35)/1000+((G35+R35)-(F35+S35))/10000+(G35+R35)/100000+(G35)/1000000)))","v":false},{"$f":"IF(AU24=5,IF(AU27=5,SUM(AV24*1000+(BC24)/10+(BA24)/100+(BJ26)/1000+((F26+S26)-(G26+R26))/10000+(F26+S26)/100000+(S26)/1000000)))","v":false},{"$f":"IF(AU25=5,IF(AU27=5,SUM(AV25*1000+(BC25)/10+(BA25)/100+(BJ30)/1000+((F30+S30)-(G30+R30))/10000+(F30+S30)/100000+(S30)/1000000)))","v":false},{"$f":"IF(AU26=5,IF(AU27=5,SUM(AV26*1000+(BC26)/10+(BA26)/100+(BJ33)/1000+((F33+S33)-(G33+R33))/10000+(F33+S33)/100000+(S33)/1000000)))","v":false},{"$f":"IF(AU27=5,IF(AU26=5,SUM(AV27*1000+(BC27)/10+(BA27)/100+(BK33)/1000+((G33+R33)-(F33+S33))/10000+(G33+R33)/100000+(G33)/1000000)))","v":false},{"$f":"IF(AU28=5,IF(AU26=5,SUM(AV28*1000+(BC28)/10+(BA28)/100+(BK34)/1000+((G34+R34)-(F34+S34))/10000+(G34+R34)/100000+(G34)/1000000)))","v":false},{"$f":"IF(AU29=5,IF(AU26=5,SUM(AV29*1000+(BC29)/10+(BA29)/100+(BK35)/1000+((G35+R35)-(F35+S35))/10000+(G35+R35)/100000+(G35)/1000000)))","v":false},{"$f":"IF(AU24=6,IF(AU27=6,SUM(AV24*1000+(BC24)/10+(BA24)/100+(BJ26)/1000+((F26+S26)-(G26+R26))/10000+(F26+S26)/100000+(S26)/1000000)))","v":false},{"$f":"IF(AU25=6,IF(AU27=6,SUM(AV25*1000+(BC25)/10+(BA25)/100+(BJ30)/1000+((F30+S30)-(G30+R30))/10000+(F30+S30)/100000+(S30)/1000000)))","v":false},{"$f":"IF(AU26=6,IF(AU27=6,SUM(AV26*1000+(BC26)/10+(BA26)/100+(BJ33)/1000+((F33+S33)-(G33+R33))/10000+(F33+S33)/100000+(S33)/1000000)))","v":false},{"$f":"IF(AU27=6,IF(AU26=6,SUM(AV27*1000+(BC27)/10+(BA27)/100+(BK33)/1000+((G33+R33)-(F33+S33))/10000+(G33+R33)/100000+(G33)/1000000)))","v":false},{"$f":"IF(AU28=6,IF(AU26=6,SUM(AV28*1000+(BC28)/10+(BA28)/100+(BK34)/1000+((G34+R34)-(F34+S34))/10000+(G34+R34)/100000+(G34)/1000000)))","v":false},{"$f":"IF(AU29=6,IF(AU26=6,SUM(AV29*1000+(BC29)/10+(BA29)/100+(BK35)/1000+((G35+R35)-(F35+S35))/10000+(G35+R35)/100000+(G35)/1000000)))","v":false}]
[{"$f":"AP24","v":"SUISSE"},null,null,null,null,3,0,{"$f":"AP29","v":"ANDORRE"},null,null,null,null,"ANDORRE",null,null,null,null,1,2,"SUISSE",null,null,null,null,null,{"$f":"VLOOKUP(AN35,AO31:AT36,2,0)","v":"LETTONIE"},null,null,null,null,5,{"$f":"VLOOKUP(Z28,AP24:BC29,7,0)","v":7},{"$f":"VLOOKUP(Z28,AP24:BC29,8,0)","v":10},{"$f":"VLOOKUP(Z28,AP24:BC29,9,0)","v":2},{"$f":"VLOOKUP(Z28,AP24:BC29,10,0)","v":1},{"$f":"VLOOKUP(Z28,AP24:BC29,11,0)","v":7},{"$f":"VLOOKUP(Z28,AP24:BC29,12,0)","v":7},{"$f":"VLOOKUP(Z28,AP24:BC29,13,0)","v":18},{"$f":"VLOOKUP(Z28,AP24:BC29,14,0)","v":-11},null,null,"LETTONIE",null,null,null,null,{"$f":"RANK(AV28,AV24:AV29)","v":5},{"$f":"SUMPRODUCT((A24:E38=AP28)*(BF24:BF38))+SUMPRODUCT((H24:L38=AP28)*(BG24:BG38))+SUMPRODUCT((M24:Q38=AP28)*(BH24:BH38))+SUMPRODUCT((T24:X38=AP28)*(BI24:BI38))","v":7},{"$f":"SUMPRODUCT((A24:E38=AP28)*(BL24:BL38))+SUMPRODUCT((H24:L38=AP28)*(BM24:BM38))+SUMPRODUCT((M24:Q38=AP28)*(BN24:BN38))+SUMPRODUCT((T24:X38=AP28)*(BO24:BO38))","v":10},{"$f":"SUMPRODUCT((A24:E38=AP28)*(BP24:BP38))+SUMPRODUCT((H24:L38=AP28)*(BQ24:BQ38))+SUMPRODUCT((M24:Q38=AP28)*(BR24:BR38))+SUMPRODUCT((T24:X38=AP28)*(BS24:BS38))","v":2},{"$f":"SUMPRODUCT((A24:E38=AP28)*(BT24:BT38))+SUMPRODUCT((H24:L38=AP28)*(BU24:BU38))+SUMPRODUCT((M24:Q38=AP28)*(BV24:BV38))+SUMPRODUCT((T24:X38=AP28)*(BW24:BW38))","v":1},{"$f":"SUMPRODUCT((A24:E38=AP28)*(BX24:BX38))+SUMPRODUCT((H24:L38=AP28)*(BY24:BY38))+SUMPRODUCT((M24:Q38=AP28)*(BZ24:BZ38))+SUMPRODUCT((T24:X38=AP28)*(CA24:CA38))","v":7},{"$f":"SUMPRODUCT((A24:E38=AP28)*(CB24:CB38))+SUMPRODUCT((H24:L38=AP28)*(CC24:CC38))+SUMPRODUCT((M24:Q38=AP28)*(CD24:CD38))+SUMPRODUCT((T24:X38=AP28)*(CE24:CE38))","v":7},{"$f":"SUMPRODUCT((A24:E38=AP28)*(CH24:CH38))+SUMPRODUCT((H24:L38=AP28)*(CI24:CI38))+SUMPRODUCT((M24:Q38=AP28)*(CJ24:CJ38))+SUMPRODUCT((T24:X38=AP28)*(CK24:CK38))","v":18},-11,null,null,3,0,0,3,6,0,1,1,1,1,1,false,false,1,false,false,false,false,false,1,1,false,3,0,1,2,5,1,0,3,2,1,1,5,{"$f":"IF(AU24=1,IF(AU28=1,SUM(AV24*1000+(BC24)/10+(BA24)/100+(BJ27)/1000+((F27+S27)-(G27+R27))/10000+(F27+S27)/100000+(S27)/1000000)))","v":false},{"$f":"IF(AU25=1,IF(AU28=1,SUM(AV25*1000+(BC25)/10+(BA25)/100+(BJ31)/1000+((F31+S31)-(G31+R31))/10000+(F31+S31)/100000+(S31)/1000000)))","v":false},{"$f":"IF(AU26=1,IF(AU28=1,SUM(AV26*1000+(BC26)/10+(BA26)/100+(BJ34)/1000+((F34+S34)-(G34+R34))/10000+(F34+S34)/100000+(S34)/1000000)))","v":false},{"$f":"IF(AU27=1,IF(AU28=1,SUM(AV27*1000+(BC27)/10+(BA27)/100+(BJ36)/1000+((F36+S36)-(G36+R36))/10000+(F36+S36)/100000+(S36)/1000000)))","v":false},{"$f":"IF(AU28=1,IF(AU27=1,SUM(AV28*1000+(BC28)/10+(BA28)/100+(BK36)/1000+((G36+R36)-(F36+S36))/10000+(G36+R36)/100000+(G36)/1000000)))","v":false},{"$f":"IF(AU29=1,IF(AU27=1,SUM(AV29*1000+(BC29)/10+(BA29)/100+(BK37)/1000+((G37+R37)-(F37+S37))/10000+(G37+R37)/100000+(G37)/1000000)))","v":false},null,{"$f":"IF(AU24=2,IF(AU28=2,SUM(AV24*1000+(BC24)/10+(BA24)/100+(BJ27)/1000+((F27+S27)-(G27+R27))/10000+(F27+S27)/100000+(S27)/1000000)))","v":false},{"$f":"IF(AU25=2,IF(AU28=2,SUM(AV25*1000+(BC25)/10+(BA25)/100+(BJ31)/1000+((F31+S31)-(G31+R31))/10000+(F31+S31)/100000+(S31)/1000000)))","v":false},{"$f":"IF(AU26=2,IF(AU28=2,SUM(AV26*1000+(BC26)/10+(BA26)/100+(BJ34)/1000+((F34+S34)-(G34+R34))/10000+(F34+S34)/100000+(S34)/1000000)))","v":false},{"$f":"IF(AU27=2,IF(AU28=2,SUM(AV27*1000+(BC27)/10+(BA27)/100+(BJ36)/1000+((F36+S36)-(G36+R36))/10000+(F36+S36)/100000+(S36)/1000000)))","v":false},{"$f":"IF(AU28=2,IF(AU27=2,SUM(AV28*1000+(BC28)/10+(BA28)/100+(BK36)/1000+((G36+R36)-(F36+S36))/10000+(G36+R36)/100000+(G36)/1000000)))","v":false},{"$f":"IF(AU29=2,IF(AU27=2,SUM(AV29*1000+(BC29)/10+(BA29)/100+(BK37)/1000+((G37+R37)-(F37+S37))/10000+(G37+R37)/100000+(G37)/1000000)))","v":false},{"$f":"IF(AU24=3,IF(AU28=3,SUM(AV24*1000+(BC24)/10+(BA24)/100+(BJ27)/1000+((F27+S27)-(G27+R27))/10000+(F27+S27)/100000+(S27)/1000000)))","v":false},{"$f":"IF(AU25=3,IF(AU28=3,SUM(AV25*1000+(BC25)/10+(BA25)/100+(BJ31)/1000+((F31+S31)-(G31+R31))/10000+(F31+S31)/100000+(S31)/1000000)))","v":false},{"$f":"IF(AU26=3,IF(AU28=3,SUM(AV26*1000+(BC26)/10+(BA26)/100+(BJ34)/1000+((F34+S34)-(G34+R34))/10000+(F34+S34)/100000+(S34)/1000000)))","v":false},{"$f":"IF(AU27=3,IF(AU28=3,SUM(AV27*1000+(BC27)/10+(BA27)/100+(BJ36)/1000+((F36+S36)-(G36+R36))/10000+(F36+S36)/100000+(S36)/1000000)))","v":false},{"$f":"IF(AU28=3,IF(AU27=3,SUM(AV28*1000+(BC28)/10+(BA28)/100+(BK36)/1000+((G36+R36)-(F36+S36))/10000+(G36+R36)/100000+(G36)/1000000)))","v":false},{"$f":"IF(AU29=3,IF(AU27=3,SUM(AV29*1000+(BC29)/10+(BA29)/100+(BK37)/1000+((G37+R37)-(F37+S37))/10000+(G37+R37)/100000+(G37)/1000000)))","v":false},{"$f":"IF(AU24=4,IF(AU28=4,SUM(AV24*1000+(BC24)/10+(BA24)/100+(BJ27)/1000+((F27+S27)-(G27+R27))/10000+(F27+S27)/100000+(S27)/1000000)))","v":false},{"$f":"IF(AU25=4,IF(AU28=4,SUM(AV25*1000+(BC25)/10+(BA25)/100+(BJ31)/1000+((F31+S31)-(G31+R31))/10000+(F31+S31)/100000+(S31)/1000000)))","v":false},{"$f":"IF(AU26=4,IF(AU28=4,SUM(AV26*1000+(BC26)/10+(BA26)/100+(BJ34)/1000+((F34+S34)-(G34+R34))/10000+(F34+S34)/100000+(S34)/1000000)))","v":false},{"$f":"IF(AU27=4,IF(AU28=4,SUM(AV27*1000+(BC27)/10+(BA27)/100+(BJ36)/1000+((F36+S36)-(G36+R36))/10000+(F36+S36)/100000+(S36)/1000000)))","v":false},{"$f":"IF(AU28=4,IF(AU27=4,SUM(AV28*1000+(BC28)/10+(BA28)/100+(BK36)/1000+((G36+R36)-(F36+S36))/10000+(G36+R36)/100000+(G36)/1000000)))","v":false},{"$f":"IF(AU29=4,IF(AU27=4,SUM(AV29*1000+(BC29)/10+(BA29)/100+(BK37)/1000+((G37+R37)-(F37+S37))/10000+(G37+R37)/100000+(G37)/1000000)))","v":false},{"$f":"IF(AU24=5,IF(AU28=5,SUM(AV24*1000+(BC24)/10+(BA24)/100+(BJ27)/1000+((F27+S27)-(G27+R27))/10000+(F27+S27)/100000+(S27)/1000000)))","v":false},{"$f":"IF(AU25=5,IF(AU28=5,SUM(AV25*1000+(BC25)/10+(BA25)/100+(BJ31)/1000+((F31+S31)-(G31+R31))/10000+(F31+S31)/100000+(S31)/1000000)))","v":false},{"$f":"IF(AU26=5,IF(AU28=5,SUM(AV26*1000+(BC26)/10+(BA26)/100+(BJ34)/1000+((F34+S34)-(G34+R34))/10000+(F34+S34)/100000+(S34)/1000000)))","v":false},{"$f":"IF(AU27=5,IF(AU28=5,SUM(AV27*1000+(BC27)/10+(BA27)/100+(BJ36)/1000+((F36+S36)-(G36+R36))/10000+(F36+S36)/100000+(S36)/1000000)))","v":false},{"$f":"IF(AU28=5,IF(AU27=5,SUM(AV28*1000+(BC28)/10+(BA28)/100+(BK36)/1000+((G36+R36)-(F36+S36))/10000+(G36+R36)/100000+(G36)/1000000)))","v":false},{"$f":"IF(AU29=5,IF(AU27=5,SUM(AV29*1000+(BC29)/10+(BA29)/100+(BK37)/1000+((G37+R37)-(F37+S37))/10000+(G37+R37)/100000+(G37)/1000000)))","v":false},{"$f":"IF(AU24=6,IF(AU28=6,SUM(AV24*1000+(BC24)/10+(BA24)/100+(BJ27)/1000+((F27+S27)-(G27+R27))/10000+(F27+S27)/100000+(S27)/1000000)))","v":false},{"$f":"IF(AU25=6,IF(AU28=6,SUM(AV25*1000+(BC25)/10+(BA25)/100+(BJ31)/1000+((F31+S31)-(G31+R31))/10000+(F31+S31)/100000+(S31)/1000000)))","v":false},{"$f":"IF(AU26=6,IF(AU28=6,SUM(AV26*1000+(BC26)/10+(BA26)/100+(BJ34)/1000+((F34+S34)-(G34+R34))/10000+(F34+S34)/100000+(S34)/1000000)))","v":false},{"$f":"IF(AU27=6,IF(AU28=6,SUM(AV27*1000+(BC27)/10+(BA27)/100+(BJ36)/1000+((F36+S36)-(G36+R36))/10000+(F36+S36)/100000+(S36)/1000000)))","v":false},{"$f":"IF(AU28=6,IF(AU27=6,SUM(AV28*1000+(BC28)/10+(BA28)/100+(BK36)/1000+((G36+R36)-(F36+S36))/10000+(G36+R36)/100000+(G36)/1000000)))","v":false},{"$f":"IF(AU29=6,IF(AU27=6,SUM(AV29*1000+(BC29)/10+(BA29)/100+(BK37)/1000+((G37+R37)-(F37+S37))/10000+(G37+R37)/100000+(G37)/1000000)))","v":false}]
[{"$f":"AP25","v":"PORTUGAL"},null,null,null,null,3,0,{"$f":"AP26","v":"HONGRIE"},null,null,null,null,"HONGRIE",null,null,null,null,0,1,"PORTUGAL",null,null,null,null,null,{"$f":"VLOOKUP(AN36,AO31:AT36,2,0)","v":"ANDORRE"},null,null,null,null,6,{"$f":"VLOOKUP(Z29,AP24:BC29,7,0)","v":4},{"$f":"VLOOKUP(Z29,AP24:BC29,8,0)","v":10},{"$f":"VLOOKUP(Z29,AP24:BC29,9,0)","v":1},{"$f":"VLOOKUP(Z29,AP24:BC29,10,0)","v":1},{"$f":"VLOOKUP(Z29,AP24:BC29,11,0)","v":8},{"$f":"VLOOKUP(Z29,AP24:BC29,12,0)","v":2},{"$f":"VLOOKUP(Z29,AP24:BC29,13,0)","v":23},{"$f":"VLOOKUP(Z29,AP24:BC29,14,0)","v":-21},null,null,"ANDORRE",null,null,null,null,{"$f":"RANK(AV29,AV24:AV29)","v":6},{"$f":"SUMPRODUCT((A24:E38=AP29)*(BF24:BF38))+SUMPRODUCT((H24:L38=AP29)*(BG24:BG38))+SUMPRODUCT((M24:Q38=AP29)*(BH24:BH38))+SUMPRODUCT((T24:X38=AP29)*(BI24:BI38))","v":4},{"$f":"SUMPRODUCT((A24:E38=AP29)*(BL24:BL38))+SUMPRODUCT((H24:L38=AP29)*(BM24:BM38))+SUMPRODUCT((M24:Q38=AP29)*(BN24:BN38))+SUMPRODUCT((T24:X38=AP29)*(BO24:BO38))","v":10},{"$f":"SUMPRODUCT((A24:E38=AP29)*(BP24:BP38))+SUMPRODUCT((H24:L38=AP29)*(BQ24:BQ38))+SUMPRODUCT((M24:Q38=AP29)*(BR24:BR38))+SUMPRODUCT((T24:X38=AP29)*(BS24:BS38))","v":1},{"$f":"SUMPRODUCT((A24:E38=AP29)*(BT24:BT38))+SUMPRODUCT((H24:L38=AP29)*(BU24:BU38))+SUMPRODUCT((M24:Q38=AP29)*(BV24:BV38))+SUMPRODUCT((T24:X38=AP29)*(BW24:BW38))","v":1},{"$f":"SUMPRODUCT((A24:E38=AP29)*(BX24:BX38))+SUMPRODUCT((H24:L38=AP29)*(BY24:BY38))+SUMPRODUCT((M24:Q38=AP29)*(BZ24:BZ38))+SUMPRODUCT((T24:X38=AP29)*(CA24:CA38))","v":8},{"$f":"SUMPRODUCT((A24:E38=AP29)*(CB24:CB38))+SUMPRODUCT((H24:L38=AP29)*(CC24:CC38))+SUMPRODUCT((M24:Q38=AP29)*(CD24:CD38))+SUMPRODUCT((T24:X38=AP29)*(CE24:CE38))","v":2},{"$f":"SUMPRODUCT((A24:E38=AP29)*(CH24:CH38))+SUMPRODUCT((H24:L38=AP29)*(CI24:CI38))+SUMPRODUCT((M24:Q38=AP29)*(CJ24:CJ38))+SUMPRODUCT((T24:X38=AP29)*(CK24:CK38))","v":23},-21,null,null,3,0,0,3,6,0,1,1,1,1,1,false,false,1,false,false,false,false,false,1,1,false,3,0,0,1,4,0,0,3,1,0,0,4,{"$f":"IF(AU24=1,IF(AU29=1,SUM(AV24*1000+(BC24)/10+(BA24)/100+(BJ28)/1000+((F28+S28)-(G28+R28))/10000+(F28+S28)/100000+(S28)/1000000)))","v":false},{"$f":"IF(AU25=1,IF(AU29=1,SUM(AV25*1000+(BC25)/10+(BA25)/100+(BJ32)/1000+((F32+S32)-(G32+R32))/10000+(F32+S32)/100000+(S32)/1000000)))","v":false},{"$f":"IF(AU26=1,IF(AU29=1,SUM(AV26*1000+(BC26)/10+(BA26)/100+(BJ35)/1000+((F35+S35)-(G35+R35))/10000+(F35+S35)/100000+(S35)/1000000)))","v":false},{"$f":"IF(AU27=1,IF(AU29=1,SUM(AV27*1000+(BC27)/10+(BA27)/100+(BJ37)/1000+((F37+S37)-(G37+R37))/10000+(F37+S37)/100000+(S37)/1000000)))","v":false},{"$f":"IF(AU28=1,IF(AU29=1,SUM(AV28*1000+(BC28)/10+(BA28)/100+(BJ38)/1000+((F38+S38)-(G38+R38))/10000+(F38+S38)/100000+(S38)/1000000)))","v":false},{"$f":"IF(AU29=1,IF(AU28=1,SUM(AV29*1000+(BC29)/10+(BA29)/100+(BK38)/1000+((G38+R38)-(F38+S38))/10000+(G38+R38)/100000+(G38)/1000000)))","v":false},null,{"$f":"IF(AU24=2,IF(AU29=2,SUM(AV24*1000+(BC24)/10+(BA24)/100+(BJ28)/1000+((F28+S28)-(G28+R28))/10000+(F28+S28)/100000+(S28)/1000000)))","v":false},{"$f":"IF(AU25=2,IF(AU29=2,SUM(AV25*1000+(BC25)/10+(BA25)/100+(BJ32)/1000+((F32+S32)-(G32+R32))/10000+(F32+S32)/100000+(S32)/1000000)))","v":false},{"$f":"IF(AU26=2,IF(AU29=2,SUM(AV26*1000+(BC26)/10+(BA26)/100+(BJ35)/1000+((F35+S35)-(G35+R35))/10000+(F35+S35)/100000+(S35)/1000000)))","v":false},{"$f":"IF(AU27=2,IF(AU29=2,SUM(AV27*1000+(BC27)/10+(BA27)/100+(BJ37)/1000+((F37+S37)-(G37+R37))/10000+(F37+S37)/100000+(S37)/1000000)))","v":false},{"$f":"IF(AU28=2,IF(AU29=2,SUM(AV28*1000+(BC28)/10+(BA28)/100+(BJ38)/1000+((F38+S38)-(G38+R38))/10000+(F38+S38)/100000+(S38)/1000000)))","v":false},{"$f":"IF(AU29=2,IF(AU28=2,SUM(AV29*1000+(BC29)/10+(BA29)/100+(BK38)/1000+((G38+R38)-(F38+S38))/10000+(G38+R38)/100000+(G38)/1000000)))","v":false},{"$f":"IF(AU24=3,IF(AU29=3,SUM(AV24*1000+(BC24)/10+(BA24)/100+(BJ28)/1000+((F28+S28)-(G28+R28))/10000+(F28+S28)/100000+(S28)/1000000)))","v":false},{"$f":"IF(AU25=3,IF(AU29=3,SUM(AV25*1000+(BC25)/10+(BA25)/100+(BJ32)/1000+((F32+S32)-(G32+R32))/10000+(F32+S32)/100000+(S32)/1000000)))","v":false},{"$f":"IF(AU26=3,IF(AU29=3,SUM(AV26*1000+(BC26)/10+(BA26)/100+(BJ35)/1000+((F35+S35)-(G35+R35))/10000+(F35+S35)/100000+(S35)/1000000)))","v":false},{"$f":"IF(AU27=3,IF(AU29=3,SUM(AV27*1000+(BC27)/10+(BA27)/100+(BJ37)/1000+((F37+S37)-(G37+R37))/10000+(F37+S37)/100000+(S37)/1000000)))","v":false},{"$f":"IF(AU28=3,IF(AU29=3,SUM(AV28*1000+(BC28)/10+(BA28)/100+(BJ38)/1000+((F38+S38)-(G38+R38))/10000+(F38+S38)/100000+(S38)/1000000)))","v":false},{"$f":"IF(AU29=3,IF(AU28=3,SUM(AV29*1000+(BC29)/10+(BA29)/100+(BK38)/1000+((G38+R38)-(F38+S38))/10000+(G38+R38)/100000+(G38)/1000000)))","v":false},{"$f":"IF(AU24=4,IF(AU29=4,SUM(AV24*1000+(BC24)/10+(BA24)/100+(BJ28)/1000+((F28+S28)-(G28+R28))/10000+(F28+S28)/100000+(S28)/1000000)))","v":false},{"$f":"IF(AU25=4,IF(AU29=4,SUM(AV25*1000+(BC25)/10+(BA25)/100+(BJ32)/1000+((F32+S32)-(G32+R32))/10000+(F32+S32)/100000+(S32)/1000000)))","v":false},{"$f":"IF(AU26=4,IF(AU29=4,SUM(AV26*1000+(BC26)/10+(BA26)/100+(BJ35)/1000+((F35+S35)-(G35+R35))/10000+(F35+S35)/100000+(S35)/1000000)))","v":false},{"$f":"IF(AU27=4,IF(AU29=4,SUM(AV27*1000+(BC27)/10+(BA27)/100+(BJ37)/1000+((F37+S37)-(G37+R37))/10000+(F37+S37)/100000+(S37)/1000000)))","v":false},{"$f":"IF(AU28=4,IF(AU29=4,SUM(AV28*1000+(BC28)/10+(BA28)/100+(BJ38)/1000+((F38+S38)-(G38+R38))/10000+(F38+S38)/100000+(S38)/1000000)))","v":false},{"$f":"IF(AU29=4,IF(AU28=4,SUM(AV29*1000+(BC29)/10+(BA29)/100+(BK38)/1000+((G38+R38)-(F38+S38))/10000+(G38+R38)/100000+(G38)/1000000)))","v":false},{"$f":"IF(AU24=5,IF(AU29=5,SUM(AV24*1000+(BC24)/10+(BA24)/100+(BJ28)/1000+((F28+S28)-(G28+R28))/10000+(F28+S28)/100000+(S28)/1000000)))","v":false},{"$f":"IF(AU25=5,IF(AU29=5,SUM(AV25*1000+(BC25)/10+(BA25)/100+(BJ32)/1000+((F32+S32)-(G32+R32))/10000+(F32+S32)/100000+(S32)/1000000)))","v":false},{"$f":"IF(AU26=5,IF(AU29=5,SUM(AV26*1000+(BC26)/10+(BA26)/100+(BJ35)/1000+((F35+S35)-(G35+R35))/10000+(F35+S35)/100000+(S35)/1000000)))","v":false},{"$f":"IF(AU27=5,IF(AU29=5,SUM(AV27*1000+(BC27)/10+(BA27)/100+(BJ37)/1000+((F37+S37)-(G37+R37))/10000+(F37+S37)/100000+(S37)/1000000)))","v":false},{"$f":"IF(AU28=5,IF(AU29=5,SUM(AV28*1000+(BC28)/10+(BA28)/100+(BJ38)/1000+((F38+S38)-(G38+R38))/10000+(F38+S38)/100000+(S38)/1000000)))","v":false},{"$f":"IF(AU29=5,IF(AU28=5,SUM(AV29*1000+(BC29)/10+(BA29)/100+(BK38)/1000+((G38+R38)-(F38+S38))/10000+(G38+R38)/100000+(G38)/1000000)))","v":false},{"$f":"IF(AU24=6,IF(AU29=6,SUM(AV24*1000+(BC24)/10+(BA24)/100+(BJ28)/1000+((F28+S28)-(G28+R28))/10000+(F28+S28)/100000+(S28)/1000000)))","v":false},{"$f":"IF(AU25=6,IF(AU29=6,SUM(AV25*1000+(BC25)/10+(BA25)/100+(BJ32)/1000+((F32+S32)-(G32+R32))/10000+(F32+S32)/100000+(S32)/1000000)))","v":false},{"$f":"IF(AU26=6,IF(AU29=6,SUM(AV26*1000+(BC26)/10+(BA26)/100+(BJ35)/1000+((F35+S35)-(G35+R35))/10000+(F35+S35)/100000+(S35)/1000000)))","v":false},{"$f":"IF(AU27=6,IF(AU29=6,SUM(AV27*1000+(BC27)/10+(BA27)/100+(BJ37)/1000+((F37+S37)-(G37+R37))/10000+(F37+S37)/100000+(S37)/1000000)))","v":false},{"$f":"IF(AU28=6,IF(AU29=6,SUM(AV28*1000+(BC28)/10+(BA28)/100+(BJ38)/1000+((F38+S38)-(G38+R38))/10000+(F38+S38)/100000+(S38)/1000000)))","v":false},{"$f":"IF(AU29=6,IF(AU28=6,SUM(AV29*1000+(BC29)/10+(BA29)/100+(BK38)/1000+((G38+R38)-(F38+S38))/10000+(G38+R38)/100000+(G38)/1000000)))","v":false}]
[{"$f":"AP25","v":"PORTUGAL"},null,null,null,null,5,1,{"$f":"AP27","v":"ILES FEROE"},null,null,null,null,"ILES FEROE",null,null,null,null,0,6,"PORTUGAL",null,null,null,null,null,null,null,null,null,null,null,null,null,null,null,null,null,null,null,null,null,null,null,null,null,null,null,null,null,null,null,null,null,null,null,null,null,3,0,0,3,6,0,1,1,1,1,1,false,false,1,false,false,false,false,false,1,1,false,5,1,0,6,11,1,1,5,6,0,1,11,{"$f":"SUM(CN24:CN29)","v":1027001.83302},1027003.1230200001,0,0,0,0,null,{"$f":"SUM(CU24:CU29)","v":0},0,0,0,0,0,0,0,600000,0,0,0,0,0,0,400000,0,0,0,0,0,0,200000,0,0,0,0,0,0,100000]
[{"$f":"AP25","v":"PORTUGAL"},null,null,null,null,4,1,{"$f":"AP28","v":"LETTONIE"},null,null,null,null,"LETTONIE",null,null,null,null,0,3,"PORTUGAL",null,null,null,null,null,null,null,null,null,null,null,null,null,null,null,null,null,null,null,1,{"$f":"BA31","v":2},{"$f":"AP24","v":"SUISSE"},null,null,null,null,{"$f":"SUM(CN30,CU30,DA30,DG30,DM30,DS30)","v":1027001.83302},null,null,{"$f":"AU31+0.00000006","v":1027001.83302006},null,null,{"$f":"RANK(AX31,AX31:AZ36)","v":2},{"$f":"RANK(AU31,AU31:AW36)","v":2},null,null,null,3,0,0,3,6,0,1,1,1,1,1,false,false,1,false,false,false,false,false,1,1,false,4,1,0,3,7,1,1,4,3,0,1,7]
[{"$f":"AP25","v":"PORTUGAL"},null,null,null,null,6,0,{"$f":"AP29","v":"ANDORRE"},null,null,null,null,"ANDORRE",null,null,null,null,0,2,"PORTUGAL",null,null,null,null,null,null,null,null,null,null,null,null,null,null,null,null,null,null,null,2,{"$f":"BA32","v":1},{"$f":"AP25","v":"PORTUGAL"},null,null,null,null,{"$f":"SUM(CO30,CV30,DB30,DH30,DN30,DT30)","v":1027003.1230200001},null,null,{"$f":"AU32+0.00000005","v":1027003.12302005},null,null,{"$f":"RANK(AX32,AX31:AZ36)","v":1},{"$f":"RANK(AU32,AU31:AW36)","v":1},null,null,null,3,0,0,3,6,0,1,1,1,1,1,false,false,1,false,false,false,false,false,1,1,false,6,0,0,2,8,0,0,6,2,0,0,8,{"$f":"VLOOKUP(AN31,AO31:AT36,2,0)","v":"PORTUGAL"},null,null,null,null,null,{"$f":"VLOOKUP(CN32,AP31:AW36,6,0)","v":1027003.1230200001},null,null,{"$f":"RANK(CT32,CT32:CV37)","v":1}]
[{"$f":"AP26","v":"HONGRIE"},null,null,null,null,1,0,{"$f":"AP27","v":"ILES FEROE"},null,null,null,null,"ILES FEROE",null,null,null,null,0,0,"HONGRIE",null,null,null,null,null,"ÉQUIPE QUALIFIÉE",null,null,null,{"$f":"Z24","v":"PORTUGAL"},null,null,null,null,null,null,null,null,null,3,3,"HONGRIE",null,null,null,null,{"$f":"SUM(CP30,CW30,DC30,DI30,DO30,DU30)","v":600000},null,null,{"$f":"AU33+0.00000004","v":600000.00000004005},null,null,{"$f":"RANK(AX33,AX31:AZ36)","v":3},{"$f":"RANK(AU33,AU31:AW36)","v":3},null,null,null,3,0,1,1,4,1,1,1,1,1,1,false,false,false,false,false,1,1,false,1,false,false,1,0,0,0,1,0,0,1,0,0,0,1,{"$f":"VLOOKUP(AN32,AO31:AT36,2,0)","v":"SUISSE"},null,null,null,null,null,{"$f":"VLOOKUP(CN33,AP31:AW36,6,0)","v":1027001.83302},null,null,{"$f":"RANK(CT33,CT32:CV37)","v":2}]
[{"$f":"AP26","v":"HONGRIE"},null,null,null,null,3,1,{"$f":"AP28","v":"LETTONIE"},null,null,null,null,"LETTONIE",null,null,null,null,0,2,"HONGRIE",null,null,null,null,null,null,null,null,null,null,null,null,null,null,null,null,null,null,null,4,4,"ILES FEROE",null,null,null,null,{"$f":"SUM(CQ30,CX30,DD30,DJ30,DP30,DV30)","v":400000},null,null,{"$f":"AU34+0.00000003","v":400000.00000002998},null,null,{"$f":"RANK(AX34,AX31:AZ36)","v":4},{"$f":"RANK(AU34,AU31:AW36)","v":4},null,null,null,3,0,0,3,6,0,1,1,1,1,1,false,false,1,false,false,false,false,false,1,1,false,3,1,0,2,5,1,1,3,2,0,1,5,{"$f":"VLOOKUP(AN33,AO31:AT36,2,0)","v":"HONGRIE"},null,null,null,null,null,{"$f":"VLOOKUP(CN34,AP31:AW36,6,0)","v":600000},null,null,{"$f":"RANK(CT34,CT32:CV37)","v":3}]
[{"$f":"AP26","v":"HONGRIE"},null,null,null,null,4,0,{"$f":"AP29","v":"ANDORRE"},null,null,null,null,"ANDORRE",null,null,null,null,1,0,"HONGRIE",null,null,null,null,null,null,null,null,null,null,null,null,null,null,null,null,null,null,null,5,5,"LETTONIE",null,null,null,null,{"$f":"SUM(CR30,CY30,DE30,DK30,DQ30,DW30)","v":200000},null,null,{"$f":"AU35+0.00000002","v":200000.00000001999},null,null,{"$f":"RANK(AX35,AX31:AZ36)","v":5},{"$f":"RANK(AU35,AU31:AW36)","v":5},null,null,null,3,0,3,0,3,3,1,1,1,1,1,false,1,false,false,false,false,false,false,1,false,1,4,0,1,0,4,1,0,4,0,1,1,4,{"$f":"VLOOKUP(AN34,AO31:AT36,2,0)","v":"ILES FEROE"},null,null,null,null,null,{"$f":"VLOOKUP(CN35,AP31:AW36,6,0)","v":400000},null,null,{"$f":"RANK(CT35,CT32:CV37)","v":4}]
[{"$f":"AP27","v":"ILES FEROE"},null,null,null,null,0,0,{"$f":"AP28","v":"LETTONIE"},null,null,null,null,"LETTONIE",null,null,null,null,0,2,"ILES FEROE",null,null,null,null,null,"BARRAGE",null,null,null,{"$f":"IF(M183=9,\"\",D183)","v":"SUISSE"},null,null,null,null,null,null,null,null,null,6,6,"ANDORRE",null,null,null,null,{"$f":"SUM(CS30,CZ30,DF30,DL30,DR30,DX30)","v":100000},null,null,{"$f":"AU36+0.00000001","v":100000.00000001},null,null,{"$f":"RANK(AX36,AX31:AZ36)","v":6},{"$f":"RANK(AU36,AU31:AW36)","v":6},null,null,null,1,1,0,3,4,1,1,1,1,1,false,false,false,1,1,1,false,false,false,false,1,false,0,0,0,2,2,0,0,0,2,0,0,2,{"$f":"VLOOKUP(AN35,AO31:AT36,2,0)","v":"LETTONIE"},null,null,null,null,null,{"$f":"VLOOKUP(CN36,AP31:AW36,6,0)","v":200000},null,null,{"$f":"RANK(CT36,CT32:CV37)","v":5}]
[{"$f":"AP27","v":"ILES FEROE"},null,null,null,null,1,0,{"$f":"AP29","v":"ANDORRE"},null,null,null,null,"ANDORRE",null,null,null,null,0,0,"ILES FEROE",null,null,null,null,null,null,null,null,null,null,null,null,null,null,null,null,null,null,null,null,null,null,null,null,null,null,null,null,null,null,null,null,null,null,null,null,null,3,0,1,1,4,1,1,1,1,1,1,false,false,false,false,false,1,1,false,1,false,false,1,0,0,0,1,0,0,1,0,0,0,1,{"$f":"VLOOKUP(AN36,AO31:AT36,2,0)","v":"ANDORRE"},null,null,null,null,null,{"$f":"VLOOKUP(CN37,AP31:AW36,6,0)","v":100000},null,null,{"$f":"RANK(CT37,CT32:CV37)","v":6}]
[{"$f":"AP28","v":"LETTONIE"},null,null,null,null,4,0,{"$f":"AP29","v":"ANDORRE"},null,null,null,null,"ANDORRE",null,null,null,null,0,1,"LETTONIE",null,null,null,null,null,null,null,null,null,null,null,null,null,null,null,null,null,null,null,null,null,null,null,null,null,null,null,null,null,null,null,null,null,null,null,null,null,3,0,0,3,6,0,1,1,1,1,1,false,false,1,false,false,false,false,false,1,1,false,4,0,0,1,5,0,0,4,1,0,0,5]
[]
[]
["MATCHS  ALLER",null,null,null,null,null,null,null,null,"GROUPE  C",null,null,null,null,null,"MATCHS  RETOUR",null,null,null,null,null,null,null,null,"GROUPE  C","CLASSEMENT",null,null,null,null,null,null,null,null,null,null,null,null,null,null,null,"CLASSEMENT"]
[]
["Équipes",null,null,null,null,"Bts","Bts","Équipes",null,null,null,null,"Équipes",null,null,null,null,"Bts","Bts","Équipes",null,null,null,null,null,"Équipes",null,null,null,null,"R","Pts","J","G","N","P","B +","B -","Diff",null,null,"Équipes",null,null,null,null,"R","Pts","J","G","N","P","B +","B -","Diff",null,null,"pts","pts","pts","pts","t pts","t pts","j","j","j","j","g","g","g","g","n","n","n","n","p","p","p","p","b+","b+","b+","b+","b+","b+","b-","b-","b-","b-","b-","b-",{"$f":"AP44","v":"ALLEMAGNE"},{"$f":"AP45","v":"IRLANDE DU NORD"},{"$f":"AP46","v":"RÉPUBLIQUE TCHÈQUE"},{"$f":"AP47","v":"AZERBAIDJAN"},{"$f":"AP48","v":"NORVÈGE"},{"$f":"AP49","v":"SAINT-MARIN"},null,{"$f":"CN43","v":"ALLEMAGNE"},{"$f":"CO43","v":"IRLANDE DU NORD"},{"$f":"CP43","v":"RÉPUBLIQUE TCHÈQUE"},{"$f":"CQ43","v":"AZERBAIDJAN"},{"$f":"CR43","v":"NORVÈGE"},{"$f":"CS43","v":"SAINT-MARIN"},{"$f":"CN43","v":"ALLEMAGNE"},{"$f":"CO43","v":"IRLANDE DU NORD"},{"$f":"CP43","v":"RÉPUBLIQUE TCHÈQUE"},{"$f":"CQ43","v":"AZERBAIDJAN"},{"$f":"CR43","v":"NORVÈGE"},{"$f":"CS43","v":"SAINT-MARIN"},{"$f":"CN43","v":"ALLEMAGNE"},{"$f":"CO43","v":"IRLANDE DU NORD"},{"$f":"CP43","v":"RÉPUBLIQUE TCHÈQUE"},{"$f":"CQ43","v":"AZERBAIDJAN"},{"$f":"CR43","v":"NORVÈGE"},{"$f":"CS43","v":"SAINT-MARIN"},{"$f":"CN43","v":"ALLEMAGNE"},{"$f":"CO43","v":"IRLANDE DU NORD"},{"$f":"CP43","v":"RÉPUBLIQUE TCHÈQUE"},{"$f":"CQ43","v":"AZERBAIDJAN"},{"$f":"CR43","v":"NORVÈGE"},{"$f":"CS43","v":"SAINT-MARIN"},{"$f":"CN43","v":"ALLEMAGNE"},{"$f":"CO43","v":"IRLANDE DU NORD"},{"$f":"CP43","v":"RÉPUBLIQUE TCHÈQUE"},{"$f":"CQ43","v":"AZERBAIDJAN"},{"$f":"CR43","v":"NORVÈGE"},{"$f":"CS43","v":"SAINT-MARIN"}]
[{"$f":"AP44","v":"ALLEMAGNE"},null,null,null,null,2,0,{"$f":"AP45","v":"IRLANDE DU NORD"},null,null,null,null,{"$f":"H44","v":"IRLANDE DU NORD"},null,null,null,null,1,3,{"$f":"A44","v":"ALLEMAGNE"},null,null,null,null,null,{"$f":"VLOOKUP(AN51,AO51:AT56,2,0)","v":"ALLEMAGNE"},null,null,null,null,1,{"$f":"VLOOKUP(Z44,AP44:BC49,7,0)","v":30},{"$f":"VLOOKUP(Z44,AP44:BC49,8,0)","v":10},{"$f":"VLOOKUP(Z44,AP44:BC49,9,0)","v":10},{"$f":"VLOOKUP(Z44,AP44:BC49,10,0)","v":0},{"$f":"VLOOKUP(Z44,AP44:BC49,11,0)","v":0},{"$f":"VLOOKUP(Z44,AP44:BC49,12,0)","v":43},{"$f":"VLOOKUP(Z44,AP44:BC49,13,0)","v":4},{"$f":"VLOOKUP(Z44,AP44:BC49,14,0)","v":39},null,null,"ALLEMAGNE",null,null,null,null,{"$f":"RANK(AV44,AV44:AV49)","v":1},{"$f":"SUMPRODUCT((A44:E58=AP44)*(BF44:BF58))+SUMPRODUCT((H44:L58=AP44)*(BG44:BG58))+SUMPRODUCT((M44:Q58=AP44)*(BH44:BH58))+SUMPRODUCT((T44:X58=AP44)*(BI44:BI58))","v":30},{"$f":"SUMPRODUCT((A44:E58=AP44)*(BL44:BL58))+SUMPRODUCT((H44:L58=AP44)*(BM44:BM58))+SUMPRODUCT((M44:Q58=AP44)*(BN44:BN58))+SUMPRODUCT((T44:X58=AP44)*(BO44:BO58))","v":10},{"$f":"SUMPRODUCT((A44:E58=AP44)*(BP44:BP58))+SUMPRODUCT((H44:L58=AP44)*(BQ44:BQ58))+SUMPRODUCT((M44:Q58=AP44)*(BR44:BR58))+SUMPRODUCT((T44:X58=AP44)*(BS44:BS58))","v":10},{"$f":"SUMPRODUCT((A44:E58=AP44)*(BT44:BT58))+SUMPRODUCT((H44:L58=AP44)*(BU44:BU58))+SUMPRODUCT((M44:Q58=AP44)*(BV44:BV58))+SUMPRODUCT((T44:X58=AP44)*(BW44:BW58))","v":0},{"$f":"SUMPRODUCT((A44:E58=AP44)*(BX44:BX58))+SUMPRODUCT((H44:L58=AP44)*(BY44:BY58))+SUMPRODUCT((M44:Q58=AP44)*(BZ44:BZ58))+SUMPRODUCT((T44:X58=AP44)*(CA44:CA58))","v":0},{"$f":"SUMPRODUCT((A44:E58=AP44)*(CB44:CB58))+SUMPRODUCT((H44:L58=AP44)*(CC44:CC58))+SUMPRODUCT((M44:Q58=AP44)*(CD44:CD58))+SUMPRODUCT((T44:X58=AP44)*(CE44:CE58))","v":43},{"$f":"SUMPRODUCT((A44:E58=AP44)*(CH44:CH58))+SUMPRODUCT((H44:L58=AP44)*(CI44:CI58))+SUMPRODUCT((M44:Q58=AP44)*(CJ44:CJ58))+SUMPRODUCT((T44:X58=AP44)*(CK44:CK58))","v":4},{"$f":"BA44-BB44","v":39},null,null,{"$f":"IF(F44=\"\",0,IF(F44>G44,3,IF(F44=G44,1,IF(F44<G44,0))))","v":3},{"$f":"IF(G44=\"\",0,IF(G44>F44,3,IF(G44=F44,1,IF(G44<F44,0))))","v":0},{"$f":"IF(R44=\"\",0,IF(R44>S44,3,IF(R44=S44,1,IF(R44<S44,0))))","v":0},{"$f":"IF(S44=\"\",0,IF(S44>R44,3,IF(S44=R44,1,IF(S44<R44,0))))","v":3},{"$f":"BF44+BI44","v":6},{"$f":"BG44+BH44","v":0},{"$f":"IF(F44=\"\",0,1)","v":1},{"$f":"IF(G44=\"\",0,1)","v":1},{"$f":"IF(R44=\"\",0,1)","v":1},{"$f":"IF(S44=\"\",0,1)","v":1},{"$f":"IF(F44<>\"\",IF(F44>G44,1))","v":1},{"$f":"IF(G44<>\"\",IF(G44>F44,1))","v":false},{"$f":"IF(R44<>\"\",IF(R44>S44,1))","v":false},{"$f":"IF(S44<>\"\",IF(S44>R44,1))","v":1},{"$f":"IF(F44<>\"\",IF(F44=G44,1))","v":false},{"$f":"IF(G44<>\"\",IF(G44=F44,1))","v":false},{"$f":"IF(R44<>\"\",IF(R44=S44,1))","v":false},{"$f":"IF(S44<>\"\",IF(S44=R44,1))","v":false},{"$f":"IF(F44<>\"\",IF(F44<G44,1))","v":false},{"$f":"IF(G44<>\"\",IF(G44<F44,1))","v":1},{"$f":"IF(R44<>\"\",IF(R44<S44,1))","v":1},{"$f":"IF(S44<>\"\",IF(S44<R44,1))","v":false},{"$f":"F44","v":2},{"$f":"G44","v":0},{"$f":"R44","v":1},{"$f":"S44","v":3},{"$f":"CB44+CE44","v":5},{"$f":"CC44+CD44","v":1},{"$f":"G44","v":0},{"$f":"F44","v":2},{"$f":"S44","v":3},{"$f":"R44","v":1},{"$f":"CH44+CK44","v":1},{"$f":"CI44+CJ44","v":5},{"$f":"IF(AU44=1,1000000)","v":1000000},{"$f":"IF(AU45=1,1000000)","v":false},{"$f":"IF(AU46=1,1000000)","v":false},{"$f":"IF(AU47=1,1000000)","v":false},{"$f":"IF(AU48=1,1000000)","v":false},{"$f":"IF(AU49=1,1000000)","v":false},null,{"$f":"IF(AU44=2,800000)","v":false},{"$f":"IF(AU45=2,800000)","v":800000},{"$f":"IF(AU46=2,800000)","v":false},{"$f":"IF(AU47=2,800000)","v":false},{"$f":"IF(AU48=2,800000)","v":false},{"$f":"IF(AU49=2,800000)","v":false},{"$f":"IF(AU44=3,600000)","v":false},{"$f":"IF(AU45=3,600000)","v":false},{"$f":"IF(AU46=3,600000)","v":600000},{"$f":"IF(AU47=3,600000)","v":false},{"$f":"IF(AU48=3,600000)","v":false},{"$f":"IF(AU49=3,600000)","v":false},{"$f":"IF(AU44=4,400000)","v":false},{"$f":"IF(AU45=4,400000)","v":false},{"$f":"IF(AU46=4,400000)","v":false},{"$f":"IF(AU47=4,400000)","v":false},{"$f":"IF(AU48=4,400000)","v":400000},{"$f":"IF(AU49=4,400000)","v":false},{"$f":"IF(AU44=5,200000)","v":false},{"$f":"IF(AU45=5,200000)","v":false},{"$f":"IF(AU46=5,200000)","v":false},{"$f":"IF(AU47=5,200000)","v":200000},{"$f":"IF(AU48=5,200000)","v":false},{"$f":"IF(AU49=5,200000)","v":false},{"$f":"IF(AU44=6,100000)","v":false},{"$f":"IF(AU45=6,100000)","v":false},{"$f":"IF(AU46=6,100000)","v":false},{"$f":"IF(AU47=6,100000)","v":false},{"$f":"IF(AU48=6,100000)","v":false},{"$f":"IF(AU49=6,100000)","v":100000}]
[{"$f":"AP44","v":"ALLEMAGNE"},null,null,null,null,3,0,{"$f":"AP46","v":"RÉPUBLIQUE TCHÈQUE"},null,null,null,null,{"$f":"H45","v":"RÉPUBLIQUE TCHÈQUE"},null,null,null,null,1,2,{"$f":"A45","v":"ALLEMAGNE"},null,null,null,null,null,{"$f":"VLOOKUP(AN52,AO51:AT56,2,0)","v":"IRLANDE DU NORD"},null,null,null,null,{"$f":"IF(CT53=CT52,CW52,CW53)","v":2},{"$f":"VLOOKUP(Z45,AP44:BC49,7,0)","v":19},{"$f":"VLOOKUP(Z45,AP44:BC49,8,0)","v":10},{"$f":"VLOOKUP(Z45,AP44:BC49,9,0)","v":6},{"$f":"VLOOKUP(Z45,AP44:BC49,10,0)","v":1},{"$f":"VLOOKUP(Z45,AP44:BC49,11,0)","v":3},{"$f":"VLOOKUP(Z45,AP44:BC49,12,0)","v":17},{"$f":"VLOOKUP(Z45,AP44:BC49,13,0)","v":6},{"$f":"VLOOKUP(Z45,AP44:BC49,14,0)","v":11},null,null,"IRLANDE DU NORD",null,null,null,null,{"$f":"RANK(AV45,AV44:AV49)","v":2},{"$f":"SUMPRODUCT((A44:E58=AP45)*(BF44:BF58))+SUMPRODUCT((H44:L58=AP45)*(BG44:BG58))+SUMPRODUCT((M44:Q58=AP45)*(BH44:BH58))+SUMPRODUCT((T44:X58=AP45)*(BI44:BI58))","v":19},{"$f":"SUMPRODUCT((A44:E58=AP45)*(BL44:BL58))+SUMPRODUCT((H44:L58=AP45)*(BM44:BM58))+SUMPRODUCT((M44:Q58=AP45)*(BN44:BN58))+SUMPRODUCT((T44:X58=AP45)*(BO44:BO58))","v":10},{"$f":"SUMPRODUCT((A44:E58=AP45)*(BP44:BP58))+SUMPRODUCT((H44:L58=AP45)*(BQ44:BQ58))+SUMPRODUCT((M44:Q58=AP45)*(BR44:BR58))+SUMPRODUCT((T44:X58=AP45)*(BS44:BS58))","v":6},{"$f":"SUMPRODUCT((A44:E58=AP45)*(BT44:BT58))+SUMPRODUCT((H44:L58=AP45)*(BU44:BU58))+SUMPRODUCT((M44:Q58=AP45)*(BV44:BV58))+SUMPRODUCT((T44:X58=AP45)*(BW44:BW58))","v":1},{"$f":"SUMPRODUCT((A44:E58=AP45)*(BX44:BX58))+SUMPRODUCT((H44:L58=AP45)*(BY44:BY58))+SUMPRODUCT((M44:Q58=AP45)*(BZ44:BZ58))+SUMPRODUCT((T44:X58=AP45)*(CA44:CA58))","v":3},{"$f":"SUMPRODUCT((A44:E58=AP45)*(CB44:CB58))+SUMPRODUCT((H44:L58=AP45)*(CC44:CC58))+SUMPRODUCT((M44:Q58=AP45)*(CD44:CD58))+SUMPRODUCT((T44:X58=AP45)*(CE44:CE58))","v":17},{"$f":"SUMPRODUCT((A44:E58=AP45)*(CH44:CH58))+SUMPRODUCT((H44:L58=AP45)*(CI44:CI58))+SUMPRODUCT((M44:Q58=AP45)*(CJ44:CJ58))+SUMPRODUCT((T44:X58=AP45)*(CK44:CK58))","v":6},{"$f":"BA45-BB45","v":11},null,null,{"$f":"IF(F45=\"\",0,IF(F45>G45,3,IF(F45=G45,1,IF(F45<G45,0))))","v":3},{"$f":"IF(G45=\"\",0,IF(G45>F45,3,IF(G45=F45,1,IF(G45<F45,0))))","v":0},{"$f":"IF(R45=\"\",0,IF(R45>S45,3,IF(R45=S45,1,IF(R45<S45,0))))","v":0},{"$f":"IF(S45=\"\",0,IF(S45>R45,3,IF(S45=R45,1,IF(S45<R45,0))))","v":3},{"$f":"BF45+BI45","v":6},{"$f":"BG45+BH45","v":0},{"$f":"IF(F45=\"\",0,1)","v":1},{"$f":"IF(G45=\"\",0,1)","v":1},{"$f":"IF(R45=\"\",0,1)","v":1},{"$f":"IF(S45=\"\",0,1)","v":1},{"$f":"IF(F45<>\"\",IF(F45>G45,1))","v":1},{"$f":"IF(G45<>\"\",IF(G45>F45,1))","v":false},{"$f":"IF(R45<>\"\",IF(R45>S45,1))","v":false},{"$f":"IF(S45<>\"\",IF(S45>R45,1))","v":1},{"$f":"IF(F45<>\"\",IF(F45=G45,1))","v":false},{"$f":"IF(G45<>\"\",IF(G45=F45,1))","v":false},{"$f":"IF(R45<>\"\",IF(R45=S45,1))","v":false},{"$f":"IF(S45<>\"\",IF(S45=R45,1))","v":false},{"$f":"IF(F45<>\"\",IF(F45<G45,1))","v":false},{"$f":"IF(G45<>\"\",IF(G45<F45,1))","v":1},{"$f":"IF(R45<>\"\",IF(R45<S45,1))","v":1},{"$f":"IF(S45<>\"\",IF(S45<R45,1))","v":false},{"$f":"F45","v":3},{"$f":"G45","v":0},{"$f":"R45","v":1},{"$f":"S45","v":2},{"$f":"CB45+CE45","v":5},{"$f":"CC45+CD45","v":1},{"$f":"G45","v":0},{"$f":"F45","v":3},{"$f":"S45","v":2},{"$f":"R45","v":1},{"$f":"CH45+CK45","v":1},{"$f":"CI45+CJ45","v":5},{"$f":"IF(AU44=1,IF(AU45=1,SUM(AV44*1000+(BC44)/10+(BA44)/100+(BJ44)/1000+((F44+S44)-(G44+R44))/10000+(F44+S44)/100000+(S44)/1000000)))","v":false},{"$f":"IF(AU45=1,IF(AU44=1,SUM(AV45*1000+(BC45)/10+(BA45)/100+(BK44)/1000+((G44+R44)-(F44+S44))/10000+(G44+R44)/100000+(G44)/1000000)))","v":false},{"$f":"IF(AU46=1,IF(AU44=1,SUM(AV46*1000+(BC46)/10+(BA46)/100+(BK45)/1000+((G45+R45)-(F45+S45))/10000+(G45+R45)/100000+(G45)/1000000)))","v":false},{"$f":"IF(AU47=1,IF(AU44=1,SUM(AV47*1000+(BC47)/10+(BA47)/100+(BK46)/1000+((G46+R46)-(F46+S46))/10000+(G46+R46)/100000+(G46)/1000000)))","v":false},{"$f":"IF(AU48=1,IF(AU44=1,SUM(AV48*1000+(BC48)/10+(BA48)/100+(BK47)/1000+((G47+R47)-(F47+S47))/10000+(G47+R47)/100000+(G47)/1000000)))","v":false},{"$f":"IF(AU49=1,IF(AU44=1,SUM(AV49*1000+(BC49)/10+(BA49)/100+(BK48)/1000+((G48+R48)-(F48+S48))/10000+(G48+R48)/100000+(G48)/1000000)))","v":false},null,{"$f":"IF(AU44=2,IF(AU45=2,SUM(AV44*1000+(BC44)/10+(BA44)/100+(BJ44)/1000+((F44+S44)-(G44+R44))/10000+(F44+S44)/100000+(S44)/1000000)))","v":false},{"$f":"IF(AU45=2,IF(AU44=2,SUM(AV45*1000+(BC45)/10+(BA45)/100+(BK44)/1000+((G44+R44)-(F44+S44))/10000+(G44+R44)/100000+(G44)/1000000)))","v":false},{"$f":"IF(AU46=2,IF(AU44=2,SUM(AV46*1000+(BC46)/10+(BA46)/100+(BK45)/1000+((G45+R45)-(F45+S45))/10000+(G45+R45)/100000+(G45)/1000000)))","v":false},{"$f":"IF(AU47=2,IF(AU44=2,SUM(AV47*1000+(BC47)/10+(BA47)/100+(BK46)/1000+((G46+R46)-(F46+S46))/10000+(G46+R46)/100000+(G46)/1000000)))","v":false},{"$f":"IF(AU48=2,IF(AU44=2,SUM(AV48*1000+(BC48)/10+(BA48)/100+(BK47)/1000+((G47+R47)-(F47+S47))/10000+(G47+R47)/100000+(G47)/1000000)))","v":false},{"$f":"IF(AU49=2,IF(AU44=2,SUM(AV49*1000+(BC49)/10+(BA49)/100+(BK48)/1000+((G48+R48)-(F48+S48))/10000+(G48+R48)/100000+(G48)/1000000)))","v":false},{"$f":"IF(AU44=3,IF(AU45=3,SUM(AV44*1000+(BC44)/10+(BA44)/100+(BJ44)/1000+((F44+S44)-(G44+R44))/10000+(F44+S44)/100000+(S44)/1000000)))","v":false},{"$f":"IF(AU45=3,IF(AU44=3,SUM(AV45*1000+(BC45)/10+(BA45)/100+(BK44)/1000+((G44+R44)-(F44+S44))/10000+(G44+R44)/100000+(G44)/1000000)))","v":false},{"$f":"IF(AU46=3,IF(AU44=3,SUM(AV46*1000+(BC46)/10+(BA46)/100+(BK45)/1000+((G45+R45)-(F45+S45))/10000+(G45+R45)/100000+(G45)/1000000)))","v":false},{"$f":"IF(AU47=3,IF(AU44=3,SUM(AV47*1000+(BC47)/10+(BA47)/100+(BK46)/1000+((G46+R46)-(F46+S46))/10000+(G46+R46)/100000+(G46)/1000000)))","v":false},{"$f":"IF(AU48=3,IF(AU44=3,SUM(AV48*1000+(BC48)/10+(BA48)/100+(BK47)/1000+((G47+R47)-(F47+S47))/10000+(G47+R47)/100000+(G47)/1000000)))","v":false},{"$f":"IF(AU49=3,IF(AU44=3,SUM(AV49*1000+(BC49)/10+(BA49)/100+(BK48)/1000+((G48+R48)-(F48+S48))/10000+(G48+R48)/100000+(G48)/1000000)))","v":false},{"$f":"IF(AU44=4,IF(AU45=4,SUM(AV44*1000+(BC44)/10+(BA44)/100+(BJ44)/1000+((F44+S44)-(G44+R44))/10000+(F44+S44)/100000+(S44)/1000000)))","v":false},{"$f":"IF(AU45=4,IF(AU44=4,SUM(AV45*1000+(BC45)/10+(BA45)/100+(BK44)/1000+((G44+R44)-(F44+S44))/10000+(G44+R44)/100000+(G44)/1000000)))","v":false},{"$f":"IF(AU46=4,IF(AU44=4,SUM(AV46*1000+(BC46)/10+(BA46)/100+(BK45)/1000+((G45+R45)-(F45+S45))/10000+(G45+R45)/100000+(G45)/1000000)))","v":false},{"$f":"IF(AU47=4,IF(AU44=4,SUM(AV47*1000+(BC47)/10+(BA47)/100+(BK46)/1000+((G46+R46)-(F46+S46))/10000+(G46+R46)/100000+(G46)/1000000)))","v":false},{"$f":"IF(AU48=4,IF(AU44=4,SUM(AV48*1000+(BC48)/10+(BA48)/100+(BK47)/1000+((G47+R47)-(F47+S47))/10000+(G47+R47)/100000+(G47)/1000000)))","v":false},{"$f":"IF(AU49=4,IF(AU44=4,SUM(AV49*1000+(BC49)/10+(BA49)/100+(BK48)/1000+((G48+R48)-(F48+S48))/10000+(G48+R48)/100000+(G48)/1000000)))","v":false},{"$f":"IF(AU44=5,IF(AU45=5,SUM(AV44*1000+(BC44)/10+(BA44)/100+(BJ44)/1000+((F44+S44)-(G44+R44))/10000+(F44+S44)/100000+(S44)/1000000)))","v":false},{"$f":"IF(AU45=5,IF(AU44=5,SUM(AV45*1000+(BC45)/10+(BA45)/100+(BK44)/1000+((G44+R44)-(F44+S44))/10000+(G44+R44)/100000+(G44)/1000000)))","v":false},{"$f":"IF(AU46=5,IF(AU44=5,SUM(AV46*1000+(BC46)/10+(BA46)/100+(BK45)/1000+((G45+R45)-(F45+S45))/10000+(G45+R45)/100000+(G45)/1000000)))","v":false},{"$f":"IF(AU47=5,IF(AU44=5,SUM(AV47*1000+(BC47)/10+(BA47)/100+(BK46)/1000+((G46+R46)-(F46+S46))/10000+(G46+R46)/100000+(G46)/1000000)))","v":false},{"$f":"IF(AU48=5,IF(AU44=5,SUM(AV48*1000+(BC48)/10+(BA48)/100+(BK47)/1000+((G47+R47)-(F47+S47))/10000+(G47+R47)/100000+(G47)/1000000)))","v":false},{"$f":"IF(AU49=5,IF(AU44=5,SUM(AV49*1000+(BC49)/10+(BA49)/100+(BK48)/1000+((G48+R48)-(F48+S48))/10000+(G48+R48)/100000+(G48)/1000000)))","v":false},{"$f":"IF(AU44=6,IF(AU45=6,SUM(AV44*1000+(BC44)/10+(BA44)/100+(BJ44)/1000+((F44+S44)-(G44+R44))/10000+(F44+S44)/100000+(S44)/1000000)))","v":false},{"$f":"IF(AU45=6,IF(AU44=6,SUM(AV45*1000+(BC45)/10+(BA45)/100+(BK44)/1000+((G44+R44)-(F44+S44))/10000+(G44+R44)/100000+(G44)/1000000)))","v":false},{"$f":"IF(AU46=6,IF(AU44=6,SUM(AV46*1000+(BC46)/10+(BA46)/100+(BK45)/1000+((G45+R45)-(F45+S45))/10000+(G45+R45)/100000+(G45)/1000000)))","v":false},{"$f":"IF(AU47=6,IF(AU44=6,SUM(AV47*1000+(BC47)/10+(BA47)/100+(BK46)/1000+((G46+R46)-(F46+S46))/10000+(G46+R46)/100000+(G46)/1000000)))","v":false},{"$f":"IF(AU48=6,IF(AU44=6,SUM(AV48*1000+(BC48)/10+(BA48)/100+(BK47)/1000+((G47+R47)-(F47+S47))/10000+(G47+R47)/100000+(G47)/1000000)))","v":false},{"$f":"IF(AU49=6,IF(AU44=6,SUM(AV49*1000+(BC49)/10+(BA49)/100+(BK48)/1000+((G48+R48)-(F48+S48))/10000+(G48+R48)/100000+(G48)/1000000)))","v":false}]
[{"$f":"AP44","v":"ALLEMAGNE"},null,null,null,null,5,1,{"$f":"AP47","v":"AZERBAIDJAN"},null,null,null,null,"AZERBAIDJAN",null,null,null,null,1,4,"ALLEMAGNE",null,null,null,null,null,{"$f":"VLOOKUP(AN53,AO51:AT56,2,0)","v":"RÉPUBLIQUE TCHÈQUE"},null,null,null,null,{"$f":"IF(CT54=CT53,CW53,CW54)","v":3},{"$f":"VLOOKUP(Z46,AP44:BC49,7,0)","v":15},{"$f":"VLOOKUP(Z46,AP44:BC49,8,0)","v":10},{"$f":"VLOOKUP(Z46,AP44:BC49,9,0)","v":4},{"$f":"VLOOKUP(Z46,AP44:BC49,10,0)","v":3},{"$f":"VLOOKUP(Z46,AP44:BC49,11,0)","v":3},{"$f":"VLOOKUP(Z46,AP44:BC49,12,0)","v":17},{"$f":"VLOOKUP(Z46,AP44:BC49,13,0)","v":10},{"$f":"VLOOKUP(Z46,AP44:BC49,14,0)","v":7},null,null,"RÉPUBLIQUE TCHÈQUE",null,null,null,null,{"$f":"RANK(AV46,AV44:AV49)","v":3},{"$f":"SUMPRODUCT((A44:E58=AP46)*(BF44:BF58))+SUMPRODUCT((H44:L58=AP46)*(BG44:BG58))+SUMPRODUCT((M44:Q58=AP46)*(BH44:BH58))+SUMPRODUCT((T44:X58=AP46)*(BI44:BI58))","v":15},{"$f":"SUMPRODUCT((A44:E58=AP46)*(BL44:BL58))+SUMPRODUCT((H44:L58=AP46)*(BM44:BM58))+SUMPRODUCT((M44:Q58=AP46)*(BN44:BN58))+SUMPRODUCT((T44:X58=AP46)*(BO44:BO58))","v":10},{"$f":"SUMPRODUCT((A44:E58=AP46)*(BP44:BP58))+SUMPRODUCT((H44:L58=AP46)*(BQ44:BQ58))+SUMPRODUCT((M44:Q58=AP46)*(BR44:BR58))+SUMPRODUCT((T44:X58=AP46)*(BS44:BS58))","v":4},{"$f":"SUMPRODUCT((A44:E58=AP46)*(BT44:BT58))+SUMPRODUCT((H44:L58=AP46)*(BU44:BU58))+SUMPRODUCT((M44:Q58=AP46)*(BV44:BV58))+SUMPRODUCT((T44:X58=AP46)*(BW44:BW58))","v":3},{"$f":"SUMPRODUCT((A44:E58=AP46)*(BX44:BX58))+SUMPRODUCT((H44:L58=AP46)*(BY44:BY58))+SUMPRODUCT((M44:Q58=AP46)*(BZ44:BZ58))+SUMPRODUCT((T44:X58=AP46)*(CA44:CA58))","v":3},{"$f":"SUMPRODUCT((A44:E58=AP46)*(CB44:CB58))+SUMPRODUCT((H44:L58=AP46)*(CC44:CC58))+SUMPRODUCT((M44:Q58=AP46)*(CD44:CD58))+SUMPRODUCT((T44:X58=AP46)*(CE44:CE58))","v":17},{"$f":"SUMPRODUCT((A44:E58=AP46)*(CH44:CH58))+SUMPRODUCT((H44:L58=AP46)*(CI44:CI58))+SUMPRODUCT((M44:Q58=AP46)*(CJ44:CJ58))+SUMPRODUCT((T44:X58=AP46)*(CK44:CK58))","v":10},7,null,null,3,0,0,3,6,0,1,1,1,1,1,false,false,1,false,false,false,false,false,1,1,false,5,1,1,4,9,2,1,5,4,1,2,9,{"$f":"IF(AU44=1,IF(AU46=1,SUM(AV44*1000+(BC44)/10+(BA44)/100+(BJ45)/1000+((F45+S45)-(G45+R45))/10000+(F45+S45)/100000+(S45)/1000000)))","v":false},{"$f":"IF(AU45=1,IF(AU46=1,SUM(AV45*1000+(BC45)/10+(BA45)/100+(BJ49)/1000+((F49+S49)-(G49+R49))/10000+(F49+S49)/100000+(S49)/1000000)))","v":false},{"$f":"IF(AU46=1,IF(AU45=1,SUM(AV46*1000+(BC46)/10+(BA46)/100+(BK49)/1000+((G49+R49)-(F49+S49))/10000+(G49+R49)/1000000+(G49)/1000000)))","v":false},{"$f":"IF(AU47=1,IF(AU45=1,SUM(AV47*1000+(BC47)/10+(BA47)/100+(BK50)/1000+((G50+R50)-(F50+S50))/10000+(G50+R50)/100000+(G50)/1000000)))","v":false},{"$f":"IF(AU48=1,IF(AU45=1,SUM(AV48*1000+(BC48)/10+(BA48)/100+(BK51)/1000+((G51+R51)-(F51+S51))/10000+(G51+R51)/100000+(G51)/1000000)))","v":false},{"$f":"IF(AU49=1,IF(AU45=1,SUM(AV49*1000+(BC49)/10+(BA49)/100+(BK52)/1000+((G52+R52)-(F52+S52))/10000+(G52+R52)/100000+(G52)/1000000)))","v":false},null,{"$f":"IF(AU44=2,IF(AU46=2,SUM(AV44*1000+(BC44)/10+(BA44)/100+(BJ45)/1000+((F45+S45)-(G45+R45))/10000+(F45+S45)/100000+(S45)/1000000)))","v":false},{"$f":"IF(AU45=2,IF(AU46=2,SUM(AV45*1000+(BC45)/10+(BA45)/100+(BJ49)/1000+((F49+S49)-(G49+R49))/10000+(F49+S49)/100000+(S49)/1000000)))","v":false},{"$f":"IF(AU46=2,IF(AU45=2,SUM(AV46*1000+(BC46)/10+(BA46)/100+(BK49)/1000+((G49+R49)-(F49+S49))/10000+(G49+R49)/1000000+(G49)/1000000)))","v":false},{"$f":"IF(AU47=2,IF(AU45=2,SUM(AV47*1000+(BC47)/10+(BA47)/100+(BK50)/1000+((G50+R50)-(F50+S50))/10000+(G50+R50)/100000+(G50)/1000000)))","v":false},{"$f":"IF(AU48=2,IF(AU45=2,SUM(AV48*1000+(BC48)/10+(BA48)/100+(BK51)/1000+((G51+R51)-(F51+S51))/10000+(G51+R51)/100000+(G51)/1000000)))","v":false},{"$f":"IF(AU49=2,IF(AU45=2,SUM(AV49*1000+(BC49)/10+(BA49)/100+(BK52)/1000+((G52+R52)-(F52+S52))/10000+(G52+R52)/100000+(G52)/1000000)))","v":false},{"$f":"IF(AU44=3,IF(AU46=3,SUM(AV44*1000+(BC44)/10+(BA44)/100+(BJ45)/1000+((F45+S45)-(G45+R45))/10000+(F45+S45)/100000+(S45)/1000000)))","v":false},{"$f":"IF(AU45=3,IF(AU46=3,SUM(AV45*1000+(BC45)/10+(BA45)/100+(BJ49)/1000+((F49+S49)-(G49+R49))/10000+(F49+S49)/100000+(S49)/1000000)))","v":false},{"$f":"IF(AU46=3,IF(AU45=3,SUM(AV46*1000+(BC46)/10+(BA46)/100+(BK49)/1000+((G49+R49)-(F49+S49))/10000+(G49+R49)/1000000+(G49)/1000000)))","v":false},{"$f":"IF(AU47=3,IF(AU45=3,SUM(AV47*1000+(BC47)/10+(BA47)/100+(BK50)/1000+((G50+R50)-(F50+S50))/10000+(G50+R50)/100000+(G50)/1000000)))","v":false},{"$f":"IF(AU48=3,IF(AU45=3,SUM(AV48*1000+(BC48)/10+(BA48)/100+(BK51)/1000+((G51+R51)-(F51+S51))/10000+(G51+R51)/100000+(G51)/1000000)))","v":false},{"$f":"IF(AU49=3,IF(AU45=3,SUM(AV49*1000+(BC49)/10+(BA49)/100+(BK52)/1000+((G52+R52)-(F52+S52))/10000+(G52+R52)/100000+(G52)/1000000)))","v":false},{"$f":"IF(AU44=4,IF(AU46=4,SUM(AV44*1000+(BC44)/10+(BA44)/100+(BJ45)/1000+((F45+S45)-(G45+R45))/10000+(F45+S45)/100000+(S45)/1000000)))","v":false},{"$f":"IF(AU45=4,IF(AU46=4,SUM(AV45*1000+(BC45)/10+(BA45)/100+(BJ49)/1000+((F49+S49)-(G49+R49))/10000+(F49+S49)/100000+(S49)/1000000)))","v":false},{"$f":"IF(AU46=4,IF(AU45=4,SUM(AV46*1000+(BC46)/10+(BA46)/100+(BK49)/1000+((G49+R49)-(F49+S49))/10000+(G49+R49)/1000000+(G49)/1000000)))","v":false},{"$f":"IF(AU47=4,IF(AU45=4,SUM(AV47*1000+(BC47)/10+(BA47)/100+(BK50)/1000+((G50+R50)-(F50+S50))/10000+(G50+R50)/100000+(G50)/1000000)))","v":false},{"$f":"IF(AU48=4,IF(AU45=4,SUM(AV48*1000+(BC48)/10+(BA48)/100+(BK51)/1000+((G51+R51)-(F51+S51))/10000+(G51+R51)/100000+(G51)/1000000)))","v":false},{"$f":"IF(AU49=4,IF(AU45=4,SUM(AV49*1000+(BC49)/10+(BA49)/100+(BK52)/1000+((G52+R52)-(F52+S52))/10000+(G52+R52)/100000+(G52)/1000000)))","v":false},{"$f":"IF(AU44=5,IF(AU46=5,SUM(AV44*1000+(BC44)/10+(BA44)/100+(BJ45)/1000+((F45+S45)-(G45+R45))/10000+(F45+S45)/100000+(S45)/1000000)))","v":false},{"$f":"IF(AU45=5,IF(AU46=5,SUM(AV45*1000+(BC45)/10+(BA45)/100+(BJ49)/1000+((F49+S49)-(G49+R49))/10000+(F49+S49)/100000+(S49)/1000000)))","v":false},{"$f":"IF(AU46=5,IF(AU45=5,SUM(AV46*1000+(BC46)/10+(BA46)/100+(BK49)/1000+((G49+R49)-(F49+S49))/10000+(G49+R49)/1000000+(G49)/1000000)))","v":false},{"$f":"IF(AU47=5,IF(AU45=5,SUM(AV47*1000+(BC47)/10+(BA47)/100+(BK50)/1000+((G50+R50)-(F50+S50))/10000+(G50+R50)/100000+(G50)/1000000)))","v":false},{"$f":"IF(AU48=5,IF(AU45=5,SUM(AV48*1000+(BC48)/10+(BA48)/100+(BK51)/1000+((G51+R51)-(F51+S51))/10000+(G51+R51)/100000+(G51)/1000000)))","v":false},{"$f":"IF(AU49=5,IF(AU45=5,SUM(AV49*1000+(BC49)/10+(BA49)/100+(BK52)/1000+((G52+R52)-(F52+S52))/10000+(G52+R52)/100000+(G52)/1000000)))","v":false},{"$f":"IF(AU44=6,IF(AU46=6,SUM(AV44*1000+(BC44)/10+(BA44)/100+(BJ45)/1000+((F45+S45)-(G45+R45))/10000+(F45+S45)/100000+(S45)/1000000)))","v":false},{"$f":"IF(AU45=6,IF(AU46=6,SUM(AV45*1000+(BC45)/10+(BA45)/100+(BJ49)/1000+((F49+S49)-(G49+R49))/10000+(F49+S49)/100000+(S49)/1000000)))","v":false},{"$f":"IF(AU46=6,IF(AU45=6,SUM(AV46*1000+(BC46)/10+(BA46)/100+(BK49)/1000+((G49+R49)-(F49+S49))/10000+(G49+R49)/1000000+(G49)/1000000)))","v":false},{"$f":"IF(AU47=6,IF(AU45=6,SUM(AV47*1000+(BC47)/10+(BA47)/100+(BK50)/1000+((G50+R50)-(F50+S50))/10000+(G50+R50)/100000+(G50)/1000000)))","v":false},{"$f":"IF(AU48=6,IF(AU45=6,SUM(AV48*1000+(BC48)/10+(BA48)/100+(BK51)/1000+((G51+R51)-(F51+S51))/10000+(G51+R51)/100000+(G51)/1000000)))","v":false},{"$f":"IF(AU49=6,IF(AU45=6,SUM(AV49*1000+(BC49)/10+(BA49)/100+(BK52)/1000+((G52+R52)-(F52+S52))/10000+(G52+R52)/100000+(G52)/1000000)))","v":false}]
[{"$f":"AP44","v":"ALLEMAGNE"},null,null,null,null,6,0,{"$f":"AP48","v":"NORVÈGE"},null,null,null,null,"NORVÈGE",null,null,null,null,0,3,"ALLEMAGNE",null,null,null,null,null,{"$f":"VLOOKUP(AN54,AO51:AT56,2,0)","v":"NORVÈGE"},null,null,null,null,4,{"$f":"VLOOKUP(Z47,AP44:BC49,7,0)","v":13},{"$f":"VLOOKUP(Z47,AP44:BC49,8,0)","v":10},{"$f":"VLOOKUP(Z47,AP44:BC49,9,0)","v":4},{"$f":"VLOOKUP(Z47,AP44:BC49,10,0)","v":1},{"$f":"VLOOKUP(Z47,AP44:BC49,11,0)","v":5},{"$f":"VLOOKUP(Z47,AP44:BC49,12,0)","v":17},{"$f":"VLOOKUP(Z47,AP44:BC49,13,0)","v":16},{"$f":"VLOOKUP(Z47,AP44:BC49,14,0)","v":1},null,null,"AZERBAIDJAN",null,null,null,null,{"$f":"RANK(AV47,AV44:AV49)","v":5},{"$f":"SUMPRODUCT((A44:E58=AP47)*(BF44:BF58))+SUMPRODUCT((H44:L58=AP47)*(BG44:BG58))+SUMPRODUCT((M44:Q58=AP47)*(BH44:BH58))+SUMPRODUCT((T44:X58=AP47)*(BI44:BI58))","v":10},{"$f":"SUMPRODUCT((A44:E58=AP47)*(BL44:BL58))+SUMPRODUCT((H44:L58=AP47)*(BM44:BM58))+SUMPRODUCT((M44:Q58=AP47)*(BN44:BN58))+SUMPRODUCT((T44:X58=AP47)*(BO44:BO58))","v":10},{"$f":"SUMPRODUCT((A44:E58=AP47)*(BP44:BP58))+SUMPRODUCT((H44:L58=AP47)*(BQ44:BQ58))+SUMPRODUCT((M44:Q58=AP47)*(BR44:BR58))+SUMPRODUCT((T44:X58=AP47)*(BS44:BS58))","v":3},{"$f":"SUMPRODUCT((A44:E58=AP47)*(BT44:BT58))+SUMPRODUCT((H44:L58=AP47)*(BU44:BU58))+SUMPRODUCT((M44:Q58=AP47)*(BV44:BV58))+SUMPRODUCT((T44:X58=AP47)*(BW44:BW58))","v":1},{"$f":"SUMPRODUCT((A44:E58=AP47)*(BX44:BX58))+SUMPRODUCT((H44:L58=AP47)*(BY44:BY58))+SUMPRODUCT((M44:Q58=AP47)*(BZ44:BZ58))+SUMPRODUCT((T44:X58=AP47)*(CA44:CA58))","v":6},{"$f":"SUMPRODUCT((A44:E58=AP47)*(CB44:CB58))+SUMPRODUCT((H44:L58=AP47)*(CC44:CC58))+SUMPRODUCT((M44:Q58=AP47)*(CD44:CD58))+SUMPRODUCT((T44:X58=AP47)*(CE44:CE58))","v":10},{"$f":"SUMPRODUCT((A44:E58=AP47)*(CH44:CH58))+SUMPRODUCT((H44:L58=AP47)*(CI44:CI58))+SUMPRODUCT((M44:Q58=AP47)*(CJ44:CJ58))+SUMPRODUCT((T44:X58=AP47)*(CK44:CK58))","v":19},-9,null,null,3,0,0,3,6,0,1,1,1,1,1,false,false,1,false,false,false,false,false,1,1,false,6,0,0,3,9,0,0,6,3,0,0,9,{"$f":"IF(AU44=1,IF(AU47=1,SUM(AV44*1000+(BC44)/10+(BA44)/100+(BJ46)/1000+((F46+S46)-(G46+R46))/10000+(F46+S46)/100000+(S46)/1000000)))","v":false},{"$f":"IF(AU45=1,IF(AU47=1,SUM(AV45*1000+(BC45)/10+(BA45)/100+(BJ50)/1000+((F50+S50)-(G50+R50))/10000+(F50+S50)/100000+(S50)/1000000)))","v":false},{"$f":"IF(AU46=1,IF(AU47=1,SUM(AV46*1000+(BC46)/10+(BA46)/100+(BJ53)/1000+((F53+S53)-(G53+R53))/10000+(F53+S53)/100000+(S53)/1000000)))","v":false},{"$f":"IF(AU47=1,IF(AU46=1,SUM(AV47*1000+(BC47)/10+(BA47)/100+(BK53)/1000+((G53+R53)-(F53+S53))/10000+(G53+R53)/100000+(G53)/1000000)))","v":false},{"$f":"IF(AU48=1,IF(AU46=1,SUM(AV48*1000+(BC48)/10+(BA48)/100+(BK54)/1000+((G54+R54)-(F54+S54))/10000+(G54+R54)/100000+(G54)/1000000)))","v":false},{"$f":"IF(AU49=1,IF(AU46=1,SUM(AV49*1000+(BC49)/10+(BA49)/100+(BK55)/1000+((G55+R55)-(F55+S55))/10000+(G55+R55)/100000+(G55)/1000000)))","v":false},null,{"$f":"IF(AU44=2,IF(AU47=2,SUM(AV44*1000+(BC44)/10+(BA44)/100+(BJ46)/1000+((F46+S46)-(G46+R46))/10000+(F46+S46)/100000+(S46)/1000000)))","v":false},{"$f":"IF(AU45=2,IF(AU47=2,SUM(AV45*1000+(BC45)/10+(BA45)/100+(BJ50)/1000+((F50+S50)-(G50+R50))/10000+(F50+S50)/100000+(S50)/1000000)))","v":false},{"$f":"IF(AU46=2,IF(AU47=2,SUM(AV46*1000+(BC46)/10+(BA46)/100+(BJ53)/1000+((F53+S53)-(G53+R53))/10000+(F53+S53)/100000+(S53)/1000000)))","v":false},{"$f":"IF(AU47=2,IF(AU46=2,SUM(AV47*1000+(BC47)/10+(BA47)/100+(BK53)/1000+((G53+R53)-(F53+S53))/10000+(G53+R53)/100000+(G53)/1000000)))","v":false},{"$f":"IF(AU48=2,IF(AU46=2,SUM(AV48*1000+(BC48)/10+(BA48)/100+(BK54)/1000+((G54+R54)-(F54+S54))/10000+(G54+R54)/100000+(G54)/1000000)))","v":false},{"$f":"IF(AU49=2,IF(AU46=2,SUM(AV49*1000+(BC49)/10+(BA49)/100+(BK55)/1000+((G55+R55)-(F55+S55))/10000+(G55+R55)/100000+(G55)/1000000)))","v":false},{"$f":"IF(AU44=3,IF(AU47=3,SUM(AV44*1000+(BC44)/10+(BA44)/100+(BJ46)/1000+((F46+S46)-(G46+R46))/10000+(F46+S46)/100000+(S46)/1000000)))","v":false},{"$f":"IF(AU45=3,IF(AU47=3,SUM(AV45*1000+(BC45)/10+(BA45)/100+(BJ50)/1000+((F50+S50)-(G50+R50))/10000+(F50+S50)/100000+(S50)/1000000)))","v":false},{"$f":"IF(AU46=3,IF(AU47=3,SUM(AV46*1000+(BC46)/10+(BA46)/100+(BJ53)/1000+((F53+S53)-(G53+R53))/10000+(F53+S53)/100000+(S53)/1000000)))","v":false},{"$f":"IF(AU47=3,IF(AU46=3,SUM(AV47*1000+(BC47)/10+(BA47)/100+(BK53)/1000+((G53+R53)-(F53+S53))/10000+(G53+R53)/100000+(G53)/1000000)))","v":false},{"$f":"IF(AU48=3,IF(AU46=3,SUM(AV48*1000+(BC48)/10+(BA48)/100+(BK54)/1000+((G54+R54)-(F54+S54))/10000+(G54+R54)/100000+(G54)/1000000)))","v":false},{"$f":"IF(AU49=3,IF(AU46=3,SUM(AV49*1000+(BC49)/10+(BA49)/100+(BK55)/1000+((G55+R55)-(F55+S55))/10000+(G55+R55)/100000+(G55)/1000000)))","v":false},{"$f":"IF(AU44=4,IF(AU47=4,SUM(AV44*1000+(BC44)/10+(BA44)/100+(BJ46)/1000+((F46+S46)-(G46+R46))/10000+(F46+S46)/100000+(S46)/1000000)))","v":false},{"$f":"IF(AU45=4,IF(AU47=4,SUM(AV45*1000+(BC45)/10+(BA45)/100+(BJ50)/1000+((F50+S50)-(G50+R50))/10000+(F50+S50)/100000+(S50)/1000000)))","v":false},{"$f":"IF(AU46=4,IF(AU47=4,SUM(AV46*1000+(BC46)/10+(BA46)/100+(BJ53)/1000+((F53+S53)-(G53+R53))/10000+(F53+S53)/100000+(S53)/1000000)))","v":false},{"$f":"IF(AU47=4,IF(AU46=4,SUM(AV47*1000+(BC47)/10+(BA47)/100+(BK53)/1000+((G53+R53)-(F53+S53))/10000+(G53+R53)/100000+(G53)/1000000)))","v":false},{"$f":"IF(AU48=4,IF(AU46=4,SUM(AV48*1000+(BC48)/10+(BA48)/100+(BK54)/1000+((G54+R54)-(F54+S54))/10000+(G54+R54)/100000+(G54)/1000000)))","v":false},{"$f":"IF(AU49=4,IF(AU46=4,SUM(AV49*1000+(BC49)/10+(BA49)/100+(BK55)/1000+((G55+R55)-(F55+S55))/10000+(G55+R55)/100000+(G55)/1000000)))","v":false},{"$f":"IF(AU44=5,IF(AU47=5,SUM(AV44*1000+(BC44)/10+(BA44)/100+(BJ46)/1000+((F46+S46)-(G46+R46))/10000+(F46+S46)/100000+(S46)/1000000)))","v":false},{"$f":"IF(AU45=5,IF(AU47=5,SUM(AV45*1000+(BC45)/10+(BA45)/100+(BJ50)/1000+((F50+S50)-(G50+R50))/10000+(F50+S50)/100000+(S50)/1000000)))","v":false},{"$f":"IF(AU46=5,IF(AU47=5,SUM(AV46*1000+(BC46)/10+(BA46)/100+(BJ53)/1000+((F53+S53)-(G53+R53))/10000+(F53+S53)/100000+(S53)/1000000)))","v":false},{"$f":"IF(AU47=5,IF(AU46=5,SUM(AV47*1000+(BC47)/10+(BA47)/100+(BK53)/1000+((G53+R53)-(F53+S53))/10000+(G53+R53)/100000+(G53)/1000000)))","v":false},{"$f":"IF(AU48=5,IF(AU46=5,SUM(AV48*1000+(BC48)/10+(BA48)/100+(BK54)/1000+((G54+R54)-(F54+S54))/10000+(G54+R54)/100000+(G54)/1000000)))","v":false},{"$f":"IF(AU49=5,IF(AU46=5,SUM(AV49*1000+(BC49)/10+(BA49)/100+(BK55)/1000+((G55+R55)-(F55+S55))/10000+(G55+R55)/100000+(G55)/1000000)))","v":false},{"$f":"IF(AU44=6,IF(AU47=6,SUM(AV44*1000+(BC44)/10+(BA44)/100+(BJ46)/1000+((F46+S46)-(G46+R46))/10000+(F46+S46)/100000+(S46)/1000000)))","v":false},{"$f":"IF(AU45=6,IF(AU47=6,SUM(AV45*1000+(BC45)/10+(BA45)/100+(BJ50)/1000+((F50+S50)-(G50+R50))/10000+(F50+S50)/100000+(S50)/1000000)))","v":false},{"$f":"IF(AU46=6,IF(AU47=6,SUM(AV46*1000+(BC46)/10+(BA46)/100+(BJ53)/1000+((F53+S53)-(G53+R53))/10000+(F53+S53)/100000+(S53)/1000000)))","v":false},{"$f":"IF(AU47=6,IF(AU46=6,SUM(AV47*1000+(BC47)/10+(BA47)/100+(BK53)/1000+((G53+R53)-(F53+S53))/10000+(G53+R53)/100000+(G53)/1000000)))","v":false},{"$f":"IF(AU48=6,IF(AU46=6,SUM(AV48*1000+(BC48)/10+(BA48)/100+(BK54)/1000+((G54+R54)-(F54+S54))/10000+(G54+R54)/100000+(G54)/1000000)))","v":false},{"$f":"IF(AU49=6,IF(AU46=6,SUM(AV49*1000+(BC49)/10+(BA49)/100+(BK55)/1000+((G55+R55)-(F55+S55))/10000+(G55+R55)/100000+(G55)/1000000)))","v":false}]
[{"$f":"AP44","v":"ALLEMAGNE"},null,null,null,null,7,0,{"$f":"AP49","v":"SAINT-MARIN"},null,null,null,null,"SAINT-MARIN",null,null,null,null,0,8,"ALLEMAGNE",null,null,null,null,null,{"$f":"VLOOKUP(AN55,AO51:AT56,2,0)","v":"AZERBAIDJAN"},null,null,null,null,5,{"$f":"VLOOKUP(Z48,AP44:BC49,7,0)","v":10},{"$f":"VLOOKUP(Z48,AP44:BC49,8,0)","v":10},{"$f":"VLOOKUP(Z48,AP44:BC49,9,0)","v":3},{"$f":"VLOOKUP(Z48,AP44:BC49,10,0)","v":1},{"$f":"VLOOKUP(Z48,AP44:BC49,11,0)","v":6},{"$f":"VLOOKUP(Z48,AP44:BC49,12,0)","v":10},{"$f":"VLOOKUP(Z48,AP44:BC49,13,0)","v":19},{"$f":"VLOOKUP(Z48,AP44:BC49,14,0)","v":-9},null,null,"NORVÈGE",null,null,null,null,{"$f":"RANK(AV48,AV44:AV49)","v":4},{"$f":"SUMPRODUCT((A44:E58=AP48)*(BF44:BF58))+SUMPRODUCT((H44:L58=AP48)*(BG44:BG58))+SUMPRODUCT((M44:Q58=AP48)*(BH44:BH58))+SUMPRODUCT((T44:X58=AP48)*(BI44:BI58))","v":13},{"$f":"SUMPRODUCT((A44:E58=AP48)*(BL44:BL58))+SUMPRODUCT((H44:L58=AP48)*(BM44:BM58))+SUMPRODUCT((M44:Q58=AP48)*(BN44:BN58))+SUMPRODUCT((T44:X58=AP48)*(BO44:BO58))","v":10},{"$f":"SUMPRODUCT((A44:E58=AP48)*(BP44:BP58))+SUMPRODUCT((H44:L58=AP48)*(BQ44:BQ58))+SUMPRODUCT((M44:Q58=AP48)*(BR44:BR58))+SUMPRODUCT((T44:X58=AP48)*(BS44:BS58))","v":4},{"$f":"SUMPRODUCT((A44:E58=AP48)*(BT44:BT58))+SUMPRODUCT((H44:L58=AP48)*(BU44:BU58))+SUMPRODUCT((M44:Q58=AP48)*(BV44:BV58))+SUMPRODUCT((T44:X58=AP48)*(BW44:BW58))","v":1},{"$f":"SUMPRODUCT((A44:E58=AP48)*(BX44:BX58))+SUMPRODUCT((H44:L58=AP48)*(BY44:BY58))+SUMPRODUCT((M44:Q58=AP48)*(BZ44:BZ58))+SUMPRODUCT((T44:X58=AP48)*(CA44:CA58))","v":5},{"$f":"SUMPRODUCT((A44:E58=AP48)*(CB44:CB58))+SUMPRODUCT((H44:L58=AP48)*(CC44:CC58))+SUMPRODUCT((M44:Q58=AP48)*(CD44:CD58))+SUMPRODUCT((T44:X58=AP48)*(CE44:CE58))","v":17},{"$f":"SUMPRODUCT((A44:E58=AP48)*(CH44:CH58))+SUMPRODUCT((H44:L58=AP48)*(CI44:CI58))+SUMPRODUCT((M44:Q58=AP48)*(CJ44:CJ58))+SUMPRODUCT((T44:X58=AP48)*(CK44:CK58))","v":16},1,null,null,3,0,0,3,6,0,1,1,1,1,1,false,false,1,false,false,false,false,false,1,1,false,7,0,0,8,15,0,0,7,8,0,0,15,{"$f":"IF(AU44=1,IF(AU48=1,SUM(AV44*1000+(BC44)/10+(BA44)/100+(BJ47)/1000+((F47+S47)-(G47+R47))/10000+(F47+S47)/100000+(S47)/1000000)))","v":false},{"$f":"IF(AU45=1,IF(AU48=1,SUM(AV45*1000+(BC45)/10+(BA45)/100+(BJ51)/1000+((F51+S51)-(G51+R51))/10000+(F51+S51)/100000+(S51)/1000000)))","v":false},{"$f":"IF(AU46=1,IF(AU48=1,SUM(AV46*1000+(BC46)/10+(BA46)/100+(BJ54)/1000+((F54+S54)-(G54+R54))/10000+(F54+S54)/100000+(S54)/1000000)))","v":false},{"$f":"IF(AU47=1,IF(AU48=1,SUM(AV47*1000+(BC47)/10+(BA47)/100+(BJ56)/1000+((F56+S56)-(G56+R56))/10000+(F56+S56)/100000+(S56)/1000000)))","v":false},{"$f":"IF(AU48=1,IF(AU47=1,SUM(AV48*1000+(BC48)/10+(BA48)/100+(BK56)/1000+((G56+R56)-(F56+S56))/10000+(G56+R56)/100000+(G56)/1000000)))","v":false},{"$f":"IF(AU49=1,IF(AU47=1,SUM(AV49*1000+(BC49)/10+(BA49)/100+(BK57)/1000+((G57+R57)-(F57+S57))/10000+(G57+R57)/100000+(G57)/1000000)))","v":false},null,{"$f":"IF(AU44=2,IF(AU48=2,SUM(AV44*1000+(BC44)/10+(BA44)/100+(BJ47)/1000+((F47+S47)-(G47+R47))/10000+(F47+S47)/100000+(S47)/1000000)))","v":false},{"$f":"IF(AU45=2,IF(AU48=2,SUM(AV45*1000+(BC45)/10+(BA45)/100+(BJ51)/1000+((F51+S51)-(G51+R51))/10000+(F51+S51)/100000+(S51)/1000000)))","v":false},{"$f":"IF(AU46=2,IF(AU48=2,SUM(AV46*1000+(BC46)/10+(BA46)/100+(BJ54)/1000+((F54+S54)-(G54+R54))/10000+(F54+S54)/100000+(S54)/1000000)))","v":false},{"$f":"IF(AU47=2,IF(AU48=2,SUM(AV47*1000+(BC47)/10+(BA47)/100+(BJ56)/1000+((F56+S56)-(G56+R56))/10000+(F56+S56)/100000+(S56)/1000000)))","v":false},{"$f":"IF(AU48=2,IF(AU47=2,SUM(AV48*1000+(BC48)/10+(BA48)/100+(BK56)/1000+((G56+R56)-(F56+S56))/10000+(G56+R56)/100000+(G56)/1000000)))","v":false},{"$f":"IF(AU49=2,IF(AU47=2,SUM(AV49*1000+(BC49)/10+(BA49)/100+(BK57)/1000+((G57+R57)-(F57+S57))/10000+(G57+R57)/100000+(G57)/1000000)))","v":false},{"$f":"IF(AU44=3,IF(AU48=3,SUM(AV44*1000+(BC44)/10+(BA44)/100+(BJ47)/1000+((F47+S47)-(G47+R47))/10000+(F47+S47)/100000+(S47)/1000000)))","v":false},{"$f":"IF(AU45=3,IF(AU48=3,SUM(AV45*1000+(BC45)/10+(BA45)/100+(BJ51)/1000+((F51+S51)-(G51+R51))/10000+(F51+S51)/100000+(S51)/1000000)))","v":false},{"$f":"IF(AU46=3,IF(AU48=3,SUM(AV46*1000+(BC46)/10+(BA46)/100+(BJ54)/1000+((F54+S54)-(G54+R54))/10000+(F54+S54)/100000+(S54)/1000000)))","v":false},{"$f":"IF(AU47=3,IF(AU48=3,SUM(AV47*1000+(BC47)/10+(BA47)/100+(BJ56)/1000+((F56+S56)-(G56+R56))/10000+(F56+S56)/100000+(S56)/1000000)))","v":false},{"$f":"IF(AU48=3,IF(AU47=3,SUM(AV48*1000+(BC48)/10+(BA48)/100+(BK56)/1000+((G56+R56)-(F56+S56))/10000+(G56+R56)/100000+(G56)/1000000)))","v":false},{"$f":"IF(AU49=3,IF(AU47=3,SUM(AV49*1000+(BC49)/10+(BA49)/100+(BK57)/1000+((G57+R57)-(F57+S57))/10000+(G57+R57)/100000+(G57)/1000000)))","v":false},{"$f":"IF(AU44=4,IF(AU48=4,SUM(AV44*1000+(BC44)/10+(BA44)/100+(BJ47)/1000+((F47+S47)-(G47+R47))/10000+(F47+S47)/100000+(S47)/1000000)))","v":false},{"$f":"IF(AU45=4,IF(AU48=4,SUM(AV45*1000+(BC45)/10+(BA45)/100+(BJ51)/1000+((F51+S51)-(G51+R51))/10000+(F51+S51)/100000+(S51)/1000000)))","v":false},{"$f":"IF(AU46=4,IF(AU48=4,SUM(AV46*1000+(BC46)/10+(BA46)/100+(BJ54)/1000+((F54+S54)-(G54+R54))/10000+(F54+S54)/100000+(S54)/1000000)))","v":false},{"$f":"IF(AU47=4,IF(AU48=4,SUM(AV47*1000+(BC47)/10+(BA47)/100+(BJ56)/1000+((F56+S56)-(G56+R56))/10000+(F56+S56)/100000+(S56)/1000000)))","v":false},{"$f":"IF(AU48=4,IF(AU47=4,SUM(AV48*1000+(BC48)/10+(BA48)/100+(BK56)/1000+((G56+R56)-(F56+S56))/10000+(G56+R56)/100000+(G56)/1000000)))","v":false},{"$f":"IF(AU49=4,IF(AU47=4,SUM(AV49*1000+(BC49)/10+(BA49)/100+(BK57)/1000+((G57+R57)-(F57+S57))/10000+(G57+R57)/100000+(G57)/1000000)))","v":false},{"$f":"IF(AU44=5,IF(AU48=5,SUM(AV44*1000+(BC44)/10+(BA44)/100+(BJ47)/1000+((F47+S47)-(G47+R47))/10000+(F47+S47)/100000+(S47)/1000000)))","v":false},{"$f":"IF(AU45=5,IF(AU48=5,SUM(AV45*1000+(BC45)/10+(BA45)/100+(BJ51)/1000+((F51+S51)-(G51+R51))/10000+(F51+S51)/100000+(S51)/1000000)))","v":false},{"$f":"IF(AU46=5,IF(AU48=5,SUM(AV46*1000+(BC46)/10+(BA46)/100+(BJ54)/1000+((F54+S54)-(G54+R54))/10000+(F54+S54)/100000+(S54)/1000000)))","v":false},{"$f":"IF(AU47=5,IF(AU48=5,SUM(AV47*1000+(BC47)/10+(BA47)/100+(BJ56)/1000+((F56+S56)-(G56+R56))/10000+(F56+S56)/100000+(S56)/1000000)))","v":false},{"$f":"IF(AU48=5,IF(AU47=5,SUM(AV48*1000+(BC48)/10+(BA48)/100+(BK56)/1000+((G56+R56)-(F56+S56))/10000+(G56+R56)/100000+(G56)/1000000)))","v":false},{"$f":"IF(AU49=5,IF(AU47=5,SUM(AV49*1000+(BC49)/10+(BA49)/100+(BK57)/1000+((G57+R57)-(F57+S57))/10000+(G57+R57)/100000+(G57)/1000000)))","v":false},{"$f":"IF(AU44=6,IF(AU48=6,SUM(AV44*1000+(BC44)/10+(BA44)/100+(BJ47)/1000+((F47+S47)-(G47+R47))/10000+(F47+S47)/100000+(S47)/1000000)))","v":false},{"$f":"IF(AU45=6,IF(AU48=6,SUM(AV45*1000+(BC45)/10+(BA45)/100+(BJ51)/1000+((F51+S51)-(G51+R51))/10000+(F51+S51)/100000+(S51)/1000000)))","v":false},{"$f":"IF(AU46=6,IF(AU48=6,SUM(AV46*1000+(BC46)/10+(BA46)/100+(BJ54)/1000+((F54+S54)-(G54+R54))/10000+(F54+S54)/100000+(S54)/1000000)))","v":false},{"$f":"IF(AU47=6,IF(AU48=6,SUM(AV47*1000+(BC47)/10+(BA47)/100+(BJ56)/1000+((F56+S56)-(G56+R56))/10000+(F56+S56)/100000+(S56)/1000000)))","v":false},{"$f":"IF(AU48=6,IF(AU47=6,SUM(AV48*1000+(BC48)/10+(BA48)/100+(BK56)/1000+((G56+R56)-(F56+S56))/10000+(G56+R56)/100000+(G56)/1000000)))","v":false},{"$f":"IF(AU49=6,IF(AU47=6,SUM(AV49*1000+(BC49)/10+(BA49)/100+(BK57)/1000+((G57+R57)-(F57+S57))/10000+(G57+R57)/100000+(G57)/1000000)))","v":false}]
[{"$f":"AP45","v":"IRLANDE DU NORD"},null,null,null,null,2,0,{"$f":"AP46","v":"RÉPUBLIQUE TCHÈQUE"},null,null,null,null,"RÉPUBLIQUE TCHÈQUE",null,null,null,null,0,0,"IRLANDE DU NORD",null,null,null,null,null,{"$f":"VLOOKUP(AN56,AO51:AT56,2,0)","v":"SAINT-MARIN"},null,null,null,null,6,{"$f":"VLOOKUP(Z49,AP44:BC49,7,0)","v":0},{"$f":"VLOOKUP(Z49,AP44:BC49,8,0)","v":10},{"$f":"VLOOKUP(Z49,AP44:BC49,9,0)","v":0},{"$f":"VLOOKUP(Z49,AP44:BC49,10,0)","v":0},{"$f":"VLOOKUP(Z49,AP44:BC49,11,0)","v":10},{"$f":"VLOOKUP(Z49,AP44:BC49,12,0)","v":2},{"$f":"VLOOKUP(Z49,AP44:BC49,13,0)","v":51},{"$f":"VLOOKUP(Z49,AP44:BC49,14,0)","v":-49},null,null,"SAINT-MARIN",null,null,null,null,{"$f":"RANK(AV49,AV44:AV49)","v":6},{"$f":"SUMPRODUCT((A44:E58=AP49)*(BF44:BF58))+SUMPRODUCT((H44:L58=AP49)*(BG44:BG58))+SUMPRODUCT((M44:Q58=AP49)*(BH44:BH58))+SUMPRODUCT((T44:X58=AP49)*(BI44:BI58))","v":0},{"$f":"SUMPRODUCT((A44:E58=AP49)*(BL44:BL58))+SUMPRODUCT((H44:L58=AP49)*(BM44:BM58))+SUMPRODUCT((M44:Q58=AP49)*(BN44:BN58))+SUMPRODUCT((T44:X58=AP49)*(BO44:BO58))","v":10},{"$f":"SUMPRODUCT((A44:E58=AP49)*(BP44:BP58))+SUMPRODUCT((H44:L58=AP49)*(BQ44:BQ58))+SUMPRODUCT((M44:Q58=AP49)*(BR44:BR58))+SUMPRODUCT((T44:X58=AP49)*(BS44:BS58))","v":0},{"$f":"SUMPRODUCT((A44:E58=AP49)*(BT44:BT58))+SUMPRODUCT((H44:L58=AP49)*(BU44:BU58))+SUMPRODUCT((M44:Q58=AP49)*(BV44:BV58))+SUMPRODUCT((T44:X58=AP49)*(BW44:BW58))","v":0},{"$f":"SUMPRODUCT((A44:E58=AP49)*(BX44:BX58))+SUMPRODUCT((H44:L58=AP49)*(BY44:BY58))+SUMPRODUCT((M44:Q58=AP49)*(BZ44:BZ58))+SUMPRODUCT((T44:X58=AP49)*(CA44:CA58))","v":10},{"$f":"SUMPRODUCT((A44:E58=AP49)*(CB44:CB58))+SUMPRODUCT((H44:L58=AP49)*(CC44:CC58))+SUMPRODUCT((M44:Q58=AP49)*(CD44:CD58))+SUMPRODUCT((T44:X58=AP49)*(CE44:CE58))","v":2},{"$f":"SUMPRODUCT((A44:E58=AP49)*(CH44:CH58))+SUMPRODUCT((H44:L58=AP49)*(CI44:CI58))+SUMPRODUCT((M44:Q58=AP49)*(CJ44:CJ58))+SUMPRODUCT((T44:X58=AP49)*(CK44:CK58))","v":51},-49,null,null,3,0,1,1,4,1,1,1,1,1,1,false,false,false,false,false,1,1,false,1,false,false,2,0,0,0,2,0,0,2,0,0,0,2,{"$f":"IF(AU44=1,IF(AU49=1,SUM(AV44*1000+(BC44)/10+(BA44)/100+(BJ48)/1000+((F48+S48)-(G48+R48))/10000+(F48+S48)/100000+(S48)/1000000)))","v":false},{"$f":"IF(AU45=1,IF(AU49=1,SUM(AV45*1000+(BC45)/10+(BA45)/100+(BJ52)/1000+((F52+S52)-(G52+R52))/10000+(F52+S52)/100000+(S52)/1000000)))","v":false},{"$f":"IF(AU46=1,IF(AU49=1,SUM(AV46*1000+(BC46)/10+(BA46)/100+(BJ55)/1000+((F55+S55)-(G55+R55))/10000+(F55+S55)/100000+(S55)/1000000)))","v":false},{"$f":"IF(AU47=1,IF(AU49=1,SUM(AV47*1000+(BC47)/10+(BA47)/100+(BJ57)/1000+((F57+S57)-(G57+R57))/10000+(F57+S57)/100000+(S57)/1000000)))","v":false},{"$f":"IF(AU48=1,IF(AU49=1,SUM(AV48*1000+(BC48)/10+(BA48)/100+(BJ58)/1000+((F58+S58)-(G58+R58))/10000+(F58+S58)/100000+(S58)/1000000)))","v":false},{"$f":"IF(AU49=1,IF(AU48=1,SUM(AV49*1000+(BC49)/10+(BA49)/100+(BK58)/1000+((G58+R58)-(F58+S58))/10000+(G58+R58)/100000+(G58)/1000000)))","v":false},null,{"$f":"IF(AU44=2,IF(AU49=2,SUM(AV44*1000+(BC44)/10+(BA44)/100+(BJ48)/1000+((F48+S48)-(G48+R48))/10000+(F48+S48)/100000+(S48)/1000000)))","v":false},{"$f":"IF(AU45=2,IF(AU49=2,SUM(AV45*1000+(BC45)/10+(BA45)/100+(BJ52)/1000+((F52+S52)-(G52+R52))/10000+(F52+S52)/100000+(S52)/1000000)))","v":false},{"$f":"IF(AU46=2,IF(AU49=2,SUM(AV46*1000+(BC46)/10+(BA46)/100+(BJ55)/1000+((F55+S55)-(G55+R55))/10000+(F55+S55)/100000+(S55)/1000000)))","v":false},{"$f":"IF(AU47=2,IF(AU49=2,SUM(AV47*1000+(BC47)/10+(BA47)/100+(BJ57)/1000+((F57+S57)-(G57+R57))/10000+(F57+S57)/100000+(S57)/1000000)))","v":false},{"$f":"IF(AU48=2,IF(AU49=2,SUM(AV48*1000+(BC48)/10+(BA48)/100+(BJ58)/1000+((F58+S58)-(G58+R58))/10000+(F58+S58)/100000+(S58)/1000000)))","v":false},{"$f":"IF(AU49=2,IF(AU48=2,SUM(AV49*1000+(BC49)/10+(BA49)/100+(BK58)/1000+((G58+R58)-(F58+S58))/10000+(G58+R58)/100000+(G58)/1000000)))","v":false},{"$f":"IF(AU44=3,IF(AU49=3,SUM(AV44*1000+(BC44)/10+(BA44)/100+(BJ48)/1000+((F48+S48)-(G48+R48))/10000+(F48+S48)/100000+(S48)/1000000)))","v":false},{"$f":"IF(AU45=3,IF(AU49=3,SUM(AV45*1000+(BC45)/10+(BA45)/100+(BJ52)/1000+((F52+S52)-(G52+R52))/10000+(F52+S52)/100000+(S52)/1000000)))","v":false},{"$f":"IF(AU46=3,IF(AU49=3,SUM(AV46*1000+(BC46)/10+(BA46)/100+(BJ55)/1000+((F55+S55)-(G55+R55))/10000+(F55+S55)/100000+(S55)/1000000)))","v":false},{"$f":"IF(AU47=3,IF(AU49=3,SUM(AV47*1000+(BC47)/10+(BA47)/100+(BJ57)/1000+((F57+S57)-(G57+R57))/10000+(F57+S57)/100000+(S57)/1000000)))","v":false},{"$f":"IF(AU48=3,IF(AU49=3,SUM(AV48*1000+(BC48)/10+(BA48)/100+(BJ58)/1000+((F58+S58)-(G58+R58))/10000+(F58+S58)/100000+(S58)/1000000)))","v":false},{"$f":"IF(AU49=3,IF(AU48=3,SUM(AV49*1000+(BC49)/10+(BA49)/100+(BK58)/1000+((G58+R58)-(F58+S58))/10000+(G58+R58)/100000+(G58)/1000000)))","v":false},{"$f":"IF(AU44=4,IF(AU49=4,SUM(AV44*1000+(BC44)/10+(BA44)/100+(BJ48)/1000+((F48+S48)-(G48+R48))/10000+(F48+S48)/100000+(S48)/1000000)))","v":false},{"$f":"IF(AU45=4,IF(AU49=4,SUM(AV45*1000+(BC45)/10+(BA45)/100+(BJ52)/1000+((F52+S52)-(G52+R52))/10000+(F52+S52)/100000+(S52)/1000000)))","v":false},{"$f":"IF(AU46=4,IF(AU49=4,SUM(AV46*1000+(BC46)/10+(BA46)/100+(BJ55)/1000+((F55+S55)-(G55+R55))/10000+(F55+S55)/100000+(S55)/1000000)))","v":false},{"$f":"IF(AU47=4,IF(AU49=4,SUM(AV47*1000+(BC47)/10+(BA47)/100+(BJ57)/1000+((F57+S57)-(G57+R57))/10000+(F57+S57)/100000+(S57)/1000000)))","v":false},{"$f":"IF(AU48=4,IF(AU49=4,SUM(AV48*1000+(BC48)/10+(BA48)/100+(BJ58)/1000+((F58+S58)-(G58+R58))/10000+(F58+S58)/100000+(S58)/1000000)))","v":false},{"$f":"IF(AU49=4,IF(AU48=4,SUM(AV49*1000+(BC49)/10+(BA49)/100+(BK58)/1000+((G58+R58)-(F58+S58))/10000+(G58+R58)/100000+(G58)/1000000)))","v":false},{"$f":"IF(AU44=5,IF(AU49=5,SUM(AV44*1000+(BC44)/10+(BA44)/100+(BJ48)/1000+((F48+S48)-(G48+R48))/10000+(F48+S48)/100000+(S48)/1000000)))","v":false},{"$f":"IF(AU45=5,IF(AU49=5,SUM(AV45*1000+(BC45)/10+(BA45)/100+(BJ52)/1000+((F52+S52)-(G52+R52))/10000+(F52+S52)/100000+(S52)/1000000)))","v":false},{"$f":"IF(AU46=5,IF(AU49=5,SUM(AV46*1000+(BC46)/10+(BA46)/100+(BJ55)/1000+((F55+S55)-(G55+R55))/10000+(F55+S55)/100000+(S55)/1000000)))","v":false},{"$f":"IF(AU47=5,IF(AU49=5,SUM(AV47*1000+(BC47)/10+(BA47)/100+(BJ57)/1000+((F57+S57)-(G57+R57))/10000+(F57+S57)/100000+(S57)/1000000)))","v":false},{"$f":"IF(AU48=5,IF(AU49=5,SUM(AV48*1000+(BC48)/10+(BA48)/100+(BJ58)/1000+((F58+S58)-(G58+R58))/10000+(F58+S58)/100000+(S58)/1000000)))","v":false},{"$f":"IF(AU49=5,IF(AU48=5,SUM(AV49*1000+(BC49)/10+(BA49)/100+(BK58)/1000+((G58+R58)-(F58+S58))/10000+(G58+R58)/100000+(G58)/1000000)))","v":false},{"$f":"IF(AU44=6,IF(AU49=6,SUM(AV44*1000+(BC44)/10+(BA44)/100+(BJ48)/1000+((F48+S48)-(G48+R48))/10000+(F48+S48)/100000+(S48)/1000000)))","v":false},{"$f":"IF(AU45=6,IF(AU49=6,SUM(AV45*1000+(BC45)/10+(BA45)/100+(BJ52)/1000+((F52+S52)-(G52+R52))/10000+(F52+S52)/100000+(S52)/1000000)))","v":false},{"$f":"IF(AU46=6,IF(AU49=6,SUM(AV46*1000+(BC46)/10+(BA46)/100+(BJ55)/1000+((F55+S55)-(G55+R55))/10000+(F55+S55)/100000+(S55)/1000000)))","v":false},{"$f":"IF(AU47=6,IF(AU49=6,SUM(AV47*1000+(BC47)/10+(BA47)/100+(BJ57)/1000+((F57+S57)-(G57+R57))/10000+(F57+S57)/100000+(S57)/1000000)))","v":false},{"$f":"IF(AU48=6,IF(AU49=6,SUM(AV48*1000+(BC48)/10+(BA48)/100+(BJ58)/1000+((F58+S58)-(G58+R58))/10000+(F58+S58)/100000+(S58)/1000000)))","v":false},{"$f":"IF(AU49=6,IF(AU48=6,SUM(AV49*1000+(BC49)/10+(BA49)/100+(BK58)/1000+((G58+R58)-(F58+S58))/10000+(G58+R58)/100000+(G58)/1000000)))","v":false}]
[{"$f":"AP45","v":"IRLANDE DU NORD"},null,null,null,null,4,0,{"$f":"AP47","v":"AZERBAIDJAN"},null,null,null,null,"AZERBAIDJAN",null,null,null,null,0,1,"IRLANDE DU NORD",null,null,null,null,null,null,null,null,null,null,null,null,null,null,null,null,null,null,null,null,null,null,null,null,null,null,null,null,null,null,null,null,null,null,null,null,null,3,0,0,3,6,0,1,1,1,1,1,false,false,1,false,false,false,false,false,1,1,false,4,0,0,1,5,0,0,4,1,0,0,5,{"$f":"SUM(CN44:CN49)","v":1000000},0,0,0,0,0,null,{"$f":"SUM(CU44:CU49)","v":0},800000,0,0,0,0,0,0,600000,0,0,0,0,0,0,0,400000,0,0,0,0,200000,0,0,0,0,0,0,0,100000]
[{"$f":"AP45","v":"IRLANDE DU NORD"},null,null,null,null,2,0,{"$f":"AP48","v":"NORVÈGE"},null,null,null,null,"NORVÈGE",null,null,null,null,1,0,"IRLANDE DU NORD",null,null,null,null,null,null,null,null,null,null,null,null,null,null,null,null,null,null,null,1,{"$f":"BA51","v":1},{"$f":"AP44","v":"ALLEMAGNE"},null,null,null,null,{"$f":"SUM(CN50,CU50,DA50,DG50,DM50,DS50)","v":1000000},null,null,{"$f":"AU51+0.00000006","v":1000000.00000006},null,null,{"$f":"RANK(AX51,AX51:AZ56)","v":1},{"$f":"RANK(AU51,AU51:AW56)","v":1},null,null,null,3,0,3,0,3,3,1,1,1,1,1,false,1,false,false,false,false,false,false,1,false,1,2,0,1,0,2,1,0,2,0,1,1,2]
[{"$f":"AP45","v":"IRLANDE DU NORD"},null,null,null,null,4,0,{"$f":"AP49","v":"SAINT-MARIN"},null,null,null,null,"SAINT-MARIN",null,null,null,null,0,3,"IRLANDE DU NORD",null,null,null,null,null,null,null,null,null,null,null,null,null,null,null,null,null,null,null,2,{"$f":"BA52","v":2},{"$f":"AP45","v":"IRLANDE DU NORD"},null,null,null,null,{"$f":"SUM(CO50,CV50,DB50,DH50,DN50,DT50)","v":800000},null,null,{"$f":"AU52+0.00000005","v":800000.00000004994},null,null,{"$f":"RANK(AX52,AX51:AZ56)","v":2},{"$f":"RANK(AU52,AU51:AW56)","v":2},null,null,null,3,0,0,3,6,0,1,1,1,1,1,false,false,1,false,false,false,false,false,1,1,false,4,0,0,3,7,0,0,4,3,0,0,7,{"$f":"VLOOKUP(AN51,AO51:AT56,2,0)","v":"ALLEMAGNE"},null,null,null,null,null,{"$f":"VLOOKUP(CN52,AP51:AW56,6,0)","v":1000000},null,null,{"$f":"RANK(CT52,CT52:CV57)","v":1}]
[{"$f":"AP46","v":"RÉPUBLIQUE TCHÈQUE"},null,null,null,null,0,0,{"$f":"AP47","v":"AZERBAIDJAN"},null,null,null,null,"AZERBAIDJAN",null,null,null,null,1,2,"RÉPUBLIQUE TCHÈQUE",null,null,null,null,null,"ÉQUIPE QUALIFIÉE",null,null,null,{"$f":"Z44","v":"ALLEMAGNE"},null,null,null,null,null,null,null,null,null,3,3,"RÉPUBLIQUE TCHÈQUE",null,null,null,null,{"$f":"SUM(CP50,CW50,DC50,DI50,DO50,DU50)","v":600000},null,null,{"$f":"AU53+0.00000004","v":600000.00000004005},null,null,{"$f":"RANK(AX53,AX51:AZ56)","v":3},{"$f":"RANK(AU53,AU51:AW56)","v":3},null,null,null,1,1,0,3,4,1,1,1,1,1,false,false,false,1,1,1,false,false,false,false,1,false,0,0,1,2,2,1,0,0,2,1,1,2,{"$f":"VLOOKUP(AN52,AO51:AT56,2,0)","v":"IRLANDE DU NORD"},null,null,null,null,null,{"$f":"VLOOKUP(CN53,AP51:AW56,6,0)","v":800000},null,null,{"$f":"RANK(CT53,CT52:CV57)","v":2}]
[{"$f":"AP46","v":"RÉPUBLIQUE TCHÈQUE"},null,null,null,null,2,1,{"$f":"AP48","v":"NORVÈGE"},null,null,null,null,"NORVÈGE",null,null,null,null,1,1,"RÉPUBLIQUE TCHÈQUE",null,null,null,null,null,null,null,null,null,null,null,null,null,null,null,null,null,null,null,4,5,"AZERBAIDJAN",null,null,null,null,{"$f":"SUM(CQ50,CX50,DD50,DJ50,DP50,DV50)","v":200000},null,null,{"$f":"AU54+0.00000003","v":200000.00000003001},null,null,{"$f":"RANK(AX54,AX51:AZ56)","v":5},{"$f":"RANK(AU54,AU51:AW56)","v":5},null,null,null,3,0,1,1,4,1,1,1,1,1,1,false,false,false,false,false,1,1,false,1,false,false,2,1,1,1,3,2,1,2,1,1,2,3,{"$f":"VLOOKUP(AN53,AO51:AT56,2,0)","v":"RÉPUBLIQUE TCHÈQUE"},null,null,null,null,null,{"$f":"VLOOKUP(CN54,AP51:AW56,6,0)","v":600000},null,null,{"$f":"RANK(CT54,CT52:CV57)","v":3}]
[{"$f":"AP46","v":"RÉPUBLIQUE TCHÈQUE"},null,null,null,null,5,0,{"$f":"AP49","v":"SAINT-MARIN"},null,null,null,null,"SAINT-MARIN",null,null,null,null,0,6,"RÉPUBLIQUE TCHÈQUE",null,null,null,null,null,null,null,null,null,null,null,null,null,null,null,null,null,null,null,5,4,"NORVÈGE",null,null,null,null,{"$f":"SUM(CR50,CY50,DE50,DK50,DQ50,DW50)","v":400000},null,null,{"$f":"AU55+0.00000002","v":400000.00000002002},null,null,{"$f":"RANK(AX55,AX51:AZ56)","v":4},{"$f":"RANK(AU55,AU51:AW56)","v":4},null,null,null,3,0,0,3,6,0,1,1,1,1,1,false,false,1,false,false,false,false,false,1,1,false,5,0,0,6,11,0,0,5,6,0,0,11,{"$f":"VLOOKUP(AN54,AO51:AT56,2,0)","v":"NORVÈGE"},null,null,null,null,null,{"$f":"VLOOKUP(CN55,AP51:AW56,6,0)","v":400000},null,null,{"$f":"RANK(CT55,CT52:CV57)","v":4}]
[{"$f":"AP47","v":"AZERBAIDJAN"},null,null,null,null,1,0,{"$f":"AP48","v":"NORVÈGE"},null,null,null,null,"NORVÈGE",null,null,null,null,2,0,"AZERBAIDJAN",null,null,null,null,null,"BARRAGE",null,null,null,{"$f":"IF(M184=9,\"\",D184)","v":"IRLANDE DU NORD"},null,null,null,null,null,null,null,null,null,6,6,"SAINT-MARIN",null,null,null,null,{"$f":"SUM(CS50,CZ50,DF50,DL50,DR50,DX50)","v":100000},null,null,{"$f":"AU56+0.00000001","v":100000.00000001},null,null,{"$f":"RANK(AX56,AX51:AZ56)","v":6},{"$f":"RANK(AU56,AU51:AW56)","v":6},null,null,null,3,0,3,0,3,3,1,1,1,1,1,false,1,false,false,false,false,false,false,1,false,1,1,0,2,0,1,2,0,1,0,2,2,1,{"$f":"VLOOKUP(AN55,AO51:AT56,2,0)","v":"AZERBAIDJAN"},null,null,null,null,null,{"$f":"VLOOKUP(CN56,AP51:AW56,6,0)","v":200000},null,null,{"$f":"RANK(CT56,CT52:CV57)","v":5}]
[{"$f":"AP47","v":"AZERBAIDJAN"},null,null,null,null,5,1,{"$f":"AP49","v":"SAINT-MARIN"},null,null,null,null,"SAINT-MARIN",null,null,null,null,0,1,"AZERBAIDJAN",null,null,null,null,null,null,null,null,null,null,null,null,null,null,null,null,null,null,null,null,null,null,null,null,null,null,null,null,null,null,null,null,null,null,null,null,null,3,0,0,3,6,0,1,1,1,1,1,false,false,1,false,false,false,false,false,1,1,false,5,1,0,1,6,1,1,5,1,0,1,6,{"$f":"VLOOKUP(AN56,AO51:AT56,2,0)","v":"SAINT-MARIN"},null,null,null,null,null,{"$f":"VLOOKUP(CN57,AP51:AW56,6,0)","v":100000},null,null,{"$f":"RANK(CT57,CT52:CV57)","v":6}]
[{"$f":"AP48","v":"NORVÈGE"},null,null,null,null,4,1,{"$f":"AP49","v":"SAINT-MARIN"},null,null,null,null,"SAINT-MARIN",null,null,null,null,0,8,"NORVÈGE",null,null,null,null,null,null,null,null,null,null,null,null,null,null,null,null,null,null,null,null,null,null,null,null,null,null,null,null,null,null,null,null,null,null,null,null,null,3,0,0,3,6,0,1,1,1,1,1,false,false,1,false,false,false,false,false,1,1,false,4,1,0,8,12,1,1,4,8,0,1,12]
[]
[]
["MATCHS  ALLER",null,null,null,null,null,null,null,null,"GROUPE  D",null,null,null,null,null,"MATCHS  RETOUR",null,null,null,null,null,null,null,null,"GROUPE  D","CLASSEMENT",null,null,null,null,null,null,null,null,null,null,null,null,null,null,null,"CLASSEMENT"]
[]
["Équipes",null,null,null,null,"Bts","Bts","Équipes",null,null,null,null,"Équipes",null,null,null,null,"Bts","Bts","Équipes",null,null,null,null,null,"Équipes",null,null,null,null,"R","Pts","J","G","N","P","B +","B -","Diff",null,null,"Équipes",null,null,null,null,"R","Pts","J","G","N","P","B +","B -","Diff",null,null,"pts","pts","pts","pts","t pts","t pts","j","j","j","j","g","g","g","g","n","n","n","n","p","p","p","p","b+","b+","b+","b+","b+","b+","b-","b-","b-","b-","b-","b-",{"$f":"AP64","v":"SERBIE"},{"$f":"AP65","v":"IRLANDE"},{"$f":"AP66","v":"PAYS DE GALLES"},{"$f":"AP67","v":"AUTRICHE"},{"$f":"AP68","v":"GÉORGIE"},{"$f":"AP69","v":"MOLDALVIE"},null,{"$f":"CN63","v":"SERBIE"},{"$f":"CO63","v":"IRLANDE"},{"$f":"CP63","v":"PAYS DE GALLES"},{"$f":"CQ63","v":"AUTRICHE"},{"$f":"CR63","v":"GÉORGIE"},{"$f":"CS63","v":"MOLDALVIE"},{"$f":"CN63","v":"SERBIE"},{"$f":"CO63","v":"IRLANDE"},{"$f":"CP63","v":"PAYS DE GALLES"},{"$f":"CQ63","v":"AUTRICHE"},{"$f":"CR63","v":"GÉORGIE"},{"$f":"CS63","v":"MOLDALVIE"},{"$f":"CN63","v":"SERBIE"},{"$f":"CO63","v":"IRLANDE"},{"$f":"CP63","v":"PAYS DE GALLES"},{"$f":"CQ63","v":"AUTRICHE"},{"$f":"CR63","v":"GÉORGIE"},{"$f":"CS63","v":"MOLDALVIE"},{"$f":"CN63","v":"SERBIE"},{"$f":"CO63","v":"IRLANDE"},{"$f":"CP63","v":"PAYS DE GALLES"},{"$f":"CQ63","v":"AUTRICHE"},{"$f":"CR63","v":"GÉORGIE"},{"$f":"CS63","v":"MOLDALVIE"},{"$f":"CN63","v":"SERBIE"},{"$f":"CO63","v":"IRLANDE"},{"$f":"CP63","v":"PAYS DE GALLES"},{"$f":"CQ63","v":"AUTRICHE"},{"$f":"CR63","v":"GÉORGIE"},{"$f":"CS63","v":"MOLDALVIE"}]
[{"$f":"AP64","v":"SERBIE"},null,null,null,null,2,2,{"$f":"AP65","v":"IRLANDE"},null,null,null,null,{"$f":"H64","v":"IRLANDE"},null,null,null,null,0,1,{"$f":"A64","v":"SERBIE"},null,null,null,null,null,{"$f":"VLOOKUP(AN71,AO71:AT76,2,0)","v":"SERBIE"},null,null,null,null,1,{"$f":"VLOOKUP(Z64,AP64:BC69,7,0)","v":21},{"$f":"VLOOKUP(Z64,AP64:BC69,8,0)","v":10},{"$f":"VLOOKUP(Z64,AP64:BC69,9,0)","v":6},{"$f":"VLOOKUP(Z64,AP64:BC69,10,0)","v":3},{"$f":"VLOOKUP(Z64,AP64:BC69,11,0)","v":1},{"$f":"VLOOKUP(Z64,AP64:BC69,12,0)","v":20},{"$f":"VLOOKUP(Z64,AP64:BC69,13,0)","v":10},{"$f":"VLOOKUP(Z64,AP64:BC69,14,0)","v":10},null,null,"SERBIE",null,null,null,null,{"$f":"RANK(AV64,AV64:AV69)","v":1},{"$f":"SUMPRODUCT((A64:E78=AP64)*(BF64:BF78))+SUMPRODUCT((H64:L78=AP64)*(BG64:BG78))+SUMPRODUCT((M64:Q78=AP64)*(BH64:BH78))+SUMPRODUCT((T64:X78=AP64)*(BI64:BI78))","v":21},{"$f":"SUMPRODUCT((A64:E78=AP64)*(BL64:BL78))+SUMPRODUCT((H64:L78=AP64)*(BM64:BM78))+SUMPRODUCT((M64:Q78=AP64)*(BN64:BN78))+SUMPRODUCT((T64:X78=AP64)*(BO64:BO78))","v":10},{"$f":"SUMPRODUCT((A64:E78=AP64)*(BP64:BP78))+SUMPRODUCT((H64:L78=AP64)*(BQ64:BQ78))+SUMPRODUCT((M64:Q78=AP64)*(BR64:BR78))+SUMPRODUCT((T64:X78=AP64)*(BS64:BS78))","v":6},{"$f":"SUMPRODUCT((A64:E78=AP64)*(BT64:BT78))+SUMPRODUCT((H64:L78=AP64)*(BU64:BU78))+SUMPRODUCT((M64:Q78=AP64)*(BV64:BV78))+SUMPRODUCT((T64:X78=AP64)*(BW64:BW78))","v":3},{"$f":"SUMPRODUCT((A64:E78=AP64)*(BX64:BX78))+SUMPRODUCT((H64:L78=AP64)*(BY64:BY78))+SUMPRODUCT((M64:Q78=AP64)*(BZ64:BZ78))+SUMPRODUCT((T64:X78=AP64)*(CA64:CA78))","v":1},{"$f":"SUMPRODUCT((A64:E78=AP64)*(CB64:CB78))+SUMPRODUCT((H64:L78=AP64)*(CC64:CC78))+SUMPRODUCT((M64:Q78=AP64)*(CD64:CD78))+SUMPRODUCT((T64:X78=AP64)*(CE64:CE78))","v":20},{"$f":"SUMPRODUCT((A64:E78=AP64)*(CH64:CH78))+SUMPRODUCT((H64:L78=AP64)*(CI64:CI78))+SUMPRODUCT((M64:Q78=AP64)*(CJ64:CJ78))+SUMPRODUCT((T64:X78=AP64)*(CK64:CK78))","v":10},{"$f":"BA64-BB64","v":10},null,null,{"$f":"IF(F64=\"\",0,IF(F64>G64,3,IF(F64=G64,1,IF(F64<G64,0))))","v":1},{"$f":"IF(G64=\"\",0,IF(G64>F64,3,IF(G64=F64,1,IF(G64<F64,0))))","v":1},{"$f":"IF(R64=\"\",0,IF(R64>S64,3,IF(R64=S64,1,IF(R64<S64,0))))","v":0},{"$f":"IF(S64=\"\",0,IF(S64>R64,3,IF(S64=R64,1,IF(S64<R64,0))))","v":3},{"$f":"BF64+BI64","v":4},{"$f":"BG64+BH64","v":1},{"$f":"IF(F64=\"\",0,1)","v":1},{"$f":"IF(G64=\"\",0,1)","v":1},{"$f":"IF(R64=\"\",0,1)","v":1},{"$f":"IF(S64=\"\",0,1)","v":1},{"$f":"IF(F64<>\"\",IF(F64>G64,1))","v":false},{"$f":"IF(G64<>\"\",IF(G64>F64,1))","v":false},{"$f":"IF(R64<>\"\",IF(R64>S64,1))","v":false},{"$f":"IF(S64<>\"\",IF(S64>R64,1))","v":1},{"$f":"IF(F64<>\"\",IF(F64=G64,1))","v":1},{"$f":"IF(G64<>\"\",IF(G64=F64,1))","v":1},{"$f":"IF(R64<>\"\",IF(R64=S64,1))","v":false},{"$f":"IF(S64<>\"\",IF(S64=R64,1))","v":false},{"$f":"IF(F64<>\"\",IF(F64<G64,1))","v":false},{"$f":"IF(G64<>\"\",IF(G64<F64,1))","v":false},{"$f":"IF(R64<>\"\",IF(R64<S64,1))","v":1},{"$f":"IF(S64<>\"\",IF(S64<R64,1))","v":false},{"$f":"F64","v":2},{"$f":"G64","v":2},{"$f":"R64","v":0},{"$f":"S64","v":1},{"$f":"CB64+CE64","v":3},{"$f":"CC64+CD64","v":2},{"$f":"G64","v":2},{"$f":"F64","v":2},{"$f":"S64","v":1},{"$f":"R64","v":0},{"$f":"CH64+CK64","v":2},{"$f":"CI64+CJ64","v":3},{"$f":"IF(AU64=1,1000000)","v":1000000},{"$f":"IF(AU65=1,1000000)","v":false},{"$f":"IF(AU66=1,1000000)","v":false},{"$f":"IF(AU67=1,1000000)","v":false},{"$f":"IF(AU68=1,1000000)","v":false},{"$f":"IF(AU69=1,1000000)","v":false},null,{"$f":"IF(AU64=2,800000)","v":false},{"$f":"IF(AU65=2,800000)","v":800000},{"$f":"IF(AU66=2,800000)","v":false},{"$f":"IF(AU67=2,800000)","v":false},{"$f":"IF(AU68=2,800000)","v":false},{"$f":"IF(AU69=2,800000)","v":false},{"$f":"IF(AU64=3,600000)","v":false},{"$f":"IF(AU65=3,600000)","v":false},{"$f":"IF(AU66=3,600000)","v":600000},{"$f":"IF(AU67=3,600000)","v":false},{"$f":"IF(AU68=3,600000)","v":false},{"$f":"IF(AU69=3,600000)","v":false},{"$f":"IF(AU64=4,400000)","v":false},{"$f":"IF(AU65=4,400000)","v":false},{"$f":"IF(AU66=4,400000)","v":false},{"$f":"IF(AU67=4,400000)","v":400000},{"$f":"IF(AU68=4,400000)","v":false},{"$f":"IF(AU69=4,400000)","v":false},{"$f":"IF(AU64=5,200000)","v":false},{"$f":"IF(AU65=5,200000)","v":false},{"$f":"IF(AU66=5,200000)","v":false},{"$f":"IF(AU67=5,200000)","v":false},{"$f":"IF(AU68=5,200000)","v":200000},{"$f":"IF(AU69=5,200000)","v":false},{"$f":"IF(AU64=6,100000)","v":false},{"$f":"IF(AU65=6,100000)","v":false},{"$f":"IF(AU66=6,100000)","v":false},{"$f":"IF(AU67=6,100000)","v":false},{"$f":"IF(AU68=6,100000)","v":false},{"$f":"IF(AU69=6,100000)","v":100000}]
[{"$f":"AP64","v":"SERBIE"},null,null,null,null,1,1,{"$f":"AP66","v":"PAYS DE GALLES"},null,null,null,null,{"$f":"H65","v":"PAYS DE GALLES"},null,null,null,null,1,1,{"$f":"A65","v":"SERBIE"},null,null,null,null,null,{"$f":"VLOOKUP(AN72,AO71:AT76,2,0)","v":"IRLANDE"},null,null,null,null,{"$f":"IF(CT73=CT72,CW72,CW73)","v":2},{"$f":"VLOOKUP(Z65,AP64:BC69,7,0)","v":19},{"$f":"VLOOKUP(Z65,AP64:BC69,8,0)","v":10},{"$f":"VLOOKUP(Z65,AP64:BC69,9,0)","v":5},{"$f":"VLOOKUP(Z65,AP64:BC69,10,0)","v":4},{"$f":"VLOOKUP(Z65,AP64:BC69,11,0)","v":1},{"$f":"VLOOKUP(Z65,AP64:BC69,12,0)","v":12},{"$f":"VLOOKUP(Z65,AP64:BC69,13,0)","v":6},{"$f":"VLOOKUP(Z65,AP64:BC69,14,0)","v":6},null,null,"IRLANDE",null,null,null,null,{"$f":"RANK(AV65,AV64:AV69)","v":2},{"$f":"SUMPRODUCT((A64:E78=AP65)*(BF64:BF78))+SUMPRODUCT((H64:L78=AP65)*(BG64:BG78))+SUMPRODUCT((M64:Q78=AP65)*(BH64:BH78))+SUMPRODUCT((T64:X78=AP65)*(BI64:BI78))","v":19},{"$f":"SUMPRODUCT((A64:E78=AP65)*(BL64:BL78))+SUMPRODUCT((H64:L78=AP65)*(BM64:BM78))+SUMPRODUCT((M64:Q78=AP65)*(BN64:BN78))+SUMPRODUCT((T64:X78=AP65)*(BO64:BO78))","v":10},{"$f":"SUMPRODUCT((A64:E78=AP65)*(BP64:BP78))+SUMPRODUCT((H64:L78=AP65)*(BQ64:BQ78))+SUMPRODUCT((M64:Q78=AP65)*(BR64:BR78))+SUMPRODUCT((T64:X78=AP65)*(BS64:BS78))","v":5},{"$f":"SUMPRODUCT((A64:E78=AP65)*(BT64:BT78))+SUMPRODUCT((H64:L78=AP65)*(BU64:BU78))+SUMPRODUCT((M64:Q78=AP65)*(BV64:BV78))+SUMPRODUCT((T64:X78=AP65)*(BW64:BW78))","v":4},{"$f":"SUMPRODUCT((A64:E78=AP65)*(BX64:BX78))+SUMPRODUCT((H64:L78=AP65)*(BY64:BY78))+SUMPRODUCT((M64:Q78=AP65)*(BZ64:BZ78))+SUMPRODUCT((T64:X78=AP65)*(CA64:CA78))","v":1},{"$f":"SUMPRODUCT((A64:E78=AP65)*(CB64:CB78))+SUMPRODUCT((H64:L78=AP65)*(CC64:CC78))+SUMPRODUCT((M64:Q78=AP65)*(CD64:CD78))+SUMPRODUCT((T64:X78=AP65)*(CE64:CE78))","v":12},{"$f":"SUMPRODUCT((A64:E78=AP65)*(CH64:CH78))+SUMPRODUCT((H64:L78=AP65)*(CI64:CI78))+SUMPRODUCT((M64:Q78=AP65)*(CJ64:CJ78))+SUMPRODUCT((T64:X78=AP65)*(CK64:CK78))","v":6},{"$f":"BA65-BB65","v":6},null,null,{"$f":"IF(F65=\"\",0,IF(F65>G65,3,IF(F65=G65,1,IF(F65<G65,0))))","v":1},{"$f":"IF(G65=\"\",0,IF(G65>F65,3,IF(G65=F65,1,IF(G65<F65,0))))","v":1},{"$f":"IF(R65=\"\",0,IF(R65>S65,3,IF(R65=S65,1,IF(R65<S65,0))))","v":1},{"$f":"IF(S65=\"\",0,IF(S65>R65,3,IF(S65=R65,1,IF(S65<R65,0))))","v":1},{"$f":"BF65+BI65","v":2},{"$f":"BG65+BH65","v":2},{"$f":"IF(F65=\"\",0,1)","v":1},{"$f":"IF(G65=\"\",0,1)","v":1},{"$f":"IF(R65=\"\",0,1)","v":1},{"$f":"IF(S65=\"\",0,1)","v":1},{"$f":"IF(F65<>\"\",IF(F65>G65,1))","v":false},{"$f":"IF(G65<>\"\",IF(G65>F65,1))","v":false},{"$f":"IF(R65<>\"\",IF(R65>S65,1))","v":false},{"$f":"IF(S65<>\"\",IF(S65>R65,1))","v":false},{"$f":"IF(F65<>\"\",IF(F65=G65,1))","v":1},{"$f":"IF(G65<>\"\",IF(G65=F65,1))","v":1},{"$f":"IF(R65<>\"\",IF(R65=S65,1))","v":1},{"$f":"IF(S65<>\"\",IF(S65=R65,1))","v":1},{"$f":"IF(F65<>\"\",IF(F65<G65,1))","v":false},{"$f":"IF(G65<>\"\",IF(G65<F65,1))","v":false},{"$f":"IF(R65<>\"\",IF(R65<S65,1))","v":false},{"$f":"IF(S65<>\"\",IF(S65<R65,1))","v":false},{"$f":"F65","v":1},{"$f":"G65","v":1},{"$f":"R65","v":1},{"$f":"S65","v":1},{"$f":"CB65+CE65","v":2},{"$f":"CC65+CD65","v":2},{"$f":"G65","v":1},{"$f":"F65","v":1},{"$f":"S65","v":1},{"$f":"R65","v":1},{"$f":"CH65+CK65","v":2},{"$f":"CI65+CJ65","v":2},{"$f":"IF(AU64=1,IF(AU65=1,SUM(AV64*1000+(BC64)/10+(BA64)/100+(BJ64)/1000+((F64+S64)-(G64+R64))/10000+(F64+S64)/100000+(S64)/1000000)))","v":false},{"$f":"IF(AU65=1,IF(AU64=1,SUM(AV65*1000+(BC65)/10+(BA65)/100+(BK64)/1000+((G64+R64)-(F64+S64))/10000+(G64+R64)/100000+(G64)/1000000)))","v":false},{"$f":"IF(AU66=1,IF(AU64=1,SUM(AV66*1000+(BC66)/10+(BA66)/100+(BK65)/1000+((G65+R65)-(F65+S65))/10000+(G65+R65)/100000+(G65)/1000000)))","v":false},{"$f":"IF(AU67=1,IF(AU64=1,SUM(AV67*1000+(BC67)/10+(BA67)/100+(BK66)/1000+((G66+R66)-(F66+S66))/10000+(G66+R66)/100000+(G66)/1000000)))","v":false},{"$f":"IF(AU68=1,IF(AU64=1,SUM(AV68*1000+(BC68)/10+(BA68)/100+(BK67)/1000+((G67+R67)-(F67+S67))/10000+(G67+R67)/100000+(G67)/1000000)))","v":false},{"$f":"IF(AU69=1,IF(AU64=1,SUM(AV69*1000+(BC69)/10+(BA69)/100+(BK68)/1000+((G68+R68)-(F68+S68))/10000+(G68+R68)/100000+(G68)/1000000)))","v":false},null,{"$f":"IF(AU64=2,IF(AU65=2,SUM(AV64*1000+(BC64)/10+(BA64)/100+(BJ64)/1000+((F64+S64)-(G64+R64))/10000+(F64+S64)/100000+(S64)/1000000)))","v":false},{"$f":"IF(AU65=2,IF(AU64=2,SUM(AV65*1000+(BC65)/10+(BA65)/100+(BK64)/1000+((G64+R64)-(F64+S64))/10000+(G64+R64)/100000+(G64)/1000000)))","v":false},{"$f":"IF(AU66=2,IF(AU64=2,SUM(AV66*1000+(BC66)/10+(BA66)/100+(BK65)/1000+((G65+R65)-(F65+S65))/10000+(G65+R65)/100000+(G65)/1000000)))","v":false},{"$f":"IF(AU67=2,IF(AU64=2,SUM(AV67*1000+(BC67)/10+(BA67)/100+(BK66)/1000+((G66+R66)-(F66+S66))/10000+(G66+R66)/100000+(G66)/1000000)))","v":false},{"$f":"IF(AU68=2,IF(AU64=2,SUM(AV68*1000+(BC68)/10+(BA68)/100+(BK67)/1000+((G67+R67)-(F67+S67))/10000+(G67+R67)/100000+(G67)/1000000)))","v":false},{"$f":"IF(AU69=2,IF(AU64=2,SUM(AV69*1000+(BC69)/10+(BA69)/100+(BK68)/1000+((G68+R68)-(F68+S68))/10000+(G68+R68)/100000+(G68)/1000000)))","v":false},{"$f":"IF(AU64=3,IF(AU65=3,SUM(AV64*1000+(BC64)/10+(BA64)/100+(BJ64)/1000+((F64+S64)-(G64+R64))/10000+(F64+S64)/100000+(S64)/1000000)))","v":false},{"$f":"IF(AU65=3,IF(AU64=3,SUM(AV65*1000+(BC65)/10+(BA65)/100+(BK64)/1000+((G64+R64)-(F64+S64))/10000+(G64+R64)/100000+(G64)/1000000)))","v":false},{"$f":"IF(AU66=3,IF(AU64=3,SUM(AV66*1000+(BC66)/10+(BA66)/100+(BK65)/1000+((G65+R65)-(F65+S65))/10000+(G65+R65)/100000+(G65)/1000000)))","v":false},{"$f":"IF(AU67=3,IF(AU64=3,SUM(AV67*1000+(BC67)/10+(BA67)/100+(BK66)/1000+((G66+R66)-(F66+S66))/10000+(G66+R66)/100000+(G66)/1000000)))","v":false},{"$f":"IF(AU68=3,IF(AU64=3,SUM(AV68*1000+(BC68)/10+(BA68)/100+(BK67)/1000+((G67+R67)-(F67+S67))/10000+(G67+R67)/100000+(G67)/1000000)))","v":false},{"$f":"IF(AU69=3,IF(AU64=3,SUM(AV69*1000+(BC69)/10+(BA69)/100+(BK68)/1000+((G68+R68)-(F68+S68))/10000+(G68+R68)/100000+(G68)/1000000)))","v":false},{"$f":"IF(AU64=4,IF(AU65=4,SUM(AV64*1000+(BC64)/10+(BA64)/100+(BJ64)/1000+((F64+S64)-(G64+R64))/10000+(F64+S64)/100000+(S64)/1000000)))","v":false},{"$f":"IF(AU65=4,IF(AU64=4,SUM(AV65*1000+(BC65)/10+(BA65)/100+(BK64)/1000+((G64+R64)-(F64+S64))/10000+(G64+R64)/100000+(G64)/1000000)))","v":false},{"$f":"IF(AU66=4,IF(AU64=4,SUM(AV66*1000+(BC66)/10+(BA66)/100+(BK65)/1000+((G65+R65)-(F65+S65))/10000+(G65+R65)/100000+(G65)/1000000)))","v":false},{"$f":"IF(AU67=4,IF(AU64=4,SUM(AV67*1000+(BC67)/10+(BA67)/100+(BK66)/1000+((G66+R66)-(F66+S66))/10000+(G66+R66)/100000+(G66)/1000000)))","v":false},{"$f":"IF(AU68=4,IF(AU64=4,SUM(AV68*1000+(BC68)/10+(BA68)/100+(BK67)/1000+((G67+R67)-(F67+S67))/10000+(G67+R67)/100000+(G67)/1000000)))","v":false},{"$f":"IF(AU69=4,IF(AU64=4,SUM(AV69*1000+(BC69)/10+(BA69)/100+(BK68)/1000+((G68+R68)-(F68+S68))/10000+(G68+R68)/100000+(G68)/1000000)))","v":false},{"$f":"IF(AU64=5,IF(AU65=5,SUM(AV64*1000+(BC64)/10+(BA64)/100+(BJ64)/1000+((F64+S64)-(G64+R64))/10000+(F64+S64)/100000+(S64)/1000000)))","v":false},{"$f":"IF(AU65=5,IF(AU64=5,SUM(AV65*1000+(BC65)/10+(BA65)/100+(BK64)/1000+((G64+R64)-(F64+S64))/10000+(G64+R64)/100000+(G64)/1000000)))","v":false},{"$f":"IF(AU66=5,IF(AU64=5,SUM(AV66*1000+(BC66)/10+(BA66)/100+(BK65)/1000+((G65+R65)-(F65+S65))/10000+(G65+R65)/100000+(G65)/1000000)))","v":false},{"$f":"IF(AU67=5,IF(AU64=5,SUM(AV67*1000+(BC67)/10+(BA67)/100+(BK66)/1000+((G66+R66)-(F66+S66))/10000+(G66+R66)/100000+(G66)/1000000)))","v":false},{"$f":"IF(AU68=5,IF(AU64=5,SUM(AV68*1000+(BC68)/10+(BA68)/100+(BK67)/1000+((G67+R67)-(F67+S67))/10000+(G67+R67)/100000+(G67)/1000000)))","v":false},{"$f":"IF(AU69=5,IF(AU64=5,SUM(AV69*1000+(BC69)/10+(BA69)/100+(BK68)/1000+((G68+R68)-(F68+S68))/10000+(G68+R68)/100000+(G68)/1000000)))","v":false},{"$f":"IF(AU64=6,IF(AU65=6,SUM(AV64*1000+(BC64)/10+(BA64)/100+(BJ64)/1000+((F64+S64)-(G64+R64))/10000+(F64+S64)/100000+(S64)/1000000)))","v":false},{"$f":"IF(AU65=6,IF(AU64=6,SUM(AV65*1000+(BC65)/10+(BA65)/100+(BK64)/1000+((G64+R64)-(F64+S64))/10000+(G64+R64)/100000+(G64)/1000000)))","v":false},{"$f":"IF(AU66=6,IF(AU64=6,SUM(AV66*1000+(BC66)/10+(BA66)/100+(BK65)/1000+((G65+R65)-(F65+S65))/10000+(G65+R65)/100000+(G65)/1000000)))","v":false},{"$f":"IF(AU67=6,IF(AU64=6,SUM(AV67*1000+(BC67)/10+(BA67)/100+(BK66)/1000+((G66+R66)-(F66+S66))/10000+(G66+R66)/100000+(G66)/1000000)))","v":false},{"$f":"IF(AU68=6,IF(AU64=6,SUM(AV68*1000+(BC68)/10+(BA68)/100+(BK67)/1000+((G67+R67)-(F67+S67))/10000+(G67+R67)/100000+(G67)/1000000)))","v":false},{"$f":"IF(AU69=6,IF(AU64=6,SUM(AV69*1000+(BC69)/10+(BA69)/100+(BK68)/1000+((G68+R68)-(F68+S68))/10000+(G68+R68)/100000+(G68)/1000000)))","v":false}]
[{"$f":"AP64","v":"SERBIE"},null,null,null,null,3,2,{"$f":"AP67","v":"AUTRICHE"},null,null,null,null,"AUTRICHE",null,null,null,null,3,2,"SERBIE",null,null,null,null,null,{"$f":"VLOOKUP(AN73,AO71:AT76,2,0)","v":"PAYS DE GALLES"},null,null,null,null,{"$f":"IF(CT74=CT73,CW73,CW74)","v":3},{"$f":"VLOOKUP(Z66,AP64:BC69,7,0)","v":17},{"$f":"VLOOKUP(Z66,AP64:BC69,8,0)","v":10},{"$f":"VLOOKUP(Z66,AP64:BC69,9,0)","v":4},{"$f":"VLOOKUP(Z66,AP64:BC69,10,0)","v":5},{"$f":"VLOOKUP(Z66,AP64:BC69,11,0)","v":1},{"$f":"VLOOKUP(Z66,AP64:BC69,12,0)","v":13},{"$f":"VLOOKUP(Z66,AP64:BC69,13,0)","v":6},{"$f":"VLOOKUP(Z66,AP64:BC69,14,0)","v":7},null,null,"PAYS DE GALLES",null,null,null,null,{"$f":"RANK(AV66,AV64:AV69)","v":3},{"$f":"SUMPRODUCT((A64:E78=AP66)*(BF64:BF78))+SUMPRODUCT((H64:L78=AP66)*(BG64:BG78))+SUMPRODUCT((M64:Q78=AP66)*(BH64:BH78))+SUMPRODUCT((T64:X78=AP66)*(BI64:BI78))","v":17},{"$f":"SUMPRODUCT((A64:E78=AP66)*(BL64:BL78))+SUMPRODUCT((H64:L78=AP66)*(BM64:BM78))+SUMPRODUCT((M64:Q78=AP66)*(BN64:BN78))+SUMPRODUCT((T64:X78=AP66)*(BO64:BO78))","v":10},{"$f":"SUMPRODUCT((A64:E78=AP66)*(BP64:BP78))+SUMPRODUCT((H64:L78=AP66)*(BQ64:BQ78))+SUMPRODUCT((M64:Q78=AP66)*(BR64:BR78))+SUMPRODUCT((T64:X78=AP66)*(BS64:BS78))","v":4},{"$f":"SUMPRODUCT((A64:E78=AP66)*(BT64:BT78))+SUMPRODUCT((H64:L78=AP66)*(BU64:BU78))+SUMPRODUCT((M64:Q78=AP66)*(BV64:BV78))+SUMPRODUCT((T64:X78=AP66)*(BW64:BW78))","v":5},{"$f":"SUMPRODUCT((A64:E78=AP66)*(BX64:BX78))+SUMPRODUCT((H64:L78=AP66)*(BY64:BY78))+SUMPRODUCT((M64:Q78=AP66)*(BZ64:BZ78))+SUMPRODUCT((T64:X78=AP66)*(CA64:CA78))","v":1},{"$f":"SUMPRODUCT((A64:E78=AP66)*(CB64:CB78))+SUMPRODUCT((H64:L78=AP66)*(CC64:CC78))+SUMPRODUCT((M64:Q78=AP66)*(CD64:CD78))+SUMPRODUCT((T64:X78=AP66)*(CE64:CE78))","v":13},{"$f":"SUMPRODUCT((A64:E78=AP66)*(CH64:CH78))+SUMPRODUCT((H64:L78=AP66)*(CI64:CI78))+SUMPRODUCT((M64:Q78=AP66)*(CJ64:CJ78))+SUMPRODUCT((T64:X78=AP66)*(CK64:CK78))","v":6},7,null,null,3,0,3,0,3,3,1,1,1,1,1,false,1,false,false,false,false,false,false,1,false,1,3,2,3,2,5,5,2,3,2,3,5,5,{"$f":"IF(AU64=1,IF(AU66=1,SUM(AV64*1000+(BC64)/10+(BA64)/100+(BJ65)/1000+((F65+S65)-(G65+R65))/10000+(F65+S65)/100000+(S65)/1000000)))","v":false},{"$f":"IF(AU65=1,IF(AU66=1,SUM(AV65*1000+(BC65)/10+(BA65)/100+(BJ69)/1000+((F69+S69)-(G69+R69))/10000+(F69+S69)/100000+(S69)/1000000)))","v":false},{"$f":"IF(AU66=1,IF(AU65=1,SUM(AV66*1000+(BC66)/10+(BA66)/100+(BK69)/1000+((G69+R69)-(F69+S69))/10000+(G69+R69)/1000000+(G69)/1000000)))","v":false},{"$f":"IF(AU67=1,IF(AU65=1,SUM(AV67*1000+(BC67)/10+(BA67)/100+(BK70)/1000+((G70+R70)-(F70+S70))/10000+(G70+R70)/100000+(G70)/1000000)))","v":false},{"$f":"IF(AU68=1,IF(AU65=1,SUM(AV68*1000+(BC68)/10+(BA68)/100+(BK71)/1000+((G71+R71)-(F71+S71))/10000+(G71+R71)/100000+(G71)/1000000)))","v":false},{"$f":"IF(AU69=1,IF(AU65=1,SUM(AV69*1000+(BC69)/10+(BA69)/100+(BK72)/1000+((G72+R72)-(F72+S72))/10000+(G72+R72)/100000+(G72)/1000000)))","v":false},null,{"$f":"IF(AU64=2,IF(AU66=2,SUM(AV64*1000+(BC64)/10+(BA64)/100+(BJ65)/1000+((F65+S65)-(G65+R65))/10000+(F65+S65)/100000+(S65)/1000000)))","v":false},{"$f":"IF(AU65=2,IF(AU66=2,SUM(AV65*1000+(BC65)/10+(BA65)/100+(BJ69)/1000+((F69+S69)-(G69+R69))/10000+(F69+S69)/100000+(S69)/1000000)))","v":false},{"$f":"IF(AU66=2,IF(AU65=2,SUM(AV66*1000+(BC66)/10+(BA66)/100+(BK69)/1000+((G69+R69)-(F69+S69))/10000+(G69+R69)/1000000+(G69)/1000000)))","v":false},{"$f":"IF(AU67=2,IF(AU65=2,SUM(AV67*1000+(BC67)/10+(BA67)/100+(BK70)/1000+((G70+R70)-(F70+S70))/10000+(G70+R70)/100000+(G70)/1000000)))","v":false},{"$f":"IF(AU68=2,IF(AU65=2,SUM(AV68*1000+(BC68)/10+(BA68)/100+(BK71)/1000+((G71+R71)-(F71+S71))/10000+(G71+R71)/100000+(G71)/1000000)))","v":false},{"$f":"IF(AU69=2,IF(AU65=2,SUM(AV69*1000+(BC69)/10+(BA69)/100+(BK72)/1000+((G72+R72)-(F72+S72))/10000+(G72+R72)/100000+(G72)/1000000)))","v":false},{"$f":"IF(AU64=3,IF(AU66=3,SUM(AV64*1000+(BC64)/10+(BA64)/100+(BJ65)/1000+((F65+S65)-(G65+R65))/10000+(F65+S65)/100000+(S65)/1000000)))","v":false},{"$f":"IF(AU65=3,IF(AU66=3,SUM(AV65*1000+(BC65)/10+(BA65)/100+(BJ69)/1000+((F69+S69)-(G69+R69))/10000+(F69+S69)/100000+(S69)/1000000)))","v":false},{"$f":"IF(AU66=3,IF(AU65=3,SUM(AV66*1000+(BC66)/10+(BA66)/100+(BK69)/1000+((G69+R69)-(F69+S69))/10000+(G69+R69)/1000000+(G69)/1000000)))","v":false},{"$f":"IF(AU67=3,IF(AU65=3,SUM(AV67*1000+(BC67)/10+(BA67)/100+(BK70)/1000+((G70+R70)-(F70+S70))/10000+(G70+R70)/100000+(G70)/1000000)))","v":false},{"$f":"IF(AU68=3,IF(AU65=3,SUM(AV68*1000+(BC68)/10+(BA68)/100+(BK71)/1000+((G71+R71)-(F71+S71))/10000+(G71+R71)/100000+(G71)/1000000)))","v":false},{"$f":"IF(AU69=3,IF(AU65=3,SUM(AV69*1000+(BC69)/10+(BA69)/100+(BK72)/1000+((G72+R72)-(F72+S72))/10000+(G72+R72)/100000+(G72)/1000000)))","v":false},{"$f":"IF(AU64=4,IF(AU66=4,SUM(AV64*1000+(BC64)/10+(BA64)/100+(BJ65)/1000+((F65+S65)-(G65+R65))/10000+(F65+S65)/100000+(S65)/1000000)))","v":false},{"$f":"IF(AU65=4,IF(AU66=4,SUM(AV65*1000+(BC65)/10+(BA65)/100+(BJ69)/1000+((F69+S69)-(G69+R69))/10000+(F69+S69)/100000+(S69)/1000000)))","v":false},{"$f":"IF(AU66=4,IF(AU65=4,SUM(AV66*1000+(BC66)/10+(BA66)/100+(BK69)/1000+((G69+R69)-(F69+S69))/10000+(G69+R69)/1000000+(G69)/1000000)))","v":false},{"$f":"IF(AU67=4,IF(AU65=4,SUM(AV67*1000+(BC67)/10+(BA67)/100+(BK70)/1000+((G70+R70)-(F70+S70))/10000+(G70+R70)/100000+(G70)/1000000)))","v":false},{"$f":"IF(AU68=4,IF(AU65=4,SUM(AV68*1000+(BC68)/10+(BA68)/100+(BK71)/1000+((G71+R71)-(F71+S71))/10000+(G71+R71)/100000+(G71)/1000000)))","v":false},{"$f":"IF(AU69=4,IF(AU65=4,SUM(AV69*1000+(BC69)/10+(BA69)/100+(BK72)/1000+((G72+R72)-(F72+S72))/10000+(G72+R72)/100000+(G72)/1000000)))","v":false},{"$f":"IF(AU64=5,IF(AU66=5,SUM(AV64*1000+(BC64)/10+(BA64)/100+(BJ65)/1000+((F65+S65)-(G65+R65))/10000+(F65+S65)/100000+(S65)/1000000)))","v":false},{"$f":"IF(AU65=5,IF(AU66=5,SUM(AV65*1000+(BC65)/10+(BA65)/100+(BJ69)/1000+((F69+S69)-(G69+R69))/10000+(F69+S69)/100000+(S69)/1000000)))","v":false},{"$f":"IF(AU66=5,IF(AU65=5,SUM(AV66*1000+(BC66)/10+(BA66)/100+(BK69)/1000+((G69+R69)-(F69+S69))/10000+(G69+R69)/1000000+(G69)/1000000)))","v":false},{"$f":"IF(AU67=5,IF(AU65=5,SUM(AV67*1000+(BC67)/10+(BA67)/100+(BK70)/1000+((G70+R70)-(F70+S70))/10000+(G70+R70)/100000+(G70)/1000000)))","v":false},{"$f":"IF(AU68=5,IF(AU65=5,SUM(AV68*1000+(BC68)/10+(BA68)/100+(BK71)/1000+((G71+R71)-(F71+S71))/10000+(G71+R71)/100000+(G71)/1000000)))","v":false},{"$f":"IF(AU69=5,IF(AU65=5,SUM(AV69*1000+(BC69)/10+(BA69)/100+(BK72)/1000+((G72+R72)-(F72+S72))/10000+(G72+R72)/100000+(G72)/1000000)))","v":false},{"$f":"IF(AU64=6,IF(AU66=6,SUM(AV64*1000+(BC64)/10+(BA64)/100+(BJ65)/1000+((F65+S65)-(G65+R65))/10000+(F65+S65)/100000+(S65)/1000000)))","v":false},{"$f":"IF(AU65=6,IF(AU66=6,SUM(AV65*1000+(BC65)/10+(BA65)/100+(BJ69)/1000+((F69+S69)-(G69+R69))/10000+(F69+S69)/100000+(S69)/1000000)))","v":false},{"$f":"IF(AU66=6,IF(AU65=6,SUM(AV66*1000+(BC66)/10+(BA66)/100+(BK69)/1000+((G69+R69)-(F69+S69))/10000+(G69+R69)/1000000+(G69)/1000000)))","v":false},{"$f":"IF(AU67=6,IF(AU65=6,SUM(AV67*1000+(BC67)/10+(BA67)/100+(BK70)/1000+((G70+R70)-(F70+S70))/10000+(G70+R70)/100000+(G70)/1000000)))","v":false},{"$f":"IF(AU68=6,IF(AU65=6,SUM(AV68*1000+(BC68)/10+(BA68)/100+(BK71)/1000+((G71+R71)-(F71+S71))/10000+(G71+R71)/100000+(G71)/1000000)))","v":false},{"$f":"IF(AU69=6,IF(AU65=6,SUM(AV69*1000+(BC69)/10+(BA69)/100+(BK72)/1000+((G72+R72)-(F72+S72))/10000+(G72+R72)/100000+(G72)/1000000)))","v":false}]
[{"$f":"AP64","v":"SERBIE"},null,null,null,null,1,0,{"$f":"AP68","v":"GÉORGIE"},null,null,null,null,"GÉORGIE",null,null,null,null,1,3,"SERBIE",null,null,null,null,null,{"$f":"VLOOKUP(AN74,AO71:AT76,2,0)","v":"AUTRICHE"},null,null,null,null,4,{"$f":"VLOOKUP(Z67,AP64:BC69,7,0)","v":15},{"$f":"VLOOKUP(Z67,AP64:BC69,8,0)","v":10},{"$f":"VLOOKUP(Z67,AP64:BC69,9,0)","v":4},{"$f":"VLOOKUP(Z67,AP64:BC69,10,0)","v":3},{"$f":"VLOOKUP(Z67,AP64:BC69,11,0)","v":3},{"$f":"VLOOKUP(Z67,AP64:BC69,12,0)","v":14},{"$f":"VLOOKUP(Z67,AP64:BC69,13,0)","v":12},{"$f":"VLOOKUP(Z67,AP64:BC69,14,0)","v":2},null,null,"AUTRICHE",null,null,null,null,{"$f":"RANK(AV67,AV64:AV69)","v":4},{"$f":"SUMPRODUCT((A64:E78=AP67)*(BF64:BF78))+SUMPRODUCT((H64:L78=AP67)*(BG64:BG78))+SUMPRODUCT((M64:Q78=AP67)*(BH64:BH78))+SUMPRODUCT((T64:X78=AP67)*(BI64:BI78))","v":15},{"$f":"SUMPRODUCT((A64:E78=AP67)*(BL64:BL78))+SUMPRODUCT((H64:L78=AP67)*(BM64:BM78))+SUMPRODUCT((M64:Q78=AP67)*(BN64:BN78))+SUMPRODUCT((T64:X78=AP67)*(BO64:BO78))","v":10},{"$f":"SUMPRODUCT((A64:E78=AP67)*(BP64:BP78))+SUMPRODUCT((H64:L78=AP67)*(BQ64:BQ78))+SUMPRODUCT((M64:Q78=AP67)*(BR64:BR78))+SUMPRODUCT((T64:X78=AP67)*(BS64:BS78))","v":4},{"$f":"SUMPRODUCT((A64:E78=AP67)*(BT64:BT78))+SUMPRODUCT((H64:L78=AP67)*(BU64:BU78))+SUMPRODUCT((M64:Q78=AP67)*(BV64:BV78))+SUMPRODUCT((T64:X78=AP67)*(BW64:BW78))","v":3},{"$f":"SUMPRODUCT((A64:E78=AP67)*(BX64:BX78))+SUMPRODUCT((H64:L78=AP67)*(BY64:BY78))+SUMPRODUCT((M64:Q78=AP67)*(BZ64:BZ78))+SUMPRODUCT((T64:X78=AP67)*(CA64:CA78))","v":3},{"$f":"SUMPRODUCT((A64:E78=AP67)*(CB64:CB78))+SUMPRODUCT((H64:L78=AP67)*(CC64:CC78))+SUMPRODUCT((M64:Q78=AP67)*(CD64:CD78))+SUMPRODUCT((T64:X78=AP67)*(CE64:CE78))","v":14},{"$f":"SUMPRODUCT((A64:E78=AP67)*(CH64:CH78))+SUMPRODUCT((H64:L78=AP67)*(CI64:CI78))+SUMPRODUCT((M64:Q78=AP67)*(CJ64:CJ78))+SUMPRODUCT((T64:X78=AP67)*(CK64:CK78))","v":12},2,null,null,3,0,0,3,6,0,1,1,1,1,1,false,false,1,false,false,false,false,false,1,1,false,1,0,1,3,4,1,0,1,3,1,1,4,{"$f":"IF(AU64=1,IF(AU67=1,SUM(AV64*1000+(BC64)/10+(BA64)/100+(BJ66)/1000+((F66+S66)-(G66+R66))/10000+(F66+S66)/100000+(S66)/1000000)))","v":false},{"$f":"IF(AU65=1,IF(AU67=1,SUM(AV65*1000+(BC65)/10+(BA65)/100+(BJ70)/1000+((F70+S70)-(G70+R70))/10000+(F70+S70)/100000+(S70)/1000000)))","v":false},{"$f":"IF(AU66=1,IF(AU67=1,SUM(AV66*1000+(BC66)/10+(BA66)/100+(BJ73)/1000+((F73+S73)-(G73+R73))/10000+(F73+S73)/100000+(S73)/1000000)))","v":false},{"$f":"IF(AU67=1,IF(AU66=1,SUM(AV67*1000+(BC67)/10+(BA67)/100+(BK73)/1000+((G73+R73)-(F73+S73))/10000+(G73+R73)/100000+(G73)/1000000)))","v":false},{"$f":"IF(AU68=1,IF(AU66=1,SUM(AV68*1000+(BC68)/10+(BA68)/100+(BK74)/1000+((G74+R74)-(F74+S74))/10000+(G74+R74)/100000+(G74)/1000000)))","v":false},{"$f":"IF(AU69=1,IF(AU66=1,SUM(AV69*1000+(BC69)/10+(BA69)/100+(BK75)/1000+((G75+R75)-(F75+S75))/10000+(G75+R75)/100000+(G75)/1000000)))","v":false},null,{"$f":"IF(AU64=2,IF(AU67=2,SUM(AV64*1000+(BC64)/10+(BA64)/100+(BJ66)/1000+((F66+S66)-(G66+R66))/10000+(F66+S66)/100000+(S66)/1000000)))","v":false},{"$f":"IF(AU65=2,IF(AU67=2,SUM(AV65*1000+(BC65)/10+(BA65)/100+(BJ70)/1000+((F70+S70)-(G70+R70))/10000+(F70+S70)/100000+(S70)/1000000)))","v":false},{"$f":"IF(AU66=2,IF(AU67=2,SUM(AV66*1000+(BC66)/10+(BA66)/100+(BJ73)/1000+((F73+S73)-(G73+R73))/10000+(F73+S73)/100000+(S73)/1000000)))","v":false},{"$f":"IF(AU67=2,IF(AU66=2,SUM(AV67*1000+(BC67)/10+(BA67)/100+(BK73)/1000+((G73+R73)-(F73+S73))/10000+(G73+R73)/100000+(G73)/1000000)))","v":false},{"$f":"IF(AU68=2,IF(AU66=2,SUM(AV68*1000+(BC68)/10+(BA68)/100+(BK74)/1000+((G74+R74)-(F74+S74))/10000+(G74+R74)/100000+(G74)/1000000)))","v":false},{"$f":"IF(AU69=2,IF(AU66=2,SUM(AV69*1000+(BC69)/10+(BA69)/100+(BK75)/1000+((G75+R75)-(F75+S75))/10000+(G75+R75)/100000+(G75)/1000000)))","v":false},{"$f":"IF(AU64=3,IF(AU67=3,SUM(AV64*1000+(BC64)/10+(BA64)/100+(BJ66)/1000+((F66+S66)-(G66+R66))/10000+(F66+S66)/100000+(S66)/1000000)))","v":false},{"$f":"IF(AU65=3,IF(AU67=3,SUM(AV65*1000+(BC65)/10+(BA65)/100+(BJ70)/1000+((F70+S70)-(G70+R70))/10000+(F70+S70)/100000+(S70)/1000000)))","v":false},{"$f":"IF(AU66=3,IF(AU67=3,SUM(AV66*1000+(BC66)/10+(BA66)/100+(BJ73)/1000+((F73+S73)-(G73+R73))/10000+(F73+S73)/100000+(S73)/1000000)))","v":false},{"$f":"IF(AU67=3,IF(AU66=3,SUM(AV67*1000+(BC67)/10+(BA67)/100+(BK73)/1000+((G73+R73)-(F73+S73))/10000+(G73+R73)/100000+(G73)/1000000)))","v":false},{"$f":"IF(AU68=3,IF(AU66=3,SUM(AV68*1000+(BC68)/10+(BA68)/100+(BK74)/1000+((G74+R74)-(F74+S74))/10000+(G74+R74)/100000+(G74)/1000000)))","v":false},{"$f":"IF(AU69=3,IF(AU66=3,SUM(AV69*1000+(BC69)/10+(BA69)/100+(BK75)/1000+((G75+R75)-(F75+S75))/10000+(G75+R75)/100000+(G75)/1000000)))","v":false},{"$f":"IF(AU64=4,IF(AU67=4,SUM(AV64*1000+(BC64)/10+(BA64)/100+(BJ66)/1000+((F66+S66)-(G66+R66))/10000+(F66+S66)/100000+(S66)/1000000)))","v":false},{"$f":"IF(AU65=4,IF(AU67=4,SUM(AV65*1000+(BC65)/10+(BA65)/100+(BJ70)/1000+((F70+S70)-(G70+R70))/10000+(F70+S70)/100000+(S70)/1000000)))","v":false},{"$f":"IF(AU66=4,IF(AU67=4,SUM(AV66*1000+(BC66)/10+(BA66)/100+(BJ73)/1000+((F73+S73)-(G73+R73))/10000+(F73+S73)/100000+(S73)/1000000)))","v":false},{"$f":"IF(AU67=4,IF(AU66=4,SUM(AV67*1000+(BC67)/10+(BA67)/100+(BK73)/1000+((G73+R73)-(F73+S73))/10000+(G73+R73)/100000+(G73)/1000000)))","v":false},{"$f":"IF(AU68=4,IF(AU66=4,SUM(AV68*1000+(BC68)/10+(BA68)/100+(BK74)/1000+((G74+R74)-(F74+S74))/10000+(G74+R74)/100000+(G74)/1000000)))","v":false},{"$f":"IF(AU69=4,IF(AU66=4,SUM(AV69*1000+(BC69)/10+(BA69)/100+(BK75)/1000+((G75+R75)-(F75+S75))/10000+(G75+R75)/100000+(G75)/1000000)))","v":false},{"$f":"IF(AU64=5,IF(AU67=5,SUM(AV64*1000+(BC64)/10+(BA64)/100+(BJ66)/1000+((F66+S66)-(G66+R66))/10000+(F66+S66)/100000+(S66)/1000000)))","v":false},{"$f":"IF(AU65=5,IF(AU67=5,SUM(AV65*1000+(BC65)/10+(BA65)/100+(BJ70)/1000+((F70+S70)-(G70+R70))/10000+(F70+S70)/100000+(S70)/1000000)))","v":false},{"$f":"IF(AU66=5,IF(AU67=5,SUM(AV66*1000+(BC66)/10+(BA66)/100+(BJ73)/1000+((F73+S73)-(G73+R73))/10000+(F73+S73)/100000+(S73)/1000000)))","v":false},{"$f":"IF(AU67=5,IF(AU66=5,SUM(AV67*1000+(BC67)/10+(BA67)/100+(BK73)/1000+((G73+R73)-(F73+S73))/10000+(G73+R73)/100000+(G73)/1000000)))","v":false},{"$f":"IF(AU68=5,IF(AU66=5,SUM(AV68*1000+(BC68)/10+(BA68)/100+(BK74)/1000+((G74+R74)-(F74+S74))/10000+(G74+R74)/100000+(G74)/1000000)))","v":false},{"$f":"IF(AU69=5,IF(AU66=5,SUM(AV69*1000+(BC69)/10+(BA69)/100+(BK75)/1000+((G75+R75)-(F75+S75))/10000+(G75+R75)/100000+(G75)/1000000)))","v":false},{"$f":"IF(AU64=6,IF(AU67=6,SUM(AV64*1000+(BC64)/10+(BA64)/100+(BJ66)/1000+((F66+S66)-(G66+R66))/10000+(F66+S66)/100000+(S66)/1000000)))","v":false},{"$f":"IF(AU65=6,IF(AU67=6,SUM(AV65*1000+(BC65)/10+(BA65)/100+(BJ70)/1000+((F70+S70)-(G70+R70))/10000+(F70+S70)/100000+(S70)/1000000)))","v":false},{"$f":"IF(AU66=6,IF(AU67=6,SUM(AV66*1000+(BC66)/10+(BA66)/100+(BJ73)/1000+((F73+S73)-(G73+R73))/10000+(F73+S73)/100000+(S73)/1000000)))","v":false},{"$f":"IF(AU67=6,IF(AU66=6,SUM(AV67*1000+(BC67)/10+(BA67)/100+(BK73)/1000+((G73+R73)-(F73+S73))/10000+(G73+R73)/100000+(G73)/1000000)))","v":false},{"$f":"IF(AU68=6,IF(AU66=6,SUM(AV68*1000+(BC68)/10+(BA68)/100+(BK74)/1000+((G74+R74)-(F74+S74))/10000+(G74+R74)/100000+(G74)/1000000)))","v":false},{"$f":"IF(AU69=6,IF(AU66=6,SUM(AV69*1000+(BC69)/10+(BA69)/100+(BK75)/1000+((G75+R75)-(F75+S75))/10000+(G75+R75)/100000+(G75)/1000000)))","v":false}]
[{"$f":"AP64","v":"SERBIE"},null,null,null,null,3,0,{"$f":"AP69","v":"MOLDALVIE"},null,null,null,null,"MOLDALVIE",null,null,null,null,0,3,"SERBIE",null,null,null,null,null,{"$f":"VLOOKUP(AN75,AO71:AT76,2,0)","v":"GÉORGIE"},null,null,null,null,5,{"$f":"VLOOKUP(Z68,AP64:BC69,7,0)","v":5},{"$f":"VLOOKUP(Z68,AP64:BC69,8,0)","v":10},{"$f":"VLOOKUP(Z68,AP64:BC69,9,0)","v":0},{"$f":"VLOOKUP(Z68,AP64:BC69,10,0)","v":5},{"$f":"VLOOKUP(Z68,AP64:BC69,11,0)","v":5},{"$f":"VLOOKUP(Z68,AP64:BC69,12,0)","v":8},{"$f":"VLOOKUP(Z68,AP64:BC69,13,0)","v":14},{"$f":"VLOOKUP(Z68,AP64:BC69,14,0)","v":-6},null,null,"GÉORGIE",null,null,null,null,{"$f":"RANK(AV68,AV64:AV69)","v":5},{"$f":"SUMPRODUCT((A64:E78=AP68)*(BF64:BF78))+SUMPRODUCT((H64:L78=AP68)*(BG64:BG78))+SUMPRODUCT((M64:Q78=AP68)*(BH64:BH78))+SUMPRODUCT((T64:X78=AP68)*(BI64:BI78))","v":5},{"$f":"SUMPRODUCT((A64:E78=AP68)*(BL64:BL78))+SUMPRODUCT((H64:L78=AP68)*(BM64:BM78))+SUMPRODUCT((M64:Q78=AP68)*(BN64:BN78))+SUMPRODUCT((T64:X78=AP68)*(BO64:BO78))","v":10},{"$f":"SUMPRODUCT((A64:E78=AP68)*(BP64:BP78))+SUMPRODUCT((H64:L78=AP68)*(BQ64:BQ78))+SUMPRODUCT((M64:Q78=AP68)*(BR64:BR78))+SUMPRODUCT((T64:X78=AP68)*(BS64:BS78))","v":0},{"$f":"SUMPRODUCT((A64:E78=AP68)*(BT64:BT78))+SUMPRODUCT((H64:L78=AP68)*(BU64:BU78))+SUMPRODUCT((M64:Q78=AP68)*(BV64:BV78))+SUMPRODUCT((T64:X78=AP68)*(BW64:BW78))","v":5},{"$f":"SUMPRODUCT((A64:E78=AP68)*(BX64:BX78))+SUMPRODUCT((H64:L78=AP68)*(BY64:BY78))+SUMPRODUCT((M64:Q78=AP68)*(BZ64:BZ78))+SUMPRODUCT((T64:X78=AP68)*(CA64:CA78))","v":5},{"$f":"SUMPRODUCT((A64:E78=AP68)*(CB64:CB78))+SUMPRODUCT((H64:L78=AP68)*(CC64:CC78))+SUMPRODUCT((M64:Q78=AP68)*(CD64:CD78))+SUMPRODUCT((T64:X78=AP68)*(CE64:CE78))","v":8},{"$f":"SUMPRODUCT((A64:E78=AP68)*(CH64:CH78))+SUMPRODUCT((H64:L78=AP68)*(CI64:CI78))+SUMPRODUCT((M64:Q78=AP68)*(CJ64:CJ78))+SUMPRODUCT((T64:X78=AP68)*(CK64:CK78))","v":14},-6,null,null,3,0,0,3,6,0,1,1,1,1,1,false,false,1,false,false,false,false,false,1,1,false,3,0,0,3,6,0,0,3,3,0,0,6,{"$f":"IF(AU64=1,IF(AU68=1,SUM(AV64*1000+(BC64)/10+(BA64)/100+(BJ67)/1000+((F67+S67)-(G67+R67))/10000+(F67+S67)/100000+(S67)/1000000)))","v":false},{"$f":"IF(AU65=1,IF(AU68=1,SUM(AV65*1000+(BC65)/10+(BA65)/100+(BJ71)/1000+((F71+S71)-(G71+R71))/10000+(F71+S71)/100000+(S71)/1000000)))","v":false},{"$f":"IF(AU66=1,IF(AU68=1,SUM(AV66*1000+(BC66)/10+(BA66)/100+(BJ74)/1000+((F74+S74)-(G74+R74))/10000+(F74+S74)/100000+(S74)/1000000)))","v":false},{"$f":"IF(AU67=1,IF(AU68=1,SUM(AV67*1000+(BC67)/10+(BA67)/100+(BJ76)/1000+((F76+S76)-(G76+R76))/10000+(F76+S76)/100000+(S76)/1000000)))","v":false},{"$f":"IF(AU68=1,IF(AU67=1,SUM(AV68*1000+(BC68)/10+(BA68)/100+(BK76)/1000+((G76+R76)-(F76+S76))/10000+(G76+R76)/100000+(G76)/1000000)))","v":false},{"$f":"IF(AU69=1,IF(AU67=1,SUM(AV69*1000+(BC69)/10+(BA69)/100+(BK77)/1000+((G77+R77)-(F77+S77))/10000+(G77+R77)/100000+(G77)/1000000)))","v":false},null,{"$f":"IF(AU64=2,IF(AU68=2,SUM(AV64*1000+(BC64)/10+(BA64)/100+(BJ67)/1000+((F67+S67)-(G67+R67))/10000+(F67+S67)/100000+(S67)/1000000)))","v":false},{"$f":"IF(AU65=2,IF(AU68=2,SUM(AV65*1000+(BC65)/10+(BA65)/100+(BJ71)/1000+((F71+S71)-(G71+R71))/10000+(F71+S71)/100000+(S71)/1000000)))","v":false},{"$f":"IF(AU66=2,IF(AU68=2,SUM(AV66*1000+(BC66)/10+(BA66)/100+(BJ74)/1000+((F74+S74)-(G74+R74))/10000+(F74+S74)/100000+(S74)/1000000)))","v":false},{"$f":"IF(AU67=2,IF(AU68=2,SUM(AV67*1000+(BC67)/10+(BA67)/100+(BJ76)/1000+((F76+S76)-(G76+R76))/10000+(F76+S76)/100000+(S76)/1000000)))","v":false},{"$f":"IF(AU68=2,IF(AU67=2,SUM(AV68*1000+(BC68)/10+(BA68)/100+(BK76)/1000+((G76+R76)-(F76+S76))/10000+(G76+R76)/100000+(G76)/1000000)))","v":false},{"$f":"IF(AU69=2,IF(AU67=2,SUM(AV69*1000+(BC69)/10+(BA69)/100+(BK77)/1000+((G77+R77)-(F77+S77))/10000+(G77+R77)/100000+(G77)/1000000)))","v":false},{"$f":"IF(AU64=3,IF(AU68=3,SUM(AV64*1000+(BC64)/10+(BA64)/100+(BJ67)/1000+((F67+S67)-(G67+R67))/10000+(F67+S67)/100000+(S67)/1000000)))","v":false},{"$f":"IF(AU65=3,IF(AU68=3,SUM(AV65*1000+(BC65)/10+(BA65)/100+(BJ71)/1000+((F71+S71)-(G71+R71))/10000+(F71+S71)/100000+(S71)/1000000)))","v":false},{"$f":"IF(AU66=3,IF(AU68=3,SUM(AV66*1000+(BC66)/10+(BA66)/100+(BJ74)/1000+((F74+S74)-(G74+R74))/10000+(F74+S74)/100000+(S74)/1000000)))","v":false},{"$f":"IF(AU67=3,IF(AU68=3,SUM(AV67*1000+(BC67)/10+(BA67)/100+(BJ76)/1000+((F76+S76)-(G76+R76))/10000+(F76+S76)/100000+(S76)/1000000)))","v":false},{"$f":"IF(AU68=3,IF(AU67=3,SUM(AV68*1000+(BC68)/10+(BA68)/100+(BK76)/1000+((G76+R76)-(F76+S76))/10000+(G76+R76)/100000+(G76)/1000000)))","v":false},{"$f":"IF(AU69=3,IF(AU67=3,SUM(AV69*1000+(BC69)/10+(BA69)/100+(BK77)/1000+((G77+R77)-(F77+S77))/10000+(G77+R77)/100000+(G77)/1000000)))","v":false},{"$f":"IF(AU64=4,IF(AU68=4,SUM(AV64*1000+(BC64)/10+(BA64)/100+(BJ67)/1000+((F67+S67)-(G67+R67))/10000+(F67+S67)/100000+(S67)/1000000)))","v":false},{"$f":"IF(AU65=4,IF(AU68=4,SUM(AV65*1000+(BC65)/10+(BA65)/100+(BJ71)/1000+((F71+S71)-(G71+R71))/10000+(F71+S71)/100000+(S71)/1000000)))","v":false},{"$f":"IF(AU66=4,IF(AU68=4,SUM(AV66*1000+(BC66)/10+(BA66)/100+(BJ74)/1000+((F74+S74)-(G74+R74))/10000+(F74+S74)/100000+(S74)/1000000)))","v":false},{"$f":"IF(AU67=4,IF(AU68=4,SUM(AV67*1000+(BC67)/10+(BA67)/100+(BJ76)/1000+((F76+S76)-(G76+R76))/10000+(F76+S76)/100000+(S76)/1000000)))","v":false},{"$f":"IF(AU68=4,IF(AU67=4,SUM(AV68*1000+(BC68)/10+(BA68)/100+(BK76)/1000+((G76+R76)-(F76+S76))/10000+(G76+R76)/100000+(G76)/1000000)))","v":false},{"$f":"IF(AU69=4,IF(AU67=4,SUM(AV69*1000+(BC69)/10+(BA69)/100+(BK77)/1000+((G77+R77)-(F77+S77))/10000+(G77+R77)/100000+(G77)/1000000)))","v":false},{"$f":"IF(AU64=5,IF(AU68=5,SUM(AV64*1000+(BC64)/10+(BA64)/100+(BJ67)/1000+((F67+S67)-(G67+R67))/10000+(F67+S67)/100000+(S67)/1000000)))","v":false},{"$f":"IF(AU65=5,IF(AU68=5,SUM(AV65*1000+(BC65)/10+(BA65)/100+(BJ71)/1000+((F71+S71)-(G71+R71))/10000+(F71+S71)/100000+(S71)/1000000)))","v":false},{"$f":"IF(AU66=5,IF(AU68=5,SUM(AV66*1000+(BC66)/10+(BA66)/100+(BJ74)/1000+((F74+S74)-(G74+R74))/10000+(F74+S74)/100000+(S74)/1000000)))","v":false},{"$f":"IF(AU67=5,IF(AU68=5,SUM(AV67*1000+(BC67)/10+(BA67)/100+(BJ76)/1000+((F76+S76)-(G76+R76))/10000+(F76+S76)/100000+(S76)/1000000)))","v":false},{"$f":"IF(AU68=5,IF(AU67=5,SUM(AV68*1000+(BC68)/10+(BA68)/100+(BK76)/1000+((G76+R76)-(F76+S76))/10000+(G76+R76)/100000+(G76)/1000000)))","v":false},{"$f":"IF(AU69=5,IF(AU67=5,SUM(AV69*1000+(BC69)/10+(BA69)/100+(BK77)/1000+((G77+R77)-(F77+S77))/10000+(G77+R77)/100000+(G77)/1000000)))","v":false},{"$f":"IF(AU64=6,IF(AU68=6,SUM(AV64*1000+(BC64)/10+(BA64)/100+(BJ67)/1000+((F67+S67)-(G67+R67))/10000+(F67+S67)/100000+(S67)/1000000)))","v":false},{"$f":"IF(AU65=6,IF(AU68=6,SUM(AV65*1000+(BC65)/10+(BA65)/100+(BJ71)/1000+((F71+S71)-(G71+R71))/10000+(F71+S71)/100000+(S71)/1000000)))","v":false},{"$f":"IF(AU66=6,IF(AU68=6,SUM(AV66*1000+(BC66)/10+(BA66)/100+(BJ74)/1000+((F74+S74)-(G74+R74))/10000+(F74+S74)/100000+(S74)/1000000)))","v":false},{"$f":"IF(AU67=6,IF(AU68=6,SUM(AV67*1000+(BC67)/10+(BA67)/100+(BJ76)/1000+((F76+S76)-(G76+R76))/10000+(F76+S76)/100000+(S76)/1000000)))","v":false},{"$f":"IF(AU68=6,IF(AU67=6,SUM(AV68*1000+(BC68)/10+(BA68)/100+(BK76)/1000+((G76+R76)-(F76+S76))/10000+(G76+R76)/100000+(G76)/1000000)))","v":false},{"$f":"IF(AU69=6,IF(AU67=6,SUM(AV69*1000+(BC69)/10+(BA69)/100+(BK77)/1000+((G77+R77)-(F77+S77))/10000+(G77+R77)/100000+(G77)/1000000)))","v":false}]
[{"$f":"AP65","v":"IRLANDE"},null,null,null,null,0,0,{"$f":"AP66","v":"PAYS DE GALLES"},null,null,null,null,"PAYS DE GALLES",null,null,null,null,0,1,"IRLANDE",null,null,null,null,null,{"$f":"VLOOKUP(AN76,AO71:AT76,2,0)","v":"MOLDALVIE"},null,null,null,null,6,{"$f":"VLOOKUP(Z69,AP64:BC69,7,0)","v":2},{"$f":"VLOOKUP(Z69,AP64:BC69,8,0)","v":10},{"$f":"VLOOKUP(Z69,AP64:BC69,9,0)","v":0},{"$f":"VLOOKUP(Z69,AP64:BC69,10,0)","v":2},{"$f":"VLOOKUP(Z69,AP64:BC69,11,0)","v":8},{"$f":"VLOOKUP(Z69,AP64:BC69,12,0)","v":4},{"$f":"VLOOKUP(Z69,AP64:BC69,13,0)","v":23},{"$f":"VLOOKUP(Z69,AP64:BC69,14,0)","v":-19},null,null,"MOLDALVIE",null,null,null,null,{"$f":"RANK(AV69,AV64:AV69)","v":6},{"$f":"SUMPRODUCT((A64:E78=AP69)*(BF64:BF78))+SUMPRODUCT((H64:L78=AP69)*(BG64:BG78))+SUMPRODUCT((M64:Q78=AP69)*(BH64:BH78))+SUMPRODUCT((T64:X78=AP69)*(BI64:BI78))","v":2},{"$f":"SUMPRODUCT((A64:E78=AP69)*(BL64:BL78))+SUMPRODUCT((H64:L78=AP69)*(BM64:BM78))+SUMPRODUCT((M64:Q78=AP69)*(BN64:BN78))+SUMPRODUCT((T64:X78=AP69)*(BO64:BO78))","v":10},{"$f":"SUMPRODUCT((A64:E78=AP69)*(BP64:BP78))+SUMPRODUCT((H64:L78=AP69)*(BQ64:BQ78))+SUMPRODUCT((M64:Q78=AP69)*(BR64:BR78))+SUMPRODUCT((T64:X78=AP69)*(BS64:BS78))","v":0},{"$f":"SUMPRODUCT((A64:E78=AP69)*(BT64:BT78))+SUMPRODUCT((H64:L78=AP69)*(BU64:BU78))+SUMPRODUCT((M64:Q78=AP69)*(BV64:BV78))+SUMPRODUCT((T64:X78=AP69)*(BW64:BW78))","v":2},{"$f":"SUMPRODUCT((A64:E78=AP69)*(BX64:BX78))+SUMPRODUCT((H64:L78=AP69)*(BY64:BY78))+SUMPRODUCT((M64:Q78=AP69)*(BZ64:BZ78))+SUMPRODUCT((T64:X78=AP69)*(CA64:CA78))","v":8},{"$f":"SUMPRODUCT((A64:E78=AP69)*(CB64:CB78))+SUMPRODUCT((H64:L78=AP69)*(CC64:CC78))+SUMPRODUCT((M64:Q78=AP69)*(CD64:CD78))+SUMPRODUCT((T64:X78=AP69)*(CE64:CE78))","v":4},{"$f":"SUMPRODUCT((A64:E78=AP69)*(CH64:CH78))+SUMPRODUCT((H64:L78=AP69)*(CI64:CI78))+SUMPRODUCT((M64:Q78=AP69)*(CJ64:CJ78))+SUMPRODUCT((T64:X78=AP69)*(CK64:CK78))","v":23},-19,null,null,1,1,0,3,4,1,1,1,1,1,false,false,false,1,1,1,false,false,false,false,1,false,0,0,0,1,1,0,0,0,1,0,0,1,{"$f":"IF(AU64=1,IF(AU69=1,SUM(AV64*1000+(BC64)/10+(BA64)/100+(BJ68)/1000+((F68+S68)-(G68+R68))/10000+(F68+S68)/100000+(S68)/1000000)))","v":false},{"$f":"IF(AU65=1,IF(AU69=1,SUM(AV65*1000+(BC65)/10+(BA65)/100+(BJ72)/1000+((F72+S72)-(G72+R72))/10000+(F72+S72)/100000+(S72)/1000000)))","v":false},{"$f":"IF(AU66=1,IF(AU69=1,SUM(AV66*1000+(BC66)/10+(BA66)/100+(BJ75)/1000+((F75+S75)-(G75+R75))/10000+(F75+S75)/100000+(S75)/1000000)))","v":false},{"$f":"IF(AU67=1,IF(AU69=1,SUM(AV67*1000+(BC67)/10+(BA67)/100+(BJ77)/1000+((F77+S77)-(G77+R77))/10000+(F77+S77)/100000+(S77)/1000000)))","v":false},{"$f":"IF(AU68=1,IF(AU69=1,SUM(AV68*1000+(BC68)/10+(BA68)/100+(BJ78)/1000+((F78+S78)-(G78+R78))/10000+(F78+S78)/100000+(S78)/1000000)))","v":false},{"$f":"IF(AU69=1,IF(AU68=1,SUM(AV69*1000+(BC69)/10+(BA69)/100+(BK78)/1000+((G78+R78)-(F78+S78))/10000+(G78+R78)/100000+(G78)/1000000)))","v":false},null,{"$f":"IF(AU64=2,IF(AU69=2,SUM(AV64*1000+(BC64)/10+(BA64)/100+(BJ68)/1000+((F68+S68)-(G68+R68))/10000+(F68+S68)/100000+(S68)/1000000)))","v":false},{"$f":"IF(AU65=2,IF(AU69=2,SUM(AV65*1000+(BC65)/10+(BA65)/100+(BJ72)/1000+((F72+S72)-(G72+R72))/10000+(F72+S72)/100000+(S72)/1000000)))","v":false},{"$f":"IF(AU66=2,IF(AU69=2,SUM(AV66*1000+(BC66)/10+(BA66)/100+(BJ75)/1000+((F75+S75)-(G75+R75))/10000+(F75+S75)/100000+(S75)/1000000)))","v":false},{"$f":"IF(AU67=2,IF(AU69=2,SUM(AV67*1000+(BC67)/10+(BA67)/100+(BJ77)/1000+((F77+S77)-(G77+R77))/10000+(F77+S77)/100000+(S77)/1000000)))","v":false},{"$f":"IF(AU68=2,IF(AU69=2,SUM(AV68*1000+(BC68)/10+(BA68)/100+(BJ78)/1000+((F78+S78)-(G78+R78))/10000+(F78+S78)/100000+(S78)/1000000)))","v":false},{"$f":"IF(AU69=2,IF(AU68=2,SUM(AV69*1000+(BC69)/10+(BA69)/100+(BK78)/1000+((G78+R78)-(F78+S78))/10000+(G78+R78)/100000+(G78)/1000000)))","v":false},{"$f":"IF(AU64=3,IF(AU69=3,SUM(AV64*1000+(BC64)/10+(BA64)/100+(BJ68)/1000+((F68+S68)-(G68+R68))/10000+(F68+S68)/100000+(S68)/1000000)))","v":false},{"$f":"IF(AU65=3,IF(AU69=3,SUM(AV65*1000+(BC65)/10+(BA65)/100+(BJ72)/1000+((F72+S72)-(G72+R72))/10000+(F72+S72)/100000+(S72)/1000000)))","v":false},{"$f":"IF(AU66=3,IF(AU69=3,SUM(AV66*1000+(BC66)/10+(BA66)/100+(BJ75)/1000+((F75+S75)-(G75+R75))/10000+(F75+S75)/100000+(S75)/1000000)))","v":false},{"$f":"IF(AU67=3,IF(AU69=3,SUM(AV67*1000+(BC67)/10+(BA67)/100+(BJ77)/1000+((F77+S77)-(G77+R77))/10000+(F77+S77)/100000+(S77)/1000000)))","v":false},{"$f":"IF(AU68=3,IF(AU69=3,SUM(AV68*1000+(BC68)/10+(BA68)/100+(BJ78)/1000+((F78+S78)-(G78+R78))/10000+(F78+S78)/100000+(S78)/1000000)))","v":false},{"$f":"IF(AU69=3,IF(AU68=3,SUM(AV69*1000+(BC69)/10+(BA69)/100+(BK78)/1000+((G78+R78)-(F78+S78))/10000+(G78+R78)/100000+(G78)/1000000)))","v":false},{"$f":"IF(AU64=4,IF(AU69=4,SUM(AV64*1000+(BC64)/10+(BA64)/100+(BJ68)/1000+((F68+S68)-(G68+R68))/10000+(F68+S68)/100000+(S68)/1000000)))","v":false},{"$f":"IF(AU65=4,IF(AU69=4,SUM(AV65*1000+(BC65)/10+(BA65)/100+(BJ72)/1000+((F72+S72)-(G72+R72))/10000+(F72+S72)/100000+(S72)/1000000)))","v":false},{"$f":"IF(AU66=4,IF(AU69=4,SUM(AV66*1000+(BC66)/10+(BA66)/100+(BJ75)/1000+((F75+S75)-(G75+R75))/10000+(F75+S75)/100000+(S75)/1000000)))","v":false},{"$f":"IF(AU67=4,IF(AU69=4,SUM(AV67*1000+(BC67)/10+(BA67)/100+(BJ77)/1000+((F77+S77)-(G77+R77))/10000+(F77+S77)/100000+(S77)/1000000)))","v":false},{"$f":"IF(AU68=4,IF(AU69=4,SUM(AV68*1000+(BC68)/10+(BA68)/100+(BJ78)/1000+((F78+S78)-(G78+R78))/10000+(F78+S78)/100000+(S78)/1000000)))","v":false},{"$f":"IF(AU69=4,IF(AU68=4,SUM(AV69*1000+(BC69)/10+(BA69)/100+(BK78)/1000+((G78+R78)-(F78+S78))/10000+(G78+R78)/100000+(G78)/1000000)))","v":false},{"$f":"IF(AU64=5,IF(AU69=5,SUM(AV64*1000+(BC64)/10+(BA64)/100+(BJ68)/1000+((F68+S68)-(G68+R68))/10000+(F68+S68)/100000+(S68)/1000000)))","v":false},{"$f":"IF(AU65=5,IF(AU69=5,SUM(AV65*1000+(BC65)/10+(BA65)/100+(BJ72)/1000+((F72+S72)-(G72+R72))/10000+(F72+S72)/100000+(S72)/1000000)))","v":false},{"$f":"IF(AU66=5,IF(AU69=5,SUM(AV66*1000+(BC66)/10+(BA66)/100+(BJ75)/1000+((F75+S75)-(G75+R75))/10000+(F75+S75)/100000+(S75)/1000000)))","v":false},{"$f":"IF(AU67=5,IF(AU69=5,SUM(AV67*1000+(BC67)/10+(BA67)/100+(BJ77)/1000+((F77+S77)-(G77+R77))/10000+(F77+S77)/100000+(S77)/1000000)))","v":false},{"$f":"IF(AU68=5,IF(AU69=5,SUM(AV68*1000+(BC68)/10+(BA68)/100+(BJ78)/1000+((F78+S78)-(G78+R78))/10000+(F78+S78)/100000+(S78)/1000000)))","v":false},{"$f":"IF(AU69=5,IF(AU68=5,SUM(AV69*1000+(BC69)/10+(BA69)/100+(BK78)/1000+((G78+R78)-(F78+S78))/10000+(G78+R78)/100000+(G78)/1000000)))","v":false},{"$f":"IF(AU64=6,IF(AU69=6,SUM(AV64*1000+(BC64)/10+(BA64)/100+(BJ68)/1000+((F68+S68)-(G68+R68))/10000+(F68+S68)/100000+(S68)/1000000)))","v":false},{"$f":"IF(AU65=6,IF(AU69=6,SUM(AV65*1000+(BC65)/10+(BA65)/100+(BJ72)/1000+((F72+S72)-(G72+R72))/10000+(F72+S72)/100000+(S72)/1000000)))","v":false},{"$f":"IF(AU66=6,IF(AU69=6,SUM(AV66*1000+(BC66)/10+(BA66)/100+(BJ75)/1000+((F75+S75)-(G75+R75))/10000+(F75+S75)/100000+(S75)/1000000)))","v":false},{"$f":"IF(AU67=6,IF(AU69=6,SUM(AV67*1000+(BC67)/10+(BA67)/100+(BJ77)/1000+((F77+S77)-(G77+R77))/10000+(F77+S77)/100000+(S77)/1000000)))","v":false},{"$f":"IF(AU68=6,IF(AU69=6,SUM(AV68*1000+(BC68)/10+(BA68)/100+(BJ78)/1000+((F78+S78)-(G78+R78))/10000+(F78+S78)/100000+(S78)/1000000)))","v":false},{"$f":"IF(AU69=6,IF(AU68=6,SUM(AV69*1000+(BC69)/10+(BA69)/100+(BK78)/1000+((G78+R78)-(F78+S78))/10000+(G78+R78)/100000+(G78)/1000000)))","v":false}]
[{"$f":"AP65","v":"IRLANDE"},null,null,null,null,1,1,{"$f":"AP67","v":"AUTRICHE"},null,null,null,null,"AUTRICHE",null,null,null,null,0,1,"IRLANDE",null,null,null,null,null,null,null,null,null,null,null,null,null,null,null,null,null,null,null,null,null,null,null,null,null,null,null,null,null,null,null,null,null,null,null,null,null,1,1,0,3,4,1,1,1,1,1,false,false,false,1,1,1,false,false,false,false,1,false,1,1,0,1,2,1,1,1,1,0,1,2,{"$f":"SUM(CN64:CN69)","v":1000000},0,0,0,0,0,null,{"$f":"SUM(CU64:CU69)","v":0},800000,0,0,0,0,0,0,600000,0,0,0,0,0,0,400000,0,0,0,0,0,0,200000,0,0,0,0,0,0,100000]
[{"$f":"AP65","v":"IRLANDE"},null,null,null,null,1,0,{"$f":"AP68","v":"GÉORGIE"},null,null,null,null,"GÉORGIE",null,null,null,null,1,1,"IRLANDE",null,null,null,null,null,null,null,null,null,null,null,null,null,null,null,null,null,null,null,1,{"$f":"BA71","v":1},{"$f":"AP64","v":"SERBIE"},null,null,null,null,{"$f":"SUM(CN70,CU70,DA70,DG70,DM70,DS70)","v":1000000},null,null,{"$f":"AU71+0.00000006","v":1000000.00000006},null,null,{"$f":"RANK(AX71,AX71:AZ76)","v":1},{"$f":"RANK(AU71,AU71:AW76)","v":1},null,null,null,3,0,1,1,4,1,1,1,1,1,1,false,false,false,false,false,1,1,false,1,false,false,1,0,1,1,2,1,0,1,1,1,1,2]
[{"$f":"AP65","v":"IRLANDE"},null,null,null,null,2,0,{"$f":"AP69","v":"MOLDALVIE"},null,null,null,null,"MOLDALVIE",null,null,null,null,1,3,"IRLANDE",null,null,null,null,null,null,null,null,null,null,null,null,null,null,null,null,null,null,null,2,{"$f":"BA72","v":2},{"$f":"AP65","v":"IRLANDE"},null,null,null,null,{"$f":"SUM(CO70,CV70,DB70,DH70,DN70,DT70)","v":800000},null,null,{"$f":"AU72+0.00000005","v":800000.00000004994},null,null,{"$f":"RANK(AX72,AX71:AZ76)","v":2},{"$f":"RANK(AU72,AU71:AW76)","v":2},null,null,null,3,0,0,3,6,0,1,1,1,1,1,false,false,1,false,false,false,false,false,1,1,false,2,0,1,3,5,1,0,2,3,1,1,5,{"$f":"VLOOKUP(AN71,AO71:AT76,2,0)","v":"SERBIE"},null,null,null,null,null,{"$f":"VLOOKUP(CN72,AP71:AW76,6,0)","v":1000000},null,null,{"$f":"RANK(CT72,CT72:CV77)","v":1}]
[{"$f":"AP66","v":"PAYS DE GALLES"},null,null,null,null,1,0,{"$f":"AP67","v":"AUTRICHE"},null,null,null,null,"AUTRICHE",null,null,null,null,2,2,"PAYS DE GALLES",null,null,null,null,null,"ÉQUIPE QUALIFIÉE",null,null,null,{"$f":"Z64","v":"SERBIE"},null,null,null,null,null,null,null,null,null,3,3,"PAYS DE GALLES",null,null,null,null,{"$f":"SUM(CP70,CW70,DC70,DI70,DO70,DU70)","v":600000},null,null,{"$f":"AU73+0.00000004","v":600000.00000004005},null,null,{"$f":"RANK(AX73,AX71:AZ76)","v":3},{"$f":"RANK(AU73,AU71:AW76)","v":3},null,null,null,3,0,1,1,4,1,1,1,1,1,1,false,false,false,false,false,1,1,false,1,false,false,1,0,2,2,3,2,0,1,2,2,2,3,{"$f":"VLOOKUP(AN72,AO71:AT76,2,0)","v":"IRLANDE"},null,null,null,null,null,{"$f":"VLOOKUP(CN73,AP71:AW76,6,0)","v":800000},null,null,{"$f":"RANK(CT73,CT72:CV77)","v":2}]
[{"$f":"AP66","v":"PAYS DE GALLES"},null,null,null,null,1,1,{"$f":"AP68","v":"GÉORGIE"},null,null,null,null,"GÉORGIE",null,null,null,null,0,1,"PAYS DE GALLES",null,null,null,null,null,null,null,null,null,null,null,null,null,null,null,null,null,null,null,4,4,"AUTRICHE",null,null,null,null,{"$f":"SUM(CQ70,CX70,DD70,DJ70,DP70,DV70)","v":400000},null,null,{"$f":"AU74+0.00000003","v":400000.00000002998},null,null,{"$f":"RANK(AX74,AX71:AZ76)","v":4},{"$f":"RANK(AU74,AU71:AW76)","v":4},null,null,null,1,1,0,3,4,1,1,1,1,1,false,false,false,1,1,1,false,false,false,false,1,false,1,1,0,1,2,1,1,1,1,0,1,2,{"$f":"VLOOKUP(AN73,AO71:AT76,2,0)","v":"PAYS DE GALLES"},null,null,null,null,null,{"$f":"VLOOKUP(CN74,AP71:AW76,6,0)","v":600000},null,null,{"$f":"RANK(CT74,CT72:CV77)","v":3}]
[{"$f":"AP66","v":"PAYS DE GALLES"},null,null,null,null,4,0,{"$f":"AP69","v":"MOLDALVIE"},null,null,null,null,"MOLDALVIE",null,null,null,null,0,2,"PAYS DE GALLES",null,null,null,null,null,null,null,null,null,null,null,null,null,null,null,null,null,null,null,5,5,"GÉORGIE",null,null,null,null,{"$f":"SUM(CR70,CY70,DE70,DK70,DQ70,DW70)","v":200000},null,null,{"$f":"AU75+0.00000002","v":200000.00000001999},null,null,{"$f":"RANK(AX75,AX71:AZ76)","v":5},{"$f":"RANK(AU75,AU71:AW76)","v":5},null,null,null,3,0,0,3,6,0,1,1,1,1,1,false,false,1,false,false,false,false,false,1,1,false,4,0,0,2,6,0,0,4,2,0,0,6,{"$f":"VLOOKUP(AN74,AO71:AT76,2,0)","v":"AUTRICHE"},null,null,null,null,null,{"$f":"VLOOKUP(CN75,AP71:AW76,6,0)","v":400000},null,null,{"$f":"RANK(CT75,CT72:CV77)","v":4}]
[{"$f":"AP67","v":"AUTRICHE"},null,null,null,null,1,1,{"$f":"AP68","v":"GÉORGIE"},null,null,null,null,"GÉORGIE",null,null,null,null,1,2,"AUTRICHE",null,null,null,null,null,"BARRAGE",null,null,null,{"$f":"IF(M185=9,\"\",D185)","v":"IRLANDE"},null,null,null,null,null,null,null,null,null,6,6,"MOLDALVIE",null,null,null,null,{"$f":"SUM(CS70,CZ70,DF70,DL70,DR70,DX70)","v":100000},null,null,{"$f":"AU76+0.00000001","v":100000.00000001},null,null,{"$f":"RANK(AX76,AX71:AZ76)","v":6},{"$f":"RANK(AU76,AU71:AW76)","v":6},null,null,null,1,1,0,3,4,1,1,1,1,1,false,false,false,1,1,1,false,false,false,false,1,false,1,1,1,2,3,2,1,1,2,1,2,3,{"$f":"VLOOKUP(AN75,AO71:AT76,2,0)","v":"GÉORGIE"},null,null,null,null,null,{"$f":"VLOOKUP(CN76,AP71:AW76,6,0)","v":200000},null,null,{"$f":"RANK(CT76,CT72:CV77)","v":5}]
[{"$f":"AP67","v":"AUTRICHE"},null,null,null,null,2,0,{"$f":"AP69","v":"MOLDALVIE"},null,null,null,null,"MOLDALVIE",null,null,null,null,0,1,"AUTRICHE",null,null,null,null,null,null,null,null,null,null,null,null,null,null,null,null,null,null,null,null,null,null,null,null,null,null,null,null,null,null,null,null,null,null,null,null,null,3,0,0,3,6,0,1,1,1,1,1,false,false,1,false,false,false,false,false,1,1,false,2,0,0,1,3,0,0,2,1,0,0,3,{"$f":"VLOOKUP(AN76,AO71:AT76,2,0)","v":"MOLDALVIE"},null,null,null,null,null,{"$f":"VLOOKUP(CN77,AP71:AW76,6,0)","v":100000},null,null,{"$f":"RANK(CT77,CT72:CV77)","v":6}]
[{"$f":"AP68","v":"GÉORGIE"},null,null,null,null,1,1,{"$f":"AP69","v":"MOLDALVIE"},null,null,null,null,"MOLDALVIE",null,null,null,null,2,2,"GÉORGIE",null,null,null,null,null,null,null,null,null,null,null,null,null,null,null,null,null,null,null,null,null,null,null,null,null,null,null,null,null,null,null,null,null,null,null,null,null,1,1,1,1,2,2,1,1,1,1,false,false,false,false,1,1,1,1,false,false,false,false,1,1,2,2,3,3,1,1,2,2,3,3]
[]
[]
["MATCHS  ALLER",null,null,null,null,null,null,null,null,"GROUPE  E",null,null,null,null,null,"MATCHS  RETOUR",null,null,null,null,null,null,null,null,"GROUPE  E","CLASSEMENT",null,null,null,null,null,null,null,null,null,null,null,null,null,null,null,"CLASSEMENT"]
[]
["Équipes",null,null,null,null,"Bts","Bts","Équipes",null,null,null,null,"Équipes",null,null,null,null,"Bts","Bts","Équipes",null,null,null,null,null,"Équipes",null,null,null,null,"R","Pts","J","G","N","P","B +","B -","Diff",null,null,"Équipes",null,null,null,null,"R","Pts","J","G","N","P","B +","B -","Diff",null,null,"pts","pts","pts","pts","t pts","t pts","j","j","j","j","g","g","g","g","n","n","n","n","p","p","p","p","b+","b+","b+","b+","b+","b+","b-","b-","b-","b-","b-","b-",{"$f":"AP84","v":"POLOGNE"},{"$f":"AP85","v":"MONTÉNEGRO"},{"$f":"AP86","v":"DANEMARK"},{"$f":"AP87","v":"ROUMANIE"},{"$f":"AP88","v":"ARMÉNIE"},{"$f":"AP89","v":"KAZAKHSTAN"},null,{"$f":"CN83","v":"POLOGNE"},{"$f":"CO83","v":"MONTÉNEGRO"},{"$f":"CP83","v":"DANEMARK"},{"$f":"CQ83","v":"ROUMANIE"},{"$f":"CR83","v":"ARMÉNIE"},{"$f":"CS83","v":"KAZAKHSTAN"},{"$f":"CN83","v":"POLOGNE"},{"$f":"CO83","v":"MONTÉNEGRO"},{"$f":"CP83","v":"DANEMARK"},{"$f":"CQ83","v":"ROUMANIE"},{"$f":"CR83","v":"ARMÉNIE"},{"$f":"CS83","v":"KAZAKHSTAN"},{"$f":"CN83","v":"POLOGNE"},{"$f":"CO83","v":"MONTÉNEGRO"},{"$f":"CP83","v":"DANEMARK"},{"$f":"CQ83","v":"ROUMANIE"},{"$f":"CR83","v":"ARMÉNIE"},{"$f":"CS83","v":"KAZAKHSTAN"},{"$f":"CN83","v":"POLOGNE"},{"$f":"CO83","v":"MONTÉNEGRO"},{"$f":"CP83","v":"DANEMARK"},{"$f":"CQ83","v":"ROUMANIE"},{"$f":"CR83","v":"ARMÉNIE"},{"$f":"CS83","v":"KAZAKHSTAN"},{"$f":"CN83","v":"POLOGNE"},{"$f":"CO83","v":"MONTÉNEGRO"},{"$f":"CP83","v":"DANEMARK"},{"$f":"CQ83","v":"ROUMANIE"},{"$f":"CR83","v":"ARMÉNIE"},{"$f":"CS83","v":"KAZAKHSTAN"}]
[{"$f":"AP84","v":"POLOGNE"},null,null,null,null,4,2,{"$f":"AP85","v":"MONTÉNEGRO"},null,null,null,null,{"$f":"H84","v":"MONTÉNEGRO"},null,null,null,null,1,2,{"$f":"A84","v":"POLOGNE"},null,null,null,null,null,{"$f":"VLOOKUP(AN91,AO91:AT96,2,0)","v":"POLOGNE"},null,null,null,null,1,{"$f":"VLOOKUP(Z84,AP84:BC89,7,0)","v":25},{"$f":"VLOOKUP(Z84,AP84:BC89,8,0)","v":10},{"$f":"VLOOKUP(Z84,AP84:BC89,9,0)","v":8},{"$f":"VLOOKUP(Z84,AP84:BC89,10,0)","v":1},{"$f":"VLOOKUP(Z84,AP84:BC89,11,0)","v":1},{"$f":"VLOOKUP(Z84,AP84:BC89,12,0)","v":28},{"$f":"VLOOKUP(Z84,AP84:BC89,13,0)","v":14},{"$f":"VLOOKUP(Z84,AP84:BC89,14,0)","v":14},null,null,"POLOGNE",null,null,null,null,{"$f":"RANK(AV84,AV84:AV89)","v":1},{"$f":"SUMPRODUCT((A84:E98=AP84)*(BF84:BF98))+SUMPRODUCT((H84:L98=AP84)*(BG84:BG98))+SUMPRODUCT((M84:Q98=AP84)*(BH84:BH98))+SUMPRODUCT((T84:X98=AP84)*(BI84:BI98))","v":25},{"$f":"SUMPRODUCT((A84:E98=AP84)*(BL84:BL98))+SUMPRODUCT((H84:L98=AP84)*(BM84:BM98))+SUMPRODUCT((M84:Q98=AP84)*(BN84:BN98))+SUMPRODUCT((T84:X98=AP84)*(BO84:BO98))","v":10},{"$f":"SUMPRODUCT((A84:E98=AP84)*(BP84:BP98))+SUMPRODUCT((H84:L98=AP84)*(BQ84:BQ98))+SUMPRODUCT((M84:Q98=AP84)*(BR84:BR98))+SUMPRODUCT((T84:X98=AP84)*(BS84:BS98))","v":8},{"$f":"SUMPRODUCT((A84:E98=AP84)*(BT84:BT98))+SUMPRODUCT((H84:L98=AP84)*(BU84:BU98))+SUMPRODUCT((M84:Q98=AP84)*(BV84:BV98))+SUMPRODUCT((T84:X98=AP84)*(BW84:BW98))","v":1},{"$f":"SUMPRODUCT((A84:E98=AP84)*(BX84:BX98))+SUMPRODUCT((H84:L98=AP84)*(BY84:BY98))+SUMPRODUCT((M84:Q98=AP84)*(BZ84:BZ98))+SUMPRODUCT((T84:X98=AP84)*(CA84:CA98))","v":1},{"$f":"SUMPRODUCT((A84:E98=AP84)*(CB84:CB98))+SUMPRODUCT((H84:L98=AP84)*(CC84:CC98))+SUMPRODUCT((M84:Q98=AP84)*(CD84:CD98))+SUMPRODUCT((T84:X98=AP84)*(CE84:CE98))","v":28},{"$f":"SUMPRODUCT((A84:E98=AP84)*(CH84:CH98))+SUMPRODUCT((H84:L98=AP84)*(CI84:CI98))+SUMPRODUCT((M84:Q98=AP84)*(CJ84:CJ98))+SUMPRODUCT((T84:X98=AP84)*(CK84:CK98))","v":14},{"$f":"BA84-BB84","v":14},null,null,{"$f":"IF(F84=\"\",0,IF(F84>G84,3,IF(F84=G84,1,IF(F84<G84,0))))","v":3},{"$f":"IF(G84=\"\",0,IF(G84>F84,3,IF(G84=F84,1,IF(G84<F84,0))))","v":0},{"$f":"IF(R84=\"\",0,IF(R84>S84,3,IF(R84=S84,1,IF(R84<S84,0))))","v":0},{"$f":"IF(S84=\"\",0,IF(S84>R84,3,IF(S84=R84,1,IF(S84<R84,0))))","v":3},{"$f":"BF84+BI84","v":6},{"$f":"BG84+BH84","v":0},{"$f":"IF(F84=\"\",0,1)","v":1},{"$f":"IF(G84=\"\",0,1)","v":1},{"$f":"IF(R84=\"\",0,1)","v":1},{"$f":"IF(S84=\"\",0,1)","v":1},{"$f":"IF(F84<>\"\",IF(F84>G84,1))","v":1},{"$f":"IF(G84<>\"\",IF(G84>F84,1))","v":false},{"$f":"IF(R84<>\"\",IF(R84>S84,1))","v":false},{"$f":"IF(S84<>\"\",IF(S84>R84,1))","v":1},{"$f":"IF(F84<>\"\",IF(F84=G84,1))","v":false},{"$f":"IF(G84<>\"\",IF(G84=F84,1))","v":false},{"$f":"IF(R84<>\"\",IF(R84=S84,1))","v":false},{"$f":"IF(S84<>\"\",IF(S84=R84,1))","v":false},{"$f":"IF(F84<>\"\",IF(F84<G84,1))","v":false},{"$f":"IF(G84<>\"\",IF(G84<F84,1))","v":1},{"$f":"IF(R84<>\"\",IF(R84<S84,1))","v":1},{"$f":"IF(S84<>\"\",IF(S84<R84,1))","v":false},{"$f":"F84","v":4},{"$f":"G84","v":2},{"$f":"R84","v":1},{"$f":"S84","v":2},{"$f":"CB84+CE84","v":6},{"$f":"CC84+CD84","v":3},{"$f":"G84","v":2},{"$f":"F84","v":4},{"$f":"S84","v":2},{"$f":"R84","v":1},{"$f":"CH84+CK84","v":3},{"$f":"CI84+CJ84","v":6},{"$f":"IF(AU84=1,1000000)","v":1000000},{"$f":"IF(AU85=1,1000000)","v":false},{"$f":"IF(AU86=1,1000000)","v":false},{"$f":"IF(AU87=1,1000000)","v":false},{"$f":"IF(AU88=1,1000000)","v":false},{"$f":"IF(AU89=1,1000000)","v":false},null,{"$f":"IF(AU84=2,800000)","v":false},{"$f":"IF(AU85=2,800000)","v":false},{"$f":"IF(AU86=2,800000)","v":800000},{"$f":"IF(AU87=2,800000)","v":false},{"$f":"IF(AU88=2,800000)","v":false},{"$f":"IF(AU89=2,800000)","v":false},{"$f":"IF(AU84=3,600000)","v":false},{"$f":"IF(AU85=3,600000)","v":600000},{"$f":"IF(AU86=3,600000)","v":false},{"$f":"IF(AU87=3,600000)","v":false},{"$f":"IF(AU88=3,600000)","v":false},{"$f":"IF(AU89=3,600000)","v":false},{"$f":"IF(AU84=4,400000)","v":false},{"$f":"IF(AU85=4,400000)","v":false},{"$f":"IF(AU86=4,400000)","v":false},{"$f":"IF(AU87=4,400000)","v":400000},{"$f":"IF(AU88=4,400000)","v":false},{"$f":"IF(AU89=4,400000)","v":false},{"$f":"IF(AU84=5,200000)","v":false},{"$f":"IF(AU85=5,200000)","v":false},{"$f":"IF(AU86=5,200000)","v":false},{"$f":"IF(AU87=5,200000)","v":false},{"$f":"IF(AU88=5,200000)","v":200000},{"$f":"IF(AU89=5,200000)","v":false},{"$f":"IF(AU84=6,100000)","v":false},{"$f":"IF(AU85=6,100000)","v":false},{"$f":"IF(AU86=6,100000)","v":false},{"$f":"IF(AU87=6,100000)","v":false},{"$f":"IF(AU88=6,100000)","v":false},{"$f":"IF(AU89=6,100000)","v":100000}]
[{"$f":"AP84","v":"POLOGNE"},null,null,null,null,3,2,{"$f":"AP86","v":"DANEMARK"},null,null,null,null,{"$f":"H85","v":"DANEMARK"},null,null,null,null,4,0,{"$f":"A85","v":"POLOGNE"},null,null,null,null,null,{"$f":"VLOOKUP(AN92,AO91:AT96,2,0)","v":"DANEMARK"},null,null,null,null,{"$f":"IF(CT93=CT92,CW92,CW93)","v":2},{"$f":"VLOOKUP(Z85,AP84:BC89,7,0)","v":20},{"$f":"VLOOKUP(Z85,AP84:BC89,8,0)","v":10},{"$f":"VLOOKUP(Z85,AP84:BC89,9,0)","v":6},{"$f":"VLOOKUP(Z85,AP84:BC89,10,0)","v":2},{"$f":"VLOOKUP(Z85,AP84:BC89,11,0)","v":2},{"$f":"VLOOKUP(Z85,AP84:BC89,12,0)","v":20},{"$f":"VLOOKUP(Z85,AP84:BC89,13,0)","v":8},{"$f":"VLOOKUP(Z85,AP84:BC89,14,0)","v":12},null,null,"MONTÉNEGRO",null,null,null,null,{"$f":"RANK(AV85,AV84:AV89)","v":3},{"$f":"SUMPRODUCT((A84:E98=AP85)*(BF84:BF98))+SUMPRODUCT((H84:L98=AP85)*(BG84:BG98))+SUMPRODUCT((M84:Q98=AP85)*(BH84:BH98))+SUMPRODUCT((T84:X98=AP85)*(BI84:BI98))","v":16},{"$f":"SUMPRODUCT((A84:E98=AP85)*(BL84:BL98))+SUMPRODUCT((H84:L98=AP85)*(BM84:BM98))+SUMPRODUCT((M84:Q98=AP85)*(BN84:BN98))+SUMPRODUCT((T84:X98=AP85)*(BO84:BO98))","v":10},{"$f":"SUMPRODUCT((A84:E98=AP85)*(BP84:BP98))+SUMPRODUCT((H84:L98=AP85)*(BQ84:BQ98))+SUMPRODUCT((M84:Q98=AP85)*(BR84:BR98))+SUMPRODUCT((T84:X98=AP85)*(BS84:BS98))","v":5},{"$f":"SUMPRODUCT((A84:E98=AP85)*(BT84:BT98))+SUMPRODUCT((H84:L98=AP85)*(BU84:BU98))+SUMPRODUCT((M84:Q98=AP85)*(BV84:BV98))+SUMPRODUCT((T84:X98=AP85)*(BW84:BW98))","v":1},{"$f":"SUMPRODUCT((A84:E98=AP85)*(BX84:BX98))+SUMPRODUCT((H84:L98=AP85)*(BY84:BY98))+SUMPRODUCT((M84:Q98=AP85)*(BZ84:BZ98))+SUMPRODUCT((T84:X98=AP85)*(CA84:CA98))","v":4},{"$f":"SUMPRODUCT((A84:E98=AP85)*(CB84:CB98))+SUMPRODUCT((H84:L98=AP85)*(CC84:CC98))+SUMPRODUCT((M84:Q98=AP85)*(CD84:CD98))+SUMPRODUCT((T84:X98=AP85)*(CE84:CE98))","v":20},{"$f":"SUMPRODUCT((A84:E98=AP85)*(CH84:CH98))+SUMPRODUCT((H84:L98=AP85)*(CI84:CI98))+SUMPRODUCT((M84:Q98=AP85)*(CJ84:CJ98))+SUMPRODUCT((T84:X98=AP85)*(CK84:CK98))","v":12},{"$f":"BA85-BB85","v":8},null,null,{"$f":"IF(F85=\"\",0,IF(F85>G85,3,IF(F85=G85,1,IF(F85<G85,0))))","v":3},{"$f":"IF(G85=\"\",0,IF(G85>F85,3,IF(G85=F85,1,IF(G85<F85,0))))","v":0},{"$f":"IF(R85=\"\",0,IF(R85>S85,3,IF(R85=S85,1,IF(R85<S85,0))))","v":3},{"$f":"IF(S85=\"\",0,IF(S85>R85,3,IF(S85=R85,1,IF(S85<R85,0))))","v":0},{"$f":"BF85+BI85","v":3},{"$f":"BG85+BH85","v":3},{"$f":"IF(F85=\"\",0,1)","v":1},{"$f":"IF(G85=\"\",0,1)","v":1},{"$f":"IF(R85=\"\",0,1)","v":1},{"$f":"IF(S85=\"\",0,1)","v":1},{"$f":"IF(F85<>\"\",IF(F85>G85,1))","v":1},{"$f":"IF(G85<>\"\",IF(G85>F85,1))","v":false},{"$f":"IF(R85<>\"\",IF(R85>S85,1))","v":1},{"$f":"IF(S85<>\"\",IF(S85>R85,1))","v":false},{"$f":"IF(F85<>\"\",IF(F85=G85,1))","v":false},{"$f":"IF(G85<>\"\",IF(G85=F85,1))","v":false},{"$f":"IF(R85<>\"\",IF(R85=S85,1))","v":false},{"$f":"IF(S85<>\"\",IF(S85=R85,1))","v":false},{"$f":"IF(F85<>\"\",IF(F85<G85,1))","v":false},{"$f":"IF(G85<>\"\",IF(G85<F85,1))","v":1},{"$f":"IF(R85<>\"\",IF(R85<S85,1))","v":false},{"$f":"IF(S85<>\"\",IF(S85<R85,1))","v":1},{"$f":"F85","v":3},{"$f":"G85","v":2},{"$f":"R85","v":4},{"$f":"S85","v":0},{"$f":"CB85+CE85","v":3},{"$f":"CC85+CD85","v":6},{"$f":"G85","v":2},{"$f":"F85","v":3},{"$f":"S85","v":0},{"$f":"R85","v":4},{"$f":"CH85+CK85","v":6},{"$f":"CI85+CJ85","v":3},{"$f":"IF(AU84=1,IF(AU85=1,SUM(AV84*1000+(BC84)/10+(BA84)/100+(BJ84)/1000+((F84+S84)-(G84+R84))/10000+(F84+S84)/100000+(S84)/1000000)))","v":false},{"$f":"IF(AU85=1,IF(AU84=1,SUM(AV85*1000+(BC85)/10+(BA85)/100+(BK84)/1000+((G84+R84)-(F84+S84))/10000+(G84+R84)/100000+(G84)/1000000)))","v":false},{"$f":"IF(AU86=1,IF(AU84=1,SUM(AV86*1000+(BC86)/10+(BA86)/100+(BK85)/1000+((G85+R85)-(F85+S85))/10000+(G85+R85)/100000+(G85)/1000000)))","v":false},{"$f":"IF(AU87=1,IF(AU84=1,SUM(AV87*1000+(BC87)/10+(BA87)/100+(BK86)/1000+((G86+R86)-(F86+S86))/10000+(G86+R86)/100000+(G86)/1000000)))","v":false},{"$f":"IF(AU88=1,IF(AU84=1,SUM(AV88*1000+(BC88)/10+(BA88)/100+(BK87)/1000+((G87+R87)-(F87+S87))/10000+(G87+R87)/100000+(G87)/1000000)))","v":false},{"$f":"IF(AU89=1,IF(AU84=1,SUM(AV89*1000+(BC89)/10+(BA89)/100+(BK88)/1000+((G88+R88)-(F88+S88))/10000+(G88+R88)/100000+(G88)/1000000)))","v":false},null,{"$f":"IF(AU84=2,IF(AU85=2,SUM(AV84*1000+(BC84)/10+(BA84)/100+(BJ84)/1000+((F84+S84)-(G84+R84))/10000+(F84+S84)/100000+(S84)/1000000)))","v":false},{"$f":"IF(AU85=2,IF(AU84=2,SUM(AV85*1000+(BC85)/10+(BA85)/100+(BK84)/1000+((G84+R84)-(F84+S84))/10000+(G84+R84)/100000+(G84)/1000000)))","v":false},{"$f":"IF(AU86=2,IF(AU84=2,SUM(AV86*1000+(BC86)/10+(BA86)/100+(BK85)/1000+((G85+R85)-(F85+S85))/10000+(G85+R85)/100000+(G85)/1000000)))","v":false},{"$f":"IF(AU87=2,IF(AU84=2,SUM(AV87*1000+(BC87)/10+(BA87)/100+(BK86)/1000+((G86+R86)-(F86+S86))/10000+(G86+R86)/100000+(G86)/1000000)))","v":false},{"$f":"IF(AU88=2,IF(AU84=2,SUM(AV88*1000+(BC88)/10+(BA88)/100+(BK87)/1000+((G87+R87)-(F87+S87))/10000+(G87+R87)/100000+(G87)/1000000)))","v":false},{"$f":"IF(AU89=2,IF(AU84=2,SUM(AV89*1000+(BC89)/10+(BA89)/100+(BK88)/1000+((G88+R88)-(F88+S88))/10000+(G88+R88)/100000+(G88)/1000000)))","v":false},{"$f":"IF(AU84=3,IF(AU85=3,SUM(AV84*1000+(BC84)/10+(BA84)/100+(BJ84)/1000+((F84+S84)-(G84+R84))/10000+(F84+S84)/100000+(S84)/1000000)))","v":false},{"$f":"IF(AU85=3,IF(AU84=3,SUM(AV85*1000+(BC85)/10+(BA85)/100+(BK84)/1000+((G84+R84)-(F84+S84))/10000+(G84+R84)/100000+(G84)/1000000)))","v":false},{"$f":"IF(AU86=3,IF(AU84=3,SUM(AV86*1000+(BC86)/10+(BA86)/100+(BK85)/1000+((G85+R85)-(F85+S85))/10000+(G85+R85)/100000+(G85)/1000000)))","v":false},{"$f":"IF(AU87=3,IF(AU84=3,SUM(AV87*1000+(BC87)/10+(BA87)/100+(BK86)/1000+((G86+R86)-(F86+S86))/10000+(G86+R86)/100000+(G86)/1000000)))","v":false},{"$f":"IF(AU88=3,IF(AU84=3,SUM(AV88*1000+(BC88)/10+(BA88)/100+(BK87)/1000+((G87+R87)-(F87+S87))/10000+(G87+R87)/100000+(G87)/1000000)))","v":false},{"$f":"IF(AU89=3,IF(AU84=3,SUM(AV89*1000+(BC89)/10+(BA89)/100+(BK88)/1000+((G88+R88)-(F88+S88))/10000+(G88+R88)/100000+(G88)/1000000)))","v":false},{"$f":"IF(AU84=4,IF(AU85=4,SUM(AV84*1000+(BC84)/10+(BA84)/100+(BJ84)/1000+((F84+S84)-(G84+R84))/10000+(F84+S84)/100000+(S84)/1000000)))","v":false},{"$f":"IF(AU85=4,IF(AU84=4,SUM(AV85*1000+(BC85)/10+(BA85)/100+(BK84)/1000+((G84+R84)-(F84+S84))/10000+(G84+R84)/100000+(G84)/1000000)))","v":false},{"$f":"IF(AU86=4,IF(AU84=4,SUM(AV86*1000+(BC86)/10+(BA86)/100+(BK85)/1000+((G85+R85)-(F85+S85))/10000+(G85+R85)/100000+(G85)/1000000)))","v":false},{"$f":"IF(AU87=4,IF(AU84=4,SUM(AV87*1000+(BC87)/10+(BA87)/100+(BK86)/1000+((G86+R86)-(F86+S86))/10000+(G86+R86)/100000+(G86)/1000000)))","v":false},{"$f":"IF(AU88=4,IF(AU84=4,SUM(AV88*1000+(BC88)/10+(BA88)/100+(BK87)/1000+((G87+R87)-(F87+S87))/10000+(G87+R87)/100000+(G87)/1000000)))","v":false},{"$f":"IF(AU89=4,IF(AU84=4,SUM(AV89*1000+(BC89)/10+(BA89)/100+(BK88)/1000+((G88+R88)-(F88+S88))/10000+(G88+R88)/100000+(G88)/1000000)))","v":false},{"$f":"IF(AU84=5,IF(AU85=5,SUM(AV84*1000+(BC84)/10+(BA84)/100+(BJ84)/1000+((F84+S84)-(G84+R84))/10000+(F84+S84)/100000+(S84)/1000000)))","v":false},{"$f":"IF(AU85=5,IF(AU84=5,SUM(AV85*1000+(BC85)/10+(BA85)/100+(BK84)/1000+((G84+R84)-(F84+S84))/10000+(G84+R84)/100000+(G84)/1000000)))","v":false},{"$f":"IF(AU86=5,IF(AU84=5,SUM(AV86*1000+(BC86)/10+(BA86)/100+(BK85)/1000+((G85+R85)-(F85+S85))/10000+(G85+R85)/100000+(G85)/1000000)))","v":false},{"$f":"IF(AU87=5,IF(AU84=5,SUM(AV87*1000+(BC87)/10+(BA87)/100+(BK86)/1000+((G86+R86)-(F86+S86))/10000+(G86+R86)/100000+(G86)/1000000)))","v":false},{"$f":"IF(AU88=5,IF(AU84=5,SUM(AV88*1000+(BC88)/10+(BA88)/100+(BK87)/1000+((G87+R87)-(F87+S87))/10000+(G87+R87)/100000+(G87)/1000000)))","v":false},{"$f":"IF(AU89=5,IF(AU84=5,SUM(AV89*1000+(BC89)/10+(BA89)/100+(BK88)/1000+((G88+R88)-(F88+S88))/10000+(G88+R88)/100000+(G88)/1000000)))","v":false},{"$f":"IF(AU84=6,IF(AU85=6,SUM(AV84*1000+(BC84)/10+(BA84)/100+(BJ84)/1000+((F84+S84)-(G84+R84))/10000+(F84+S84)/100000+(S84)/1000000)))","v":false},{"$f":"IF(AU85=6,IF(AU84=6,SUM(AV85*1000+(BC85)/10+(BA85)/100+(BK84)/1000+((G84+R84)-(F84+S84))/10000+(G84+R84)/100000+(G84)/1000000)))","v":false},{"$f":"IF(AU86=6,IF(AU84=6,SUM(AV86*1000+(BC86)/10+(BA86)/100+(BK85)/1000+((G85+R85)-(F85+S85))/10000+(G85+R85)/100000+(G85)/1000000)))","v":false},{"$f":"IF(AU87=6,IF(AU84=6,SUM(AV87*1000+(BC87)/10+(BA87)/100+(BK86)/1000+((G86+R86)-(F86+S86))/10000+(G86+R86)/100000+(G86)/1000000)))","v":false},{"$f":"IF(AU88=6,IF(AU84=6,SUM(AV88*1000+(BC88)/10+(BA88)/100+(BK87)/1000+((G87+R87)-(F87+S87))/10000+(G87+R87)/100000+(G87)/1000000)))","v":false},{"$f":"IF(AU89=6,IF(AU84=6,SUM(AV89*1000+(BC89)/10+(BA89)/100+(BK88)/1000+((G88+R88)-(F88+S88))/10000+(G88+R88)/100000+(G88)/1000000)))","v":false}]
[{"$f":"AP84","v":"POLOGNE"},null,null,null,null,3,1,{"$f":"AP87","v":"ROUMANIE"},null,null,null,null,"ROUMANIE",null,null,null,null,0,3,"POLOGNE",null,null,null,null,null,{"$f":"VLOOKUP(AN93,AO91:AT96,2,0)","v":"MONTÉNEGRO"},null,null,null,null,{"$f":"IF(CT94=CT93,CW93,CW94)","v":3},{"$f":"VLOOKUP(Z86,AP84:BC89,7,0)","v":16},{"$f":"VLOOKUP(Z86,AP84:BC89,8,0)","v":10},{"$f":"VLOOKUP(Z86,AP84:BC89,9,0)","v":5},{"$f":"VLOOKUP(Z86,AP84:BC89,10,0)","v":1},{"$f":"VLOOKUP(Z86,AP84:BC89,11,0)","v":4},{"$f":"VLOOKUP(Z86,AP84:BC89,12,0)","v":20},{"$f":"VLOOKUP(Z86,AP84:BC89,13,0)","v":12},{"$f":"VLOOKUP(Z86,AP84:BC89,14,0)","v":8},null,null,"DANEMARK",null,null,null,null,{"$f":"RANK(AV86,AV84:AV89)","v":2},{"$f":"SUMPRODUCT((A84:E98=AP86)*(BF84:BF98))+SUMPRODUCT((H84:L98=AP86)*(BG84:BG98))+SUMPRODUCT((M84:Q98=AP86)*(BH84:BH98))+SUMPRODUCT((T84:X98=AP86)*(BI84:BI98))","v":20},{"$f":"SUMPRODUCT((A84:E98=AP86)*(BL84:BL98))+SUMPRODUCT((H84:L98=AP86)*(BM84:BM98))+SUMPRODUCT((M84:Q98=AP86)*(BN84:BN98))+SUMPRODUCT((T84:X98=AP86)*(BO84:BO98))","v":10},{"$f":"SUMPRODUCT((A84:E98=AP86)*(BP84:BP98))+SUMPRODUCT((H84:L98=AP86)*(BQ84:BQ98))+SUMPRODUCT((M84:Q98=AP86)*(BR84:BR98))+SUMPRODUCT((T84:X98=AP86)*(BS84:BS98))","v":6},{"$f":"SUMPRODUCT((A84:E98=AP86)*(BT84:BT98))+SUMPRODUCT((H84:L98=AP86)*(BU84:BU98))+SUMPRODUCT((M84:Q98=AP86)*(BV84:BV98))+SUMPRODUCT((T84:X98=AP86)*(BW84:BW98))","v":2},{"$f":"SUMPRODUCT((A84:E98=AP86)*(BX84:BX98))+SUMPRODUCT((H84:L98=AP86)*(BY84:BY98))+SUMPRODUCT((M84:Q98=AP86)*(BZ84:BZ98))+SUMPRODUCT((T84:X98=AP86)*(CA84:CA98))","v":2},{"$f":"SUMPRODUCT((A84:E98=AP86)*(CB84:CB98))+SUMPRODUCT((H84:L98=AP86)*(CC84:CC98))+SUMPRODUCT((M84:Q98=AP86)*(CD84:CD98))+SUMPRODUCT((T84:X98=AP86)*(CE84:CE98))","v":20},{"$f":"SUMPRODUCT((A84:E98=AP86)*(CH84:CH98))+SUMPRODUCT((H84:L98=AP86)*(CI84:CI98))+SUMPRODUCT((M84:Q98=AP86)*(CJ84:CJ98))+SUMPRODUCT((T84:X98=AP86)*(CK84:CK98))","v":8},12,null,null,3,0,0,3,6,0,1,1,1,1,1,false,false,1,false,false,false,false,false,1,1,false,3,1,0,3,6,1,1,3,3,0,1,6,{"$f":"IF(AU84=1,IF(AU86=1,SUM(AV84*1000+(BC84)/10+(BA84)/100+(BJ85)/1000+((F85+S85)-(G85+R85))/10000+(F85+S85)/100000+(S85)/1000000)))","v":false},{"$f":"IF(AU85=1,IF(AU86=1,SUM(AV85*1000+(BC85)/10+(BA85)/100+(BJ89)/1000+((F89+S89)-(G89+R89))/10000+(F89+S89)/100000+(S89)/1000000)))","v":false},{"$f":"IF(AU86=1,IF(AU85=1,SUM(AV86*1000+(BC86)/10+(BA86)/100+(BK89)/1000+((G89+R89)-(F89+S89))/10000+(G89+R89)/1000000+(G89)/1000000)))","v":false},{"$f":"IF(AU87=1,IF(AU85=1,SUM(AV87*1000+(BC87)/10+(BA87)/100+(BK90)/1000+((G90+R90)-(F90+S90))/10000+(G90+R90)/100000+(G90)/1000000)))","v":false},{"$f":"IF(AU88=1,IF(AU85=1,SUM(AV88*1000+(BC88)/10+(BA88)/100+(BK91)/1000+((G91+R91)-(F91+S91))/10000+(G91+R91)/100000+(G91)/1000000)))","v":false},{"$f":"IF(AU89=1,IF(AU85=1,SUM(AV89*1000+(BC89)/10+(BA89)/100+(BK92)/1000+((G92+R92)-(F92+S92))/10000+(G92+R92)/100000+(G92)/1000000)))","v":false},null,{"$f":"IF(AU84=2,IF(AU86=2,SUM(AV84*1000+(BC84)/10+(BA84)/100+(BJ85)/1000+((F85+S85)-(G85+R85))/10000+(F85+S85)/100000+(S85)/1000000)))","v":false},{"$f":"IF(AU85=2,IF(AU86=2,SUM(AV85*1000+(BC85)/10+(BA85)/100+(BJ89)/1000+((F89+S89)-(G89+R89))/10000+(F89+S89)/100000+(S89)/1000000)))","v":false},{"$f":"IF(AU86=2,IF(AU85=2,SUM(AV86*1000+(BC86)/10+(BA86)/100+(BK89)/1000+((G89+R89)-(F89+S89))/10000+(G89+R89)/1000000+(G89)/1000000)))","v":false},{"$f":"IF(AU87=2,IF(AU85=2,SUM(AV87*1000+(BC87)/10+(BA87)/100+(BK90)/1000+((G90+R90)-(F90+S90))/10000+(G90+R90)/100000+(G90)/1000000)))","v":false},{"$f":"IF(AU88=2,IF(AU85=2,SUM(AV88*1000+(BC88)/10+(BA88)/100+(BK91)/1000+((G91+R91)-(F91+S91))/10000+(G91+R91)/100000+(G91)/1000000)))","v":false},{"$f":"IF(AU89=2,IF(AU85=2,SUM(AV89*1000+(BC89)/10+(BA89)/100+(BK92)/1000+((G92+R92)-(F92+S92))/10000+(G92+R92)/100000+(G92)/1000000)))","v":false},{"$f":"IF(AU84=3,IF(AU86=3,SUM(AV84*1000+(BC84)/10+(BA84)/100+(BJ85)/1000+((F85+S85)-(G85+R85))/10000+(F85+S85)/100000+(S85)/1000000)))","v":false},{"$f":"IF(AU85=3,IF(AU86=3,SUM(AV85*1000+(BC85)/10+(BA85)/100+(BJ89)/1000+((F89+S89)-(G89+R89))/10000+(F89+S89)/100000+(S89)/1000000)))","v":false},{"$f":"IF(AU86=3,IF(AU85=3,SUM(AV86*1000+(BC86)/10+(BA86)/100+(BK89)/1000+((G89+R89)-(F89+S89))/10000+(G89+R89)/1000000+(G89)/1000000)))","v":false},{"$f":"IF(AU87=3,IF(AU85=3,SUM(AV87*1000+(BC87)/10+(BA87)/100+(BK90)/1000+((G90+R90)-(F90+S90))/10000+(G90+R90)/100000+(G90)/1000000)))","v":false},{"$f":"IF(AU88=3,IF(AU85=3,SUM(AV88*1000+(BC88)/10+(BA88)/100+(BK91)/1000+((G91+R91)-(F91+S91))/10000+(G91+R91)/100000+(G91)/1000000)))","v":false},{"$f":"IF(AU89=3,IF(AU85=3,SUM(AV89*1000+(BC89)/10+(BA89)/100+(BK92)/1000+((G92+R92)-(F92+S92))/10000+(G92+R92)/100000+(G92)/1000000)))","v":false},{"$f":"IF(AU84=4,IF(AU86=4,SUM(AV84*1000+(BC84)/10+(BA84)/100+(BJ85)/1000+((F85+S85)-(G85+R85))/10000+(F85+S85)/100000+(S85)/1000000)))","v":false},{"$f":"IF(AU85=4,IF(AU86=4,SUM(AV85*1000+(BC85)/10+(BA85)/100+(BJ89)/1000+((F89+S89)-(G89+R89))/10000+(F89+S89)/100000+(S89)/1000000)))","v":false},{"$f":"IF(AU86=4,IF(AU85=4,SUM(AV86*1000+(BC86)/10+(BA86)/100+(BK89)/1000+((G89+R89)-(F89+S89))/10000+(G89+R89)/1000000+(G89)/1000000)))","v":false},{"$f":"IF(AU87=4,IF(AU85=4,SUM(AV87*1000+(BC87)/10+(BA87)/100+(BK90)/1000+((G90+R90)-(F90+S90))/10000+(G90+R90)/100000+(G90)/1000000)))","v":false},{"$f":"IF(AU88=4,IF(AU85=4,SUM(AV88*1000+(BC88)/10+(BA88)/100+(BK91)/1000+((G91+R91)-(F91+S91))/10000+(G91+R91)/100000+(G91)/1000000)))","v":false},{"$f":"IF(AU89=4,IF(AU85=4,SUM(AV89*1000+(BC89)/10+(BA89)/100+(BK92)/1000+((G92+R92)-(F92+S92))/10000+(G92+R92)/100000+(G92)/1000000)))","v":false},{"$f":"IF(AU84=5,IF(AU86=5,SUM(AV84*1000+(BC84)/10+(BA84)/100+(BJ85)/1000+((F85+S85)-(G85+R85))/10000+(F85+S85)/100000+(S85)/1000000)))","v":false},{"$f":"IF(AU85=5,IF(AU86=5,SUM(AV85*1000+(BC85)/10+(BA85)/100+(BJ89)/1000+((F89+S89)-(G89+R89))/10000+(F89+S89)/100000+(S89)/1000000)))","v":false},{"$f":"IF(AU86=5,IF(AU85=5,SUM(AV86*1000+(BC86)/10+(BA86)/100+(BK89)/1000+((G89+R89)-(F89+S89))/10000+(G89+R89)/1000000+(G89)/1000000)))","v":false},{"$f":"IF(AU87=5,IF(AU85=5,SUM(AV87*1000+(BC87)/10+(BA87)/100+(BK90)/1000+((G90+R90)-(F90+S90))/10000+(G90+R90)/100000+(G90)/1000000)))","v":false},{"$f":"IF(AU88=5,IF(AU85=5,SUM(AV88*1000+(BC88)/10+(BA88)/100+(BK91)/1000+((G91+R91)-(F91+S91))/10000+(G91+R91)/100000+(G91)/1000000)))","v":false},{"$f":"IF(AU89=5,IF(AU85=5,SUM(AV89*1000+(BC89)/10+(BA89)/100+(BK92)/1000+((G92+R92)-(F92+S92))/10000+(G92+R92)/100000+(G92)/1000000)))","v":false},{"$f":"IF(AU84=6,IF(AU86=6,SUM(AV84*1000+(BC84)/10+(BA84)/100+(BJ85)/1000+((F85+S85)-(G85+R85))/10000+(F85+S85)/100000+(S85)/1000000)))","v":false},{"$f":"IF(AU85=6,IF(AU86=6,SUM(AV85*1000+(BC85)/10+(BA85)/100+(BJ89)/1000+((F89+S89)-(G89+R89))/10000+(F89+S89)/100000+(S89)/1000000)))","v":false},{"$f":"IF(AU86=6,IF(AU85=6,SUM(AV86*1000+(BC86)/10+(BA86)/100+(BK89)/1000+((G89+R89)-(F89+S89))/10000+(G89+R89)/1000000+(G89)/1000000)))","v":false},{"$f":"IF(AU87=6,IF(AU85=6,SUM(AV87*1000+(BC87)/10+(BA87)/100+(BK90)/1000+((G90+R90)-(F90+S90))/10000+(G90+R90)/100000+(G90)/1000000)))","v":false},{"$f":"IF(AU88=6,IF(AU85=6,SUM(AV88*1000+(BC88)/10+(BA88)/100+(BK91)/1000+((G91+R91)-(F91+S91))/10000+(G91+R91)/100000+(G91)/1000000)))","v":false},{"$f":"IF(AU89=6,IF(AU85=6,SUM(AV89*1000+(BC89)/10+(BA89)/100+(BK92)/1000+((G92+R92)-(F92+S92))/10000+(G92+R92)/100000+(G92)/1000000)))","v":false}]
[{"$f":"AP84","v":"POLOGNE"},null,null,null,null,2,1,{"$f":"AP88","v":"ARMÉNIE"},null,null,null,null,"ARMÉNIE",null,null,null,null,1,6,"POLOGNE",null,null,null,null,null,{"$f":"VLOOKUP(AN94,AO91:AT96,2,0)","v":"ROUMANIE"},null,null,null,null,4,{"$f":"VLOOKUP(Z87,AP84:BC89,7,0)","v":13},{"$f":"VLOOKUP(Z87,AP84:BC89,8,0)","v":10},{"$f":"VLOOKUP(Z87,AP84:BC89,9,0)","v":3},{"$f":"VLOOKUP(Z87,AP84:BC89,10,0)","v":4},{"$f":"VLOOKUP(Z87,AP84:BC89,11,0)","v":3},{"$f":"VLOOKUP(Z87,AP84:BC89,12,0)","v":12},{"$f":"VLOOKUP(Z87,AP84:BC89,13,0)","v":10},{"$f":"VLOOKUP(Z87,AP84:BC89,14,0)","v":2},null,null,"ROUMANIE",null,null,null,null,{"$f":"RANK(AV87,AV84:AV89)","v":4},{"$f":"SUMPRODUCT((A84:E98=AP87)*(BF84:BF98))+SUMPRODUCT((H84:L98=AP87)*(BG84:BG98))+SUMPRODUCT((M84:Q98=AP87)*(BH84:BH98))+SUMPRODUCT((T84:X98=AP87)*(BI84:BI98))","v":13},{"$f":"SUMPRODUCT((A84:E98=AP87)*(BL84:BL98))+SUMPRODUCT((H84:L98=AP87)*(BM84:BM98))+SUMPRODUCT((M84:Q98=AP87)*(BN84:BN98))+SUMPRODUCT((T84:X98=AP87)*(BO84:BO98))","v":10},{"$f":"SUMPRODUCT((A84:E98=AP87)*(BP84:BP98))+SUMPRODUCT((H84:L98=AP87)*(BQ84:BQ98))+SUMPRODUCT((M84:Q98=AP87)*(BR84:BR98))+SUMPRODUCT((T84:X98=AP87)*(BS84:BS98))","v":3},{"$f":"SUMPRODUCT((A84:E98=AP87)*(BT84:BT98))+SUMPRODUCT((H84:L98=AP87)*(BU84:BU98))+SUMPRODUCT((M84:Q98=AP87)*(BV84:BV98))+SUMPRODUCT((T84:X98=AP87)*(BW84:BW98))","v":4},{"$f":"SUMPRODUCT((A84:E98=AP87)*(BX84:BX98))+SUMPRODUCT((H84:L98=AP87)*(BY84:BY98))+SUMPRODUCT((M84:Q98=AP87)*(BZ84:BZ98))+SUMPRODUCT((T84:X98=AP87)*(CA84:CA98))","v":3},{"$f":"SUMPRODUCT((A84:E98=AP87)*(CB84:CB98))+SUMPRODUCT((H84:L98=AP87)*(CC84:CC98))+SUMPRODUCT((M84:Q98=AP87)*(CD84:CD98))+SUMPRODUCT((T84:X98=AP87)*(CE84:CE98))","v":12},{"$f":"SUMPRODUCT((A84:E98=AP87)*(CH84:CH98))+SUMPRODUCT((H84:L98=AP87)*(CI84:CI98))+SUMPRODUCT((M84:Q98=AP87)*(CJ84:CJ98))+SUMPRODUCT((T84:X98=AP87)*(CK84:CK98))","v":10},2,null,null,3,0,0,3,6,0,1,1,1,1,1,false,false,1,false,false,false,false,false,1,1,false,2,1,1,6,8,2,1,2,6,1,2,8,{"$f":"IF(AU84=1,IF(AU87=1,SUM(AV84*1000+(BC84)/10+(BA84)/100+(BJ86)/1000+((F86+S86)-(G86+R86))/10000+(F86+S86)/100000+(S86)/1000000)))","v":false},{"$f":"IF(AU85=1,IF(AU87=1,SUM(AV85*1000+(BC85)/10+(BA85)/100+(BJ90)/1000+((F90+S90)-(G90+R90))/10000+(F90+S90)/100000+(S90)/1000000)))","v":false},{"$f":"IF(AU86=1,IF(AU87=1,SUM(AV86*1000+(BC86)/10+(BA86)/100+(BJ93)/1000+((F93+S93)-(G93+R93))/10000+(F93+S93)/100000+(S93)/1000000)))","v":false},{"$f":"IF(AU87=1,IF(AU86=1,SUM(AV87*1000+(BC87)/10+(BA87)/100+(BK93)/1000+((G93+R93)-(F93+S93))/10000+(G93+R93)/100000+(G93)/1000000)))","v":false},{"$f":"IF(AU88=1,IF(AU86=1,SUM(AV88*1000+(BC88)/10+(BA88)/100+(BK94)/1000+((G94+R94)-(F94+S94))/10000+(G94+R94)/100000+(G94)/1000000)))","v":false},{"$f":"IF(AU89=1,IF(AU86=1,SUM(AV89*1000+(BC89)/10+(BA89)/100+(BK95)/1000+((G95+R95)-(F95+S95))/10000+(G95+R95)/100000+(G95)/1000000)))","v":false},null,{"$f":"IF(AU84=2,IF(AU87=2,SUM(AV84*1000+(BC84)/10+(BA84)/100+(BJ86)/1000+((F86+S86)-(G86+R86))/10000+(F86+S86)/100000+(S86)/1000000)))","v":false},{"$f":"IF(AU85=2,IF(AU87=2,SUM(AV85*1000+(BC85)/10+(BA85)/100+(BJ90)/1000+((F90+S90)-(G90+R90))/10000+(F90+S90)/100000+(S90)/1000000)))","v":false},{"$f":"IF(AU86=2,IF(AU87=2,SUM(AV86*1000+(BC86)/10+(BA86)/100+(BJ93)/1000+((F93+S93)-(G93+R93))/10000+(F93+S93)/100000+(S93)/1000000)))","v":false},{"$f":"IF(AU87=2,IF(AU86=2,SUM(AV87*1000+(BC87)/10+(BA87)/100+(BK93)/1000+((G93+R93)-(F93+S93))/10000+(G93+R93)/100000+(G93)/1000000)))","v":false},{"$f":"IF(AU88=2,IF(AU86=2,SUM(AV88*1000+(BC88)/10+(BA88)/100+(BK94)/1000+((G94+R94)-(F94+S94))/10000+(G94+R94)/100000+(G94)/1000000)))","v":false},{"$f":"IF(AU89=2,IF(AU86=2,SUM(AV89*1000+(BC89)/10+(BA89)/100+(BK95)/1000+((G95+R95)-(F95+S95))/10000+(G95+R95)/100000+(G95)/1000000)))","v":false},{"$f":"IF(AU84=3,IF(AU87=3,SUM(AV84*1000+(BC84)/10+(BA84)/100+(BJ86)/1000+((F86+S86)-(G86+R86))/10000+(F86+S86)/100000+(S86)/1000000)))","v":false},{"$f":"IF(AU85=3,IF(AU87=3,SUM(AV85*1000+(BC85)/10+(BA85)/100+(BJ90)/1000+((F90+S90)-(G90+R90))/10000+(F90+S90)/100000+(S90)/1000000)))","v":false},{"$f":"IF(AU86=3,IF(AU87=3,SUM(AV86*1000+(BC86)/10+(BA86)/100+(BJ93)/1000+((F93+S93)-(G93+R93))/10000+(F93+S93)/100000+(S93)/1000000)))","v":false},{"$f":"IF(AU87=3,IF(AU86=3,SUM(AV87*1000+(BC87)/10+(BA87)/100+(BK93)/1000+((G93+R93)-(F93+S93))/10000+(G93+R93)/100000+(G93)/1000000)))","v":false},{"$f":"IF(AU88=3,IF(AU86=3,SUM(AV88*1000+(BC88)/10+(BA88)/100+(BK94)/1000+((G94+R94)-(F94+S94))/10000+(G94+R94)/100000+(G94)/1000000)))","v":false},{"$f":"IF(AU89=3,IF(AU86=3,SUM(AV89*1000+(BC89)/10+(BA89)/100+(BK95)/1000+((G95+R95)-(F95+S95))/10000+(G95+R95)/100000+(G95)/1000000)))","v":false},{"$f":"IF(AU84=4,IF(AU87=4,SUM(AV84*1000+(BC84)/10+(BA84)/100+(BJ86)/1000+((F86+S86)-(G86+R86))/10000+(F86+S86)/100000+(S86)/1000000)))","v":false},{"$f":"IF(AU85=4,IF(AU87=4,SUM(AV85*1000+(BC85)/10+(BA85)/100+(BJ90)/1000+((F90+S90)-(G90+R90))/10000+(F90+S90)/100000+(S90)/1000000)))","v":false},{"$f":"IF(AU86=4,IF(AU87=4,SUM(AV86*1000+(BC86)/10+(BA86)/100+(BJ93)/1000+((F93+S93)-(G93+R93))/10000+(F93+S93)/100000+(S93)/1000000)))","v":false},{"$f":"IF(AU87=4,IF(AU86=4,SUM(AV87*1000+(BC87)/10+(BA87)/100+(BK93)/1000+((G93+R93)-(F93+S93))/10000+(G93+R93)/100000+(G93)/1000000)))","v":false},{"$f":"IF(AU88=4,IF(AU86=4,SUM(AV88*1000+(BC88)/10+(BA88)/100+(BK94)/1000+((G94+R94)-(F94+S94))/10000+(G94+R94)/100000+(G94)/1000000)))","v":false},{"$f":"IF(AU89=4,IF(AU86=4,SUM(AV89*1000+(BC89)/10+(BA89)/100+(BK95)/1000+((G95+R95)-(F95+S95))/10000+(G95+R95)/100000+(G95)/1000000)))","v":false},{"$f":"IF(AU84=5,IF(AU87=5,SUM(AV84*1000+(BC84)/10+(BA84)/100+(BJ86)/1000+((F86+S86)-(G86+R86))/10000+(F86+S86)/100000+(S86)/1000000)))","v":false},{"$f":"IF(AU85=5,IF(AU87=5,SUM(AV85*1000+(BC85)/10+(BA85)/100+(BJ90)/1000+((F90+S90)-(G90+R90))/10000+(F90+S90)/100000+(S90)/1000000)))","v":false},{"$f":"IF(AU86=5,IF(AU87=5,SUM(AV86*1000+(BC86)/10+(BA86)/100+(BJ93)/1000+((F93+S93)-(G93+R93))/10000+(F93+S93)/100000+(S93)/1000000)))","v":false},{"$f":"IF(AU87=5,IF(AU86=5,SUM(AV87*1000+(BC87)/10+(BA87)/100+(BK93)/1000+((G93+R93)-(F93+S93))/10000+(G93+R93)/100000+(G93)/1000000)))","v":false},{"$f":"IF(AU88=5,IF(AU86=5,SUM(AV88*1000+(BC88)/10+(BA88)/100+(BK94)/1000+((G94+R94)-(F94+S94))/10000+(G94+R94)/100000+(G94)/1000000)))","v":false},{"$f":"IF(AU89=5,IF(AU86=5,SUM(AV89*1000+(BC89)/10+(BA89)/100+(BK95)/1000+((G95+R95)-(F95+S95))/10000+(G95+R95)/100000+(G95)/1000000)))","v":false},{"$f":"IF(AU84=6,IF(AU87=6,SUM(AV84*1000+(BC84)/10+(BA84)/100+(BJ86)/1000+((F86+S86)-(G86+R86))/10000+(F86+S86)/100000+(S86)/1000000)))","v":false},{"$f":"IF(AU85=6,IF(AU87=6,SUM(AV85*1000+(BC85)/10+(BA85)/100+(BJ90)/1000+((F90+S90)-(G90+R90))/10000+(F90+S90)/100000+(S90)/1000000)))","v":false},{"$f":"IF(AU86=6,IF(AU87=6,SUM(AV86*1000+(BC86)/10+(BA86)/100+(BJ93)/1000+((F93+S93)-(G93+R93))/10000+(F93+S93)/100000+(S93)/1000000)))","v":false},{"$f":"IF(AU87=6,IF(AU86=6,SUM(AV87*1000+(BC87)/10+(BA87)/100+(BK93)/1000+((G93+R93)-(F93+S93))/10000+(G93+R93)/100000+(G93)/1000000)))","v":false},{"$f":"IF(AU88=6,IF(AU86=6,SUM(AV88*1000+(BC88)/10+(BA88)/100+(BK94)/1000+((G94+R94)-(F94+S94))/10000+(G94+R94)/100000+(G94)/1000000)))","v":false},{"$f":"IF(AU89=6,IF(AU86=6,SUM(AV89*1000+(BC89)/10+(BA89)/100+(BK95)/1000+((G95+R95)-(F95+S95))/10000+(G95+R95)/100000+(G95)/1000000)))","v":false}]
[{"$f":"AP84","v":"POLOGNE"},null,null,null,null,3,0,{"$f":"AP89","v":"KAZAKHSTAN"},null,null,null,null,"KAZAKHSTAN",null,null,null,null,2,2,"POLOGNE",null,null,null,null,null,{"$f":"VLOOKUP(AN95,AO91:AT96,2,0)","v":"ARMÉNIE"},null,null,null,null,5,{"$f":"VLOOKUP(Z88,AP84:BC89,7,0)","v":7},{"$f":"VLOOKUP(Z88,AP84:BC89,8,0)","v":10},{"$f":"VLOOKUP(Z88,AP84:BC89,9,0)","v":2},{"$f":"VLOOKUP(Z88,AP84:BC89,10,0)","v":1},{"$f":"VLOOKUP(Z88,AP84:BC89,11,0)","v":7},{"$f":"VLOOKUP(Z88,AP84:BC89,12,0)","v":10},{"$f":"VLOOKUP(Z88,AP84:BC89,13,0)","v":26},{"$f":"VLOOKUP(Z88,AP84:BC89,14,0)","v":-16},null,null,"ARMÉNIE",null,null,null,null,{"$f":"RANK(AV88,AV84:AV89)","v":5},{"$f":"SUMPRODUCT((A84:E98=AP88)*(BF84:BF98))+SUMPRODUCT((H84:L98=AP88)*(BG84:BG98))+SUMPRODUCT((M84:Q98=AP88)*(BH84:BH98))+SUMPRODUCT((T84:X98=AP88)*(BI84:BI98))","v":7},{"$f":"SUMPRODUCT((A84:E98=AP88)*(BL84:BL98))+SUMPRODUCT((H84:L98=AP88)*(BM84:BM98))+SUMPRODUCT((M84:Q98=AP88)*(BN84:BN98))+SUMPRODUCT((T84:X98=AP88)*(BO84:BO98))","v":10},{"$f":"SUMPRODUCT((A84:E98=AP88)*(BP84:BP98))+SUMPRODUCT((H84:L98=AP88)*(BQ84:BQ98))+SUMPRODUCT((M84:Q98=AP88)*(BR84:BR98))+SUMPRODUCT((T84:X98=AP88)*(BS84:BS98))","v":2},{"$f":"SUMPRODUCT((A84:E98=AP88)*(BT84:BT98))+SUMPRODUCT((H84:L98=AP88)*(BU84:BU98))+SUMPRODUCT((M84:Q98=AP88)*(BV84:BV98))+SUMPRODUCT((T84:X98=AP88)*(BW84:BW98))","v":1},{"$f":"SUMPRODUCT((A84:E98=AP88)*(BX84:BX98))+SUMPRODUCT((H84:L98=AP88)*(BY84:BY98))+SUMPRODUCT((M84:Q98=AP88)*(BZ84:BZ98))+SUMPRODUCT((T84:X98=AP88)*(CA84:CA98))","v":7},{"$f":"SUMPRODUCT((A84:E98=AP88)*(CB84:CB98))+SUMPRODUCT((H84:L98=AP88)*(CC84:CC98))+SUMPRODUCT((M84:Q98=AP88)*(CD84:CD98))+SUMPRODUCT((T84:X98=AP88)*(CE84:CE98))","v":10},{"$f":"SUMPRODUCT((A84:E98=AP88)*(CH84:CH98))+SUMPRODUCT((H84:L98=AP88)*(CI84:CI98))+SUMPRODUCT((M84:Q98=AP88)*(CJ84:CJ98))+SUMPRODUCT((T84:X98=AP88)*(CK84:CK98))","v":26},-16,null,null,3,0,1,1,4,1,1,1,1,1,1,false,false,false,false,false,1,1,false,1,false,false,3,0,2,2,5,2,0,3,2,2,2,5,{"$f":"IF(AU84=1,IF(AU88=1,SUM(AV84*1000+(BC84)/10+(BA84)/100+(BJ87)/1000+((F87+S87)-(G87+R87))/10000+(F87+S87)/100000+(S87)/1000000)))","v":false},{"$f":"IF(AU85=1,IF(AU88=1,SUM(AV85*1000+(BC85)/10+(BA85)/100+(BJ91)/1000+((F91+S91)-(G91+R91))/10000+(F91+S91)/100000+(S91)/1000000)))","v":false},{"$f":"IF(AU86=1,IF(AU88=1,SUM(AV86*1000+(BC86)/10+(BA86)/100+(BJ94)/1000+((F94+S94)-(G94+R94))/10000+(F94+S94)/100000+(S94)/1000000)))","v":false},{"$f":"IF(AU87=1,IF(AU88=1,SUM(AV87*1000+(BC87)/10+(BA87)/100+(BJ96)/1000+((F96+S96)-(G96+R96))/10000+(F96+S96)/100000+(S96)/1000000)))","v":false},{"$f":"IF(AU88=1,IF(AU87=1,SUM(AV88*1000+(BC88)/10+(BA88)/100+(BK96)/1000+((G96+R96)-(F96+S96))/10000+(G96+R96)/100000+(G96)/1000000)))","v":false},{"$f":"IF(AU89=1,IF(AU87=1,SUM(AV89*1000+(BC89)/10+(BA89)/100+(BK97)/1000+((G97+R97)-(F97+S97))/10000+(G97+R97)/100000+(G97)/1000000)))","v":false},null,{"$f":"IF(AU84=2,IF(AU88=2,SUM(AV84*1000+(BC84)/10+(BA84)/100+(BJ87)/1000+((F87+S87)-(G87+R87))/10000+(F87+S87)/100000+(S87)/1000000)))","v":false},{"$f":"IF(AU85=2,IF(AU88=2,SUM(AV85*1000+(BC85)/10+(BA85)/100+(BJ91)/1000+((F91+S91)-(G91+R91))/10000+(F91+S91)/100000+(S91)/1000000)))","v":false},{"$f":"IF(AU86=2,IF(AU88=2,SUM(AV86*1000+(BC86)/10+(BA86)/100+(BJ94)/1000+((F94+S94)-(G94+R94))/10000+(F94+S94)/100000+(S94)/1000000)))","v":false},{"$f":"IF(AU87=2,IF(AU88=2,SUM(AV87*1000+(BC87)/10+(BA87)/100+(BJ96)/1000+((F96+S96)-(G96+R96))/10000+(F96+S96)/100000+(S96)/1000000)))","v":false},{"$f":"IF(AU88=2,IF(AU87=2,SUM(AV88*1000+(BC88)/10+(BA88)/100+(BK96)/1000+((G96+R96)-(F96+S96))/10000+(G96+R96)/100000+(G96)/1000000)))","v":false},{"$f":"IF(AU89=2,IF(AU87=2,SUM(AV89*1000+(BC89)/10+(BA89)/100+(BK97)/1000+((G97+R97)-(F97+S97))/10000+(G97+R97)/100000+(G97)/1000000)))","v":false},{"$f":"IF(AU84=3,IF(AU88=3,SUM(AV84*1000+(BC84)/10+(BA84)/100+(BJ87)/1000+((F87+S87)-(G87+R87))/10000+(F87+S87)/100000+(S87)/1000000)))","v":false},{"$f":"IF(AU85=3,IF(AU88=3,SUM(AV85*1000+(BC85)/10+(BA85)/100+(BJ91)/1000+((F91+S91)-(G91+R91))/10000+(F91+S91)/100000+(S91)/1000000)))","v":false},{"$f":"IF(AU86=3,IF(AU88=3,SUM(AV86*1000+(BC86)/10+(BA86)/100+(BJ94)/1000+((F94+S94)-(G94+R94))/10000+(F94+S94)/100000+(S94)/1000000)))","v":false},{"$f":"IF(AU87=3,IF(AU88=3,SUM(AV87*1000+(BC87)/10+(BA87)/100+(BJ96)/1000+((F96+S96)-(G96+R96))/10000+(F96+S96)/100000+(S96)/1000000)))","v":false},{"$f":"IF(AU88=3,IF(AU87=3,SUM(AV88*1000+(BC88)/10+(BA88)/100+(BK96)/1000+((G96+R96)-(F96+S96))/10000+(G96+R96)/100000+(G96)/1000000)))","v":false},{"$f":"IF(AU89=3,IF(AU87=3,SUM(AV89*1000+(BC89)/10+(BA89)/100+(BK97)/1000+((G97+R97)-(F97+S97))/10000+(G97+R97)/100000+(G97)/1000000)))","v":false},{"$f":"IF(AU84=4,IF(AU88=4,SUM(AV84*1000+(BC84)/10+(BA84)/100+(BJ87)/1000+((F87+S87)-(G87+R87))/10000+(F87+S87)/100000+(S87)/1000000)))","v":false},{"$f":"IF(AU85=4,IF(AU88=4,SUM(AV85*1000+(BC85)/10+(BA85)/100+(BJ91)/1000+((F91+S91)-(G91+R91))/10000+(F91+S91)/100000+(S91)/1000000)))","v":false},{"$f":"IF(AU86=4,IF(AU88=4,SUM(AV86*1000+(BC86)/10+(BA86)/100+(BJ94)/1000+((F94+S94)-(G94+R94))/10000+(F94+S94)/100000+(S94)/1000000)))","v":false},{"$f":"IF(AU87=4,IF(AU88=4,SUM(AV87*1000+(BC87)/10+(BA87)/100+(BJ96)/1000+((F96+S96)-(G96+R96))/10000+(F96+S96)/100000+(S96)/1000000)))","v":false},{"$f":"IF(AU88=4,IF(AU87=4,SUM(AV88*1000+(BC88)/10+(BA88)/100+(BK96)/1000+((G96+R96)-(F96+S96))/10000+(G96+R96)/100000+(G96)/1000000)))","v":false},{"$f":"IF(AU89=4,IF(AU87=4,SUM(AV89*1000+(BC89)/10+(BA89)/100+(BK97)/1000+((G97+R97)-(F97+S97))/10000+(G97+R97)/100000+(G97)/1000000)))","v":false},{"$f":"IF(AU84=5,IF(AU88=5,SUM(AV84*1000+(BC84)/10+(BA84)/100+(BJ87)/1000+((F87+S87)-(G87+R87))/10000+(F87+S87)/100000+(S87)/1000000)))","v":false},{"$f":"IF(AU85=5,IF(AU88=5,SUM(AV85*1000+(BC85)/10+(BA85)/100+(BJ91)/1000+((F91+S91)-(G91+R91))/10000+(F91+S91)/100000+(S91)/1000000)))","v":false},{"$f":"IF(AU86=5,IF(AU88=5,SUM(AV86*1000+(BC86)/10+(BA86)/100+(BJ94)/1000+((F94+S94)-(G94+R94))/10000+(F94+S94)/100000+(S94)/1000000)))","v":false},{"$f":"IF(AU87=5,IF(AU88=5,SUM(AV87*1000+(BC87)/10+(BA87)/100+(BJ96)/1000+((F96+S96)-(G96+R96))/10000+(F96+S96)/100000+(S96)/1000000)))","v":false},{"$f":"IF(AU88=5,IF(AU87=5,SUM(AV88*1000+(BC88)/10+(BA88)/100+(BK96)/1000+((G96+R96)-(F96+S96))/10000+(G96+R96)/100000+(G96)/1000000)))","v":false},{"$f":"IF(AU89=5,IF(AU87=5,SUM(AV89*1000+(BC89)/10+(BA89)/100+(BK97)/1000+((G97+R97)-(F97+S97))/10000+(G97+R97)/100000+(G97)/1000000)))","v":false},{"$f":"IF(AU84=6,IF(AU88=6,SUM(AV84*1000+(BC84)/10+(BA84)/100+(BJ87)/1000+((F87+S87)-(G87+R87))/10000+(F87+S87)/100000+(S87)/1000000)))","v":false},{"$f":"IF(AU85=6,IF(AU88=6,SUM(AV85*1000+(BC85)/10+(BA85)/100+(BJ91)/1000+((F91+S91)-(G91+R91))/10000+(F91+S91)/100000+(S91)/1000000)))","v":false},{"$f":"IF(AU86=6,IF(AU88=6,SUM(AV86*1000+(BC86)/10+(BA86)/100+(BJ94)/1000+((F94+S94)-(G94+R94))/10000+(F94+S94)/100000+(S94)/1000000)))","v":false},{"$f":"IF(AU87=6,IF(AU88=6,SUM(AV87*1000+(BC87)/10+(BA87)/100+(BJ96)/1000+((F96+S96)-(G96+R96))/10000+(F96+S96)/100000+(S96)/1000000)))","v":false},{"$f":"IF(AU88=6,IF(AU87=6,SUM(AV88*1000+(BC88)/10+(BA88)/100+(BK96)/1000+((G96+R96)-(F96+S96))/10000+(G96+R96)/100000+(G96)/1000000)))","v":false},{"$f":"IF(AU89=6,IF(AU87=6,SUM(AV89*1000+(BC89)/10+(BA89)/100+(BK97)/1000+((G97+R97)-(F97+S97))/10000+(G97+R97)/100000+(G97)/1000000)))","v":false}]
[{"$f":"AP85","v":"MONTÉNEGRO"},null,null,null,null,0,1,{"$f":"AP86","v":"DANEMARK"},null,null,null,null,"DANEMARK",null,null,null,null,0,1,"MONTÉNEGRO",null,null,null,null,null,{"$f":"VLOOKUP(AN96,AO91:AT96,2,0)","v":"KAZAKHSTAN"},null,null,null,null,6,{"$f":"VLOOKUP(Z89,AP84:BC89,7,0)","v":3},{"$f":"VLOOKUP(Z89,AP84:BC89,8,0)","v":10},{"$f":"VLOOKUP(Z89,AP84:BC89,9,0)","v":0},{"$f":"VLOOKUP(Z89,AP84:BC89,10,0)","v":3},{"$f":"VLOOKUP(Z89,AP84:BC89,11,0)","v":7},{"$f":"VLOOKUP(Z89,AP84:BC89,12,0)","v":6},{"$f":"VLOOKUP(Z89,AP84:BC89,13,0)","v":26},{"$f":"VLOOKUP(Z89,AP84:BC89,14,0)","v":-20},null,null,"KAZAKHSTAN",null,null,null,null,{"$f":"RANK(AV89,AV84:AV89)","v":6},{"$f":"SUMPRODUCT((A84:E98=AP89)*(BF84:BF98))+SUMPRODUCT((H84:L98=AP89)*(BG84:BG98))+SUMPRODUCT((M84:Q98=AP89)*(BH84:BH98))+SUMPRODUCT((T84:X98=AP89)*(BI84:BI98))","v":3},{"$f":"SUMPRODUCT((A84:E98=AP89)*(BL84:BL98))+SUMPRODUCT((H84:L98=AP89)*(BM84:BM98))+SUMPRODUCT((M84:Q98=AP89)*(BN84:BN98))+SUMPRODUCT((T84:X98=AP89)*(BO84:BO98))","v":10},{"$f":"SUMPRODUCT((A84:E98=AP89)*(BP84:BP98))+SUMPRODUCT((H84:L98=AP89)*(BQ84:BQ98))+SUMPRODUCT((M84:Q98=AP89)*(BR84:BR98))+SUMPRODUCT((T84:X98=AP89)*(BS84:BS98))","v":0},{"$f":"SUMPRODUCT((A84:E98=AP89)*(BT84:BT98))+SUMPRODUCT((H84:L98=AP89)*(BU84:BU98))+SUMPRODUCT((M84:Q98=AP89)*(BV84:BV98))+SUMPRODUCT((T84:X98=AP89)*(BW84:BW98))","v":3},{"$f":"SUMPRODUCT((A84:E98=AP89)*(BX84:BX98))+SUMPRODUCT((H84:L98=AP89)*(BY84:BY98))+SUMPRODUCT((M84:Q98=AP89)*(BZ84:BZ98))+SUMPRODUCT((T84:X98=AP89)*(CA84:CA98))","v":7},{"$f":"SUMPRODUCT((A84:E98=AP89)*(CB84:CB98))+SUMPRODUCT((H84:L98=AP89)*(CC84:CC98))+SUMPRODUCT((M84:Q98=AP89)*(CD84:CD98))+SUMPRODUCT((T84:X98=AP89)*(CE84:CE98))","v":6},{"$f":"SUMPRODUCT((A84:E98=AP89)*(CH84:CH98))+SUMPRODUCT((H84:L98=AP89)*(CI84:CI98))+SUMPRODUCT((M84:Q98=AP89)*(CJ84:CJ98))+SUMPRODUCT((T84:X98=AP89)*(CK84:CK98))","v":26},-20,null,null,0,3,0,3,3,3,1,1,1,1,false,1,false,1,false,false,false,false,1,false,1,false,0,1,0,1,1,1,1,0,1,0,1,1,{"$f":"IF(AU84=1,IF(AU89=1,SUM(AV84*1000+(BC84)/10+(BA84)/100+(BJ88)/1000+((F88+S88)-(G88+R88))/10000+(F88+S88)/100000+(S88)/1000000)))","v":false},{"$f":"IF(AU85=1,IF(AU89=1,SUM(AV85*1000+(BC85)/10+(BA85)/100+(BJ92)/1000+((F92+S92)-(G92+R92))/10000+(F92+S92)/100000+(S92)/1000000)))","v":false},{"$f":"IF(AU86=1,IF(AU89=1,SUM(AV86*1000+(BC86)/10+(BA86)/100+(BJ95)/1000+((F95+S95)-(G95+R95))/10000+(F95+S95)/100000+(S95)/1000000)))","v":false},{"$f":"IF(AU87=1,IF(AU89=1,SUM(AV87*1000+(BC87)/10+(BA87)/100+(BJ97)/1000+((F97+S97)-(G97+R97))/10000+(F97+S97)/100000+(S97)/1000000)))","v":false},{"$f":"IF(AU88=1,IF(AU89=1,SUM(AV88*1000+(BC88)/10+(BA88)/100+(BJ98)/1000+((F98+S98)-(G98+R98))/10000+(F98+S98)/100000+(S98)/1000000)))","v":false},{"$f":"IF(AU89=1,IF(AU88=1,SUM(AV89*1000+(BC89)/10+(BA89)/100+(BK98)/1000+((G98+R98)-(F98+S98))/10000+(G98+R98)/100000+(G98)/1000000)))","v":false},null,{"$f":"IF(AU84=2,IF(AU89=2,SUM(AV84*1000+(BC84)/10+(BA84)/100+(BJ88)/1000+((F88+S88)-(G88+R88))/10000+(F88+S88)/100000+(S88)/1000000)))","v":false},{"$f":"IF(AU85=2,IF(AU89=2,SUM(AV85*1000+(BC85)/10+(BA85)/100+(BJ92)/1000+((F92+S92)-(G92+R92))/10000+(F92+S92)/100000+(S92)/1000000)))","v":false},{"$f":"IF(AU86=2,IF(AU89=2,SUM(AV86*1000+(BC86)/10+(BA86)/100+(BJ95)/1000+((F95+S95)-(G95+R95))/10000+(F95+S95)/100000+(S95)/1000000)))","v":false},{"$f":"IF(AU87=2,IF(AU89=2,SUM(AV87*1000+(BC87)/10+(BA87)/100+(BJ97)/1000+((F97+S97)-(G97+R97))/10000+(F97+S97)/100000+(S97)/1000000)))","v":false},{"$f":"IF(AU88=2,IF(AU89=2,SUM(AV88*1000+(BC88)/10+(BA88)/100+(BJ98)/1000+((F98+S98)-(G98+R98))/10000+(F98+S98)/100000+(S98)/1000000)))","v":false},{"$f":"IF(AU89=2,IF(AU88=2,SUM(AV89*1000+(BC89)/10+(BA89)/100+(BK98)/1000+((G98+R98)-(F98+S98))/10000+(G98+R98)/100000+(G98)/1000000)))","v":false},{"$f":"IF(AU84=3,IF(AU89=3,SUM(AV84*1000+(BC84)/10+(BA84)/100+(BJ88)/1000+((F88+S88)-(G88+R88))/10000+(F88+S88)/100000+(S88)/1000000)))","v":false},{"$f":"IF(AU85=3,IF(AU89=3,SUM(AV85*1000+(BC85)/10+(BA85)/100+(BJ92)/1000+((F92+S92)-(G92+R92))/10000+(F92+S92)/100000+(S92)/1000000)))","v":false},{"$f":"IF(AU86=3,IF(AU89=3,SUM(AV86*1000+(BC86)/10+(BA86)/100+(BJ95)/1000+((F95+S95)-(G95+R95))/10000+(F95+S95)/100000+(S95)/1000000)))","v":false},{"$f":"IF(AU87=3,IF(AU89=3,SUM(AV87*1000+(BC87)/10+(BA87)/100+(BJ97)/1000+((F97+S97)-(G97+R97))/10000+(F97+S97)/100000+(S97)/1000000)))","v":false},{"$f":"IF(AU88=3,IF(AU89=3,SUM(AV88*1000+(BC88)/10+(BA88)/100+(BJ98)/1000+((F98+S98)-(G98+R98))/10000+(F98+S98)/100000+(S98)/1000000)))","v":false},{"$f":"IF(AU89=3,IF(AU88=3,SUM(AV89*1000+(BC89)/10+(BA89)/100+(BK98)/1000+((G98+R98)-(F98+S98))/10000+(G98+R98)/100000+(G98)/1000000)))","v":false},{"$f":"IF(AU84=4,IF(AU89=4,SUM(AV84*1000+(BC84)/10+(BA84)/100+(BJ88)/1000+((F88+S88)-(G88+R88))/10000+(F88+S88)/100000+(S88)/1000000)))","v":false},{"$f":"IF(AU85=4,IF(AU89=4,SUM(AV85*1000+(BC85)/10+(BA85)/100+(BJ92)/1000+((F92+S92)-(G92+R92))/10000+(F92+S92)/100000+(S92)/1000000)))","v":false},{"$f":"IF(AU86=4,IF(AU89=4,SUM(AV86*1000+(BC86)/10+(BA86)/100+(BJ95)/1000+((F95+S95)-(G95+R95))/10000+(F95+S95)/100000+(S95)/1000000)))","v":false},{"$f":"IF(AU87=4,IF(AU89=4,SUM(AV87*1000+(BC87)/10+(BA87)/100+(BJ97)/1000+((F97+S97)-(G97+R97))/10000+(F97+S97)/100000+(S97)/1000000)))","v":false},{"$f":"IF(AU88=4,IF(AU89=4,SUM(AV88*1000+(BC88)/10+(BA88)/100+(BJ98)/1000+((F98+S98)-(G98+R98))/10000+(F98+S98)/100000+(S98)/1000000)))","v":false},{"$f":"IF(AU89=4,IF(AU88=4,SUM(AV89*1000+(BC89)/10+(BA89)/100+(BK98)/1000+((G98+R98)-(F98+S98))/10000+(G98+R98)/100000+(G98)/1000000)))","v":false},{"$f":"IF(AU84=5,IF(AU89=5,SUM(AV84*1000+(BC84)/10+(BA84)/100+(BJ88)/1000+((F88+S88)-(G88+R88))/10000+(F88+S88)/100000+(S88)/1000000)))","v":false},{"$f":"IF(AU85=5,IF(AU89=5,SUM(AV85*1000+(BC85)/10+(BA85)/100+(BJ92)/1000+((F92+S92)-(G92+R92))/10000+(F92+S92)/100000+(S92)/1000000)))","v":false},{"$f":"IF(AU86=5,IF(AU89=5,SUM(AV86*1000+(BC86)/10+(BA86)/100+(BJ95)/1000+((F95+S95)-(G95+R95))/10000+(F95+S95)/100000+(S95)/1000000)))","v":false},{"$f":"IF(AU87=5,IF(AU89=5,SUM(AV87*1000+(BC87)/10+(BA87)/100+(BJ97)/1000+((F97+S97)-(G97+R97))/10000+(F97+S97)/100000+(S97)/1000000)))","v":false},{"$f":"IF(AU88=5,IF(AU89=5,SUM(AV88*1000+(BC88)/10+(BA88)/100+(BJ98)/1000+((F98+S98)-(G98+R98))/10000+(F98+S98)/100000+(S98)/1000000)))","v":false},{"$f":"IF(AU89=5,IF(AU88=5,SUM(AV89*1000+(BC89)/10+(BA89)/100+(BK98)/1000+((G98+R98)-(F98+S98))/10000+(G98+R98)/100000+(G98)/1000000)))","v":false},{"$f":"IF(AU84=6,IF(AU89=6,SUM(AV84*1000+(BC84)/10+(BA84)/100+(BJ88)/1000+((F88+S88)-(G88+R88))/10000+(F88+S88)/100000+(S88)/1000000)))","v":false},{"$f":"IF(AU85=6,IF(AU89=6,SUM(AV85*1000+(BC85)/10+(BA85)/100+(BJ92)/1000+((F92+S92)-(G92+R92))/10000+(F92+S92)/100000+(S92)/1000000)))","v":false},{"$f":"IF(AU86=6,IF(AU89=6,SUM(AV86*1000+(BC86)/10+(BA86)/100+(BJ95)/1000+((F95+S95)-(G95+R95))/10000+(F95+S95)/100000+(S95)/1000000)))","v":false},{"$f":"IF(AU87=6,IF(AU89=6,SUM(AV87*1000+(BC87)/10+(BA87)/100+(BJ97)/1000+((F97+S97)-(G97+R97))/10000+(F97+S97)/100000+(S97)/1000000)))","v":false},{"$f":"IF(AU88=6,IF(AU89=6,SUM(AV88*1000+(BC88)/10+(BA88)/100+(BJ98)/1000+((F98+S98)-(G98+R98))/10000+(F98+S98)/100000+(S98)/1000000)))","v":false},{"$f":"IF(AU89=6,IF(AU88=6,SUM(AV89*1000+(BC89)/10+(BA89)/100+(BK98)/1000+((G98+R98)-(F98+S98))/10000+(G98+R98)/100000+(G98)/1000000)))","v":false}]
[{"$f":"AP85","v":"MONTÉNEGRO"},null,null,null,null,1,0,{"$f":"AP87","v":"ROUMANIE"},null,null,null,null,"ROUMANIE",null,null,null,null,1,1,"MONTÉNEGRO",null,null,null,null,null,null,null,null,null,null,null,null,null,null,null,null,null,null,null,null,null,null,null,null,null,null,null,null,null,null,null,null,null,null,null,null,null,3,0,1,1,4,1,1,1,1,1,1,false,false,false,false,false,1,1,false,1,false,false,1,0,1,1,2,1,0,1,1,1,1,2,{"$f":"SUM(CN84:CN89)","v":1000000},0,0,0,0,0,null,{"$f":"SUM(CU84:CU89)","v":0},0,800000,0,0,0,0,600000,0,0,0,0,0,0,0,400000,0,0,0,0,0,0,200000,0,0,0,0,0,0,100000]
[{"$f":"AP85","v":"MONTÉNEGRO"},null,null,null,null,4,1,{"$f":"AP88","v":"ARMÉNIE"},null,null,null,null,"ARMÉNIE",null,null,null,null,3,2,"MONTÉNEGRO",null,null,null,null,null,null,null,null,null,null,null,null,null,null,null,null,null,null,null,1,{"$f":"BA91","v":1},{"$f":"AP84","v":"POLOGNE"},null,null,null,null,{"$f":"SUM(CN90,CU90,DA90,DG90,DM90,DS90)","v":1000000},null,null,{"$f":"AU91+0.00000006","v":1000000.00000006},null,null,{"$f":"RANK(AX91,AX91:AZ96)","v":1},{"$f":"RANK(AU91,AU91:AW96)","v":1},null,null,null,3,0,3,0,3,3,1,1,1,1,1,false,1,false,false,false,false,false,false,1,false,1,4,1,3,2,6,4,1,4,2,3,4,6]
[{"$f":"AP85","v":"MONTÉNEGRO"},null,null,null,null,5,0,{"$f":"AP89","v":"KAZAKHSTAN"},null,null,null,null,"KAZAKHSTAN",null,null,null,null,0,3,"MONTÉNEGRO",null,null,null,null,null,null,null,null,null,null,null,null,null,null,null,null,null,null,null,2,{"$f":"BA92","v":3},{"$f":"AP85","v":"MONTÉNEGRO"},null,null,null,null,{"$f":"SUM(CO90,CV90,DB90,DH90,DN90,DT90)","v":600000},null,null,{"$f":"AU92+0.00000005","v":600000.00000004994},null,null,{"$f":"RANK(AX92,AX91:AZ96)","v":3},{"$f":"RANK(AU92,AU91:AW96)","v":3},null,null,null,3,0,0,3,6,0,1,1,1,1,1,false,false,1,false,false,false,false,false,1,1,false,5,0,0,3,8,0,0,5,3,0,0,8,{"$f":"VLOOKUP(AN91,AO91:AT96,2,0)","v":"POLOGNE"},null,null,null,null,null,{"$f":"VLOOKUP(CN92,AP91:AW96,6,0)","v":1000000},null,null,{"$f":"RANK(CT92,CT92:CV97)","v":1}]
[{"$f":"AP86","v":"DANEMARK"},null,null,null,null,1,1,{"$f":"AP87","v":"ROUMANIE"},null,null,null,null,"ROUMANIE",null,null,null,null,0,0,"DANEMARK",null,null,null,null,null,"ÉQUIPE QUALIFIÉE",null,null,null,{"$f":"Z84","v":"POLOGNE"},null,null,null,null,null,null,null,null,null,3,2,"DANEMARK",null,null,null,null,{"$f":"SUM(CP90,CW90,DC90,DI90,DO90,DU90)","v":800000},null,null,{"$f":"AU93+0.00000004","v":800000.00000004005},null,null,{"$f":"RANK(AX93,AX91:AZ96)","v":2},{"$f":"RANK(AU93,AU91:AW96)","v":2},null,null,null,1,1,1,1,2,2,1,1,1,1,false,false,false,false,1,1,1,1,false,false,false,false,1,1,0,0,1,1,1,1,0,0,1,1,{"$f":"VLOOKUP(AN92,AO91:AT96,2,0)","v":"DANEMARK"},null,null,null,null,null,{"$f":"VLOOKUP(CN93,AP91:AW96,6,0)","v":800000},null,null,{"$f":"RANK(CT93,CT92:CV97)","v":2}]
[{"$f":"AP86","v":"DANEMARK"},null,null,null,null,1,0,{"$f":"AP88","v":"ARMÉNIE"},null,null,null,null,"ARMÉNIE",null,null,null,null,1,4,"DANEMARK",null,null,null,null,null,null,null,null,null,null,null,null,null,null,null,null,null,null,null,4,4,"ROUMANIE",null,null,null,null,{"$f":"SUM(CQ90,CX90,DD90,DJ90,DP90,DV90)","v":400000},null,null,{"$f":"AU94+0.00000003","v":400000.00000002998},null,null,{"$f":"RANK(AX94,AX91:AZ96)","v":4},{"$f":"RANK(AU94,AU91:AW96)","v":4},null,null,null,3,0,0,3,6,0,1,1,1,1,1,false,false,1,false,false,false,false,false,1,1,false,1,0,1,4,5,1,0,1,4,1,1,5,{"$f":"VLOOKUP(AN93,AO91:AT96,2,0)","v":"MONTÉNEGRO"},null,null,null,null,null,{"$f":"VLOOKUP(CN94,AP91:AW96,6,0)","v":600000},null,null,{"$f":"RANK(CT94,CT92:CV97)","v":3}]
[{"$f":"AP86","v":"DANEMARK"},null,null,null,null,4,1,{"$f":"AP89","v":"KAZAKHSTAN"},null,null,null,null,"KAZAKHSTAN",null,null,null,null,1,3,"DANEMARK",null,null,null,null,null,null,null,null,null,null,null,null,null,null,null,null,null,null,null,5,5,"ARMÉNIE",null,null,null,null,{"$f":"SUM(CR90,CY90,DE90,DK90,DQ90,DW90)","v":200000},null,null,{"$f":"AU95+0.00000002","v":200000.00000001999},null,null,{"$f":"RANK(AX95,AX91:AZ96)","v":5},{"$f":"RANK(AU95,AU91:AW96)","v":5},null,null,null,3,0,0,3,6,0,1,1,1,1,1,false,false,1,false,false,false,false,false,1,1,false,4,1,1,3,7,2,1,4,3,1,2,7,{"$f":"VLOOKUP(AN94,AO91:AT96,2,0)","v":"ROUMANIE"},null,null,null,null,null,{"$f":"VLOOKUP(CN95,AP91:AW96,6,0)","v":400000},null,null,{"$f":"RANK(CT95,CT92:CV97)","v":4}]
[{"$f":"AP87","v":"ROUMANIE"},null,null,null,null,1,0,{"$f":"AP88","v":"ARMÉNIE"},null,null,null,null,"ARMÉNIE",null,null,null,null,0,5,"ROUMANIE",null,null,null,null,null,"BARRAGE",null,null,null,{"$f":"IF(M186=9,\"\",D186)","v":"DANEMARK"},null,null,null,null,null,null,null,null,null,6,6,"KAZAKHSTAN",null,null,null,null,{"$f":"SUM(CS90,CZ90,DF90,DL90,DR90,DX90)","v":100000},null,null,{"$f":"AU96+0.00000001","v":100000.00000001},null,null,{"$f":"RANK(AX96,AX91:AZ96)","v":6},{"$f":"RANK(AU96,AU91:AW96)","v":6},null,null,null,3,0,0,3,6,0,1,1,1,1,1,false,false,1,false,false,false,false,false,1,1,false,1,0,0,5,6,0,0,1,5,0,0,6,{"$f":"VLOOKUP(AN95,AO91:AT96,2,0)","v":"ARMÉNIE"},null,null,null,null,null,{"$f":"VLOOKUP(CN96,AP91:AW96,6,0)","v":200000},null,null,{"$f":"RANK(CT96,CT92:CV97)","v":5}]
[{"$f":"AP87","v":"ROUMANIE"},null,null,null,null,3,1,{"$f":"AP89","v":"KAZAKHSTAN"},null,null,null,null,"KAZAKHSTAN",null,null,null,null,0,0,"ROUMANIE",null,null,null,null,null,null,null,null,null,null,null,null,null,null,null,null,null,null,null,null,null,null,null,null,null,null,null,null,null,null,null,null,null,null,null,null,null,3,0,1,1,4,1,1,1,1,1,1,false,false,false,false,false,1,1,false,1,false,false,3,1,0,0,3,1,1,3,0,0,1,3,{"$f":"VLOOKUP(AN96,AO91:AT96,2,0)","v":"KAZAKHSTAN"},null,null,null,null,null,{"$f":"VLOOKUP(CN97,AP91:AW96,6,0)","v":100000},null,null,{"$f":"RANK(CT97,CT92:CV97)","v":6}]
[{"$f":"AP88","v":"ARMÉNIE"},null,null,null,null,2,0,{"$f":"AP89","v":"KAZAKHSTAN"},null,null,null,null,"KAZAKHSTAN",null,null,null,null,1,1,"ARMÉNIE",null,null,null,null,null,null,null,null,null,null,null,null,null,null,null,null,null,null,null,null,null,null,null,null,null,null,null,null,null,null,null,null,null,null,null,null,null,3,0,1,1,4,1,1,1,1,1,1,false,false,false,false,false,1,1,false,1,false,false,2,0,1,1,3,1,0,2,1,1,1,3]
[]
[]
["MATCHS  ALLER",null,null,null,null,null,null,null,null,"GROUPE  F",null,null,null,null,null,"MATCHS  RETOUR",null,null,null,null,null,null,null,null,"GROUPE  F","CLASSEMENT",null,null,null,null,null,null,null,null,null,null,null,null,null,null,null,"CLASSEMENT"]
[]
["Équipes",null,null,null,null,"Bts","Bts","Équipes",null,null,null,null,"Équipes",null,null,null,null,"Bts","Bts","Équipes",null,null,null,null,null,"Équipes",null,null,null,null,"R","Pts","J","G","N","P","B +","B -","Diff",null,null,"Équipes",null,null,null,null,"R","Pts","J","G","N","P","B +","B -","Diff",null,null,"pts","pts","pts","pts","t pts","t pts","j","j","j","j","g","g","g","g","n","n","n","n","p","p","p","p","b+","b+","b+","b+","b+","b+","b-","b-","b-","b-","b-","b-",{"$f":"AP104","v":"ANGLETERRE"},{"$f":"AP105","v":"SLOVAQUIE"},{"$f":"AP106","v":"SLOVÉNIE"},{"$f":"AP107","v":"ECOSSE"},{"$f":"AP108","v":"LITUANIE"},{"$f":"AP109","v":"MALTE"},null,{"$f":"CN103","v":"ANGLETERRE"},{"$f":"CO103","v":"SLOVAQUIE"},{"$f":"CP103","v":"SLOVÉNIE"},{"$f":"CQ103","v":"ECOSSE"},{"$f":"CR103","v":"LITUANIE"},{"$f":"CS103","v":"MALTE"},{"$f":"CN103","v":"ANGLETERRE"},{"$f":"CO103","v":"SLOVAQUIE"},{"$f":"CP103","v":"SLOVÉNIE"},{"$f":"CQ103","v":"ECOSSE"},{"$f":"CR103","v":"LITUANIE"},{"$f":"CS103","v":"MALTE"},{"$f":"CN103","v":"ANGLETERRE"},{"$f":"CO103","v":"SLOVAQUIE"},{"$f":"CP103","v":"SLOVÉNIE"},{"$f":"CQ103","v":"ECOSSE"},{"$f":"CR103","v":"LITUANIE"},{"$f":"CS103","v":"MALTE"},{"$f":"CN103","v":"ANGLETERRE"},{"$f":"CO103","v":"SLOVAQUIE"},{"$f":"CP103","v":"SLOVÉNIE"},{"$f":"CQ103","v":"ECOSSE"},{"$f":"CR103","v":"LITUANIE"},{"$f":"CS103","v":"MALTE"},{"$f":"CN103","v":"ANGLETERRE"},{"$f":"CO103","v":"SLOVAQUIE"},{"$f":"CP103","v":"SLOVÉNIE"},{"$f":"CQ103","v":"ECOSSE"},{"$f":"CR103","v":"LITUANIE"},{"$f":"CS103","v":"MALTE"}]
[{"$f":"AP104","v":"ANGLETERRE"},null,null,null,null,2,1,{"$f":"AP105","v":"SLOVAQUIE"},null,null,null,null,{"$f":"H104","v":"SLOVAQUIE"},null,null,null,null,0,1,{"$f":"A104","v":"ANGLETERRE"},null,null,null,null,null,{"$f":"VLOOKUP(AN111,AO111:AT116,2,0)","v":"ANGLETERRE"},null,null,null,null,1,{"$f":"VLOOKUP(Z104,AP104:BC109,7,0)","v":26},{"$f":"VLOOKUP(Z104,AP104:BC109,8,0)","v":10},{"$f":"VLOOKUP(Z104,AP104:BC109,9,0)","v":8},{"$f":"VLOOKUP(Z104,AP104:BC109,10,0)","v":2},{"$f":"VLOOKUP(Z104,AP104:BC109,11,0)","v":0},{"$f":"VLOOKUP(Z104,AP104:BC109,12,0)","v":18},{"$f":"VLOOKUP(Z104,AP104:BC109,13,0)","v":3},{"$f":"VLOOKUP(Z104,AP104:BC109,14,0)","v":15},null,null,"ANGLETERRE",null,null,null,null,{"$f":"RANK(AV104,AV104:AV109)","v":1},{"$f":"SUMPRODUCT((A104:E118=AP104)*(BF104:BF118))+SUMPRODUCT((H104:L118=AP104)*(BG104:BG118))+SUMPRODUCT((M104:Q118=AP104)*(BH104:BH118))+SUMPRODUCT((T104:X118=AP104)*(BI104:BI118))","v":26},{"$f":"SUMPRODUCT((A104:E118=AP104)*(BL104:BL118))+SUMPRODUCT((H104:L118=AP104)*(BM104:BM118))+SUMPRODUCT((M104:Q118=AP104)*(BN104:BN118))+SUMPRODUCT((T104:X118=AP104)*(BO104:BO118))","v":10},{"$f":"SUMPRODUCT((A104:E118=AP104)*(BP104:BP118))+SUMPRODUCT((H104:L118=AP104)*(BQ104:BQ118))+SUMPRODUCT((M104:Q118=AP104)*(BR104:BR118))+SUMPRODUCT((T104:X118=AP104)*(BS104:BS118))","v":8},{"$f":"SUMPRODUCT((A104:E118=AP104)*(BT104:BT118))+SUMPRODUCT((H104:L118=AP104)*(BU104:BU118))+SUMPRODUCT((M104:Q118=AP104)*(BV104:BV118))+SUMPRODUCT((T104:X118=AP104)*(BW104:BW118))","v":2},{"$f":"SUMPRODUCT((A104:E118=AP104)*(BX104:BX118))+SUMPRODUCT((H104:L118=AP104)*(BY104:BY118))+SUMPRODUCT((M104:Q118=AP104)*(BZ104:BZ118))+SUMPRODUCT((T104:X118=AP104)*(CA104:CA118))","v":0},{"$f":"SUMPRODUCT((A104:E118=AP104)*(CB104:CB118))+SUMPRODUCT((H104:L118=AP104)*(CC104:CC118))+SUMPRODUCT((M104:Q118=AP104)*(CD104:CD118))+SUMPRODUCT((T104:X118=AP104)*(CE104:CE118))","v":18},{"$f":"SUMPRODUCT((A104:E118=AP104)*(CH104:CH118))+SUMPRODUCT((H104:L118=AP104)*(CI104:CI118))+SUMPRODUCT((M104:Q118=AP104)*(CJ104:CJ118))+SUMPRODUCT((T104:X118=AP104)*(CK104:CK118))","v":3},{"$f":"BA104-BB104","v":15},null,null,{"$f":"IF(F104=\"\",0,IF(F104>G104,3,IF(F104=G104,1,IF(F104<G104,0))))","v":3},{"$f":"IF(G104=\"\",0,IF(G104>F104,3,IF(G104=F104,1,IF(G104<F104,0))))","v":0},{"$f":"IF(R104=\"\",0,IF(R104>S104,3,IF(R104=S104,1,IF(R104<S104,0))))","v":0},{"$f":"IF(S104=\"\",0,IF(S104>R104,3,IF(S104=R104,1,IF(S104<R104,0))))","v":3},{"$f":"BF104+BI104","v":6},{"$f":"BG104+BH104","v":0},{"$f":"IF(F104=\"\",0,1)","v":1},{"$f":"IF(G104=\"\",0,1)","v":1},{"$f":"IF(R104=\"\",0,1)","v":1},{"$f":"IF(S104=\"\",0,1)","v":1},{"$f":"IF(F104<>\"\",IF(F104>G104,1))","v":1},{"$f":"IF(G104<>\"\",IF(G104>F104,1))","v":false},{"$f":"IF(R104<>\"\",IF(R104>S104,1))","v":false},{"$f":"IF(S104<>\"\",IF(S104>R104,1))","v":1},{"$f":"IF(F104<>\"\",IF(F104=G104,1))","v":false},{"$f":"IF(G104<>\"\",IF(G104=F104,1))","v":false},{"$f":"IF(R104<>\"\",IF(R104=S104,1))","v":false},{"$f":"IF(S104<>\"\",IF(S104=R104,1))","v":false},{"$f":"IF(F104<>\"\",IF(F104<G104,1))","v":false},{"$f":"IF(G104<>\"\",IF(G104<F104,1))","v":1},{"$f":"IF(R104<>\"\",IF(R104<S104,1))","v":1},{"$f":"IF(S104<>\"\",IF(S104<R104,1))","v":false},{"$f":"F104","v":2},{"$f":"G104","v":1},{"$f":"R104","v":0},{"$f":"S104","v":1},{"$f":"CB104+CE104","v":3},{"$f":"CC104+CD104","v":1},{"$f":"G104","v":1},{"$f":"F104","v":2},{"$f":"S104","v":1},{"$f":"R104","v":0},{"$f":"CH104+CK104","v":1},{"$f":"CI104+CJ104","v":3},{"$f":"IF(AU104=1,1000000)","v":1000000},{"$f":"IF(AU105=1,1000000)","v":false},{"$f":"IF(AU106=1,1000000)","v":false},{"$f":"IF(AU107=1,1000000)","v":false},{"$f":"IF(AU108=1,1000000)","v":false},{"$f":"IF(AU109=1,1000000)","v":false},null,{"$f":"IF(AU104=2,800000)","v":false},{"$f":"IF(AU105=2,800000)","v":800000},{"$f":"IF(AU106=2,800000)","v":false},{"$f":"IF(AU107=2,800000)","v":800000},{"$f":"IF(AU108=2,800000)","v":false},{"$f":"IF(AU109=2,800000)","v":false},{"$f":"IF(AU104=3,600000)","v":false},{"$f":"IF(AU105=3,600000)","v":false},{"$f":"IF(AU106=3,600000)","v":false},{"$f":"IF(AU107=3,600000)","v":false},{"$f":"IF(AU108=3,600000)","v":false},{"$f":"IF(AU109=3,600000)","v":false},{"$f":"IF(AU104=4,400000)","v":false},{"$f":"IF(AU105=4,400000)","v":false},{"$f":"IF(AU106=4,400000)","v":400000},{"$f":"IF(AU107=4,400000)","v":false},{"$f":"IF(AU108=4,400000)","v":false},{"$f":"IF(AU109=4,400000)","v":false},{"$f":"IF(AU104=5,200000)","v":false},{"$f":"IF(AU105=5,200000)","v":false},{"$f":"IF(AU106=5,200000)","v":false},{"$f":"IF(AU107=5,200000)","v":false},{"$f":"IF(AU108=5,200000)","v":200000},{"$f":"IF(AU109=5,200000)","v":false},{"$f":"IF(AU104=6,100000)","v":false},{"$f":"IF(AU105=6,100000)","v":false},{"$f":"IF(AU106=6,100000)","v":false},{"$f":"IF(AU107=6,100000)","v":false},{"$f":"IF(AU108=6,100000)","v":false},{"$f":"IF(AU109=6,100000)","v":100000}]
[{"$f":"AP104","v":"ANGLETERRE"},null,null,null,null,1,0,{"$f":"AP106","v":"SLOVÉNIE"},null,null,null,null,{"$f":"H105","v":"SLOVÉNIE"},null,null,null,null,0,0,{"$f":"A105","v":"ANGLETERRE"},null,null,null,null,null,{"$f":"VLOOKUP(AN112,AO111:AT116,2,0)","v":"SLOVAQUIE"},null,null,null,null,{"$f":"IF(CT113=CT112,CW112,CW113)","v":2},{"$f":"VLOOKUP(Z105,AP104:BC109,7,0)","v":18},{"$f":"VLOOKUP(Z105,AP104:BC109,8,0)","v":10},{"$f":"VLOOKUP(Z105,AP104:BC109,9,0)","v":6},{"$f":"VLOOKUP(Z105,AP104:BC109,10,0)","v":0},{"$f":"VLOOKUP(Z105,AP104:BC109,11,0)","v":4},{"$f":"VLOOKUP(Z105,AP104:BC109,12,0)","v":17},{"$f":"VLOOKUP(Z105,AP104:BC109,13,0)","v":7},{"$f":"VLOOKUP(Z105,AP104:BC109,14,0)","v":10},null,null,"SLOVAQUIE",null,null,null,null,{"$f":"RANK(AV105,AV104:AV109)","v":2},{"$f":"SUMPRODUCT((A104:E118=AP105)*(BF104:BF118))+SUMPRODUCT((H104:L118=AP105)*(BG104:BG118))+SUMPRODUCT((M104:Q118=AP105)*(BH104:BH118))+SUMPRODUCT((T104:X118=AP105)*(BI104:BI118))","v":18},{"$f":"SUMPRODUCT((A104:E118=AP105)*(BL104:BL118))+SUMPRODUCT((H104:L118=AP105)*(BM104:BM118))+SUMPRODUCT((M104:Q118=AP105)*(BN104:BN118))+SUMPRODUCT((T104:X118=AP105)*(BO104:BO118))","v":10},{"$f":"SUMPRODUCT((A104:E118=AP105)*(BP104:BP118))+SUMPRODUCT((H104:L118=AP105)*(BQ104:BQ118))+SUMPRODUCT((M104:Q118=AP105)*(BR104:BR118))+SUMPRODUCT((T104:X118=AP105)*(BS104:BS118))","v":6},{"$f":"SUMPRODUCT((A104:E118=AP105)*(BT104:BT118))+SUMPRODUCT((H104:L118=AP105)*(BU104:BU118))+SUMPRODUCT((M104:Q118=AP105)*(BV104:BV118))+SUMPRODUCT((T104:X118=AP105)*(BW104:BW118))","v":0},{"$f":"SUMPRODUCT((A104:E118=AP105)*(BX104:BX118))+SUMPRODUCT((H104:L118=AP105)*(BY104:BY118))+SUMPRODUCT((M104:Q118=AP105)*(BZ104:BZ118))+SUMPRODUCT((T104:X118=AP105)*(CA104:CA118))","v":4},{"$f":"SUMPRODUCT((A104:E118=AP105)*(CB104:CB118))+SUMPRODUCT((H104:L118=AP105)*(CC104:CC118))+SUMPRODUCT((M104:Q118=AP105)*(CD104:CD118))+SUMPRODUCT((T104:X118=AP105)*(CE104:CE118))","v":17},{"$f":"SUMPRODUCT((A104:E118=AP105)*(CH104:CH118))+SUMPRODUCT((H104:L118=AP105)*(CI104:CI118))+SUMPRODUCT((M104:Q118=AP105)*(CJ104:CJ118))+SUMPRODUCT((T104:X118=AP105)*(CK104:CK118))","v":7},{"$f":"BA105-BB105","v":10},null,null,{"$f":"IF(F105=\"\",0,IF(F105>G105,3,IF(F105=G105,1,IF(F105<G105,0))))","v":3},{"$f":"IF(G105=\"\",0,IF(G105>F105,3,IF(G105=F105,1,IF(G105<F105,0))))","v":0},{"$f":"IF(R105=\"\",0,IF(R105>S105,3,IF(R105=S105,1,IF(R105<S105,0))))","v":1},{"$f":"IF(S105=\"\",0,IF(S105>R105,3,IF(S105=R105,1,IF(S105<R105,0))))","v":1},{"$f":"BF105+BI105","v":4},{"$f":"BG105+BH105","v":1},{"$f":"IF(F105=\"\",0,1)","v":1},{"$f":"IF(G105=\"\",0,1)","v":1},{"$f":"IF(R105=\"\",0,1)","v":1},{"$f":"IF(S105=\"\",0,1)","v":1},{"$f":"IF(F105<>\"\",IF(F105>G105,1))","v":1},{"$f":"IF(G105<>\"\",IF(G105>F105,1))","v":false},{"$f":"IF(R105<>\"\",IF(R105>S105,1))","v":false},{"$f":"IF(S105<>\"\",IF(S105>R105,1))","v":false},{"$f":"IF(F105<>\"\",IF(F105=G105,1))","v":false},{"$f":"IF(G105<>\"\",IF(G105=F105,1))","v":false},{"$f":"IF(R105<>\"\",IF(R105=S105,1))","v":1},{"$f":"IF(S105<>\"\",IF(S105=R105,1))","v":1},{"$f":"IF(F105<>\"\",IF(F105<G105,1))","v":false},{"$f":"IF(G105<>\"\",IF(G105<F105,1))","v":1},{"$f":"IF(R105<>\"\",IF(R105<S105,1))","v":false},{"$f":"IF(S105<>\"\",IF(S105<R105,1))","v":false},{"$f":"F105","v":1},{"$f":"G105","v":0},{"$f":"R105","v":0},{"$f":"S105","v":0},{"$f":"CB105+CE105","v":1},{"$f":"CC105+CD105","v":0},{"$f":"G105","v":0},{"$f":"F105","v":1},{"$f":"S105","v":0},{"$f":"R105","v":0},{"$f":"CH105+CK105","v":0},{"$f":"CI105+CJ105","v":1},{"$f":"IF(AU104=1,IF(AU105=1,SUM(AV104*1000+(BC104)/10+(BA104)/100+(BJ104)/1000+((F104+S104)-(G104+R104))/10000+(F104+S104)/100000+(S104)/1000000)))","v":false},{"$f":"IF(AU105=1,IF(AU104=1,SUM(AV105*1000+(BC105)/10+(BA105)/100+(BK104)/1000+((G104+R104)-(F104+S104))/10000+(G104+R104)/100000+(G104)/1000000)))","v":false},{"$f":"IF(AU106=1,IF(AU104=1,SUM(AV106*1000+(BC106)/10+(BA106)/100+(BK105)/1000+((G105+R105)-(F105+S105))/10000+(G105+R105)/100000+(G105)/1000000)))","v":false},{"$f":"IF(AU107=1,IF(AU104=1,SUM(AV107*1000+(BC107)/10+(BA107)/100+(BK106)/1000+((G106+R106)-(F106+S106))/10000+(G106+R106)/100000+(G106)/1000000)))","v":false},{"$f":"IF(AU108=1,IF(AU104=1,SUM(AV108*1000+(BC108)/10+(BA108)/100+(BK107)/1000+((G107+R107)-(F107+S107))/10000+(G107+R107)/100000+(G107)/1000000)))","v":false},{"$f":"IF(AU109=1,IF(AU104=1,SUM(AV109*1000+(BC109)/10+(BA109)/100+(BK108)/1000+((G108+R108)-(F108+S108))/10000+(G108+R108)/100000+(G108)/1000000)))","v":false},null,{"$f":"IF(AU104=2,IF(AU105=2,SUM(AV104*1000+(BC104)/10+(BA104)/100+(BJ104)/1000+((F104+S104)-(G104+R104))/10000+(F104+S104)/100000+(S104)/1000000)))","v":false},{"$f":"IF(AU105=2,IF(AU104=2,SUM(AV105*1000+(BC105)/10+(BA105)/100+(BK104)/1000+((G104+R104)-(F104+S104))/10000+(G104+R104)/100000+(G104)/1000000)))","v":false},{"$f":"IF(AU106=2,IF(AU104=2,SUM(AV106*1000+(BC106)/10+(BA106)/100+(BK105)/1000+((G105+R105)-(F105+S105))/10000+(G105+R105)/100000+(G105)/1000000)))","v":false},{"$f":"IF(AU107=2,IF(AU104=2,SUM(AV107*1000+(BC107)/10+(BA107)/100+(BK106)/1000+((G106+R106)-(F106+S106))/10000+(G106+R106)/100000+(G106)/1000000)))","v":false},{"$f":"IF(AU108=2,IF(AU104=2,SUM(AV108*1000+(BC108)/10+(BA108)/100+(BK107)/1000+((G107+R107)-(F107+S107))/10000+(G107+R107)/100000+(G107)/1000000)))","v":false},{"$f":"IF(AU109=2,IF(AU104=2,SUM(AV109*1000+(BC109)/10+(BA109)/100+(BK108)/1000+((G108+R108)-(F108+S108))/10000+(G108+R108)/100000+(G108)/1000000)))","v":false},{"$f":"IF(AU104=3,IF(AU105=3,SUM(AV104*1000+(BC104)/10+(BA104)/100+(BJ104)/1000+((F104+S104)-(G104+R104))/10000+(F104+S104)/100000+(S104)/1000000)))","v":false},{"$f":"IF(AU105=3,IF(AU104=3,SUM(AV105*1000+(BC105)/10+(BA105)/100+(BK104)/1000+((G104+R104)-(F104+S104))/10000+(G104+R104)/100000+(G104)/1000000)))","v":false},{"$f":"IF(AU106=3,IF(AU104=3,SUM(AV106*1000+(BC106)/10+(BA106)/100+(BK105)/1000+((G105+R105)-(F105+S105))/10000+(G105+R105)/100000+(G105)/1000000)))","v":false},{"$f":"IF(AU107=3,IF(AU104=3,SUM(AV107*1000+(BC107)/10+(BA107)/100+(BK106)/1000+((G106+R106)-(F106+S106))/10000+(G106+R106)/100000+(G106)/1000000)))","v":false},{"$f":"IF(AU108=3,IF(AU104=3,SUM(AV108*1000+(BC108)/10+(BA108)/100+(BK107)/1000+((G107+R107)-(F107+S107))/10000+(G107+R107)/100000+(G107)/1000000)))","v":false},{"$f":"IF(AU109=3,IF(AU104=3,SUM(AV109*1000+(BC109)/10+(BA109)/100+(BK108)/1000+((G108+R108)-(F108+S108))/10000+(G108+R108)/100000+(G108)/1000000)))","v":false},{"$f":"IF(AU104=4,IF(AU105=4,SUM(AV104*1000+(BC104)/10+(BA104)/100+(BJ104)/1000+((F104+S104)-(G104+R104))/10000+(F104+S104)/100000+(S104)/1000000)))","v":false},{"$f":"IF(AU105=4,IF(AU104=4,SUM(AV105*1000+(BC105)/10+(BA105)/100+(BK104)/1000+((G104+R104)-(F104+S104))/10000+(G104+R104)/100000+(G104)/1000000)))","v":false},{"$f":"IF(AU106=4,IF(AU104=4,SUM(AV106*1000+(BC106)/10+(BA106)/100+(BK105)/1000+((G105+R105)-(F105+S105))/10000+(G105+R105)/100000+(G105)/1000000)))","v":false},{"$f":"IF(AU107=4,IF(AU104=4,SUM(AV107*1000+(BC107)/10+(BA107)/100+(BK106)/1000+((G106+R106)-(F106+S106))/10000+(G106+R106)/100000+(G106)/1000000)))","v":false},{"$f":"IF(AU108=4,IF(AU104=4,SUM(AV108*1000+(BC108)/10+(BA108)/100+(BK107)/1000+((G107+R107)-(F107+S107))/10000+(G107+R107)/100000+(G107)/1000000)))","v":false},{"$f":"IF(AU109=4,IF(AU104=4,SUM(AV109*1000+(BC109)/10+(BA109)/100+(BK108)/1000+((G108+R108)-(F108+S108))/10000+(G108+R108)/100000+(G108)/1000000)))","v":false},{"$f":"IF(AU104=5,IF(AU105=5,SUM(AV104*1000+(BC104)/10+(BA104)/100+(BJ104)/1000+((F104+S104)-(G104+R104))/10000+(F104+S104)/100000+(S104)/1000000)))","v":false},{"$f":"IF(AU105=5,IF(AU104=5,SUM(AV105*1000+(BC105)/10+(BA105)/100+(BK104)/1000+((G104+R104)-(F104+S104))/10000+(G104+R104)/100000+(G104)/1000000)))","v":false},{"$f":"IF(AU106=5,IF(AU104=5,SUM(AV106*1000+(BC106)/10+(BA106)/100+(BK105)/1000+((G105+R105)-(F105+S105))/10000+(G105+R105)/100000+(G105)/1000000)))","v":false},{"$f":"IF(AU107=5,IF(AU104=5,SUM(AV107*1000+(BC107)/10+(BA107)/100+(BK106)/1000+((G106+R106)-(F106+S106))/10000+(G106+R106)/100000+(G106)/1000000)))","v":false},{"$f":"IF(AU108=5,IF(AU104=5,SUM(AV108*1000+(BC108)/10+(BA108)/100+(BK107)/1000+((G107+R107)-(F107+S107))/10000+(G107+R107)/100000+(G107)/1000000)))","v":false},{"$f":"IF(AU109=5,IF(AU104=5,SUM(AV109*1000+(BC109)/10+(BA109)/100+(BK108)/1000+((G108+R108)-(F108+S108))/10000+(G108+R108)/100000+(G108)/1000000)))","v":false},{"$f":"IF(AU104=6,IF(AU105=6,SUM(AV104*1000+(BC104)/10+(BA104)/100+(BJ104)/1000+((F104+S104)-(G104+R104))/10000+(F104+S104)/100000+(S104)/1000000)))","v":false},{"$f":"IF(AU105=6,IF(AU104=6,SUM(AV105*1000+(BC105)/10+(BA105)/100+(BK104)/1000+((G104+R104)-(F104+S104))/10000+(G104+R104)/100000+(G104)/1000000)))","v":false},{"$f":"IF(AU106=6,IF(AU104=6,SUM(AV106*1000+(BC106)/10+(BA106)/100+(BK105)/1000+((G105+R105)-(F105+S105))/10000+(G105+R105)/100000+(G105)/1000000)))","v":false},{"$f":"IF(AU107=6,IF(AU104=6,SUM(AV107*1000+(BC107)/10+(BA107)/100+(BK106)/1000+((G106+R106)-(F106+S106))/10000+(G106+R106)/100000+(G106)/1000000)))","v":false},{"$f":"IF(AU108=6,IF(AU104=6,SUM(AV108*1000+(BC108)/10+(BA108)/100+(BK107)/1000+((G107+R107)-(F107+S107))/10000+(G107+R107)/100000+(G107)/1000000)))","v":false},{"$f":"IF(AU109=6,IF(AU104=6,SUM(AV109*1000+(BC109)/10+(BA109)/100+(BK108)/1000+((G108+R108)-(F108+S108))/10000+(G108+R108)/100000+(G108)/1000000)))","v":false}]
[{"$f":"AP104","v":"ANGLETERRE"},null,null,null,null,3,0,{"$f":"AP107","v":"ECOSSE"},null,null,null,null,"ECOSSE",null,null,null,null,2,2,"ANGLETERRE",null,null,null,null,null,{"$f":"VLOOKUP(AN113,AO111:AT116,2,0)","v":"ECOSSE"},null,null,null,null,{"$f":"IF(CT114=CT113,CW113,CW114)","v":3},{"$f":"VLOOKUP(Z106,AP104:BC109,7,0)","v":18},{"$f":"VLOOKUP(Z106,AP104:BC109,8,0)","v":10},{"$f":"VLOOKUP(Z106,AP104:BC109,9,0)","v":5},{"$f":"VLOOKUP(Z106,AP104:BC109,10,0)","v":3},{"$f":"VLOOKUP(Z106,AP104:BC109,11,0)","v":2},{"$f":"VLOOKUP(Z106,AP104:BC109,12,0)","v":17},{"$f":"VLOOKUP(Z106,AP104:BC109,13,0)","v":12},{"$f":"VLOOKUP(Z106,AP104:BC109,14,0)","v":5},null,null,"SLOVÉNIE",null,null,null,null,{"$f":"RANK(AV106,AV104:AV109)","v":4},{"$f":"SUMPRODUCT((A104:E118=AP106)*(BF104:BF118))+SUMPRODUCT((H104:L118=AP106)*(BG104:BG118))+SUMPRODUCT((M104:Q118=AP106)*(BH104:BH118))+SUMPRODUCT((T104:X118=AP106)*(BI104:BI118))","v":15},{"$f":"SUMPRODUCT((A104:E118=AP106)*(BL104:BL118))+SUMPRODUCT((H104:L118=AP106)*(BM104:BM118))+SUMPRODUCT((M104:Q118=AP106)*(BN104:BN118))+SUMPRODUCT((T104:X118=AP106)*(BO104:BO118))","v":10},{"$f":"SUMPRODUCT((A104:E118=AP106)*(BP104:BP118))+SUMPRODUCT((H104:L118=AP106)*(BQ104:BQ118))+SUMPRODUCT((M104:Q118=AP106)*(BR104:BR118))+SUMPRODUCT((T104:X118=AP106)*(BS104:BS118))","v":4},{"$f":"SUMPRODUCT((A104:E118=AP106)*(BT104:BT118))+SUMPRODUCT((H104:L118=AP106)*(BU104:BU118))+SUMPRODUCT((M104:Q118=AP106)*(BV104:BV118))+SUMPRODUCT((T104:X118=AP106)*(BW104:BW118))","v":3},{"$f":"SUMPRODUCT((A104:E118=AP106)*(BX104:BX118))+SUMPRODUCT((H104:L118=AP106)*(BY104:BY118))+SUMPRODUCT((M104:Q118=AP106)*(BZ104:BZ118))+SUMPRODUCT((T104:X118=AP106)*(CA104:CA118))","v":3},{"$f":"SUMPRODUCT((A104:E118=AP106)*(CB104:CB118))+SUMPRODUCT((H104:L118=AP106)*(CC104:CC118))+SUMPRODUCT((M104:Q118=AP106)*(CD104:CD118))+SUMPRODUCT((T104:X118=AP106)*(CE104:CE118))","v":12},{"$f":"SUMPRODUCT((A104:E118=AP106)*(CH104:CH118))+SUMPRODUCT((H104:L118=AP106)*(CI104:CI118))+SUMPRODUCT((M104:Q118=AP106)*(CJ104:CJ118))+SUMPRODUCT((T104:X118=AP106)*(CK104:CK118))","v":7},5,null,null,3,0,1,1,4,1,1,1,1,1,1,false,false,false,false,false,1,1,false,1,false,false,3,0,2,2,5,2,0,3,2,2,2,5,{"$f":"IF(AU104=1,IF(AU106=1,SUM(AV104*1000+(BC104)/10+(BA104)/100+(BJ105)/1000+((F105+S105)-(G105+R105))/10000+(F105+S105)/100000+(S105)/1000000)))","v":false},{"$f":"IF(AU105=1,IF(AU106=1,SUM(AV105*1000+(BC105)/10+(BA105)/100+(BJ109)/1000+((F109+S109)-(G109+R109))/10000+(F109+S109)/100000+(S109)/1000000)))","v":false},{"$f":"IF(AU106=1,IF(AU105=1,SUM(AV106*1000+(BC106)/10+(BA106)/100+(BK109)/1000+((G109+R109)-(F109+S109))/10000+(G109+R109)/1000000+(G109)/1000000)))","v":false},{"$f":"IF(AU107=1,IF(AU105=1,SUM(AV107*1000+(BC107)/10+(BA107)/100+(BK110)/1000+((G110+R110)-(F110+S110))/10000+(G110+R110)/100000+(G110)/1000000)))","v":false},{"$f":"IF(AU108=1,IF(AU105=1,SUM(AV108*1000+(BC108)/10+(BA108)/100+(BK111)/1000+((G111+R111)-(F111+S111))/10000+(G111+R111)/100000+(G111)/1000000)))","v":false},{"$f":"IF(AU109=1,IF(AU105=1,SUM(AV109*1000+(BC109)/10+(BA109)/100+(BK112)/1000+((G112+R112)-(F112+S112))/10000+(G112+R112)/100000+(G112)/1000000)))","v":false},null,{"$f":"IF(AU104=2,IF(AU106=2,SUM(AV104*1000+(BC104)/10+(BA104)/100+(BJ105)/1000+((F105+S105)-(G105+R105))/10000+(F105+S105)/100000+(S105)/1000000)))","v":false},{"$f":"IF(AU105=2,IF(AU106=2,SUM(AV105*1000+(BC105)/10+(BA105)/100+(BJ109)/1000+((F109+S109)-(G109+R109))/10000+(F109+S109)/100000+(S109)/1000000)))","v":false},{"$f":"IF(AU106=2,IF(AU105=2,SUM(AV106*1000+(BC106)/10+(BA106)/100+(BK109)/1000+((G109+R109)-(F109+S109))/10000+(G109+R109)/1000000+(G109)/1000000)))","v":false},{"$f":"IF(AU107=2,IF(AU105=2,SUM(AV107*1000+(BC107)/10+(BA107)/100+(BK110)/1000+((G110+R110)-(F110+S110))/10000+(G110+R110)/100000+(G110)/1000000)))","v":18000.67281},{"$f":"IF(AU108=2,IF(AU105=2,SUM(AV108*1000+(BC108)/10+(BA108)/100+(BK111)/1000+((G111+R111)-(F111+S111))/10000+(G111+R111)/100000+(G111)/1000000)))","v":false},{"$f":"IF(AU109=2,IF(AU105=2,SUM(AV109*1000+(BC109)/10+(BA109)/100+(BK112)/1000+((G112+R112)-(F112+S112))/10000+(G112+R112)/100000+(G112)/1000000)))","v":false},{"$f":"IF(AU104=3,IF(AU106=3,SUM(AV104*1000+(BC104)/10+(BA104)/100+(BJ105)/1000+((F105+S105)-(G105+R105))/10000+(F105+S105)/100000+(S105)/1000000)))","v":false},{"$f":"IF(AU105=3,IF(AU106=3,SUM(AV105*1000+(BC105)/10+(BA105)/100+(BJ109)/1000+((F109+S109)-(G109+R109))/10000+(F109+S109)/100000+(S109)/1000000)))","v":false},{"$f":"IF(AU106=3,IF(AU105=3,SUM(AV106*1000+(BC106)/10+(BA106)/100+(BK109)/1000+((G109+R109)-(F109+S109))/10000+(G109+R109)/1000000+(G109)/1000000)))","v":false},{"$f":"IF(AU107=3,IF(AU105=3,SUM(AV107*1000+(BC107)/10+(BA107)/100+(BK110)/1000+((G110+R110)-(F110+S110))/10000+(G110+R110)/100000+(G110)/1000000)))","v":false},{"$f":"IF(AU108=3,IF(AU105=3,SUM(AV108*1000+(BC108)/10+(BA108)/100+(BK111)/1000+((G111+R111)-(F111+S111))/10000+(G111+R111)/100000+(G111)/1000000)))","v":false},{"$f":"IF(AU109=3,IF(AU105=3,SUM(AV109*1000+(BC109)/10+(BA109)/100+(BK112)/1000+((G112+R112)-(F112+S112))/10000+(G112+R112)/100000+(G112)/1000000)))","v":false},{"$f":"IF(AU104=4,IF(AU106=4,SUM(AV104*1000+(BC104)/10+(BA104)/100+(BJ105)/1000+((F105+S105)-(G105+R105))/10000+(F105+S105)/100000+(S105)/1000000)))","v":false},{"$f":"IF(AU105=4,IF(AU106=4,SUM(AV105*1000+(BC105)/10+(BA105)/100+(BJ109)/1000+((F109+S109)-(G109+R109))/10000+(F109+S109)/100000+(S109)/1000000)))","v":false},{"$f":"IF(AU106=4,IF(AU105=4,SUM(AV106*1000+(BC106)/10+(BA106)/100+(BK109)/1000+((G109+R109)-(F109+S109))/10000+(G109+R109)/1000000+(G109)/1000000)))","v":false},{"$f":"IF(AU107=4,IF(AU105=4,SUM(AV107*1000+(BC107)/10+(BA107)/100+(BK110)/1000+((G110+R110)-(F110+S110))/10000+(G110+R110)/100000+(G110)/1000000)))","v":false},{"$f":"IF(AU108=4,IF(AU105=4,SUM(AV108*1000+(BC108)/10+(BA108)/100+(BK111)/1000+((G111+R111)-(F111+S111))/10000+(G111+R111)/100000+(G111)/1000000)))","v":false},{"$f":"IF(AU109=4,IF(AU105=4,SUM(AV109*1000+(BC109)/10+(BA109)/100+(BK112)/1000+((G112+R112)-(F112+S112))/10000+(G112+R112)/100000+(G112)/1000000)))","v":false},{"$f":"IF(AU104=5,IF(AU106=5,SUM(AV104*1000+(BC104)/10+(BA104)/100+(BJ105)/1000+((F105+S105)-(G105+R105))/10000+(F105+S105)/100000+(S105)/1000000)))","v":false},{"$f":"IF(AU105=5,IF(AU106=5,SUM(AV105*1000+(BC105)/10+(BA105)/100+(BJ109)/1000+((F109+S109)-(G109+R109))/10000+(F109+S109)/100000+(S109)/1000000)))","v":false},{"$f":"IF(AU106=5,IF(AU105=5,SUM(AV106*1000+(BC106)/10+(BA106)/100+(BK109)/1000+((G109+R109)-(F109+S109))/10000+(G109+R109)/1000000+(G109)/1000000)))","v":false},{"$f":"IF(AU107=5,IF(AU105=5,SUM(AV107*1000+(BC107)/10+(BA107)/100+(BK110)/1000+((G110+R110)-(F110+S110))/10000+(G110+R110)/100000+(G110)/1000000)))","v":false},{"$f":"IF(AU108=5,IF(AU105=5,SUM(AV108*1000+(BC108)/10+(BA108)/100+(BK111)/1000+((G111+R111)-(F111+S111))/10000+(G111+R111)/100000+(G111)/1000000)))","v":false},{"$f":"IF(AU109=5,IF(AU105=5,SUM(AV109*1000+(BC109)/10+(BA109)/100+(BK112)/1000+((G112+R112)-(F112+S112))/10000+(G112+R112)/100000+(G112)/1000000)))","v":false},{"$f":"IF(AU104=6,IF(AU106=6,SUM(AV104*1000+(BC104)/10+(BA104)/100+(BJ105)/1000+((F105+S105)-(G105+R105))/10000+(F105+S105)/100000+(S105)/1000000)))","v":false},{"$f":"IF(AU105=6,IF(AU106=6,SUM(AV105*1000+(BC105)/10+(BA105)/100+(BJ109)/1000+((F109+S109)-(G109+R109))/10000+(F109+S109)/100000+(S109)/1000000)))","v":false},{"$f":"IF(AU106=6,IF(AU105=6,SUM(AV106*1000+(BC106)/10+(BA106)/100+(BK109)/1000+((G109+R109)-(F109+S109))/10000+(G109+R109)/1000000+(G109)/1000000)))","v":false},{"$f":"IF(AU107=6,IF(AU105=6,SUM(AV107*1000+(BC107)/10+(BA107)/100+(BK110)/1000+((G110+R110)-(F110+S110))/10000+(G110+R110)/100000+(G110)/1000000)))","v":false},{"$f":"IF(AU108=6,IF(AU105=6,SUM(AV108*1000+(BC108)/10+(BA108)/100+(BK111)/1000+((G111+R111)-(F111+S111))/10000+(G111+R111)/100000+(G111)/1000000)))","v":false},{"$f":"IF(AU109=6,IF(AU105=6,SUM(AV109*1000+(BC109)/10+(BA109)/100+(BK112)/1000+((G112+R112)-(F112+S112))/10000+(G112+R112)/100000+(G112)/1000000)))","v":false}]
[{"$f":"AP104","v":"ANGLETERRE"},null,null,null,null,2,0,{"$f":"AP108","v":"LITUANIE"},null,null,null,null,"LITUANIE",null,null,null,null,0,1,"ANGLETERRE",null,null,null,null,null,{"$f":"VLOOKUP(AN114,AO111:AT116,2,0)","v":"SLOVÉNIE"},null,null,null,null,4,{"$f":"VLOOKUP(Z107,AP104:BC109,7,0)","v":15},{"$f":"VLOOKUP(Z107,AP104:BC109,8,0)","v":10},{"$f":"VLOOKUP(Z107,AP104:BC109,9,0)","v":4},{"$f":"VLOOKUP(Z107,AP104:BC109,10,0)","v":3},{"$f":"VLOOKUP(Z107,AP104:BC109,11,0)","v":3},{"$f":"VLOOKUP(Z107,AP104:BC109,12,0)","v":12},{"$f":"VLOOKUP(Z107,AP104:BC109,13,0)","v":7},{"$f":"VLOOKUP(Z107,AP104:BC109,14,0)","v":5},null,null,"ECOSSE",null,null,null,null,{"$f":"RANK(AV107,AV104:AV109)","v":2},{"$f":"SUMPRODUCT((A104:E118=AP107)*(BF104:BF118))+SUMPRODUCT((H104:L118=AP107)*(BG104:BG118))+SUMPRODUCT((M104:Q118=AP107)*(BH104:BH118))+SUMPRODUCT((T104:X118=AP107)*(BI104:BI118))","v":18},{"$f":"SUMPRODUCT((A104:E118=AP107)*(BL104:BL118))+SUMPRODUCT((H104:L118=AP107)*(BM104:BM118))+SUMPRODUCT((M104:Q118=AP107)*(BN104:BN118))+SUMPRODUCT((T104:X118=AP107)*(BO104:BO118))","v":10},{"$f":"SUMPRODUCT((A104:E118=AP107)*(BP104:BP118))+SUMPRODUCT((H104:L118=AP107)*(BQ104:BQ118))+SUMPRODUCT((M104:Q118=AP107)*(BR104:BR118))+SUMPRODUCT((T104:X118=AP107)*(BS104:BS118))","v":5},{"$f":"SUMPRODUCT((A104:E118=AP107)*(BT104:BT118))+SUMPRODUCT((H104:L118=AP107)*(BU104:BU118))+SUMPRODUCT((M104:Q118=AP107)*(BV104:BV118))+SUMPRODUCT((T104:X118=AP107)*(BW104:BW118))","v":3},{"$f":"SUMPRODUCT((A104:E118=AP107)*(BX104:BX118))+SUMPRODUCT((H104:L118=AP107)*(BY104:BY118))+SUMPRODUCT((M104:Q118=AP107)*(BZ104:BZ118))+SUMPRODUCT((T104:X118=AP107)*(CA104:CA118))","v":2},{"$f":"SUMPRODUCT((A104:E118=AP107)*(CB104:CB118))+SUMPRODUCT((H104:L118=AP107)*(CC104:CC118))+SUMPRODUCT((M104:Q118=AP107)*(CD104:CD118))+SUMPRODUCT((T104:X118=AP107)*(CE104:CE118))","v":17},{"$f":"SUMPRODUCT((A104:E118=AP107)*(CH104:CH118))+SUMPRODUCT((H104:L118=AP107)*(CI104:CI118))+SUMPRODUCT((M104:Q118=AP107)*(CJ104:CJ118))+SUMPRODUCT((T104:X118=AP107)*(CK104:CK118))","v":12},5,null,null,3,0,0,3,6,0,1,1,1,1,1,false,false,1,false,false,false,false,false,1,1,false,2,0,0,1,3,0,0,2,1,0,0,3,{"$f":"IF(AU104=1,IF(AU107=1,SUM(AV104*1000+(BC104)/10+(BA104)/100+(BJ106)/1000+((F106+S106)-(G106+R106))/10000+(F106+S106)/100000+(S106)/1000000)))","v":false},{"$f":"IF(AU105=1,IF(AU107=1,SUM(AV105*1000+(BC105)/10+(BA105)/100+(BJ110)/1000+((F110+S110)-(G110+R110))/10000+(F110+S110)/100000+(S110)/1000000)))","v":false},{"$f":"IF(AU106=1,IF(AU107=1,SUM(AV106*1000+(BC106)/10+(BA106)/100+(BJ113)/1000+((F113+S113)-(G113+R113))/10000+(F113+S113)/100000+(S113)/1000000)))","v":false},{"$f":"IF(AU107=1,IF(AU106=1,SUM(AV107*1000+(BC107)/10+(BA107)/100+(BK113)/1000+((G113+R113)-(F113+S113))/10000+(G113+R113)/100000+(G113)/1000000)))","v":false},{"$f":"IF(AU108=1,IF(AU106=1,SUM(AV108*1000+(BC108)/10+(BA108)/100+(BK114)/1000+((G114+R114)-(F114+S114))/10000+(G114+R114)/100000+(G114)/1000000)))","v":false},{"$f":"IF(AU109=1,IF(AU106=1,SUM(AV109*1000+(BC109)/10+(BA109)/100+(BK115)/1000+((G115+R115)-(F115+S115))/10000+(G115+R115)/100000+(G115)/1000000)))","v":false},null,{"$f":"IF(AU104=2,IF(AU107=2,SUM(AV104*1000+(BC104)/10+(BA104)/100+(BJ106)/1000+((F106+S106)-(G106+R106))/10000+(F106+S106)/100000+(S106)/1000000)))","v":false},{"$f":"IF(AU105=2,IF(AU107=2,SUM(AV105*1000+(BC105)/10+(BA105)/100+(BJ110)/1000+((F110+S110)-(G110+R110))/10000+(F110+S110)/100000+(S110)/1000000)))","v":18001.173229999997},{"$f":"IF(AU106=2,IF(AU107=2,SUM(AV106*1000+(BC106)/10+(BA106)/100+(BJ113)/1000+((F113+S113)-(G113+R113))/10000+(F113+S113)/100000+(S113)/1000000)))","v":false},{"$f":"IF(AU107=2,IF(AU106=2,SUM(AV107*1000+(BC107)/10+(BA107)/100+(BK113)/1000+((G113+R113)-(F113+S113))/10000+(G113+R113)/100000+(G113)/1000000)))","v":false},{"$f":"IF(AU108=2,IF(AU106=2,SUM(AV108*1000+(BC108)/10+(BA108)/100+(BK114)/1000+((G114+R114)-(F114+S114))/10000+(G114+R114)/100000+(G114)/1000000)))","v":false},{"$f":"IF(AU109=2,IF(AU106=2,SUM(AV109*1000+(BC109)/10+(BA109)/100+(BK115)/1000+((G115+R115)-(F115+S115))/10000+(G115+R115)/100000+(G115)/1000000)))","v":false},{"$f":"IF(AU104=3,IF(AU107=3,SUM(AV104*1000+(BC104)/10+(BA104)/100+(BJ106)/1000+((F106+S106)-(G106+R106))/10000+(F106+S106)/100000+(S106)/1000000)))","v":false},{"$f":"IF(AU105=3,IF(AU107=3,SUM(AV105*1000+(BC105)/10+(BA105)/100+(BJ110)/1000+((F110+S110)-(G110+R110))/10000+(F110+S110)/100000+(S110)/1000000)))","v":false},{"$f":"IF(AU106=3,IF(AU107=3,SUM(AV106*1000+(BC106)/10+(BA106)/100+(BJ113)/1000+((F113+S113)-(G113+R113))/10000+(F113+S113)/100000+(S113)/1000000)))","v":false},{"$f":"IF(AU107=3,IF(AU106=3,SUM(AV107*1000+(BC107)/10+(BA107)/100+(BK113)/1000+((G113+R113)-(F113+S113))/10000+(G113+R113)/100000+(G113)/1000000)))","v":false},{"$f":"IF(AU108=3,IF(AU106=3,SUM(AV108*1000+(BC108)/10+(BA108)/100+(BK114)/1000+((G114+R114)-(F114+S114))/10000+(G114+R114)/100000+(G114)/1000000)))","v":false},{"$f":"IF(AU109=3,IF(AU106=3,SUM(AV109*1000+(BC109)/10+(BA109)/100+(BK115)/1000+((G115+R115)-(F115+S115))/10000+(G115+R115)/100000+(G115)/1000000)))","v":false},{"$f":"IF(AU104=4,IF(AU107=4,SUM(AV104*1000+(BC104)/10+(BA104)/100+(BJ106)/1000+((F106+S106)-(G106+R106))/10000+(F106+S106)/100000+(S106)/1000000)))","v":false},{"$f":"IF(AU105=4,IF(AU107=4,SUM(AV105*1000+(BC105)/10+(BA105)/100+(BJ110)/1000+((F110+S110)-(G110+R110))/10000+(F110+S110)/100000+(S110)/1000000)))","v":false},{"$f":"IF(AU106=4,IF(AU107=4,SUM(AV106*1000+(BC106)/10+(BA106)/100+(BJ113)/1000+((F113+S113)-(G113+R113))/10000+(F113+S113)/100000+(S113)/1000000)))","v":false},{"$f":"IF(AU107=4,IF(AU106=4,SUM(AV107*1000+(BC107)/10+(BA107)/100+(BK113)/1000+((G113+R113)-(F113+S113))/10000+(G113+R113)/100000+(G113)/1000000)))","v":false},{"$f":"IF(AU108=4,IF(AU106=4,SUM(AV108*1000+(BC108)/10+(BA108)/100+(BK114)/1000+((G114+R114)-(F114+S114))/10000+(G114+R114)/100000+(G114)/1000000)))","v":false},{"$f":"IF(AU109=4,IF(AU106=4,SUM(AV109*1000+(BC109)/10+(BA109)/100+(BK115)/1000+((G115+R115)-(F115+S115))/10000+(G115+R115)/100000+(G115)/1000000)))","v":false},{"$f":"IF(AU104=5,IF(AU107=5,SUM(AV104*1000+(BC104)/10+(BA104)/100+(BJ106)/1000+((F106+S106)-(G106+R106))/10000+(F106+S106)/100000+(S106)/1000000)))","v":false},{"$f":"IF(AU105=5,IF(AU107=5,SUM(AV105*1000+(BC105)/10+(BA105)/100+(BJ110)/1000+((F110+S110)-(G110+R110))/10000+(F110+S110)/100000+(S110)/1000000)))","v":false},{"$f":"IF(AU106=5,IF(AU107=5,SUM(AV106*1000+(BC106)/10+(BA106)/100+(BJ113)/1000+((F113+S113)-(G113+R113))/10000+(F113+S113)/100000+(S113)/1000000)))","v":false},{"$f":"IF(AU107=5,IF(AU106=5,SUM(AV107*1000+(BC107)/10+(BA107)/100+(BK113)/1000+((G113+R113)-(F113+S113))/10000+(G113+R113)/100000+(G113)/1000000)))","v":false},{"$f":"IF(AU108=5,IF(AU106=5,SUM(AV108*1000+(BC108)/10+(BA108)/100+(BK114)/1000+((G114+R114)-(F114+S114))/10000+(G114+R114)/100000+(G114)/1000000)))","v":false},{"$f":"IF(AU109=5,IF(AU106=5,SUM(AV109*1000+(BC109)/10+(BA109)/100+(BK115)/1000+((G115+R115)-(F115+S115))/10000+(G115+R115)/100000+(G115)/1000000)))","v":false},{"$f":"IF(AU104=6,IF(AU107=6,SUM(AV104*1000+(BC104)/10+(BA104)/100+(BJ106)/1000+((F106+S106)-(G106+R106))/10000+(F106+S106)/100000+(S106)/1000000)))","v":false},{"$f":"IF(AU105=6,IF(AU107=6,SUM(AV105*1000+(BC105)/10+(BA105)/100+(BJ110)/1000+((F110+S110)-(G110+R110))/10000+(F110+S110)/100000+(S110)/1000000)))","v":false},{"$f":"IF(AU106=6,IF(AU107=6,SUM(AV106*1000+(BC106)/10+(BA106)/100+(BJ113)/1000+((F113+S113)-(G113+R113))/10000+(F113+S113)/100000+(S113)/1000000)))","v":false},{"$f":"IF(AU107=6,IF(AU106=6,SUM(AV107*1000+(BC107)/10+(BA107)/100+(BK113)/1000+((G113+R113)-(F113+S113))/10000+(G113+R113)/100000+(G113)/1000000)))","v":false},{"$f":"IF(AU108=6,IF(AU106=6,SUM(AV108*1000+(BC108)/10+(BA108)/100+(BK114)/1000+((G114+R114)-(F114+S114))/10000+(G114+R114)/100000+(G114)/1000000)))","v":false},{"$f":"IF(AU109=6,IF(AU106=6,SUM(AV109*1000+(BC109)/10+(BA109)/100+(BK115)/1000+((G115+R115)-(F115+S115))/10000+(G115+R115)/100000+(G115)/1000000)))","v":false}]
[{"$f":"AP104","v":"ANGLETERRE"},null,null,null,null,2,0,{"$f":"AP109","v":"MALTE"},null,null,null,null,"MALTE",null,null,null,null,0,4,"ANGLETERRE",null,null,null,null,null,{"$f":"VLOOKUP(AN115,AO111:AT116,2,0)","v":"LITUANIE"},null,null,null,null,5,{"$f":"VLOOKUP(Z108,AP104:BC109,7,0)","v":6},{"$f":"VLOOKUP(Z108,AP104:BC109,8,0)","v":10},{"$f":"VLOOKUP(Z108,AP104:BC109,9,0)","v":1},{"$f":"VLOOKUP(Z108,AP104:BC109,10,0)","v":3},{"$f":"VLOOKUP(Z108,AP104:BC109,11,0)","v":6},{"$f":"VLOOKUP(Z108,AP104:BC109,12,0)","v":7},{"$f":"VLOOKUP(Z108,AP104:BC109,13,0)","v":20},{"$f":"VLOOKUP(Z108,AP104:BC109,14,0)","v":-13},null,null,"LITUANIE",null,null,null,null,{"$f":"RANK(AV108,AV104:AV109)","v":5},{"$f":"SUMPRODUCT((A104:E118=AP108)*(BF104:BF118))+SUMPRODUCT((H104:L118=AP108)*(BG104:BG118))+SUMPRODUCT((M104:Q118=AP108)*(BH104:BH118))+SUMPRODUCT((T104:X118=AP108)*(BI104:BI118))","v":6},{"$f":"SUMPRODUCT((A104:E118=AP108)*(BL104:BL118))+SUMPRODUCT((H104:L118=AP108)*(BM104:BM118))+SUMPRODUCT((M104:Q118=AP108)*(BN104:BN118))+SUMPRODUCT((T104:X118=AP108)*(BO104:BO118))","v":10},{"$f":"SUMPRODUCT((A104:E118=AP108)*(BP104:BP118))+SUMPRODUCT((H104:L118=AP108)*(BQ104:BQ118))+SUMPRODUCT((M104:Q118=AP108)*(BR104:BR118))+SUMPRODUCT((T104:X118=AP108)*(BS104:BS118))","v":1},{"$f":"SUMPRODUCT((A104:E118=AP108)*(BT104:BT118))+SUMPRODUCT((H104:L118=AP108)*(BU104:BU118))+SUMPRODUCT((M104:Q118=AP108)*(BV104:BV118))+SUMPRODUCT((T104:X118=AP108)*(BW104:BW118))","v":3},{"$f":"SUMPRODUCT((A104:E118=AP108)*(BX104:BX118))+SUMPRODUCT((H104:L118=AP108)*(BY104:BY118))+SUMPRODUCT((M104:Q118=AP108)*(BZ104:BZ118))+SUMPRODUCT((T104:X118=AP108)*(CA104:CA118))","v":6},{"$f":"SUMPRODUCT((A104:E118=AP108)*(CB104:CB118))+SUMPRODUCT((H104:L118=AP108)*(CC104:CC118))+SUMPRODUCT((M104:Q118=AP108)*(CD104:CD118))+SUMPRODUCT((T104:X118=AP108)*(CE104:CE118))","v":7},{"$f":"SUMPRODUCT((A104:E118=AP108)*(CH104:CH118))+SUMPRODUCT((H104:L118=AP108)*(CI104:CI118))+SUMPRODUCT((M104:Q118=AP108)*(CJ104:CJ118))+SUMPRODUCT((T104:X118=AP108)*(CK104:CK118))","v":20},-13,null,null,3,0,0,3,6,0,1,1,1,1,1,false,false,1,false,false,false,false,false,1,1,false,2,0,0,4,6,0,0,2,4,0,0,6,{"$f":"IF(AU104=1,IF(AU108=1,SUM(AV104*1000+(BC104)/10+(BA104)/100+(BJ107)/1000+((F107+S107)-(G107+R107))/10000+(F107+S107)/100000+(S107)/1000000)))","v":false},{"$f":"IF(AU105=1,IF(AU108=1,SUM(AV105*1000+(BC105)/10+(BA105)/100+(BJ111)/1000+((F111+S111)-(G111+R111))/10000+(F111+S111)/100000+(S111)/1000000)))","v":false},{"$f":"IF(AU106=1,IF(AU108=1,SUM(AV106*1000+(BC106)/10+(BA106)/100+(BJ114)/1000+((F114+S114)-(G114+R114))/10000+(F114+S114)/100000+(S114)/1000000)))","v":false},{"$f":"IF(AU107=1,IF(AU108=1,SUM(AV107*1000+(BC107)/10+(BA107)/100+(BJ116)/1000+((F116+S116)-(G116+R116))/10000+(F116+S116)/100000+(S116)/1000000)))","v":false},{"$f":"IF(AU108=1,IF(AU107=1,SUM(AV108*1000+(BC108)/10+(BA108)/100+(BK116)/1000+((G116+R116)-(F116+S116))/10000+(G116+R116)/100000+(G116)/1000000)))","v":false},{"$f":"IF(AU109=1,IF(AU107=1,SUM(AV109*1000+(BC109)/10+(BA109)/100+(BK117)/1000+((G117+R117)-(F117+S117))/10000+(G117+R117)/100000+(G117)/1000000)))","v":false},null,{"$f":"IF(AU104=2,IF(AU108=2,SUM(AV104*1000+(BC104)/10+(BA104)/100+(BJ107)/1000+((F107+S107)-(G107+R107))/10000+(F107+S107)/100000+(S107)/1000000)))","v":false},{"$f":"IF(AU105=2,IF(AU108=2,SUM(AV105*1000+(BC105)/10+(BA105)/100+(BJ111)/1000+((F111+S111)-(G111+R111))/10000+(F111+S111)/100000+(S111)/1000000)))","v":false},{"$f":"IF(AU106=2,IF(AU108=2,SUM(AV106*1000+(BC106)/10+(BA106)/100+(BJ114)/1000+((F114+S114)-(G114+R114))/10000+(F114+S114)/100000+(S114)/1000000)))","v":false},{"$f":"IF(AU107=2,IF(AU108=2,SUM(AV107*1000+(BC107)/10+(BA107)/100+(BJ116)/1000+((F116+S116)-(G116+R116))/10000+(F116+S116)/100000+(S116)/1000000)))","v":false},{"$f":"IF(AU108=2,IF(AU107=2,SUM(AV108*1000+(BC108)/10+(BA108)/100+(BK116)/1000+((G116+R116)-(F116+S116))/10000+(G116+R116)/100000+(G116)/1000000)))","v":false},{"$f":"IF(AU109=2,IF(AU107=2,SUM(AV109*1000+(BC109)/10+(BA109)/100+(BK117)/1000+((G117+R117)-(F117+S117))/10000+(G117+R117)/100000+(G117)/1000000)))","v":false},{"$f":"IF(AU104=3,IF(AU108=3,SUM(AV104*1000+(BC104)/10+(BA104)/100+(BJ107)/1000+((F107+S107)-(G107+R107))/10000+(F107+S107)/100000+(S107)/1000000)))","v":false},{"$f":"IF(AU105=3,IF(AU108=3,SUM(AV105*1000+(BC105)/10+(BA105)/100+(BJ111)/1000+((F111+S111)-(G111+R111))/10000+(F111+S111)/100000+(S111)/1000000)))","v":false},{"$f":"IF(AU106=3,IF(AU108=3,SUM(AV106*1000+(BC106)/10+(BA106)/100+(BJ114)/1000+((F114+S114)-(G114+R114))/10000+(F114+S114)/100000+(S114)/1000000)))","v":false},{"$f":"IF(AU107=3,IF(AU108=3,SUM(AV107*1000+(BC107)/10+(BA107)/100+(BJ116)/1000+((F116+S116)-(G116+R116))/10000+(F116+S116)/100000+(S116)/1000000)))","v":false},{"$f":"IF(AU108=3,IF(AU107=3,SUM(AV108*1000+(BC108)/10+(BA108)/100+(BK116)/1000+((G116+R116)-(F116+S116))/10000+(G116+R116)/100000+(G116)/1000000)))","v":false},{"$f":"IF(AU109=3,IF(AU107=3,SUM(AV109*1000+(BC109)/10+(BA109)/100+(BK117)/1000+((G117+R117)-(F117+S117))/10000+(G117+R117)/100000+(G117)/1000000)))","v":false},{"$f":"IF(AU104=4,IF(AU108=4,SUM(AV104*1000+(BC104)/10+(BA104)/100+(BJ107)/1000+((F107+S107)-(G107+R107))/10000+(F107+S107)/100000+(S107)/1000000)))","v":false},{"$f":"IF(AU105=4,IF(AU108=4,SUM(AV105*1000+(BC105)/10+(BA105)/100+(BJ111)/1000+((F111+S111)-(G111+R111))/10000+(F111+S111)/100000+(S111)/1000000)))","v":false},{"$f":"IF(AU106=4,IF(AU108=4,SUM(AV106*1000+(BC106)/10+(BA106)/100+(BJ114)/1000+((F114+S114)-(G114+R114))/10000+(F114+S114)/100000+(S114)/1000000)))","v":false},{"$f":"IF(AU107=4,IF(AU108=4,SUM(AV107*1000+(BC107)/10+(BA107)/100+(BJ116)/1000+((F116+S116)-(G116+R116))/10000+(F116+S116)/100000+(S116)/1000000)))","v":false},{"$f":"IF(AU108=4,IF(AU107=4,SUM(AV108*1000+(BC108)/10+(BA108)/100+(BK116)/1000+((G116+R116)-(F116+S116))/10000+(G116+R116)/100000+(G116)/1000000)))","v":false},{"$f":"IF(AU109=4,IF(AU107=4,SUM(AV109*1000+(BC109)/10+(BA109)/100+(BK117)/1000+((G117+R117)-(F117+S117))/10000+(G117+R117)/100000+(G117)/1000000)))","v":false},{"$f":"IF(AU104=5,IF(AU108=5,SUM(AV104*1000+(BC104)/10+(BA104)/100+(BJ107)/1000+((F107+S107)-(G107+R107))/10000+(F107+S107)/100000+(S107)/1000000)))","v":false},{"$f":"IF(AU105=5,IF(AU108=5,SUM(AV105*1000+(BC105)/10+(BA105)/100+(BJ111)/1000+((F111+S111)-(G111+R111))/10000+(F111+S111)/100000+(S111)/1000000)))","v":false},{"$f":"IF(AU106=5,IF(AU108=5,SUM(AV106*1000+(BC106)/10+(BA106)/100+(BJ114)/1000+((F114+S114)-(G114+R114))/10000+(F114+S114)/100000+(S114)/1000000)))","v":false},{"$f":"IF(AU107=5,IF(AU108=5,SUM(AV107*1000+(BC107)/10+(BA107)/100+(BJ116)/1000+((F116+S116)-(G116+R116))/10000+(F116+S116)/100000+(S116)/1000000)))","v":false},{"$f":"IF(AU108=5,IF(AU107=5,SUM(AV108*1000+(BC108)/10+(BA108)/100+(BK116)/1000+((G116+R116)-(F116+S116))/10000+(G116+R116)/100000+(G116)/1000000)))","v":false},{"$f":"IF(AU109=5,IF(AU107=5,SUM(AV109*1000+(BC109)/10+(BA109)/100+(BK117)/1000+((G117+R117)-(F117+S117))/10000+(G117+R117)/100000+(G117)/1000000)))","v":false},{"$f":"IF(AU104=6,IF(AU108=6,SUM(AV104*1000+(BC104)/10+(BA104)/100+(BJ107)/1000+((F107+S107)-(G107+R107))/10000+(F107+S107)/100000+(S107)/1000000)))","v":false},{"$f":"IF(AU105=6,IF(AU108=6,SUM(AV105*1000+(BC105)/10+(BA105)/100+(BJ111)/1000+((F111+S111)-(G111+R111))/10000+(F111+S111)/100000+(S111)/1000000)))","v":false},{"$f":"IF(AU106=6,IF(AU108=6,SUM(AV106*1000+(BC106)/10+(BA106)/100+(BJ114)/1000+((F114+S114)-(G114+R114))/10000+(F114+S114)/100000+(S114)/1000000)))","v":false},{"$f":"IF(AU107=6,IF(AU108=6,SUM(AV107*1000+(BC107)/10+(BA107)/100+(BJ116)/1000+((F116+S116)-(G116+R116))/10000+(F116+S116)/100000+(S116)/1000000)))","v":false},{"$f":"IF(AU108=6,IF(AU107=6,SUM(AV108*1000+(BC108)/10+(BA108)/100+(BK116)/1000+((G116+R116)-(F116+S116))/10000+(G116+R116)/100000+(G116)/1000000)))","v":false},{"$f":"IF(AU109=6,IF(AU107=6,SUM(AV109*1000+(BC109)/10+(BA109)/100+(BK117)/1000+((G117+R117)-(F117+S117))/10000+(G117+R117)/100000+(G117)/1000000)))","v":false}]
[{"$f":"AP105","v":"SLOVAQUIE"},null,null,null,null,1,0,{"$f":"AP106","v":"SLOVÉNIE"},null,null,null,null,"SLOVÉNIE",null,null,null,null,1,0,"SLOVAQUIE",null,null,null,null,null,{"$f":"VLOOKUP(AN116,AO111:AT116,2,0)","v":"MALTE"},null,null,null,null,6,{"$f":"VLOOKUP(Z109,AP104:BC109,7,0)","v":1},{"$f":"VLOOKUP(Z109,AP104:BC109,8,0)","v":10},{"$f":"VLOOKUP(Z109,AP104:BC109,9,0)","v":0},{"$f":"VLOOKUP(Z109,AP104:BC109,10,0)","v":1},{"$f":"VLOOKUP(Z109,AP104:BC109,11,0)","v":9},{"$f":"VLOOKUP(Z109,AP104:BC109,12,0)","v":3},{"$f":"VLOOKUP(Z109,AP104:BC109,13,0)","v":25},{"$f":"VLOOKUP(Z109,AP104:BC109,14,0)","v":-22},null,null,"MALTE",null,null,null,null,{"$f":"RANK(AV109,AV104:AV109)","v":6},{"$f":"SUMPRODUCT((A104:E118=AP109)*(BF104:BF118))+SUMPRODUCT((H104:L118=AP109)*(BG104:BG118))+SUMPRODUCT((M104:Q118=AP109)*(BH104:BH118))+SUMPRODUCT((T104:X118=AP109)*(BI104:BI118))","v":1},{"$f":"SUMPRODUCT((A104:E118=AP109)*(BL104:BL118))+SUMPRODUCT((H104:L118=AP109)*(BM104:BM118))+SUMPRODUCT((M104:Q118=AP109)*(BN104:BN118))+SUMPRODUCT((T104:X118=AP109)*(BO104:BO118))","v":10},{"$f":"SUMPRODUCT((A104:E118=AP109)*(BP104:BP118))+SUMPRODUCT((H104:L118=AP109)*(BQ104:BQ118))+SUMPRODUCT((M104:Q118=AP109)*(BR104:BR118))+SUMPRODUCT((T104:X118=AP109)*(BS104:BS118))","v":0},{"$f":"SUMPRODUCT((A104:E118=AP109)*(BT104:BT118))+SUMPRODUCT((H104:L118=AP109)*(BU104:BU118))+SUMPRODUCT((M104:Q118=AP109)*(BV104:BV118))+SUMPRODUCT((T104:X118=AP109)*(BW104:BW118))","v":1},{"$f":"SUMPRODUCT((A104:E118=AP109)*(BX104:BX118))+SUMPRODUCT((H104:L118=AP109)*(BY104:BY118))+SUMPRODUCT((M104:Q118=AP109)*(BZ104:BZ118))+SUMPRODUCT((T104:X118=AP109)*(CA104:CA118))","v":9},{"$f":"SUMPRODUCT((A104:E118=AP109)*(CB104:CB118))+SUMPRODUCT((H104:L118=AP109)*(CC104:CC118))+SUMPRODUCT((M104:Q118=AP109)*(CD104:CD118))+SUMPRODUCT((T104:X118=AP109)*(CE104:CE118))","v":3},{"$f":"SUMPRODUCT((A104:E118=AP109)*(CH104:CH118))+SUMPRODUCT((H104:L118=AP109)*(CI104:CI118))+SUMPRODUCT((M104:Q118=AP109)*(CJ104:CJ118))+SUMPRODUCT((T104:X118=AP109)*(CK104:CK118))","v":25},-22,null,null,3,0,3,0,3,3,1,1,1,1,1,false,1,false,false,false,false,false,false,1,false,1,1,0,1,0,1,1,0,1,0,1,1,1,{"$f":"IF(AU104=1,IF(AU109=1,SUM(AV104*1000+(BC104)/10+(BA104)/100+(BJ108)/1000+((F108+S108)-(G108+R108))/10000+(F108+S108)/100000+(S108)/1000000)))","v":false},{"$f":"IF(AU105=1,IF(AU109=1,SUM(AV105*1000+(BC105)/10+(BA105)/100+(BJ112)/1000+((F112+S112)-(G112+R112))/10000+(F112+S112)/100000+(S112)/1000000)))","v":false},{"$f":"IF(AU106=1,IF(AU109=1,SUM(AV106*1000+(BC106)/10+(BA106)/100+(BJ115)/1000+((F115+S115)-(G115+R115))/10000+(F115+S115)/100000+(S115)/1000000)))","v":false},{"$f":"IF(AU107=1,IF(AU109=1,SUM(AV107*1000+(BC107)/10+(BA107)/100+(BJ117)/1000+((F117+S117)-(G117+R117))/10000+(F117+S117)/100000+(S117)/1000000)))","v":false},{"$f":"IF(AU108=1,IF(AU109=1,SUM(AV108*1000+(BC108)/10+(BA108)/100+(BJ118)/1000+((F118+S118)-(G118+R118))/10000+(F118+S118)/100000+(S118)/1000000)))","v":false},{"$f":"IF(AU109=1,IF(AU108=1,SUM(AV109*1000+(BC109)/10+(BA109)/100+(BK118)/1000+((G118+R118)-(F118+S118))/10000+(G118+R118)/100000+(G118)/1000000)))","v":false},null,{"$f":"IF(AU104=2,IF(AU109=2,SUM(AV104*1000+(BC104)/10+(BA104)/100+(BJ108)/1000+((F108+S108)-(G108+R108))/10000+(F108+S108)/100000+(S108)/1000000)))","v":false},{"$f":"IF(AU105=2,IF(AU109=2,SUM(AV105*1000+(BC105)/10+(BA105)/100+(BJ112)/1000+((F112+S112)-(G112+R112))/10000+(F112+S112)/100000+(S112)/1000000)))","v":false},{"$f":"IF(AU106=2,IF(AU109=2,SUM(AV106*1000+(BC106)/10+(BA106)/100+(BJ115)/1000+((F115+S115)-(G115+R115))/10000+(F115+S115)/100000+(S115)/1000000)))","v":false},{"$f":"IF(AU107=2,IF(AU109=2,SUM(AV107*1000+(BC107)/10+(BA107)/100+(BJ117)/1000+((F117+S117)-(G117+R117))/10000+(F117+S117)/100000+(S117)/1000000)))","v":false},{"$f":"IF(AU108=2,IF(AU109=2,SUM(AV108*1000+(BC108)/10+(BA108)/100+(BJ118)/1000+((F118+S118)-(G118+R118))/10000+(F118+S118)/100000+(S118)/1000000)))","v":false},{"$f":"IF(AU109=2,IF(AU108=2,SUM(AV109*1000+(BC109)/10+(BA109)/100+(BK118)/1000+((G118+R118)-(F118+S118))/10000+(G118+R118)/100000+(G118)/1000000)))","v":false},{"$f":"IF(AU104=3,IF(AU109=3,SUM(AV104*1000+(BC104)/10+(BA104)/100+(BJ108)/1000+((F108+S108)-(G108+R108))/10000+(F108+S108)/100000+(S108)/1000000)))","v":false},{"$f":"IF(AU105=3,IF(AU109=3,SUM(AV105*1000+(BC105)/10+(BA105)/100+(BJ112)/1000+((F112+S112)-(G112+R112))/10000+(F112+S112)/100000+(S112)/1000000)))","v":false},{"$f":"IF(AU106=3,IF(AU109=3,SUM(AV106*1000+(BC106)/10+(BA106)/100+(BJ115)/1000+((F115+S115)-(G115+R115))/10000+(F115+S115)/100000+(S115)/1000000)))","v":false},{"$f":"IF(AU107=3,IF(AU109=3,SUM(AV107*1000+(BC107)/10+(BA107)/100+(BJ117)/1000+((F117+S117)-(G117+R117))/10000+(F117+S117)/100000+(S117)/1000000)))","v":false},{"$f":"IF(AU108=3,IF(AU109=3,SUM(AV108*1000+(BC108)/10+(BA108)/100+(BJ118)/1000+((F118+S118)-(G118+R118))/10000+(F118+S118)/100000+(S118)/1000000)))","v":false},{"$f":"IF(AU109=3,IF(AU108=3,SUM(AV109*1000+(BC109)/10+(BA109)/100+(BK118)/1000+((G118+R118)-(F118+S118))/10000+(G118+R118)/100000+(G118)/1000000)))","v":false},{"$f":"IF(AU104=4,IF(AU109=4,SUM(AV104*1000+(BC104)/10+(BA104)/100+(BJ108)/1000+((F108+S108)-(G108+R108))/10000+(F108+S108)/100000+(S108)/1000000)))","v":false},{"$f":"IF(AU105=4,IF(AU109=4,SUM(AV105*1000+(BC105)/10+(BA105)/100+(BJ112)/1000+((F112+S112)-(G112+R112))/10000+(F112+S112)/100000+(S112)/1000000)))","v":false},{"$f":"IF(AU106=4,IF(AU109=4,SUM(AV106*1000+(BC106)/10+(BA106)/100+(BJ115)/1000+((F115+S115)-(G115+R115))/10000+(F115+S115)/100000+(S115)/1000000)))","v":false},{"$f":"IF(AU107=4,IF(AU109=4,SUM(AV107*1000+(BC107)/10+(BA107)/100+(BJ117)/1000+((F117+S117)-(G117+R117))/10000+(F117+S117)/100000+(S117)/1000000)))","v":false},{"$f":"IF(AU108=4,IF(AU109=4,SUM(AV108*1000+(BC108)/10+(BA108)/100+(BJ118)/1000+((F118+S118)-(G118+R118))/10000+(F118+S118)/100000+(S118)/1000000)))","v":false},{"$f":"IF(AU109=4,IF(AU108=4,SUM(AV109*1000+(BC109)/10+(BA109)/100+(BK118)/1000+((G118+R118)-(F118+S118))/10000+(G118+R118)/100000+(G118)/1000000)))","v":false},{"$f":"IF(AU104=5,IF(AU109=5,SUM(AV104*1000+(BC104)/10+(BA104)/100+(BJ108)/1000+((F108+S108)-(G108+R108))/10000+(F108+S108)/100000+(S108)/1000000)))","v":false},{"$f":"IF(AU105=5,IF(AU109=5,SUM(AV105*1000+(BC105)/10+(BA105)/100+(BJ112)/1000+((F112+S112)-(G112+R112))/10000+(F112+S112)/100000+(S112)/1000000)))","v":false},{"$f":"IF(AU106=5,IF(AU109=5,SUM(AV106*1000+(BC106)/10+(BA106)/100+(BJ115)/1000+((F115+S115)-(G115+R115))/10000+(F115+S115)/100000+(S115)/1000000)))","v":false},{"$f":"IF(AU107=5,IF(AU109=5,SUM(AV107*1000+(BC107)/10+(BA107)/100+(BJ117)/1000+((F117+S117)-(G117+R117))/10000+(F117+S117)/100000+(S117)/1000000)))","v":false},{"$f":"IF(AU108=5,IF(AU109=5,SUM(AV108*1000+(BC108)/10+(BA108)/100+(BJ118)/1000+((F118+S118)-(G118+R118))/10000+(F118+S118)/100000+(S118)/1000000)))","v":false},{"$f":"IF(AU109=5,IF(AU108=5,SUM(AV109*1000+(BC109)/10+(BA109)/100+(BK118)/1000+((G118+R118)-(F118+S118))/10000+(G118+R118)/100000+(G118)/1000000)))","v":false},{"$f":"IF(AU104=6,IF(AU109=6,SUM(AV104*1000+(BC104)/10+(BA104)/100+(BJ108)/1000+((F108+S108)-(G108+R108))/10000+(F108+S108)/100000+(S108)/1000000)))","v":false},{"$f":"IF(AU105=6,IF(AU109=6,SUM(AV105*1000+(BC105)/10+(BA105)/100+(BJ112)/1000+((F112+S112)-(G112+R112))/10000+(F112+S112)/100000+(S112)/1000000)))","v":false},{"$f":"IF(AU106=6,IF(AU109=6,SUM(AV106*1000+(BC106)/10+(BA106)/100+(BJ115)/1000+((F115+S115)-(G115+R115))/10000+(F115+S115)/100000+(S115)/1000000)))","v":false},{"$f":"IF(AU107=6,IF(AU109=6,SUM(AV107*1000+(BC107)/10+(BA107)/100+(BJ117)/1000+((F117+S117)-(G117+R117))/10000+(F117+S117)/100000+(S117)/1000000)))","v":false},{"$f":"IF(AU108=6,IF(AU109=6,SUM(AV108*1000+(BC108)/10+(BA108)/100+(BJ118)/1000+((F118+S118)-(G118+R118))/10000+(F118+S118)/100000+(S118)/1000000)))","v":false},{"$f":"IF(AU109=6,IF(AU108=6,SUM(AV109*1000+(BC109)/10+(BA109)/100+(BK118)/1000+((G118+R118)-(F118+S118))/10000+(G118+R118)/100000+(G118)/1000000)))","v":false}]
[{"$f":"AP105","v":"SLOVAQUIE"},null,null,null,null,3,0,{"$f":"AP107","v":"ECOSSE"},null,null,null,null,"ECOSSE",null,null,null,null,1,0,"SLOVAQUIE",null,null,null,null,null,null,null,null,null,null,null,null,null,null,null,null,null,null,null,null,null,null,null,null,null,null,null,null,null,null,null,null,null,null,null,null,null,3,0,3,0,3,3,1,1,1,1,1,false,1,false,false,false,false,false,false,1,false,1,3,0,1,0,3,1,0,3,0,1,1,3,{"$f":"SUM(CN104:CN109)","v":1000000},0,0,0,0,0,null,{"$f":"SUM(CU104:CU109)","v":0},818001.17322999996,0,818000.67281000002,0,0,0,0,0,0,0,0,0,0,400000,0,0,0,0,0,0,0,200000,0,0,0,0,0,0,100000]
[{"$f":"AP105","v":"SLOVAQUIE"},null,null,null,null,4,0,{"$f":"AP108","v":"LITUANIE"},null,null,null,null,"LITUANIE",null,null,null,null,1,2,"SLOVAQUIE",null,null,null,null,null,null,null,null,null,null,null,null,null,null,null,null,null,null,null,1,{"$f":"BA111","v":1},{"$f":"AP104","v":"ANGLETERRE"},null,null,null,null,{"$f":"SUM(CN110,CU110,DA110,DG110,DM110,DS110)","v":1000000},null,null,{"$f":"AU111+0.00000006","v":1000000.00000006},null,null,{"$f":"RANK(AX111,AX111:AZ116)","v":1},{"$f":"RANK(AU111,AU111:AW116)","v":1},null,null,null,3,0,0,3,6,0,1,1,1,1,1,false,false,1,false,false,false,false,false,1,1,false,4,0,1,2,6,1,0,4,2,1,1,6]
[{"$f":"AP105","v":"SLOVAQUIE"},null,null,null,null,3,0,{"$f":"AP109","v":"MALTE"},null,null,null,null,"MALTE",null,null,null,null,1,3,"SLOVAQUIE",null,null,null,null,null,null,null,null,null,null,null,null,null,null,null,null,null,null,null,2,{"$f":"BA112","v":2},{"$f":"AP105","v":"SLOVAQUIE"},null,null,null,null,{"$f":"SUM(CO110,CV110,DB110,DH110,DN110,DT110)","v":818001.17322999996},null,null,{"$f":"AU112+0.00000005","v":818001.1732300499},null,null,{"$f":"RANK(AX112,AX111:AZ116)","v":2},{"$f":"RANK(AU112,AU111:AW116)","v":2},null,null,null,3,0,0,3,6,0,1,1,1,1,1,false,false,1,false,false,false,false,false,1,1,false,3,0,1,3,6,1,0,3,3,1,1,6,{"$f":"VLOOKUP(AN111,AO111:AT116,2,0)","v":"ANGLETERRE"},null,null,null,null,null,{"$f":"VLOOKUP(CN112,AP111:AW116,6,0)","v":1000000},null,null,{"$f":"RANK(CT112,CT112:CV117)","v":1}]
[{"$f":"AP106","v":"SLOVÉNIE"},null,null,null,null,2,2,{"$f":"AP107","v":"ECOSSE"},null,null,null,null,"ECOSSE",null,null,null,null,1,0,"SLOVÉNIE",null,null,null,null,null,"ÉQUIPE QUALIFIÉE",null,null,null,{"$f":"Z104","v":"ANGLETERRE"},null,null,null,null,null,null,null,null,null,3,4,"SLOVÉNIE",null,null,null,null,{"$f":"SUM(CP110,CW110,DC110,DI110,DO110,DU110)","v":400000},null,null,{"$f":"AU113+0.00000004","v":400000.00000003999},null,null,{"$f":"RANK(AX113,AX111:AZ116)","v":4},{"$f":"RANK(AU113,AU111:AW116)","v":4},null,null,null,1,1,3,0,1,4,1,1,1,1,false,false,1,false,1,1,false,false,false,false,false,1,2,2,1,0,2,3,2,2,0,1,3,2,{"$f":"VLOOKUP(AN112,AO111:AT116,2,0)","v":"SLOVAQUIE"},null,null,null,null,null,{"$f":"VLOOKUP(CN113,AP111:AW116,6,0)","v":818001.17322999996},null,null,{"$f":"RANK(CT113,CT112:CV117)","v":2}]
[{"$f":"AP106","v":"SLOVÉNIE"},null,null,null,null,4,0,{"$f":"AP108","v":"LITUANIE"},null,null,null,null,"LITUANIE",null,null,null,null,2,2,"SLOVÉNIE",null,null,null,null,null,null,null,null,null,null,null,null,null,null,null,null,null,null,null,4,3,"ECOSSE",null,null,null,null,{"$f":"SUM(CQ110,CX110,DD110,DJ110,DP110,DV110)","v":818000.67281000002},null,null,{"$f":"AU114+0.00000003","v":818000.67281003005},null,null,{"$f":"RANK(AX114,AX111:AZ116)","v":3},{"$f":"RANK(AU114,AU111:AW116)","v":3},null,null,null,3,0,1,1,4,1,1,1,1,1,1,false,false,false,false,false,1,1,false,1,false,false,4,0,2,2,6,2,0,4,2,2,2,6,{"$f":"VLOOKUP(AN113,AO111:AT116,2,0)","v":"ECOSSE"},null,null,null,null,null,{"$f":"VLOOKUP(CN114,AP111:AW116,6,0)","v":818000.67281000002},null,null,{"$f":"RANK(CT114,CT112:CV117)","v":3}]
[{"$f":"AP106","v":"SLOVÉNIE"},null,null,null,null,2,0,{"$f":"AP109","v":"MALTE"},null,null,null,null,"MALTE",null,null,null,null,0,1,"SLOVÉNIE",null,null,null,null,null,null,null,null,null,null,null,null,null,null,null,null,null,null,null,5,5,"LITUANIE",null,null,null,null,{"$f":"SUM(CR110,CY110,DE110,DK110,DQ110,DW110)","v":200000},null,null,{"$f":"AU115+0.00000002","v":200000.00000001999},null,null,{"$f":"RANK(AX115,AX111:AZ116)","v":5},{"$f":"RANK(AU115,AU111:AW116)","v":5},null,null,null,3,0,0,3,6,0,1,1,1,1,1,false,false,1,false,false,false,false,false,1,1,false,2,0,0,1,3,0,0,2,1,0,0,3,{"$f":"VLOOKUP(AN114,AO111:AT116,2,0)","v":"SLOVÉNIE"},null,null,null,null,null,{"$f":"VLOOKUP(CN115,AP111:AW116,6,0)","v":400000},null,null,{"$f":"RANK(CT115,CT112:CV117)","v":4}]
[{"$f":"AP107","v":"ECOSSE"},null,null,null,null,1,1,{"$f":"AP108","v":"LITUANIE"},null,null,null,null,"LITUANIE",null,null,null,null,0,3,"ECOSSE",null,null,null,null,null,"BARRAGE",null,null,null,{"$f":"IF(M187=9,\"\",D187)","v":""},null,null,null,null,null,null,null,null,null,6,6,"MALTE",null,null,null,null,{"$f":"SUM(CS110,CZ110,DF110,DL110,DR110,DX110)","v":100000},null,null,{"$f":"AU116+0.00000001","v":100000.00000001},null,null,{"$f":"RANK(AX116,AX111:AZ116)","v":6},{"$f":"RANK(AU116,AU111:AW116)","v":6},null,null,null,1,1,0,3,4,1,1,1,1,1,false,false,false,1,1,1,false,false,false,false,1,false,1,1,0,3,4,1,1,1,3,0,1,4,{"$f":"VLOOKUP(AN115,AO111:AT116,2,0)","v":"LITUANIE"},null,null,null,null,null,{"$f":"VLOOKUP(CN116,AP111:AW116,6,0)","v":200000},null,null,{"$f":"RANK(CT116,CT112:CV117)","v":5}]
[{"$f":"AP107","v":"ECOSSE"},null,null,null,null,2,0,{"$f":"AP109","v":"MALTE"},null,null,null,null,"MALTE",null,null,null,null,1,5,"ECOSSE",null,null,null,null,null,null,null,null,null,null,null,null,null,null,null,null,null,null,null,null,null,null,null,null,null,null,null,null,null,null,null,null,null,null,null,null,null,3,0,0,3,6,0,1,1,1,1,1,false,false,1,false,false,false,false,false,1,1,false,2,0,1,5,7,1,0,2,5,1,1,7,{"$f":"VLOOKUP(AN116,AO111:AT116,2,0)","v":"MALTE"},null,null,null,null,null,{"$f":"VLOOKUP(CN117,AP111:AW116,6,0)","v":100000},null,null,{"$f":"RANK(CT117,CT112:CV117)","v":6}]
[{"$f":"AP108","v":"LITUANIE"},null,null,null,null,2,0,{"$f":"AP109","v":"MALTE"},null,null,null,null,"MALTE",null,null,null,null,1,1,"LITUANIE",null,null,null,null,null,null,null,null,null,null,null,null,null,null,null,null,null,null,null,null,null,null,null,null,null,null,null,null,null,null,null,null,null,null,null,null,null,3,0,1,1,4,1,1,1,1,1,1,false,false,false,false,false,1,1,false,1,false,false,2,0,1,1,3,1,0,2,1,1,1,3]
[]
[]
["MATCHS  ALLER",null,null,null,null,null,null,null,null,"GROUPE  G",null,null,null,null,null,"MATCHS  RETOUR",null,null,null,null,null,null,null,null,"GROUPE  G","CLASSEMENT",null,null,null,null,null,null,null,null,null,null,null,null,null,null,null,"CLASSEMENT"]
[]
["Équipes",null,null,null,null,"Bts","Bts","Équipes",null,null,null,null,"Équipes",null,null,null,null,"Bts","Bts","Équipes",null,null,null,null,null,"Équipes",null,null,null,null,"R","Pts","J","G","N","P","B +","B -","Diff",null,null,"Équipes",null,null,null,null,"R","Pts","J","G","N","P","B +","B -","Diff",null,null,"pts","pts","pts","pts","t pts","t pts","j","j","j","j","g","g","g","g","n","n","n","n","p","p","p","p","b+","b+","b+","b+","b+","b+","b-","b-","b-","b-","b-","b-",{"$f":"AP124","v":"ESPAGNE"},{"$f":"AP125","v":"ITALIE"},{"$f":"AP126","v":"ISRAËL"},{"$f":"AP127","v":"ALBANIE"},{"$f":"AP128","v":"MACÉDOINE"},{"$f":"AP129","v":"LIECHTENSTEIN"},null,{"$f":"CN123","v":"ESPAGNE"},{"$f":"CO123","v":"ITALIE"},{"$f":"CP123","v":"ISRAËL"},{"$f":"CQ123","v":"ALBANIE"},{"$f":"CR123","v":"MACÉDOINE"},{"$f":"CS123","v":"LIECHTENSTEIN"},{"$f":"CN123","v":"ESPAGNE"},{"$f":"CO123","v":"ITALIE"},{"$f":"CP123","v":"ISRAËL"},{"$f":"CQ123","v":"ALBANIE"},{"$f":"CR123","v":"MACÉDOINE"},{"$f":"CS123","v":"LIECHTENSTEIN"},{"$f":"CN123","v":"ESPAGNE"},{"$f":"CO123","v":"ITALIE"},{"$f":"CP123","v":"ISRAËL"},{"$f":"CQ123","v":"ALBANIE"},{"$f":"CR123","v":"MACÉDOINE"},{"$f":"CS123","v":"LIECHTENSTEIN"},{"$f":"CN123","v":"ESPAGNE"},{"$f":"CO123","v":"ITALIE"},{"$f":"CP123","v":"ISRAËL"},{"$f":"CQ123","v":"ALBANIE"},{"$f":"CR123","v":"MACÉDOINE"},{"$f":"CS123","v":"LIECHTENSTEIN"},{"$f":"CN123","v":"ESPAGNE"},{"$f":"CO123","v":"ITALIE"},{"$f":"CP123","v":"ISRAËL"},{"$f":"CQ123","v":"ALBANIE"},{"$f":"CR123","v":"MACÉDOINE"},{"$f":"CS123","v":"LIECHTENSTEIN"}]
[{"$f":"AP124","v":"ESPAGNE"},null,null,null,null,3,0,{"$f":"AP125","v":"ITALIE"},null,null,null,null,{"$f":"H124","v":"ITALIE"},null,null,null,null,1,1,{"$f":"A124","v":"ESPAGNE"},null,null,null,null,null,{"$f":"VLOOKUP(AN131,AO131:AT136,2,0)","v":"ESPAGNE"},null,null,null,null,1,{"$f":"VLOOKUP(Z124,AP124:BC129,7,0)","v":28},{"$f":"VLOOKUP(Z124,AP124:BC129,8,0)","v":10},{"$f":"VLOOKUP(Z124,AP124:BC129,9,0)","v":9},{"$f":"VLOOKUP(Z124,AP124:BC129,10,0)","v":1},{"$f":"VLOOKUP(Z124,AP124:BC129,11,0)","v":0},{"$f":"VLOOKUP(Z124,AP124:BC129,12,0)","v":36},{"$f":"VLOOKUP(Z124,AP124:BC129,13,0)","v":3},{"$f":"VLOOKUP(Z124,AP124:BC129,14,0)","v":33},null,null,"ESPAGNE",null,null,null,null,{"$f":"RANK(AV124,AV124:AV129)","v":1},{"$f":"SUMPRODUCT((A124:E138=AP124)*(BF124:BF138))+SUMPRODUCT((H124:L138=AP124)*(BG124:BG138))+SUMPRODUCT((M124:Q138=AP124)*(BH124:BH138))+SUMPRODUCT((T124:X138=AP124)*(BI124:BI138))","v":28},{"$f":"SUMPRODUCT((A124:E138=AP124)*(BL124:BL138))+SUMPRODUCT((H124:L138=AP124)*(BM124:BM138))+SUMPRODUCT((M124:Q138=AP124)*(BN124:BN138))+SUMPRODUCT((T124:X138=AP124)*(BO124:BO138))","v":10},{"$f":"SUMPRODUCT((A124:E138=AP124)*(BP124:BP138))+SUMPRODUCT((H124:L138=AP124)*(BQ124:BQ138))+SUMPRODUCT((M124:Q138=AP124)*(BR124:BR138))+SUMPRODUCT((T124:X138=AP124)*(BS124:BS138))","v":9},{"$f":"SUMPRODUCT((A124:E138=AP124)*(BT124:BT138))+SUMPRODUCT((H124:L138=AP124)*(BU124:BU138))+SUMPRODUCT((M124:Q138=AP124)*(BV124:BV138))+SUMPRODUCT((T124:X138=AP124)*(BW124:BW138))","v":1},{"$f":"SUMPRODUCT((A124:E138=AP124)*(BX124:BX138))+SUMPRODUCT((H124:L138=AP124)*(BY124:BY138))+SUMPRODUCT((M124:Q138=AP124)*(BZ124:BZ138))+SUMPRODUCT((T124:X138=AP124)*(CA124:CA138))","v":0},{"$f":"SUMPRODUCT((A124:E138=AP124)*(CB124:CB138))+SUMPRODUCT((H124:L138=AP124)*(CC124:CC138))+SUMPRODUCT((M124:Q138=AP124)*(CD124:CD138))+SUMPRODUCT((T124:X138=AP124)*(CE124:CE138))","v":36},{"$f":"SUMPRODUCT((A124:E138=AP124)*(CH124:CH138))+SUMPRODUCT((H124:L138=AP124)*(CI124:CI138))+SUMPRODUCT((M124:Q138=AP124)*(CJ124:CJ138))+SUMPRODUCT((T124:X138=AP124)*(CK124:CK138))","v":3},{"$f":"BA124-BB124","v":33},null,null,{"$f":"IF(F124=\"\",0,IF(F124>G124,3,IF(F124=G124,1,IF(F124<G124,0))))","v":3},{"$f":"IF(G124=\"\",0,IF(G124>F124,3,IF(G124=F124,1,IF(G124<F124,0))))","v":0},{"$f":"IF(R124=\"\",0,IF(R124>S124,3,IF(R124=S124,1,IF(R124<S124,0))))","v":1},{"$f":"IF(S124=\"\",0,IF(S124>R124,3,IF(S124=R124,1,IF(S124<R124,0))))","v":1},{"$f":"BF124+BI124","v":4},{"$f":"BG124+BH124","v":1},{"$f":"IF(F124=\"\",0,1)","v":1},{"$f":"IF(G124=\"\",0,1)","v":1},{"$f":"IF(R124=\"\",0,1)","v":1},{"$f":"IF(S124=\"\",0,1)","v":1},{"$f":"IF(F124<>\"\",IF(F124>G124,1))","v":1},{"$f":"IF(G124<>\"\",IF(G124>F124,1))","v":false},{"$f":"IF(R124<>\"\",IF(R124>S124,1))","v":false},{"$f":"IF(S124<>\"\",IF(S124>R124,1))","v":false},{"$f":"IF(F124<>\"\",IF(F124=G124,1))","v":false},{"$f":"IF(G124<>\"\",IF(G124=F124,1))","v":false},{"$f":"IF(R124<>\"\",IF(R124=S124,1))","v":1},{"$f":"IF(S124<>\"\",IF(S124=R124,1))","v":1},{"$f":"IF(F124<>\"\",IF(F124<G124,1))","v":false},{"$f":"IF(G124<>\"\",IF(G124<F124,1))","v":1},{"$f":"IF(R124<>\"\",IF(R124<S124,1))","v":false},{"$f":"IF(S124<>\"\",IF(S124<R124,1))","v":false},{"$f":"F124","v":3},{"$f":"G124","v":0},{"$f":"R124","v":1},{"$f":"S124","v":1},{"$f":"CB124+CE124","v":4},{"$f":"CC124+CD124","v":1},{"$f":"G124","v":0},{"$f":"F124","v":3},{"$f":"S124","v":1},{"$f":"R124","v":1},{"$f":"CH124+CK124","v":1},{"$f":"CI124+CJ124","v":4},{"$f":"IF(AU124=1,1000000)","v":1000000},{"$f":"IF(AU125=1,1000000)","v":false},{"$f":"IF(AU126=1,1000000)","v":false},{"$f":"IF(AU127=1,1000000)","v":false},{"$f":"IF(AU128=1,1000000)","v":false},{"$f":"IF(AU129=1,1000000)","v":false},null,{"$f":"IF(AU124=2,800000)","v":false},{"$f":"IF(AU125=2,800000)","v":800000},{"$f":"IF(AU126=2,800000)","v":false},{"$f":"IF(AU127=2,800000)","v":false},{"$f":"IF(AU128=2,800000)","v":false},{"$f":"IF(AU129=2,800000)","v":false},{"$f":"IF(AU124=3,600000)","v":false},{"$f":"IF(AU125=3,600000)","v":false},{"$f":"IF(AU126=3,600000)","v":false},{"$f":"IF(AU127=3,600000)","v":600000},{"$f":"IF(AU128=3,600000)","v":false},{"$f":"IF(AU129=3,600000)","v":false},{"$f":"IF(AU124=4,400000)","v":false},{"$f":"IF(AU125=4,400000)","v":false},{"$f":"IF(AU126=4,400000)","v":400000},{"$f":"IF(AU127=4,400000)","v":false},{"$f":"IF(AU128=4,400000)","v":false},{"$f":"IF(AU129=4,400000)","v":false},{"$f":"IF(AU124=5,200000)","v":false},{"$f":"IF(AU125=5,200000)","v":false},{"$f":"IF(AU126=5,200000)","v":false},{"$f":"IF(AU127=5,200000)","v":false},{"$f":"IF(AU128=5,200000)","v":200000},{"$f":"IF(AU129=5,200000)","v":false},{"$f":"IF(AU124=6,100000)","v":false},{"$f":"IF(AU125=6,100000)","v":false},{"$f":"IF(AU126=6,100000)","v":false},{"$f":"IF(AU127=6,100000)","v":false},{"$f":"IF(AU128=6,100000)","v":false},{"$f":"IF(AU129=6,100000)","v":100000}]
[{"$f":"AP124","v":"ESPAGNE"},null,null,null,null,4,1,{"$f":"AP126","v":"ISRAËL"},null,null,null,null,{"$f":"H125","v":"ISRAËL"},null,null,null,null,0,1,{"$f":"A125","v":"ESPAGNE"},null,null,null,null,null,{"$f":"VLOOKUP(AN132,AO131:AT136,2,0)","v":"ITALIE"},null,null,null,null,{"$f":"IF(CT133=CT132,CW132,CW133)","v":2},{"$f":"VLOOKUP(Z125,AP124:BC129,7,0)","v":23},{"$f":"VLOOKUP(Z125,AP124:BC129,8,0)","v":10},{"$f":"VLOOKUP(Z125,AP124:BC129,9,0)","v":7},{"$f":"VLOOKUP(Z125,AP124:BC129,10,0)","v":2},{"$f":"VLOOKUP(Z125,AP124:BC129,11,0)","v":1},{"$f":"VLOOKUP(Z125,AP124:BC129,12,0)","v":21},{"$f":"VLOOKUP(Z125,AP124:BC129,13,0)","v":8},{"$f":"VLOOKUP(Z125,AP124:BC129,14,0)","v":13},null,null,"ITALIE",null,null,null,null,{"$f":"RANK(AV125,AV124:AV129)","v":2},{"$f":"SUMPRODUCT((A124:E138=AP125)*(BF124:BF138))+SUMPRODUCT((H124:L138=AP125)*(BG124:BG138))+SUMPRODUCT((M124:Q138=AP125)*(BH124:BH138))+SUMPRODUCT((T124:X138=AP125)*(BI124:BI138))","v":23},{"$f":"SUMPRODUCT((A124:E138=AP125)*(BL124:BL138))+SUMPRODUCT((H124:L138=AP125)*(BM124:BM138))+SUMPRODUCT((M124:Q138=AP125)*(BN124:BN138))+SUMPRODUCT((T124:X138=AP125)*(BO124:BO138))","v":10},{"$f":"SUMPRODUCT((A124:E138=AP125)*(BP124:BP138))+SUMPRODUCT((H124:L138=AP125)*(BQ124:BQ138))+SUMPRODUCT((M124:Q138=AP125)*(BR124:BR138))+SUMPRODUCT((T124:X138=AP125)*(BS124:BS138))","v":7},{"$f":"SUMPRODUCT((A124:E138=AP125)*(BT124:BT138))+SUMPRODUCT((H124:L138=AP125)*(BU124:BU138))+SUMPRODUCT((M124:Q138=AP125)*(BV124:BV138))+SUMPRODUCT((T124:X138=AP125)*(BW124:BW138))","v":2},{"$f":"SUMPRODUCT((A124:E138=AP125)*(BX124:BX138))+SUMPRODUCT((H124:L138=AP125)*(BY124:BY138))+SUMPRODUCT((M124:Q138=AP125)*(BZ124:BZ138))+SUMPRODUCT((T124:X138=AP125)*(CA124:CA138))","v":1},{"$f":"SUMPRODUCT((A124:E138=AP125)*(CB124:CB138))+SUMPRODUCT((H124:L138=AP125)*(CC124:CC138))+SUMPRODUCT((M124:Q138=AP125)*(CD124:CD138))+SUMPRODUCT((T124:X138=AP125)*(CE124:CE138))","v":21},{"$f":"SUMPRODUCT((A124:E138=AP125)*(CH124:CH138))+SUMPRODUCT((H124:L138=AP125)*(CI124:CI138))+SUMPRODUCT((M124:Q138=AP125)*(CJ124:CJ138))+SUMPRODUCT((T124:X138=AP125)*(CK124:CK138))","v":8},{"$f":"BA125-BB125","v":13},null,null,{"$f":"IF(F125=\"\",0,IF(F125>G125,3,IF(F125=G125,1,IF(F125<G125,0))))","v":3},{"$f":"IF(G125=\"\",0,IF(G125>F125,3,IF(G125=F125,1,IF(G125<F125,0))))","v":0},{"$f":"IF(R125=\"\",0,IF(R125>S125,3,IF(R125=S125,1,IF(R125<S125,0))))","v":0},{"$f":"IF(S125=\"\",0,IF(S125>R125,3,IF(S125=R125,1,IF(S125<R125,0))))","v":3},{"$f":"BF125+BI125","v":6},{"$f":"BG125+BH125","v":0},{"$f":"IF(F125=\"\",0,1)","v":1},{"$f":"IF(G125=\"\",0,1)","v":1},{"$f":"IF(R125=\"\",0,1)","v":1},{"$f":"IF(S125=\"\",0,1)","v":1},{"$f":"IF(F125<>\"\",IF(F125>G125,1))","v":1},{"$f":"IF(G125<>\"\",IF(G125>F125,1))","v":false},{"$f":"IF(R125<>\"\",IF(R125>S125,1))","v":false},{"$f":"IF(S125<>\"\",IF(S125>R125,1))","v":1},{"$f":"IF(F125<>\"\",IF(F125=G125,1))","v":false},{"$f":"IF(G125<>\"\",IF(G125=F125,1))","v":false},{"$f":"IF(R125<>\"\",IF(R125=S125,1))","v":false},{"$f":"IF(S125<>\"\",IF(S125=R125,1))","v":false},{"$f":"IF(F125<>\"\",IF(F125<G125,1))","v":false},{"$f":"IF(G125<>\"\",IF(G125<F125,1))","v":1},{"$f":"IF(R125<>\"\",IF(R125<S125,1))","v":1},{"$f":"IF(S125<>\"\",IF(S125<R125,1))","v":false},{"$f":"F125","v":4},{"$f":"G125","v":1},{"$f":"R125","v":0},{"$f":"S125","v":1},{"$f":"CB125+CE125","v":5},{"$f":"CC125+CD125","v":1},{"$f":"G125","v":1},{"$f":"F125","v":4},{"$f":"S125","v":1},{"$f":"R125","v":0},{"$f":"CH125+CK125","v":1},{"$f":"CI125+CJ125","v":5},{"$f":"IF(AU124=1,IF(AU125=1,SUM(AV124*1000+(BC124)/10+(BA124)/100+(BJ124)/1000+((F124+S124)-(G124+R124))/10000+(F124+S124)/100000+(S124)/1000000)))","v":false},{"$f":"IF(AU125=1,IF(AU124=1,SUM(AV125*1000+(BC125)/10+(BA125)/100+(BK124)/1000+((G124+R124)-(F124+S124))/10000+(G124+R124)/100000+(G124)/1000000)))","v":false},{"$f":"IF(AU126=1,IF(AU124=1,SUM(AV126*1000+(BC126)/10+(BA126)/100+(BK125)/1000+((G125+R125)-(F125+S125))/10000+(G125+R125)/100000+(G125)/1000000)))","v":false},{"$f":"IF(AU127=1,IF(AU124=1,SUM(AV127*1000+(BC127)/10+(BA127)/100+(BK126)/1000+((G126+R126)-(F126+S126))/10000+(G126+R126)/100000+(G126)/1000000)))","v":false},{"$f":"IF(AU128=1,IF(AU124=1,SUM(AV128*1000+(BC128)/10+(BA128)/100+(BK127)/1000+((G127+R127)-(F127+S127))/10000+(G127+R127)/100000+(G127)/1000000)))","v":false},{"$f":"IF(AU129=1,IF(AU124=1,SUM(AV129*1000+(BC129)/10+(BA129)/100+(BK128)/1000+((G128+R128)-(F128+S128))/10000+(G128+R128)/100000+(G128)/1000000)))","v":false},null,{"$f":"IF(AU124=2,IF(AU125=2,SUM(AV124*1000+(BC124)/10+(BA124)/100+(BJ124)/1000+((F124+S124)-(G124+R124))/10000+(F124+S124)/100000+(S124)/1000000)))","v":false},{"$f":"IF(AU125=2,IF(AU124=2,SUM(AV125*1000+(BC125)/10+(BA125)/100+(BK124)/1000+((G124+R124)-(F124+S124))/10000+(G124+R124)/100000+(G124)/1000000)))","v":false},{"$f":"IF(AU126=2,IF(AU124=2,SUM(AV126*1000+(BC126)/10+(BA126)/100+(BK125)/1000+((G125+R125)-(F125+S125))/10000+(G125+R125)/100000+(G125)/1000000)))","v":false},{"$f":"IF(AU127=2,IF(AU124=2,SUM(AV127*1000+(BC127)/10+(BA127)/100+(BK126)/1000+((G126+R126)-(F126+S126))/10000+(G126+R126)/100000+(G126)/1000000)))","v":false},{"$f":"IF(AU128=2,IF(AU124=2,SUM(AV128*1000+(BC128)/10+(BA128)/100+(BK127)/1000+((G127+R127)-(F127+S127))/10000+(G127+R127)/100000+(G127)/1000000)))","v":false},{"$f":"IF(AU129=2,IF(AU124=2,SUM(AV129*1000+(BC129)/10+(BA129)/100+(BK128)/1000+((G128+R128)-(F128+S128))/10000+(G128+R128)/100000+(G128)/1000000)))","v":false},{"$f":"IF(AU124=3,IF(AU125=3,SUM(AV124*1000+(BC124)/10+(BA124)/100+(BJ124)/1000+((F124+S124)-(G124+R124))/10000+(F124+S124)/100000+(S124)/1000000)))","v":false},{"$f":"IF(AU125=3,IF(AU124=3,SUM(AV125*1000+(BC125)/10+(BA125)/100+(BK124)/1000+((G124+R124)-(F124+S124))/10000+(G124+R124)/100000+(G124)/1000000)))","v":false},{"$f":"IF(AU126=3,IF(AU124=3,SUM(AV126*1000+(BC126)/10+(BA126)/100+(BK125)/1000+((G125+R125)-(F125+S125))/10000+(G125+R125)/100000+(G125)/1000000)))","v":false},{"$f":"IF(AU127=3,IF(AU124=3,SUM(AV127*1000+(BC127)/10+(BA127)/100+(BK126)/1000+((G126+R126)-(F126+S126))/10000+(G126+R126)/100000+(G126)/1000000)))","v":false},{"$f":"IF(AU128=3,IF(AU124=3,SUM(AV128*1000+(BC128)/10+(BA128)/100+(BK127)/1000+((G127+R127)-(F127+S127))/10000+(G127+R127)/100000+(G127)/1000000)))","v":false},{"$f":"IF(AU129=3,IF(AU124=3,SUM(AV129*1000+(BC129)/10+(BA129)/100+(BK128)/1000+((G128+R128)-(F128+S128))/10000+(G128+R128)/100000+(G128)/1000000)))","v":false},{"$f":"IF(AU124=4,IF(AU125=4,SUM(AV124*1000+(BC124)/10+(BA124)/100+(BJ124)/1000+((F124+S124)-(G124+R124))/10000+(F124+S124)/100000+(S124)/1000000)))","v":false},{"$f":"IF(AU125=4,IF(AU124=4,SUM(AV125*1000+(BC125)/10+(BA125)/100+(BK124)/1000+((G124+R124)-(F124+S124))/10000+(G124+R124)/100000+(G124)/1000000)))","v":false},{"$f":"IF(AU126=4,IF(AU124=4,SUM(AV126*1000+(BC126)/10+(BA126)/100+(BK125)/1000+((G125+R125)-(F125+S125))/10000+(G125+R125)/100000+(G125)/1000000)))","v":false},{"$f":"IF(AU127=4,IF(AU124=4,SUM(AV127*1000+(BC127)/10+(BA127)/100+(BK126)/1000+((G126+R126)-(F126+S126))/10000+(G126+R126)/100000+(G126)/1000000)))","v":false},{"$f":"IF(AU128=4,IF(AU124=4,SUM(AV128*1000+(BC128)/10+(BA128)/100+(BK127)/1000+((G127+R127)-(F127+S127))/10000+(G127+R127)/100000+(G127)/1000000)))","v":false},{"$f":"IF(AU129=4,IF(AU124=4,SUM(AV129*1000+(BC129)/10+(BA129)/100+(BK128)/1000+((G128+R128)-(F128+S128))/10000+(G128+R128)/100000+(G128)/1000000)))","v":false},{"$f":"IF(AU124=5,IF(AU125=5,SUM(AV124*1000+(BC124)/10+(BA124)/100+(BJ124)/1000+((F124+S124)-(G124+R124))/10000+(F124+S124)/100000+(S124)/1000000)))","v":false},{"$f":"IF(AU125=5,IF(AU124=5,SUM(AV125*1000+(BC125)/10+(BA125)/100+(BK124)/1000+((G124+R124)-(F124+S124))/10000+(G124+R124)/100000+(G124)/1000000)))","v":false},{"$f":"IF(AU126=5,IF(AU124=5,SUM(AV126*1000+(BC126)/10+(BA126)/100+(BK125)/1000+((G125+R125)-(F125+S125))/10000+(G125+R125)/100000+(G125)/1000000)))","v":false},{"$f":"IF(AU127=5,IF(AU124=5,SUM(AV127*1000+(BC127)/10+(BA127)/100+(BK126)/1000+((G126+R126)-(F126+S126))/10000+(G126+R126)/100000+(G126)/1000000)))","v":false},{"$f":"IF(AU128=5,IF(AU124=5,SUM(AV128*1000+(BC128)/10+(BA128)/100+(BK127)/1000+((G127+R127)-(F127+S127))/10000+(G127+R127)/100000+(G127)/1000000)))","v":false},{"$f":"IF(AU129=5,IF(AU124=5,SUM(AV129*1000+(BC129)/10+(BA129)/100+(BK128)/1000+((G128+R128)-(F128+S128))/10000+(G128+R128)/100000+(G128)/1000000)))","v":false},{"$f":"IF(AU124=6,IF(AU125=6,SUM(AV124*1000+(BC124)/10+(BA124)/100+(BJ124)/1000+((F124+S124)-(G124+R124))/10000+(F124+S124)/100000+(S124)/1000000)))","v":false},{"$f":"IF(AU125=6,IF(AU124=6,SUM(AV125*1000+(BC125)/10+(BA125)/100+(BK124)/1000+((G124+R124)-(F124+S124))/10000+(G124+R124)/100000+(G124)/1000000)))","v":false},{"$f":"IF(AU126=6,IF(AU124=6,SUM(AV126*1000+(BC126)/10+(BA126)/100+(BK125)/1000+((G125+R125)-(F125+S125))/10000+(G125+R125)/100000+(G125)/1000000)))","v":false},{"$f":"IF(AU127=6,IF(AU124=6,SUM(AV127*1000+(BC127)/10+(BA127)/100+(BK126)/1000+((G126+R126)-(F126+S126))/10000+(G126+R126)/100000+(G126)/1000000)))","v":false},{"$f":"IF(AU128=6,IF(AU124=6,SUM(AV128*1000+(BC128)/10+(BA128)/100+(BK127)/1000+((G127+R127)-(F127+S127))/10000+(G127+R127)/100000+(G127)/1000000)))","v":false},{"$f":"IF(AU129=6,IF(AU124=6,SUM(AV129*1000+(BC129)/10+(BA129)/100+(BK128)/1000+((G128+R128)-(F128+S128))/10000+(G128+R128)/100000+(G128)/1000000)))","v":false}]
[{"$f":"AP124","v":"ESPAGNE"},null,null,null,null,3,0,{"$f":"AP127","v":"ALBANIE"},null,null,null,null,"ALBANIE",null,null,null,null,0,2,"ESPAGNE",null,null,null,null,null,{"$f":"VLOOKUP(AN133,AO131:AT136,2,0)","v":"ALBANIE"},null,null,null,null,{"$f":"IF(CT134=CT133,CW133,CW134)","v":3},{"$f":"VLOOKUP(Z126,AP124:BC129,7,0)","v":13},{"$f":"VLOOKUP(Z126,AP124:BC129,8,0)","v":10},{"$f":"VLOOKUP(Z126,AP124:BC129,9,0)","v":4},{"$f":"VLOOKUP(Z126,AP124:BC129,10,0)","v":1},{"$f":"VLOOKUP(Z126,AP124:BC129,11,0)","v":5},{"$f":"VLOOKUP(Z126,AP124:BC129,12,0)","v":10},{"$f":"VLOOKUP(Z126,AP124:BC129,13,0)","v":13},{"$f":"VLOOKUP(Z126,AP124:BC129,14,0)","v":-3},null,null,"ISRAËL",null,null,null,null,{"$f":"RANK(AV126,AV124:AV129)","v":4},{"$f":"SUMPRODUCT((A124:E138=AP126)*(BF124:BF138))+SUMPRODUCT((H124:L138=AP126)*(BG124:BG138))+SUMPRODUCT((M124:Q138=AP126)*(BH124:BH138))+SUMPRODUCT((T124:X138=AP126)*(BI124:BI138))","v":12},{"$f":"SUMPRODUCT((A124:E138=AP126)*(BL124:BL138))+SUMPRODUCT((H124:L138=AP126)*(BM124:BM138))+SUMPRODUCT((M124:Q138=AP126)*(BN124:BN138))+SUMPRODUCT((T124:X138=AP126)*(BO124:BO138))","v":10},{"$f":"SUMPRODUCT((A124:E138=AP126)*(BP124:BP138))+SUMPRODUCT((H124:L138=AP126)*(BQ124:BQ138))+SUMPRODUCT((M124:Q138=AP126)*(BR124:BR138))+SUMPRODUCT((T124:X138=AP126)*(BS124:BS138))","v":4},{"$f":"SUMPRODUCT((A124:E138=AP126)*(BT124:BT138))+SUMPRODUCT((H124:L138=AP126)*(BU124:BU138))+SUMPRODUCT((M124:Q138=AP126)*(BV124:BV138))+SUMPRODUCT((T124:X138=AP126)*(BW124:BW138))","v":0},{"$f":"SUMPRODUCT((A124:E138=AP126)*(BX124:BX138))+SUMPRODUCT((H124:L138=AP126)*(BY124:BY138))+SUMPRODUCT((M124:Q138=AP126)*(BZ124:BZ138))+SUMPRODUCT((T124:X138=AP126)*(CA124:CA138))","v":6},{"$f":"SUMPRODUCT((A124:E138=AP126)*(CB124:CB138))+SUMPRODUCT((H124:L138=AP126)*(CC124:CC138))+SUMPRODUCT((M124:Q138=AP126)*(CD124:CD138))+SUMPRODUCT((T124:X138=AP126)*(CE124:CE138))","v":10},{"$f":"SUMPRODUCT((A124:E138=AP126)*(CH124:CH138))+SUMPRODUCT((H124:L138=AP126)*(CI124:CI138))+SUMPRODUCT((M124:Q138=AP126)*(CJ124:CJ138))+SUMPRODUCT((T124:X138=AP126)*(CK124:CK138))","v":15},-5,null,null,3,0,0,3,6,0,1,1,1,1,1,false,false,1,false,false,false,false,false,1,1,false,3,0,0,2,5,0,0,3,2,0,0,5,{"$f":"IF(AU124=1,IF(AU126=1,SUM(AV124*1000+(BC124)/10+(BA124)/100+(BJ125)/1000+((F125+S125)-(G125+R125))/10000+(F125+S125)/100000+(S125)/1000000)))","v":false},{"$f":"IF(AU125=1,IF(AU126=1,SUM(AV125*1000+(BC125)/10+(BA125)/100+(BJ129)/1000+((F129+S129)-(G129+R129))/10000+(F129+S129)/100000+(S129)/1000000)))","v":false},{"$f":"IF(AU126=1,IF(AU125=1,SUM(AV126*1000+(BC126)/10+(BA126)/100+(BK129)/1000+((G129+R129)-(F129+S129))/10000+(G129+R129)/1000000+(G129)/1000000)))","v":false},{"$f":"IF(AU127=1,IF(AU125=1,SUM(AV127*1000+(BC127)/10+(BA127)/100+(BK130)/1000+((G130+R130)-(F130+S130))/10000+(G130+R130)/100000+(G130)/1000000)))","v":false},{"$f":"IF(AU128=1,IF(AU125=1,SUM(AV128*1000+(BC128)/10+(BA128)/100+(BK131)/1000+((G131+R131)-(F131+S131))/10000+(G131+R131)/100000+(G131)/1000000)))","v":false},{"$f":"IF(AU129=1,IF(AU125=1,SUM(AV129*1000+(BC129)/10+(BA129)/100+(BK132)/1000+((G132+R132)-(F132+S132))/10000+(G132+R132)/100000+(G132)/1000000)))","v":false},null,{"$f":"IF(AU124=2,IF(AU126=2,SUM(AV124*1000+(BC124)/10+(BA124)/100+(BJ125)/1000+((F125+S125)-(G125+R125))/10000+(F125+S125)/100000+(S125)/1000000)))","v":false},{"$f":"IF(AU125=2,IF(AU126=2,SUM(AV125*1000+(BC125)/10+(BA125)/100+(BJ129)/1000+((F129+S129)-(G129+R129))/10000+(F129+S129)/100000+(S129)/1000000)))","v":false},{"$f":"IF(AU126=2,IF(AU125=2,SUM(AV126*1000+(BC126)/10+(BA126)/100+(BK129)/1000+((G129+R129)-(F129+S129))/10000+(G129+R129)/1000000+(G129)/1000000)))","v":false},{"$f":"IF(AU127=2,IF(AU125=2,SUM(AV127*1000+(BC127)/10+(BA127)/100+(BK130)/1000+((G130+R130)-(F130+S130))/10000+(G130+R130)/100000+(G130)/1000000)))","v":false},{"$f":"IF(AU128=2,IF(AU125=2,SUM(AV128*1000+(BC128)/10+(BA128)/100+(BK131)/1000+((G131+R131)-(F131+S131))/10000+(G131+R131)/100000+(G131)/1000000)))","v":false},{"$f":"IF(AU129=2,IF(AU125=2,SUM(AV129*1000+(BC129)/10+(BA129)/100+(BK132)/1000+((G132+R132)-(F132+S132))/10000+(G132+R132)/100000+(G132)/1000000)))","v":false},{"$f":"IF(AU124=3,IF(AU126=3,SUM(AV124*1000+(BC124)/10+(BA124)/100+(BJ125)/1000+((F125+S125)-(G125+R125))/10000+(F125+S125)/100000+(S125)/1000000)))","v":false},{"$f":"IF(AU125=3,IF(AU126=3,SUM(AV125*1000+(BC125)/10+(BA125)/100+(BJ129)/1000+((F129+S129)-(G129+R129))/10000+(F129+S129)/100000+(S129)/1000000)))","v":false},{"$f":"IF(AU126=3,IF(AU125=3,SUM(AV126*1000+(BC126)/10+(BA126)/100+(BK129)/1000+((G129+R129)-(F129+S129))/10000+(G129+R129)/1000000+(G129)/1000000)))","v":false},{"$f":"IF(AU127=3,IF(AU125=3,SUM(AV127*1000+(BC127)/10+(BA127)/100+(BK130)/1000+((G130+R130)-(F130+S130))/10000+(G130+R130)/100000+(G130)/1000000)))","v":false},{"$f":"IF(AU128=3,IF(AU125=3,SUM(AV128*1000+(BC128)/10+(BA128)/100+(BK131)/1000+((G131+R131)-(F131+S131))/10000+(G131+R131)/100000+(G131)/1000000)))","v":false},{"$f":"IF(AU129=3,IF(AU125=3,SUM(AV129*1000+(BC129)/10+(BA129)/100+(BK132)/1000+((G132+R132)-(F132+S132))/10000+(G132+R132)/100000+(G132)/1000000)))","v":false},{"$f":"IF(AU124=4,IF(AU126=4,SUM(AV124*1000+(BC124)/10+(BA124)/100+(BJ125)/1000+((F125+S125)-(G125+R125))/10000+(F125+S125)/100000+(S125)/1000000)))","v":false},{"$f":"IF(AU125=4,IF(AU126=4,SUM(AV125*1000+(BC125)/10+(BA125)/100+(BJ129)/1000+((F129+S129)-(G129+R129))/10000+(F129+S129)/100000+(S129)/1000000)))","v":false},{"$f":"IF(AU126=4,IF(AU125=4,SUM(AV126*1000+(BC126)/10+(BA126)/100+(BK129)/1000+((G129+R129)-(F129+S129))/10000+(G129+R129)/1000000+(G129)/1000000)))","v":false},{"$f":"IF(AU127=4,IF(AU125=4,SUM(AV127*1000+(BC127)/10+(BA127)/100+(BK130)/1000+((G130+R130)-(F130+S130))/10000+(G130+R130)/100000+(G130)/1000000)))","v":false},{"$f":"IF(AU128=4,IF(AU125=4,SUM(AV128*1000+(BC128)/10+(BA128)/100+(BK131)/1000+((G131+R131)-(F131+S131))/10000+(G131+R131)/100000+(G131)/1000000)))","v":false},{"$f":"IF(AU129=4,IF(AU125=4,SUM(AV129*1000+(BC129)/10+(BA129)/100+(BK132)/1000+((G132+R132)-(F132+S132))/10000+(G132+R132)/100000+(G132)/1000000)))","v":false},{"$f":"IF(AU124=5,IF(AU126=5,SUM(AV124*1000+(BC124)/10+(BA124)/100+(BJ125)/1000+((F125+S125)-(G125+R125))/10000+(F125+S125)/100000+(S125)/1000000)))","v":false},{"$f":"IF(AU125=5,IF(AU126=5,SUM(AV125*1000+(BC125)/10+(BA125)/100+(BJ129)/1000+((F129+S129)-(G129+R129))/10000+(F129+S129)/100000+(S129)/1000000)))","v":false},{"$f":"IF(AU126=5,IF(AU125=5,SUM(AV126*1000+(BC126)/10+(BA126)/100+(BK129)/1000+((G129+R129)-(F129+S129))/10000+(G129+R129)/1000000+(G129)/1000000)))","v":false},{"$f":"IF(AU127=5,IF(AU125=5,SUM(AV127*1000+(BC127)/10+(BA127)/100+(BK130)/1000+((G130+R130)-(F130+S130))/10000+(G130+R130)/100000+(G130)/1000000)))","v":false},{"$f":"IF(AU128=5,IF(AU125=5,SUM(AV128*1000+(BC128)/10+(BA128)/100+(BK131)/1000+((G131+R131)-(F131+S131))/10000+(G131+R131)/100000+(G131)/1000000)))","v":false},{"$f":"IF(AU129=5,IF(AU125=5,SUM(AV129*1000+(BC129)/10+(BA129)/100+(BK132)/1000+((G132+R132)-(F132+S132))/10000+(G132+R132)/100000+(G132)/1000000)))","v":false},{"$f":"IF(AU124=6,IF(AU126=6,SUM(AV124*1000+(BC124)/10+(BA124)/100+(BJ125)/1000+((F125+S125)-(G125+R125))/10000+(F125+S125)/100000+(S125)/1000000)))","v":false},{"$f":"IF(AU125=6,IF(AU126=6,SUM(AV125*1000+(BC125)/10+(BA125)/100+(BJ129)/1000+((F129+S129)-(G129+R129))/10000+(F129+S129)/100000+(S129)/1000000)))","v":false},{"$f":"IF(AU126=6,IF(AU125=6,SUM(AV126*1000+(BC126)/10+(BA126)/100+(BK129)/1000+((G129+R129)-(F129+S129))/10000+(G129+R129)/1000000+(G129)/1000000)))","v":false},{"$f":"IF(AU127=6,IF(AU125=6,SUM(AV127*1000+(BC127)/10+(BA127)/100+(BK130)/1000+((G130+R130)-(F130+S130))/10000+(G130+R130)/100000+(G130)/1000000)))","v":false},{"$f":"IF(AU128=6,IF(AU125=6,SUM(AV128*1000+(BC128)/10+(BA128)/100+(BK131)/1000+((G131+R131)-(F131+S131))/10000+(G131+R131)/100000+(G131)/1000000)))","v":false},{"$f":"IF(AU129=6,IF(AU125=6,SUM(AV129*1000+(BC129)/10+(BA129)/100+(BK132)/1000+((G132+R132)-(F132+S132))/10000+(G132+R132)/100000+(G132)/1000000)))","v":false}]
[{"$f":"AP124","v":"ESPAGNE"},null,null,null,null,4,0,{"$f":"AP128","v":"MACÉDOINE"},null,null,null,null,"MACÉDOINE",null,null,null,null,1,2,"ESPAGNE",null,null,null,null,null,{"$f":"VLOOKUP(AN134,AO131:AT136,2,0)","v":"ISRAËL"},null,null,null,null,4,{"$f":"VLOOKUP(Z127,AP124:BC129,7,0)","v":12},{"$f":"VLOOKUP(Z127,AP124:BC129,8,0)","v":10},{"$f":"VLOOKUP(Z127,AP124:BC129,9,0)","v":4},{"$f":"VLOOKUP(Z127,AP124:BC129,10,0)","v":0},{"$f":"VLOOKUP(Z127,AP124:BC129,11,0)","v":6},{"$f":"VLOOKUP(Z127,AP124:BC129,12,0)","v":10},{"$f":"VLOOKUP(Z127,AP124:BC129,13,0)","v":15},{"$f":"VLOOKUP(Z127,AP124:BC129,14,0)","v":-5},null,null,"ALBANIE",null,null,null,null,{"$f":"RANK(AV127,AV124:AV129)","v":3},{"$f":"SUMPRODUCT((A124:E138=AP127)*(BF124:BF138))+SUMPRODUCT((H124:L138=AP127)*(BG124:BG138))+SUMPRODUCT((M124:Q138=AP127)*(BH124:BH138))+SUMPRODUCT((T124:X138=AP127)*(BI124:BI138))","v":13},{"$f":"SUMPRODUCT((A124:E138=AP127)*(BL124:BL138))+SUMPRODUCT((H124:L138=AP127)*(BM124:BM138))+SUMPRODUCT((M124:Q138=AP127)*(BN124:BN138))+SUMPRODUCT((T124:X138=AP127)*(BO124:BO138))","v":10},{"$f":"SUMPRODUCT((A124:E138=AP127)*(BP124:BP138))+SUMPRODUCT((H124:L138=AP127)*(BQ124:BQ138))+SUMPRODUCT((M124:Q138=AP127)*(BR124:BR138))+SUMPRODUCT((T124:X138=AP127)*(BS124:BS138))","v":4},{"$f":"SUMPRODUCT((A124:E138=AP127)*(BT124:BT138))+SUMPRODUCT((H124:L138=AP127)*(BU124:BU138))+SUMPRODUCT((M124:Q138=AP127)*(BV124:BV138))+SUMPRODUCT((T124:X138=AP127)*(BW124:BW138))","v":1},{"$f":"SUMPRODUCT((A124:E138=AP127)*(BX124:BX138))+SUMPRODUCT((H124:L138=AP127)*(BY124:BY138))+SUMPRODUCT((M124:Q138=AP127)*(BZ124:BZ138))+SUMPRODUCT((T124:X138=AP127)*(CA124:CA138))","v":5},{"$f":"SUMPRODUCT((A124:E138=AP127)*(CB124:CB138))+SUMPRODUCT((H124:L138=AP127)*(CC124:CC138))+SUMPRODUCT((M124:Q138=AP127)*(CD124:CD138))+SUMPRODUCT((T124:X138=AP127)*(CE124:CE138))","v":10},{"$f":"SUMPRODUCT((A124:E138=AP127)*(CH124:CH138))+SUMPRODUCT((H124:L138=AP127)*(CI124:CI138))+SUMPRODUCT((M124:Q138=AP127)*(CJ124:CJ138))+SUMPRODUCT((T124:X138=AP127)*(CK124:CK138))","v":13},-3,null,null,3,0,0,3,6,0,1,1,1,1,1,false,false,1,false,false,false,false,false,1,1,false,4,0,1,2,6,1,0,4,2,1,1,6,{"$f":"IF(AU124=1,IF(AU127=1,SUM(AV124*1000+(BC124)/10+(BA124)/100+(BJ126)/1000+((F126+S126)-(G126+R126))/10000+(F126+S126)/100000+(S126)/1000000)))","v":false},{"$f":"IF(AU125=1,IF(AU127=1,SUM(AV125*1000+(BC125)/10+(BA125)/100+(BJ130)/1000+((F130+S130)-(G130+R130))/10000+(F130+S130)/100000+(S130)/1000000)))","v":false},{"$f":"IF(AU126=1,IF(AU127=1,SUM(AV126*1000+(BC126)/10+(BA126)/100+(BJ133)/1000+((F133+S133)-(G133+R133))/10000+(F133+S133)/100000+(S133)/1000000)))","v":false},{"$f":"IF(AU127=1,IF(AU126=1,SUM(AV127*1000+(BC127)/10+(BA127)/100+(BK133)/1000+((G133+R133)-(F133+S133))/10000+(G133+R133)/100000+(G133)/1000000)))","v":false},{"$f":"IF(AU128=1,IF(AU126=1,SUM(AV128*1000+(BC128)/10+(BA128)/100+(BK134)/1000+((G134+R134)-(F134+S134))/10000+(G134+R134)/100000+(G134)/1000000)))","v":false},{"$f":"IF(AU129=1,IF(AU126=1,SUM(AV129*1000+(BC129)/10+(BA129)/100+(BK135)/1000+((G135+R135)-(F135+S135))/10000+(G135+R135)/100000+(G135)/1000000)))","v":false},null,{"$f":"IF(AU124=2,IF(AU127=2,SUM(AV124*1000+(BC124)/10+(BA124)/100+(BJ126)/1000+((F126+S126)-(G126+R126))/10000+(F126+S126)/100000+(S126)/1000000)))","v":false},{"$f":"IF(AU125=2,IF(AU127=2,SUM(AV125*1000+(BC125)/10+(BA125)/100+(BJ130)/1000+((F130+S130)-(G130+R130))/10000+(F130+S130)/100000+(S130)/1000000)))","v":false},{"$f":"IF(AU126=2,IF(AU127=2,SUM(AV126*1000+(BC126)/10+(BA126)/100+(BJ133)/1000+((F133+S133)-(G133+R133))/10000+(F133+S133)/100000+(S133)/1000000)))","v":false},{"$f":"IF(AU127=2,IF(AU126=2,SUM(AV127*1000+(BC127)/10+(BA127)/100+(BK133)/1000+((G133+R133)-(F133+S133))/10000+(G133+R133)/100000+(G133)/1000000)))","v":false},{"$f":"IF(AU128=2,IF(AU126=2,SUM(AV128*1000+(BC128)/10+(BA128)/100+(BK134)/1000+((G134+R134)-(F134+S134))/10000+(G134+R134)/100000+(G134)/1000000)))","v":false},{"$f":"IF(AU129=2,IF(AU126=2,SUM(AV129*1000+(BC129)/10+(BA129)/100+(BK135)/1000+((G135+R135)-(F135+S135))/10000+(G135+R135)/100000+(G135)/1000000)))","v":false},{"$f":"IF(AU124=3,IF(AU127=3,SUM(AV124*1000+(BC124)/10+(BA124)/100+(BJ126)/1000+((F126+S126)-(G126+R126))/10000+(F126+S126)/100000+(S126)/1000000)))","v":false},{"$f":"IF(AU125=3,IF(AU127=3,SUM(AV125*1000+(BC125)/10+(BA125)/100+(BJ130)/1000+((F130+S130)-(G130+R130))/10000+(F130+S130)/100000+(S130)/1000000)))","v":false},{"$f":"IF(AU126=3,IF(AU127=3,SUM(AV126*1000+(BC126)/10+(BA126)/100+(BJ133)/1000+((F133+S133)-(G133+R133))/10000+(F133+S133)/100000+(S133)/1000000)))","v":false},{"$f":"IF(AU127=3,IF(AU126=3,SUM(AV127*1000+(BC127)/10+(BA127)/100+(BK133)/1000+((G133+R133)-(F133+S133))/10000+(G133+R133)/100000+(G133)/1000000)))","v":false},{"$f":"IF(AU128=3,IF(AU126=3,SUM(AV128*1000+(BC128)/10+(BA128)/100+(BK134)/1000+((G134+R134)-(F134+S134))/10000+(G134+R134)/100000+(G134)/1000000)))","v":false},{"$f":"IF(AU129=3,IF(AU126=3,SUM(AV129*1000+(BC129)/10+(BA129)/100+(BK135)/1000+((G135+R135)-(F135+S135))/10000+(G135+R135)/100000+(G135)/1000000)))","v":false},{"$f":"IF(AU124=4,IF(AU127=4,SUM(AV124*1000+(BC124)/10+(BA124)/100+(BJ126)/1000+((F126+S126)-(G126+R126))/10000+(F126+S126)/100000+(S126)/1000000)))","v":false},{"$f":"IF(AU125=4,IF(AU127=4,SUM(AV125*1000+(BC125)/10+(BA125)/100+(BJ130)/1000+((F130+S130)-(G130+R130))/10000+(F130+S130)/100000+(S130)/1000000)))","v":false},{"$f":"IF(AU126=4,IF(AU127=4,SUM(AV126*1000+(BC126)/10+(BA126)/100+(BJ133)/1000+((F133+S133)-(G133+R133))/10000+(F133+S133)/100000+(S133)/1000000)))","v":false},{"$f":"IF(AU127=4,IF(AU126=4,SUM(AV127*1000+(BC127)/10+(BA127)/100+(BK133)/1000+((G133+R133)-(F133+S133))/10000+(G133+R133)/100000+(G133)/1000000)))","v":false},{"$f":"IF(AU128=4,IF(AU126=4,SUM(AV128*1000+(BC128)/10+(BA128)/100+(BK134)/1000+((G134+R134)-(F134+S134))/10000+(G134+R134)/100000+(G134)/1000000)))","v":false},{"$f":"IF(AU129=4,IF(AU126=4,SUM(AV129*1000+(BC129)/10+(BA129)/100+(BK135)/1000+((G135+R135)-(F135+S135))/10000+(G135+R135)/100000+(G135)/1000000)))","v":false},{"$f":"IF(AU124=5,IF(AU127=5,SUM(AV124*1000+(BC124)/10+(BA124)/100+(BJ126)/1000+((F126+S126)-(G126+R126))/10000+(F126+S126)/100000+(S126)/1000000)))","v":false},{"$f":"IF(AU125=5,IF(AU127=5,SUM(AV125*1000+(BC125)/10+(BA125)/100+(BJ130)/1000+((F130+S130)-(G130+R130))/10000+(F130+S130)/100000+(S130)/1000000)))","v":false},{"$f":"IF(AU126=5,IF(AU127=5,SUM(AV126*1000+(BC126)/10+(BA126)/100+(BJ133)/1000+((F133+S133)-(G133+R133))/10000+(F133+S133)/100000+(S133)/1000000)))","v":false},{"$f":"IF(AU127=5,IF(AU126=5,SUM(AV127*1000+(BC127)/10+(BA127)/100+(BK133)/1000+((G133+R133)-(F133+S133))/10000+(G133+R133)/100000+(G133)/1000000)))","v":false},{"$f":"IF(AU128=5,IF(AU126=5,SUM(AV128*1000+(BC128)/10+(BA128)/100+(BK134)/1000+((G134+R134)-(F134+S134))/10000+(G134+R134)/100000+(G134)/1000000)))","v":false},{"$f":"IF(AU129=5,IF(AU126=5,SUM(AV129*1000+(BC129)/10+(BA129)/100+(BK135)/1000+((G135+R135)-(F135+S135))/10000+(G135+R135)/100000+(G135)/1000000)))","v":false},{"$f":"IF(AU124=6,IF(AU127=6,SUM(AV124*1000+(BC124)/10+(BA124)/100+(BJ126)/1000+((F126+S126)-(G126+R126))/10000+(F126+S126)/100000+(S126)/1000000)))","v":false},{"$f":"IF(AU125=6,IF(AU127=6,SUM(AV125*1000+(BC125)/10+(BA125)/100+(BJ130)/1000+((F130+S130)-(G130+R130))/10000+(F130+S130)/100000+(S130)/1000000)))","v":false},{"$f":"IF(AU126=6,IF(AU127=6,SUM(AV126*1000+(BC126)/10+(BA126)/100+(BJ133)/1000+((F133+S133)-(G133+R133))/10000+(F133+S133)/100000+(S133)/1000000)))","v":false},{"$f":"IF(AU127=6,IF(AU126=6,SUM(AV127*1000+(BC127)/10+(BA127)/100+(BK133)/1000+((G133+R133)-(F133+S133))/10000+(G133+R133)/100000+(G133)/1000000)))","v":false},{"$f":"IF(AU128=6,IF(AU126=6,SUM(AV128*1000+(BC128)/10+(BA128)/100+(BK134)/1000+((G134+R134)-(F134+S134))/10000+(G134+R134)/100000+(G134)/1000000)))","v":false},{"$f":"IF(AU129=6,IF(AU126=6,SUM(AV129*1000+(BC129)/10+(BA129)/100+(BK135)/1000+((G135+R135)-(F135+S135))/10000+(G135+R135)/100000+(G135)/1000000)))","v":false}]
[{"$f":"AP124","v":"ESPAGNE"},null,null,null,null,8,0,{"$f":"AP129","v":"LIECHTENSTEIN"},null,null,null,null,"LIECHTENSTEIN",null,null,null,null,0,8,"ESPAGNE",null,null,null,null,null,{"$f":"VLOOKUP(AN135,AO131:AT136,2,0)","v":"MACÉDOINE"},null,null,null,null,5,{"$f":"VLOOKUP(Z128,AP124:BC129,7,0)","v":11},{"$f":"VLOOKUP(Z128,AP124:BC129,8,0)","v":10},{"$f":"VLOOKUP(Z128,AP124:BC129,9,0)","v":3},{"$f":"VLOOKUP(Z128,AP124:BC129,10,0)","v":2},{"$f":"VLOOKUP(Z128,AP124:BC129,11,0)","v":5},{"$f":"VLOOKUP(Z128,AP124:BC129,12,0)","v":15},{"$f":"VLOOKUP(Z128,AP124:BC129,13,0)","v":15},{"$f":"VLOOKUP(Z128,AP124:BC129,14,0)","v":0},null,null,"MACÉDOINE",null,null,null,null,{"$f":"RANK(AV128,AV124:AV129)","v":5},{"$f":"SUMPRODUCT((A124:E138=AP128)*(BF124:BF138))+SUMPRODUCT((H124:L138=AP128)*(BG124:BG138))+SUMPRODUCT((M124:Q138=AP128)*(BH124:BH138))+SUMPRODUCT((T124:X138=AP128)*(BI124:BI138))","v":11},{"$f":"SUMPRODUCT((A124:E138=AP128)*(BL124:BL138))+SUMPRODUCT((H124:L138=AP128)*(BM124:BM138))+SUMPRODUCT((M124:Q138=AP128)*(BN124:BN138))+SUMPRODUCT((T124:X138=AP128)*(BO124:BO138))","v":10},{"$f":"SUMPRODUCT((A124:E138=AP128)*(BP124:BP138))+SUMPRODUCT((H124:L138=AP128)*(BQ124:BQ138))+SUMPRODUCT((M124:Q138=AP128)*(BR124:BR138))+SUMPRODUCT((T124:X138=AP128)*(BS124:BS138))","v":3},{"$f":"SUMPRODUCT((A124:E138=AP128)*(BT124:BT138))+SUMPRODUCT((H124:L138=AP128)*(BU124:BU138))+SUMPRODUCT((M124:Q138=AP128)*(BV124:BV138))+SUMPRODUCT((T124:X138=AP128)*(BW124:BW138))","v":2},{"$f":"SUMPRODUCT((A124:E138=AP128)*(BX124:BX138))+SUMPRODUCT((H124:L138=AP128)*(BY124:BY138))+SUMPRODUCT((M124:Q138=AP128)*(BZ124:BZ138))+SUMPRODUCT((T124:X138=AP128)*(CA124:CA138))","v":5},{"$f":"SUMPRODUCT((A124:E138=AP128)*(CB124:CB138))+SUMPRODUCT((H124:L138=AP128)*(CC124:CC138))+SUMPRODUCT((M124:Q138=AP128)*(CD124:CD138))+SUMPRODUCT((T124:X138=AP128)*(CE124:CE138))","v":15},{"$f":"SUMPRODUCT((A124:E138=AP128)*(CH124:CH138))+SUMPRODUCT((H124:L138=AP128)*(CI124:CI138))+SUMPRODUCT((M124:Q138=AP128)*(CJ124:CJ138))+SUMPRODUCT((T124:X138=AP128)*(CK124:CK138))","v":15},0,null,null,3,0,0,3,6,0,1,1,1,1,1,false,false,1,false,false,false,false,false,1,1,false,8,0,0,8,16,0,0,8,8,0,0,16,{"$f":"IF(AU124=1,IF(AU128=1,SUM(AV124*1000+(BC124)/10+(BA124)/100+(BJ127)/1000+((F127+S127)-(G127+R127))/10000+(F127+S127)/100000+(S127)/1000000)))","v":false},{"$f":"IF(AU125=1,IF(AU128=1,SUM(AV125*1000+(BC125)/10+(BA125)/100+(BJ131)/1000+((F131+S131)-(G131+R131))/10000+(F131+S131)/100000+(S131)/1000000)))","v":false},{"$f":"IF(AU126=1,IF(AU128=1,SUM(AV126*1000+(BC126)/10+(BA126)/100+(BJ134)/1000+((F134+S134)-(G134+R134))/10000+(F134+S134)/100000+(S134)/1000000)))","v":false},{"$f":"IF(AU127=1,IF(AU128=1,SUM(AV127*1000+(BC127)/10+(BA127)/100+(BJ136)/1000+((F136+S136)-(G136+R136))/10000+(F136+S136)/100000+(S136)/1000000)))","v":false},{"$f":"IF(AU128=1,IF(AU127=1,SUM(AV128*1000+(BC128)/10+(BA128)/100+(BK136)/1000+((G136+R136)-(F136+S136))/10000+(G136+R136)/100000+(G136)/1000000)))","v":false},{"$f":"IF(AU129=1,IF(AU127=1,SUM(AV129*1000+(BC129)/10+(BA129)/100+(BK137)/1000+((G137+R137)-(F137+S137))/10000+(G137+R137)/100000+(G137)/1000000)))","v":false},null,{"$f":"IF(AU124=2,IF(AU128=2,SUM(AV124*1000+(BC124)/10+(BA124)/100+(BJ127)/1000+((F127+S127)-(G127+R127))/10000+(F127+S127)/100000+(S127)/1000000)))","v":false},{"$f":"IF(AU125=2,IF(AU128=2,SUM(AV125*1000+(BC125)/10+(BA125)/100+(BJ131)/1000+((F131+S131)-(G131+R131))/10000+(F131+S131)/100000+(S131)/1000000)))","v":false},{"$f":"IF(AU126=2,IF(AU128=2,SUM(AV126*1000+(BC126)/10+(BA126)/100+(BJ134)/1000+((F134+S134)-(G134+R134))/10000+(F134+S134)/100000+(S134)/1000000)))","v":false},{"$f":"IF(AU127=2,IF(AU128=2,SUM(AV127*1000+(BC127)/10+(BA127)/100+(BJ136)/1000+((F136+S136)-(G136+R136))/10000+(F136+S136)/100000+(S136)/1000000)))","v":false},{"$f":"IF(AU128=2,IF(AU127=2,SUM(AV128*1000+(BC128)/10+(BA128)/100+(BK136)/1000+((G136+R136)-(F136+S136))/10000+(G136+R136)/100000+(G136)/1000000)))","v":false},{"$f":"IF(AU129=2,IF(AU127=2,SUM(AV129*1000+(BC129)/10+(BA129)/100+(BK137)/1000+((G137+R137)-(F137+S137))/10000+(G137+R137)/100000+(G137)/1000000)))","v":false},{"$f":"IF(AU124=3,IF(AU128=3,SUM(AV124*1000+(BC124)/10+(BA124)/100+(BJ127)/1000+((F127+S127)-(G127+R127))/10000+(F127+S127)/100000+(S127)/1000000)))","v":false},{"$f":"IF(AU125=3,IF(AU128=3,SUM(AV125*1000+(BC125)/10+(BA125)/100+(BJ131)/1000+((F131+S131)-(G131+R131))/10000+(F131+S131)/100000+(S131)/1000000)))","v":false},{"$f":"IF(AU126=3,IF(AU128=3,SUM(AV126*1000+(BC126)/10+(BA126)/100+(BJ134)/1000+((F134+S134)-(G134+R134))/10000+(F134+S134)/100000+(S134)/1000000)))","v":false},{"$f":"IF(AU127=3,IF(AU128=3,SUM(AV127*1000+(BC127)/10+(BA127)/100+(BJ136)/1000+((F136+S136)-(G136+R136))/10000+(F136+S136)/100000+(S136)/1000000)))","v":false},{"$f":"IF(AU128=3,IF(AU127=3,SUM(AV128*1000+(BC128)/10+(BA128)/100+(BK136)/1000+((G136+R136)-(F136+S136))/10000+(G136+R136)/100000+(G136)/1000000)))","v":false},{"$f":"IF(AU129=3,IF(AU127=3,SUM(AV129*1000+(BC129)/10+(BA129)/100+(BK137)/1000+((G137+R137)-(F137+S137))/10000+(G137+R137)/100000+(G137)/1000000)))","v":false},{"$f":"IF(AU124=4,IF(AU128=4,SUM(AV124*1000+(BC124)/10+(BA124)/100+(BJ127)/1000+((F127+S127)-(G127+R127))/10000+(F127+S127)/100000+(S127)/1000000)))","v":false},{"$f":"IF(AU125=4,IF(AU128=4,SUM(AV125*1000+(BC125)/10+(BA125)/100+(BJ131)/1000+((F131+S131)-(G131+R131))/10000+(F131+S131)/100000+(S131)/1000000)))","v":false},{"$f":"IF(AU126=4,IF(AU128=4,SUM(AV126*1000+(BC126)/10+(BA126)/100+(BJ134)/1000+((F134+S134)-(G134+R134))/10000+(F134+S134)/100000+(S134)/1000000)))","v":false},{"$f":"IF(AU127=4,IF(AU128=4,SUM(AV127*1000+(BC127)/10+(BA127)/100+(BJ136)/1000+((F136+S136)-(G136+R136))/10000+(F136+S136)/100000+(S136)/1000000)))","v":false},{"$f":"IF(AU128=4,IF(AU127=4,SUM(AV128*1000+(BC128)/10+(BA128)/100+(BK136)/1000+((G136+R136)-(F136+S136))/10000+(G136+R136)/100000+(G136)/1000000)))","v":false},{"$f":"IF(AU129=4,IF(AU127=4,SUM(AV129*1000+(BC129)/10+(BA129)/100+(BK137)/1000+((G137+R137)-(F137+S137))/10000+(G137+R137)/100000+(G137)/1000000)))","v":false},{"$f":"IF(AU124=5,IF(AU128=5,SUM(AV124*1000+(BC124)/10+(BA124)/100+(BJ127)/1000+((F127+S127)-(G127+R127))/10000+(F127+S127)/100000+(S127)/1000000)))","v":false},{"$f":"IF(AU125=5,IF(AU128=5,SUM(AV125*1000+(BC125)/10+(BA125)/100+(BJ131)/1000+((F131+S131)-(G131+R131))/10000+(F131+S131)/100000+(S131)/1000000)))","v":false},{"$f":"IF(AU126=5,IF(AU128=5,SUM(AV126*1000+(BC126)/10+(BA126)/100+(BJ134)/1000+((F134+S134)-(G134+R134))/10000+(F134+S134)/100000+(S134)/1000000)))","v":false},{"$f":"IF(AU127=5,IF(AU128=5,SUM(AV127*1000+(BC127)/10+(BA127)/100+(BJ136)/1000+((F136+S136)-(G136+R136))/10000+(F136+S136)/100000+(S136)/1000000)))","v":false},{"$f":"IF(AU128=5,IF(AU127=5,SUM(AV128*1000+(BC128)/10+(BA128)/100+(BK136)/1000+((G136+R136)-(F136+S136))/10000+(G136+R136)/100000+(G136)/1000000)))","v":false},{"$f":"IF(AU129=5,IF(AU127=5,SUM(AV129*1000+(BC129)/10+(BA129)/100+(BK137)/1000+((G137+R137)-(F137+S137))/10000+(G137+R137)/100000+(G137)/1000000)))","v":false},{"$f":"IF(AU124=6,IF(AU128=6,SUM(AV124*1000+(BC124)/10+(BA124)/100+(BJ127)/1000+((F127+S127)-(G127+R127))/10000+(F127+S127)/100000+(S127)/1000000)))","v":false},{"$f":"IF(AU125=6,IF(AU128=6,SUM(AV125*1000+(BC125)/10+(BA125)/100+(BJ131)/1000+((F131+S131)-(G131+R131))/10000+(F131+S131)/100000+(S131)/1000000)))","v":false},{"$f":"IF(AU126=6,IF(AU128=6,SUM(AV126*1000+(BC126)/10+(BA126)/100+(BJ134)/1000+((F134+S134)-(G134+R134))/10000+(F134+S134)/100000+(S134)/1000000)))","v":false},{"$f":"IF(AU127=6,IF(AU128=6,SUM(AV127*1000+(BC127)/10+(BA127)/100+(BJ136)/1000+((F136+S136)-(G136+R136))/10000+(F136+S136)/100000+(S136)/1000000)))","v":false},{"$f":"IF(AU128=6,IF(AU127=6,SUM(AV128*1000+(BC128)/10+(BA128)/100+(BK136)/1000+((G136+R136)-(F136+S136))/10000+(G136+R136)/100000+(G136)/1000000)))","v":false},{"$f":"IF(AU129=6,IF(AU127=6,SUM(AV129*1000+(BC129)/10+(BA129)/100+(BK137)/1000+((G137+R137)-(F137+S137))/10000+(G137+R137)/100000+(G137)/1000000)))","v":false}]
[{"$f":"AP125","v":"ITALIE"},null,null,null,null,1,0,{"$f":"AP126","v":"ISRAËL"},null,null,null,null,"ISRAËL",null,null,null,null,1,3,"ITALIE",null,null,null,null,null,{"$f":"VLOOKUP(AN136,AO131:AT136,2,0)","v":"LIECHTENSTEIN"},null,null,null,null,6,{"$f":"VLOOKUP(Z129,AP124:BC129,7,0)","v":0},{"$f":"VLOOKUP(Z129,AP124:BC129,8,0)","v":10},{"$f":"VLOOKUP(Z129,AP124:BC129,9,0)","v":0},{"$f":"VLOOKUP(Z129,AP124:BC129,10,0)","v":0},{"$f":"VLOOKUP(Z129,AP124:BC129,11,0)","v":10},{"$f":"VLOOKUP(Z129,AP124:BC129,12,0)","v":1},{"$f":"VLOOKUP(Z129,AP124:BC129,13,0)","v":39},{"$f":"VLOOKUP(Z129,AP124:BC129,14,0)","v":-38},null,null,"LIECHTENSTEIN",null,null,null,null,{"$f":"RANK(AV129,AV124:AV129)","v":6},{"$f":"SUMPRODUCT((A124:E138=AP129)*(BF124:BF138))+SUMPRODUCT((H124:L138=AP129)*(BG124:BG138))+SUMPRODUCT((M124:Q138=AP129)*(BH124:BH138))+SUMPRODUCT((T124:X138=AP129)*(BI124:BI138))","v":0},{"$f":"SUMPRODUCT((A124:E138=AP129)*(BL124:BL138))+SUMPRODUCT((H124:L138=AP129)*(BM124:BM138))+SUMPRODUCT((M124:Q138=AP129)*(BN124:BN138))+SUMPRODUCT((T124:X138=AP129)*(BO124:BO138))","v":10},{"$f":"SUMPRODUCT((A124:E138=AP129)*(BP124:BP138))+SUMPRODUCT((H124:L138=AP129)*(BQ124:BQ138))+SUMPRODUCT((M124:Q138=AP129)*(BR124:BR138))+SUMPRODUCT((T124:X138=AP129)*(BS124:BS138))","v":0},{"$f":"SUMPRODUCT((A124:E138=AP129)*(BT124:BT138))+SUMPRODUCT((H124:L138=AP129)*(BU124:BU138))+SUMPRODUCT((M124:Q138=AP129)*(BV124:BV138))+SUMPRODUCT((T124:X138=AP129)*(BW124:BW138))","v":0},{"$f":"SUMPRODUCT((A124:E138=AP129)*(BX124:BX138))+SUMPRODUCT((H124:L138=AP129)*(BY124:BY138))+SUMPRODUCT((M124:Q138=AP129)*(BZ124:BZ138))+SUMPRODUCT((T124:X138=AP129)*(CA124:CA138))","v":10},{"$f":"SUMPRODUCT((A124:E138=AP129)*(CB124:CB138))+SUMPRODUCT((H124:L138=AP129)*(CC124:CC138))+SUMPRODUCT((M124:Q138=AP129)*(CD124:CD138))+SUMPRODUCT((T124:X138=AP129)*(CE124:CE138))","v":1},{"$f":"SUMPRODUCT((A124:E138=AP129)*(CH124:CH138))+SUMPRODUCT((H124:L138=AP129)*(CI124:CI138))+SUMPRODUCT((M124:Q138=AP129)*(CJ124:CJ138))+SUMPRODUCT((T124:X138=AP129)*(CK124:CK138))","v":39},-38,null,null,3,0,0,3,6,0,1,1,1,1,1,false,false,1,false,false,false,false,false,1,1,false,1,0,1,3,4,1,0,1,3,1,1,4,{"$f":"IF(AU124=1,IF(AU129=1,SUM(AV124*1000+(BC124)/10+(BA124)/100+(BJ128)/1000+((F128+S128)-(G128+R128))/10000+(F128+S128)/100000+(S128)/1000000)))","v":false},{"$f":"IF(AU125=1,IF(AU129=1,SUM(AV125*1000+(BC125)/10+(BA125)/100+(BJ132)/1000+((F132+S132)-(G132+R132))/10000+(F132+S132)/100000+(S132)/1000000)))","v":false},{"$f":"IF(AU126=1,IF(AU129=1,SUM(AV126*1000+(BC126)/10+(BA126)/100+(BJ135)/1000+((F135+S135)-(G135+R135))/10000+(F135+S135)/100000+(S135)/1000000)))","v":false},{"$f":"IF(AU127=1,IF(AU129=1,SUM(AV127*1000+(BC127)/10+(BA127)/100+(BJ137)/1000+((F137+S137)-(G137+R137))/10000+(F137+S137)/100000+(S137)/1000000)))","v":false},{"$f":"IF(AU128=1,IF(AU129=1,SUM(AV128*1000+(BC128)/10+(BA128)/100+(BJ138)/1000+((F138+S138)-(G138+R138))/10000+(F138+S138)/100000+(S138)/1000000)))","v":false},{"$f":"IF(AU129=1,IF(AU128=1,SUM(AV129*1000+(BC129)/10+(BA129)/100+(BK138)/1000+((G138+R138)-(F138+S138))/10000+(G138+R138)/100000+(G138)/1000000)))","v":false},null,{"$f":"IF(AU124=2,IF(AU129=2,SUM(AV124*1000+(BC124)/10+(BA124)/100+(BJ128)/1000+((F128+S128)-(G128+R128))/10000+(F128+S128)/100000+(S128)/1000000)))","v":false},{"$f":"IF(AU125=2,IF(AU129=2,SUM(AV125*1000+(BC125)/10+(BA125)/100+(BJ132)/1000+((F132+S132)-(G132+R132))/10000+(F132+S132)/100000+(S132)/1000000)))","v":false},{"$f":"IF(AU126=2,IF(AU129=2,SUM(AV126*1000+(BC126)/10+(BA126)/100+(BJ135)/1000+((F135+S135)-(G135+R135))/10000+(F135+S135)/100000+(S135)/1000000)))","v":false},{"$f":"IF(AU127=2,IF(AU129=2,SUM(AV127*1000+(BC127)/10+(BA127)/100+(BJ137)/1000+((F137+S137)-(G137+R137))/10000+(F137+S137)/100000+(S137)/1000000)))","v":false},{"$f":"IF(AU128=2,IF(AU129=2,SUM(AV128*1000+(BC128)/10+(BA128)/100+(BJ138)/1000+((F138+S138)-(G138+R138))/10000+(F138+S138)/100000+(S138)/1000000)))","v":false},{"$f":"IF(AU129=2,IF(AU128=2,SUM(AV129*1000+(BC129)/10+(BA129)/100+(BK138)/1000+((G138+R138)-(F138+S138))/10000+(G138+R138)/100000+(G138)/1000000)))","v":false},{"$f":"IF(AU124=3,IF(AU129=3,SUM(AV124*1000+(BC124)/10+(BA124)/100+(BJ128)/1000+((F128+S128)-(G128+R128))/10000+(F128+S128)/100000+(S128)/1000000)))","v":false},{"$f":"IF(AU125=3,IF(AU129=3,SUM(AV125*1000+(BC125)/10+(BA125)/100+(BJ132)/1000+((F132+S132)-(G132+R132))/10000+(F132+S132)/100000+(S132)/1000000)))","v":false},{"$f":"IF(AU126=3,IF(AU129=3,SUM(AV126*1000+(BC126)/10+(BA126)/100+(BJ135)/1000+((F135+S135)-(G135+R135))/10000+(F135+S135)/100000+(S135)/1000000)))","v":false},{"$f":"IF(AU127=3,IF(AU129=3,SUM(AV127*1000+(BC127)/10+(BA127)/100+(BJ137)/1000+((F137+S137)-(G137+R137))/10000+(F137+S137)/100000+(S137)/1000000)))","v":false},{"$f":"IF(AU128=3,IF(AU129=3,SUM(AV128*1000+(BC128)/10+(BA128)/100+(BJ138)/1000+((F138+S138)-(G138+R138))/10000+(F138+S138)/100000+(S138)/1000000)))","v":false},{"$f":"IF(AU129=3,IF(AU128=3,SUM(AV129*1000+(BC129)/10+(BA129)/100+(BK138)/1000+((G138+R138)-(F138+S138))/10000+(G138+R138)/100000+(G138)/1000000)))","v":false},{"$f":"IF(AU124=4,IF(AU129=4,SUM(AV124*1000+(BC124)/10+(BA124)/100+(BJ128)/1000+((F128+S128)-(G128+R128))/10000+(F128+S128)/100000+(S128)/1000000)))","v":false},{"$f":"IF(AU125=4,IF(AU129=4,SUM(AV125*1000+(BC125)/10+(BA125)/100+(BJ132)/1000+((F132+S132)-(G132+R132))/10000+(F132+S132)/100000+(S132)/1000000)))","v":false},{"$f":"IF(AU126=4,IF(AU129=4,SUM(AV126*1000+(BC126)/10+(BA126)/100+(BJ135)/1000+((F135+S135)-(G135+R135))/10000+(F135+S135)/100000+(S135)/1000000)))","v":false},{"$f":"IF(AU127=4,IF(AU129=4,SUM(AV127*1000+(BC127)/10+(BA127)/100+(BJ137)/1000+((F137+S137)-(G137+R137))/10000+(F137+S137)/100000+(S137)/1000000)))","v":false},{"$f":"IF(AU128=4,IF(AU129=4,SUM(AV128*1000+(BC128)/10+(BA128)/100+(BJ138)/1000+((F138+S138)-(G138+R138))/10000+(F138+S138)/100000+(S138)/1000000)))","v":false},{"$f":"IF(AU129=4,IF(AU128=4,SUM(AV129*1000+(BC129)/10+(BA129)/100+(BK138)/1000+((G138+R138)-(F138+S138))/10000+(G138+R138)/100000+(G138)/1000000)))","v":false},{"$f":"IF(AU124=5,IF(AU129=5,SUM(AV124*1000+(BC124)/10+(BA124)/100+(BJ128)/1000+((F128+S128)-(G128+R128))/10000+(F128+S128)/100000+(S128)/1000000)))","v":false},{"$f":"IF(AU125=5,IF(AU129=5,SUM(AV125*1000+(BC125)/10+(BA125)/100+(BJ132)/1000+((F132+S132)-(G132+R132))/10000+(F132+S132)/100000+(S132)/1000000)))","v":false},{"$f":"IF(AU126=5,IF(AU129=5,SUM(AV126*1000+(BC126)/10+(BA126)/100+(BJ135)/1000+((F135+S135)-(G135+R135))/10000+(F135+S135)/100000+(S135)/1000000)))","v":false},{"$f":"IF(AU127=5,IF(AU129=5,SUM(AV127*1000+(BC127)/10+(BA127)/100+(BJ137)/1000+((F137+S137)-(G137+R137))/10000+(F137+S137)/100000+(S137)/1000000)))","v":false},{"$f":"IF(AU128=5,IF(AU129=5,SUM(AV128*1000+(BC128)/10+(BA128)/100+(BJ138)/1000+((F138+S138)-(G138+R138))/10000+(F138+S138)/100000+(S138)/1000000)))","v":false},{"$f":"IF(AU129=5,IF(AU128=5,SUM(AV129*1000+(BC129)/10+(BA129)/100+(BK138)/1000+((G138+R138)-(F138+S138))/10000+(G138+R138)/100000+(G138)/1000000)))","v":false},{"$f":"IF(AU124=6,IF(AU129=6,SUM(AV124*1000+(BC124)/10+(BA124)/100+(BJ128)/1000+((F128+S128)-(G128+R128))/10000+(F128+S128)/100000+(S128)/1000000)))","v":false},{"$f":"IF(AU125=6,IF(AU129=6,SUM(AV125*1000+(BC125)/10+(BA125)/100+(BJ132)/1000+((F132+S132)-(G132+R132))/10000+(F132+S132)/100000+(S132)/1000000)))","v":false},{"$f":"IF(AU126=6,IF(AU129=6,SUM(AV126*1000+(BC126)/10+(BA126)/100+(BJ135)/1000+((F135+S135)-(G135+R135))/10000+(F135+S135)/100000+(S135)/1000000)))","v":false},{"$f":"IF(AU127=6,IF(AU129=6,SUM(AV127*1000+(BC127)/10+(BA127)/100+(BJ137)/1000+((F137+S137)-(G137+R137))/10000+(F137+S137)/100000+(S137)/1000000)))","v":false},{"$f":"IF(AU128=6,IF(AU129=6,SUM(AV128*1000+(BC128)/10+(BA128)/100+(BJ138)/1000+((F138+S138)-(G138+R138))/10000+(F138+S138)/100000+(S138)/1000000)))","v":false},{"$f":"IF(AU129=6,IF(AU128=6,SUM(AV129*1000+(BC129)/10+(BA129)/100+(BK138)/1000+((G138+R138)-(F138+S138))/10000+(G138+R138)/100000+(G138)/1000000)))","v":false}]
[{"$f":"AP125","v":"ITALIE"},null,null,null,null,2,0,{"$f":"AP127","v":"ALBANIE"},null,null,null,null,"ALBANIE",null,null,null,null,0,1,"ITALIE",null,null,null,null,null,null,null,null,null,null,null,null,null,null,null,null,null,null,null,null,null,null,null,null,null,null,null,null,null,null,null,null,null,null,null,null,null,3,0,0,3,6,0,1,1,1,1,1,false,false,1,false,false,false,false,false,1,1,false,2,0,0,1,3,0,0,2,1,0,0,3,{"$f":"SUM(CN124:CN129)","v":1000000},0,0,0,0,0,null,{"$f":"SUM(CU124:CU129)","v":0},800000,0,0,0,0,0,0,0,600000,0,0,0,0,400000,0,0,0,0,0,0,0,200000,0,0,0,0,0,0,100000]
[{"$f":"AP125","v":"ITALIE"},null,null,null,null,1,1,{"$f":"AP128","v":"MACÉDOINE"},null,null,null,null,"MACÉDOINE",null,null,null,null,2,3,"ITALIE",null,null,null,null,null,null,null,null,null,null,null,null,null,null,null,null,null,null,null,1,{"$f":"BA131","v":1},{"$f":"AP124","v":"ESPAGNE"},null,null,null,null,{"$f":"SUM(CN130,CU130,DA130,DG130,DM130,DS130)","v":1000000},null,null,{"$f":"AU131+0.00000006","v":1000000.00000006},null,null,{"$f":"RANK(AX131,AX131:AZ136)","v":1},{"$f":"RANK(AU131,AU131:AW136)","v":1},null,null,null,1,1,0,3,4,1,1,1,1,1,false,false,false,1,1,1,false,false,false,false,1,false,1,1,2,3,4,3,1,1,3,2,3,4]
[{"$f":"AP125","v":"ITALIE"},null,null,null,null,5,0,{"$f":"AP129","v":"LIECHTENSTEIN"},null,null,null,null,"LIECHTENSTEIN",null,null,null,null,0,4,"ITALIE",null,null,null,null,null,null,null,null,null,null,null,null,null,null,null,null,null,null,null,2,{"$f":"BA132","v":2},{"$f":"AP125","v":"ITALIE"},null,null,null,null,{"$f":"SUM(CO130,CV130,DB130,DH130,DN130,DT130)","v":800000},null,null,{"$f":"AU132+0.00000005","v":800000.00000004994},null,null,{"$f":"RANK(AX132,AX131:AZ136)","v":2},{"$f":"RANK(AU132,AU131:AW136)","v":2},null,null,null,3,0,0,3,6,0,1,1,1,1,1,false,false,1,false,false,false,false,false,1,1,false,5,0,0,4,9,0,0,5,4,0,0,9,{"$f":"VLOOKUP(AN131,AO131:AT136,2,0)","v":"ESPAGNE"},null,null,null,null,null,{"$f":"VLOOKUP(CN132,AP131:AW136,6,0)","v":1000000},null,null,{"$f":"RANK(CT132,CT132:CV137)","v":1}]
[{"$f":"AP126","v":"ISRAËL"},null,null,null,null,0,3,{"$f":"AP127","v":"ALBANIE"},null,null,null,null,"ALBANIE",null,null,null,null,0,3,"ISRAËL",null,null,null,null,null,"ÉQUIPE QUALIFIÉE",null,null,null,{"$f":"Z124","v":"ESPAGNE"},null,null,null,null,null,null,null,null,null,3,4,"ISRAËL",null,null,null,null,{"$f":"SUM(CP130,CW130,DC130,DI130,DO130,DU130)","v":400000},null,null,{"$f":"AU133+0.00000004","v":400000.00000003999},null,null,{"$f":"RANK(AX133,AX131:AZ136)","v":4},{"$f":"RANK(AU133,AU131:AW136)","v":4},null,null,null,0,3,0,3,3,3,1,1,1,1,false,1,false,1,false,false,false,false,1,false,1,false,0,3,0,3,3,3,3,0,3,0,3,3,{"$f":"VLOOKUP(AN132,AO131:AT136,2,0)","v":"ITALIE"},null,null,null,null,null,{"$f":"VLOOKUP(CN133,AP131:AW136,6,0)","v":800000},null,null,{"$f":"RANK(CT133,CT132:CV137)","v":2}]
[{"$f":"AP126","v":"ISRAËL"},null,null,null,null,0,1,{"$f":"AP128","v":"MACÉDOINE"},null,null,null,null,"MACÉDOINE",null,null,null,null,1,2,"ISRAËL",null,null,null,null,null,null,null,null,null,null,null,null,null,null,null,null,null,null,null,4,3,"ALBANIE",null,null,null,null,{"$f":"SUM(CQ130,CX130,DD130,DJ130,DP130,DV130)","v":600000},null,null,{"$f":"AU134+0.00000003","v":600000.00000003004},null,null,{"$f":"RANK(AX134,AX131:AZ136)","v":3},{"$f":"RANK(AU134,AU131:AW136)","v":3},null,null,null,0,3,0,3,3,3,1,1,1,1,false,1,false,1,false,false,false,false,1,false,1,false,0,1,1,2,2,2,1,0,2,1,2,2,{"$f":"VLOOKUP(AN133,AO131:AT136,2,0)","v":"ALBANIE"},null,null,null,null,null,{"$f":"VLOOKUP(CN134,AP131:AW136,6,0)","v":600000},null,null,{"$f":"RANK(CT134,CT132:CV137)","v":3}]
[{"$f":"AP126","v":"ISRAËL"},null,null,null,null,2,1,{"$f":"AP129","v":"LIECHTENSTEIN"},null,null,null,null,"LIECHTENSTEIN",null,null,null,null,0,1,"ISRAËL",null,null,null,null,null,null,null,null,null,null,null,null,null,null,null,null,null,null,null,5,5,"MACÉDOINE",null,null,null,null,{"$f":"SUM(CR130,CY130,DE130,DK130,DQ130,DW130)","v":200000},null,null,{"$f":"AU135+0.00000002","v":200000.00000001999},null,null,{"$f":"RANK(AX135,AX131:AZ136)","v":5},{"$f":"RANK(AU135,AU131:AW136)","v":5},null,null,null,3,0,0,3,6,0,1,1,1,1,1,false,false,1,false,false,false,false,false,1,1,false,2,1,0,1,3,1,1,2,1,0,1,3,{"$f":"VLOOKUP(AN134,AO131:AT136,2,0)","v":"ISRAËL"},null,null,null,null,null,{"$f":"VLOOKUP(CN135,AP131:AW136,6,0)","v":400000},null,null,{"$f":"RANK(CT135,CT132:CV137)","v":4}]
[{"$f":"AP127","v":"ALBANIE"},null,null,null,null,2,1,{"$f":"AP128","v":"MACÉDOINE"},null,null,null,null,"MACÉDOINE",null,null,null,null,1,1,"ALBANIE",null,null,null,null,null,"BARRAGE",null,null,null,{"$f":"IF(M188=9,\"\",D188)","v":"ITALIE"},null,null,null,null,null,null,null,null,null,6,6,"LIECHTENSTEIN",null,null,null,null,{"$f":"SUM(CS130,CZ130,DF130,DL130,DR130,DX130)","v":100000},null,null,{"$f":"AU136+0.00000001","v":100000.00000001},null,null,{"$f":"RANK(AX136,AX131:AZ136)","v":6},{"$f":"RANK(AU136,AU131:AW136)","v":6},null,null,null,3,0,1,1,4,1,1,1,1,1,1,false,false,false,false,false,1,1,false,1,false,false,2,1,1,1,3,2,1,2,1,1,2,3,{"$f":"VLOOKUP(AN135,AO131:AT136,2,0)","v":"MACÉDOINE"},null,null,null,null,null,{"$f":"VLOOKUP(CN136,AP131:AW136,6,0)","v":200000},null,null,{"$f":"RANK(CT136,CT132:CV137)","v":5}]
[{"$f":"AP127","v":"ALBANIE"},null,null,null,null,2,0,{"$f":"AP129","v":"LIECHTENSTEIN"},null,null,null,null,"LIECHTENSTEIN",null,null,null,null,0,2,"ALBANIE",null,null,null,null,null,null,null,null,null,null,null,null,null,null,null,null,null,null,null,null,null,null,null,null,null,null,null,null,null,null,null,null,null,null,null,null,null,3,0,0,3,6,0,1,1,1,1,1,false,false,1,false,false,false,false,false,1,1,false,2,0,0,2,4,0,0,2,2,0,0,4,{"$f":"VLOOKUP(AN136,AO131:AT136,2,0)","v":"LIECHTENSTEIN"},null,null,null,null,null,{"$f":"VLOOKUP(CN137,AP131:AW136,6,0)","v":100000},null,null,{"$f":"RANK(CT137,CT132:CV137)","v":6}]
[{"$f":"AP128","v":"MACÉDOINE"},null,null,null,null,4,0,{"$f":"AP129","v":"LIECHTENSTEIN"},null,null,null,null,"LIECHTENSTEIN",null,null,null,null,0,3,"MACÉDOINE",null,null,null,null,null,null,null,null,null,null,null,null,null,null,null,null,null,null,null,null,null,null,null,null,null,null,null,null,null,null,null,null,null,null,null,null,null,3,0,0,3,6,0,1,1,1,1,1,false,false,1,false,false,false,false,false,1,1,false,4,0,0,3,7,0,0,4,3,0,0,7]
[]
[]
["MATCHS  ALLER",null,null,null,null,null,null,null,null,"GROUPE  H",null,null,null,null,null,"MATCHS  RETOUR",null,null,null,null,null,null,null,null,"GROUPE  H","CLASSEMENT",null,null,null,null,null,null,null,null,null,null,null,null,null,null,null,"CLASSEMENT"]
[]
["Équipes",null,null,null,null,"Bts","Bts","Équipes",null,null,null,null,"Équipes",null,null,null,null,"Bts","Bts","Équipes",null,null,null,null,null,"Équipes",null,null,null,null,"R","Pts","J","G","N","P","B +","B -","Diff",null,null,"Équipes",null,null,null,null,"R","Pts","J","G","N","P","B +","B -","Diff",null,null,"pts","pts","pts","pts","t pts","t pts","j","j","j","j","g","g","g","g","n","n","n","n","p","p","p","p","b+","b+","b+","b+","b+","b+","b-","b-","b-","b-","b-","b-",{"$f":"AP144","v":"BELGIQUE"},{"$f":"AP145","v":"GRÈCE"},{"$f":"AP146","v":"BOSNIE"},{"$f":"AP147","v":"CHYPRE"},{"$f":"AP148","v":"ESTONIE"},{"$f":"AP149","v":"GIBRALTAR"},null,{"$f":"CN143","v":"BELGIQUE"},{"$f":"CO143","v":"GRÈCE"},{"$f":"CP143","v":"BOSNIE"},{"$f":"CQ143","v":"CHYPRE"},{"$f":"CR143","v":"ESTONIE"},{"$f":"CS143","v":"GIBRALTAR"},{"$f":"CN143","v":"BELGIQUE"},{"$f":"CO143","v":"GRÈCE"},{"$f":"CP143","v":"BOSNIE"},{"$f":"CQ143","v":"CHYPRE"},{"$f":"CR143","v":"ESTONIE"},{"$f":"CS143","v":"GIBRALTAR"},{"$f":"CN143","v":"BELGIQUE"},{"$f":"CO143","v":"GRÈCE"},{"$f":"CP143","v":"BOSNIE"},{"$f":"CQ143","v":"CHYPRE"},{"$f":"CR143","v":"ESTONIE"},{"$f":"CS143","v":"GIBRALTAR"},{"$f":"CN143","v":"BELGIQUE"},{"$f":"CO143","v":"GRÈCE"},{"$f":"CP143","v":"BOSNIE"},{"$f":"CQ143","v":"CHYPRE"},{"$f":"CR143","v":"ESTONIE"},{"$f":"CS143","v":"GIBRALTAR"},{"$f":"CN143","v":"BELGIQUE"},{"$f":"CO143","v":"GRÈCE"},{"$f":"CP143","v":"BOSNIE"},{"$f":"CQ143","v":"CHYPRE"},{"$f":"CR143","v":"ESTONIE"},{"$f":"CS143","v":"GIBRALTAR"}]
[{"$f":"AP144","v":"BELGIQUE"},null,null,null,null,1,1,{"$f":"AP145","v":"GRÈCE"},null,null,null,null,{"$f":"H144","v":"GRÈCE"},null,null,null,null,1,2,{"$f":"A144","v":"BELGIQUE"},null,null,null,null,null,{"$f":"VLOOKUP(AN151,AO151:AT156,2,0)","v":"BELGIQUE"},null,null,null,null,1,{"$f":"VLOOKUP(Z144,AP144:BC149,7,0)","v":28},{"$f":"VLOOKUP(Z144,AP144:BC149,8,0)","v":10},{"$f":"VLOOKUP(Z144,AP144:BC149,9,0)","v":9},{"$f":"VLOOKUP(Z144,AP144:BC149,10,0)","v":1},{"$f":"VLOOKUP(Z144,AP144:BC149,11,0)","v":0},{"$f":"VLOOKUP(Z144,AP144:BC149,12,0)","v":43},{"$f":"VLOOKUP(Z144,AP144:BC149,13,0)","v":6},{"$f":"VLOOKUP(Z144,AP144:BC149,14,0)","v":37},null,null,"BELGIQUE",null,null,null,null,{"$f":"RANK(AV144,AV144:AV149)","v":1},{"$f":"SUMPRODUCT((A144:E158=AP144)*(BF144:BF158))+SUMPRODUCT((H144:L158=AP144)*(BG144:BG158))+SUMPRODUCT((M144:Q158=AP144)*(BH144:BH158))+SUMPRODUCT((T144:X158=AP144)*(BI144:BI158))","v":28},{"$f":"SUMPRODUCT((A144:E158=AP144)*(BL144:BL158))+SUMPRODUCT((H144:L158=AP144)*(BM144:BM158))+SUMPRODUCT((M144:Q158=AP144)*(BN144:BN158))+SUMPRODUCT((T144:X158=AP144)*(BO144:BO158))","v":10},{"$f":"SUMPRODUCT((A144:E158=AP144)*(BP144:BP158))+SUMPRODUCT((H144:L158=AP144)*(BQ144:BQ158))+SUMPRODUCT((M144:Q158=AP144)*(BR144:BR158))+SUMPRODUCT((T144:X158=AP144)*(BS144:BS158))","v":9},{"$f":"SUMPRODUCT((A144:E158=AP144)*(BT144:BT158))+SUMPRODUCT((H144:L158=AP144)*(BU144:BU158))+SUMPRODUCT((M144:Q158=AP144)*(BV144:BV158))+SUMPRODUCT((T144:X158=AP144)*(BW144:BW158))","v":1},{"$f":"SUMPRODUCT((A144:E158=AP144)*(BX144:BX158))+SUMPRODUCT((H144:L158=AP144)*(BY144:BY158))+SUMPRODUCT((M144:Q158=AP144)*(BZ144:BZ158))+SUMPRODUCT((T144:X158=AP144)*(CA144:CA158))","v":0},{"$f":"SUMPRODUCT((A144:E158=AP144)*(CB144:CB158))+SUMPRODUCT((H144:L158=AP144)*(CC144:CC158))+SUMPRODUCT((M144:Q158=AP144)*(CD144:CD158))+SUMPRODUCT((T144:X158=AP144)*(CE144:CE158))","v":43},{"$f":"SUMPRODUCT((A144:E158=AP144)*(CH144:CH158))+SUMPRODUCT((H144:L158=AP144)*(CI144:CI158))+SUMPRODUCT((M144:Q158=AP144)*(CJ144:CJ158))+SUMPRODUCT((T144:X158=AP144)*(CK144:CK158))","v":6},{"$f":"BA144-BB144","v":37},null,null,{"$f":"IF(F144=\"\",0,IF(F144>G144,3,IF(F144=G144,1,IF(F144<G144,0))))","v":1},{"$f":"IF(G144=\"\",0,IF(G144>F144,3,IF(G144=F144,1,IF(G144<F144,0))))","v":1},{"$f":"IF(R144=\"\",0,IF(R144>S144,3,IF(R144=S144,1,IF(R144<S144,0))))","v":0},{"$f":"IF(S144=\"\",0,IF(S144>R144,3,IF(S144=R144,1,IF(S144<R144,0))))","v":3},{"$f":"BF144+BI144","v":4},{"$f":"BG144+BH144","v":1},{"$f":"IF(F144=\"\",0,1)","v":1},{"$f":"IF(G144=\"\",0,1)","v":1},{"$f":"IF(R144=\"\",0,1)","v":1},{"$f":"IF(S144=\"\",0,1)","v":1},{"$f":"IF(F144<>\"\",IF(F144>G144,1))","v":false},{"$f":"IF(G144<>\"\",IF(G144>F144,1))","v":false},{"$f":"IF(R144<>\"\",IF(R144>S144,1))","v":false},{"$f":"IF(S144<>\"\",IF(S144>R144,1))","v":1},{"$f":"IF(F144<>\"\",IF(F144=G144,1))","v":1},{"$f":"IF(G144<>\"\",IF(G144=F144,1))","v":1},{"$f":"IF(R144<>\"\",IF(R144=S144,1))","v":false},{"$f":"IF(S144<>\"\",IF(S144=R144,1))","v":false},{"$f":"IF(F144<>\"\",IF(F144<G144,1))","v":false},{"$f":"IF(G144<>\"\",IF(G144<F144,1))","v":false},{"$f":"IF(R144<>\"\",IF(R144<S144,1))","v":1},{"$f":"IF(S144<>\"\",IF(S144<R144,1))","v":false},{"$f":"F144","v":1},{"$f":"G144","v":1},{"$f":"R144","v":1},{"$f":"S144","v":2},{"$f":"CB144+CE144","v":3},{"$f":"CC144+CD144","v":2},{"$f":"G144","v":1},{"$f":"F144","v":1},{"$f":"S144","v":2},{"$f":"R144","v":1},{"$f":"CH144+CK144","v":2},{"$f":"CI144+CJ144","v":3},{"$f":"IF(AU144=1,1000000)","v":1000000},{"$f":"IF(AU145=1,1000000)","v":false},{"$f":"IF(AU146=1,1000000)","v":false},{"$f":"IF(AU147=1,1000000)","v":false},{"$f":"IF(AU148=1,1000000)","v":false},{"$f":"IF(AU149=1,1000000)","v":false},null,{"$f":"IF(AU144=2,800000)","v":false},{"$f":"IF(AU145=2,800000)","v":800000},{"$f":"IF(AU146=2,800000)","v":false},{"$f":"IF(AU147=2,800000)","v":false},{"$f":"IF(AU148=2,800000)","v":false},{"$f":"IF(AU149=2,800000)","v":false},{"$f":"IF(AU144=3,600000)","v":false},{"$f":"IF(AU145=3,600000)","v":false},{"$f":"IF(AU146=3,600000)","v":600000},{"$f":"IF(AU147=3,600000)","v":false},{"$f":"IF(AU148=3,600000)","v":false},{"$f":"IF(AU149=3,600000)","v":false},{"$f":"IF(AU144=4,400000)","v":false},{"$f":"IF(AU145=4,400000)","v":false},{"$f":"IF(AU146=4,400000)","v":false},{"$f":"IF(AU147=4,400000)","v":false},{"$f":"IF(AU148=4,400000)","v":400000},{"$f":"IF(AU149=4,400000)","v":false},{"$f":"IF(AU144=5,200000)","v":false},{"$f":"IF(AU145=5,200000)","v":false},{"$f":"IF(AU146=5,200000)","v":false},{"$f":"IF(AU147=5,200000)","v":200000},{"$f":"IF(AU148=5,200000)","v":false},{"$f":"IF(AU149=5,200000)","v":false},{"$f":"IF(AU144=6,100000)","v":false},{"$f":"IF(AU145=6,100000)","v":false},{"$f":"IF(AU146=6,100000)","v":false},{"$f":"IF(AU147=6,100000)","v":false},{"$f":"IF(AU148=6,100000)","v":false},{"$f":"IF(AU149=6,100000)","v":100000}]
[{"$f":"AP144","v":"BELGIQUE"},null,null,null,null,4,0,{"$f":"AP146","v":"BOSNIE"},null,null,null,null,{"$f":"H145","v":"BOSNIE"},null,null,null,null,3,4,{"$f":"A145","v":"BELGIQUE"},null,null,null,null,null,{"$f":"VLOOKUP(AN152,AO151:AT156,2,0)","v":"GRÈCE"},null,null,null,null,{"$f":"IF(CT153=CT152,CW152,CW153)","v":2},{"$f":"VLOOKUP(Z145,AP144:BC149,7,0)","v":19},{"$f":"VLOOKUP(Z145,AP144:BC149,8,0)","v":10},{"$f":"VLOOKUP(Z145,AP144:BC149,9,0)","v":5},{"$f":"VLOOKUP(Z145,AP144:BC149,10,0)","v":4},{"$f":"VLOOKUP(Z145,AP144:BC149,11,0)","v":1},{"$f":"VLOOKUP(Z145,AP144:BC149,12,0)","v":17},{"$f":"VLOOKUP(Z145,AP144:BC149,13,0)","v":6},{"$f":"VLOOKUP(Z145,AP144:BC149,14,0)","v":11},null,null,"GRÈCE",null,null,null,null,{"$f":"RANK(AV145,AV144:AV149)","v":2},{"$f":"SUMPRODUCT((A144:E158=AP145)*(BF144:BF158))+SUMPRODUCT((H144:L158=AP145)*(BG144:BG158))+SUMPRODUCT((M144:Q158=AP145)*(BH144:BH158))+SUMPRODUCT((T144:X158=AP145)*(BI144:BI158))","v":19},{"$f":"SUMPRODUCT((A144:E158=AP145)*(BL144:BL158))+SUMPRODUCT((H144:L158=AP145)*(BM144:BM158))+SUMPRODUCT((M144:Q158=AP145)*(BN144:BN158))+SUMPRODUCT((T144:X158=AP145)*(BO144:BO158))","v":10},{"$f":"SUMPRODUCT((A144:E158=AP145)*(BP144:BP158))+SUMPRODUCT((H144:L158=AP145)*(BQ144:BQ158))+SUMPRODUCT((M144:Q158=AP145)*(BR144:BR158))+SUMPRODUCT((T144:X158=AP145)*(BS144:BS158))","v":5},{"$f":"SUMPRODUCT((A144:E158=AP145)*(BT144:BT158))+SUMPRODUCT((H144:L158=AP145)*(BU144:BU158))+SUMPRODUCT((M144:Q158=AP145)*(BV144:BV158))+SUMPRODUCT((T144:X158=AP145)*(BW144:BW158))","v":4},{"$f":"SUMPRODUCT((A144:E158=AP145)*(BX144:BX158))+SUMPRODUCT((H144:L158=AP145)*(BY144:BY158))+SUMPRODUCT((M144:Q158=AP145)*(BZ144:BZ158))+SUMPRODUCT((T144:X158=AP145)*(CA144:CA158))","v":1},{"$f":"SUMPRODUCT((A144:E158=AP145)*(CB144:CB158))+SUMPRODUCT((H144:L158=AP145)*(CC144:CC158))+SUMPRODUCT((M144:Q158=AP145)*(CD144:CD158))+SUMPRODUCT((T144:X158=AP145)*(CE144:CE158))","v":17},{"$f":"SUMPRODUCT((A144:E158=AP145)*(CH144:CH158))+SUMPRODUCT((H144:L158=AP145)*(CI144:CI158))+SUMPRODUCT((M144:Q158=AP145)*(CJ144:CJ158))+SUMPRODUCT((T144:X158=AP145)*(CK144:CK158))","v":6},{"$f":"BA145-BB145","v":11},null,null,{"$f":"IF(F145=\"\",0,IF(F145>G145,3,IF(F145=G145,1,IF(F145<G145,0))))","v":3},{"$f":"IF(G145=\"\",0,IF(G145>F145,3,IF(G145=F145,1,IF(G145<F145,0))))","v":0},{"$f":"IF(R145=\"\",0,IF(R145>S145,3,IF(R145=S145,1,IF(R145<S145,0))))","v":0},{"$f":"IF(S145=\"\",0,IF(S145>R145,3,IF(S145=R145,1,IF(S145<R145,0))))","v":3},{"$f":"BF145+BI145","v":6},{"$f":"BG145+BH145","v":0},{"$f":"IF(F145=\"\",0,1)","v":1},{"$f":"IF(G145=\"\",0,1)","v":1},{"$f":"IF(R145=\"\",0,1)","v":1},{"$f":"IF(S145=\"\",0,1)","v":1},{"$f":"IF(F145<>\"\",IF(F145>G145,1))","v":1},{"$f":"IF(G145<>\"\",IF(G145>F145,1))","v":false},{"$f":"IF(R145<>\"\",IF(R145>S145,1))","v":false},{"$f":"IF(S145<>\"\",IF(S145>R145,1))","v":1},{"$f":"IF(F145<>\"\",IF(F145=G145,1))","v":false},{"$f":"IF(G145<>\"\",IF(G145=F145,1))","v":false},{"$f":"IF(R145<>\"\",IF(R145=S145,1))","v":false},{"$f":"IF(S145<>\"\",IF(S145=R145,1))","v":false},{"$f":"IF(F145<>\"\",IF(F145<G145,1))","v":false},{"$f":"IF(G145<>\"\",IF(G145<F145,1))","v":1},{"$f":"IF(R145<>\"\",IF(R145<S145,1))","v":1},{"$f":"IF(S145<>\"\",IF(S145<R145,1))","v":false},{"$f":"F145","v":4},{"$f":"G145","v":0},{"$f":"R145","v":3},{"$f":"S145","v":4},{"$f":"CB145+CE145","v":8},{"$f":"CC145+CD145","v":3},{"$f":"G145","v":0},{"$f":"F145","v":4},{"$f":"S145","v":4},{"$f":"R145","v":3},{"$f":"CH145+CK145","v":3},{"$f":"CI145+CJ145","v":8},{"$f":"IF(AU144=1,IF(AU145=1,SUM(AV144*1000+(BC144)/10+(BA144)/100+(BJ144)/1000+((F144+S144)-(G144+R144))/10000+(F144+S144)/100000+(S144)/1000000)))","v":false},{"$f":"IF(AU145=1,IF(AU144=1,SUM(AV145*1000+(BC145)/10+(BA145)/100+(BK144)/1000+((G144+R144)-(F144+S144))/10000+(G144+R144)/100000+(G144)/1000000)))","v":false},{"$f":"IF(AU146=1,IF(AU144=1,SUM(AV146*1000+(BC146)/10+(BA146)/100+(BK145)/1000+((G145+R145)-(F145+S145))/10000+(G145+R145)/100000+(G145)/1000000)))","v":false},{"$f":"IF(AU147=1,IF(AU144=1,SUM(AV147*1000+(BC147)/10+(BA147)/100+(BK146)/1000+((G146+R146)-(F146+S146))/10000+(G146+R146)/100000+(G146)/1000000)))","v":false},{"$f":"IF(AU148=1,IF(AU144=1,SUM(AV148*1000+(BC148)/10+(BA148)/100+(BK147)/1000+((G147+R147)-(F147+S147))/10000+(G147+R147)/100000+(G147)/1000000)))","v":false},{"$f":"IF(AU149=1,IF(AU144=1,SUM(AV149*1000+(BC149)/10+(BA149)/100+(BK148)/1000+((G148+R148)-(F148+S148))/10000+(G148+R148)/100000+(G148)/1000000)))","v":false},null,{"$f":"IF(AU144=2,IF(AU145=2,SUM(AV144*1000+(BC144)/10+(BA144)/100+(BJ144)/1000+((F144+S144)-(G144+R144))/10000+(F144+S144)/100000+(S144)/1000000)))","v":false},{"$f":"IF(AU145=2,IF(AU144=2,SUM(AV145*1000+(BC145)/10+(BA145)/100+(BK144)/1000+((G144+R144)-(F144+S144))/10000+(G144+R144)/100000+(G144)/1000000)))","v":false},{"$f":"IF(AU146=2,IF(AU144=2,SUM(AV146*1000+(BC146)/10+(BA146)/100+(BK145)/1000+((G145+R145)-(F145+S145))/10000+(G145+R145)/100000+(G145)/1000000)))","v":false},{"$f":"IF(AU147=2,IF(AU144=2,SUM(AV147*1000+(BC147)/10+(BA147)/100+(BK146)/1000+((G146+R146)-(F146+S146))/10000+(G146+R146)/100000+(G146)/1000000)))","v":false},{"$f":"IF(AU148=2,IF(AU144=2,SUM(AV148*1000+(BC148)/10+(BA148)/100+(BK147)/1000+((G147+R147)-(F147+S147))/10000+(G147+R147)/100000+(G147)/1000000)))","v":false},{"$f":"IF(AU149=2,IF(AU144=2,SUM(AV149*1000+(BC149)/10+(BA149)/100+(BK148)/1000+((G148+R148)-(F148+S148))/10000+(G148+R148)/100000+(G148)/1000000)))","v":false},{"$f":"IF(AU144=3,IF(AU145=3,SUM(AV144*1000+(BC144)/10+(BA144)/100+(BJ144)/1000+((F144+S144)-(G144+R144))/10000+(F144+S144)/100000+(S144)/1000000)))","v":false},{"$f":"IF(AU145=3,IF(AU144=3,SUM(AV145*1000+(BC145)/10+(BA145)/100+(BK144)/1000+((G144+R144)-(F144+S144))/10000+(G144+R144)/100000+(G144)/1000000)))","v":false},{"$f":"IF(AU146=3,IF(AU144=3,SUM(AV146*1000+(BC146)/10+(BA146)/100+(BK145)/1000+((G145+R145)-(F145+S145))/10000+(G145+R145)/100000+(G145)/1000000)))","v":false},{"$f":"IF(AU147=3,IF(AU144=3,SUM(AV147*1000+(BC147)/10+(BA147)/100+(BK146)/1000+((G146+R146)-(F146+S146))/10000+(G146+R146)/100000+(G146)/1000000)))","v":false},{"$f":"IF(AU148=3,IF(AU144=3,SUM(AV148*1000+(BC148)/10+(BA148)/100+(BK147)/1000+((G147+R147)-(F147+S147))/10000+(G147+R147)/100000+(G147)/1000000)))","v":false},{"$f":"IF(AU149=3,IF(AU144=3,SUM(AV149*1000+(BC149)/10+(BA149)/100+(BK148)/1000+((G148+R148)-(F148+S148))/10000+(G148+R148)/100000+(G148)/1000000)))","v":false},{"$f":"IF(AU144=4,IF(AU145=4,SUM(AV144*1000+(BC144)/10+(BA144)/100+(BJ144)/1000+((F144+S144)-(G144+R144))/10000+(F144+S144)/100000+(S144)/1000000)))","v":false},{"$f":"IF(AU145=4,IF(AU144=4,SUM(AV145*1000+(BC145)/10+(BA145)/100+(BK144)/1000+((G144+R144)-(F144+S144))/10000+(G144+R144)/100000+(G144)/1000000)))","v":false},{"$f":"IF(AU146=4,IF(AU144=4,SUM(AV146*1000+(BC146)/10+(BA146)/100+(BK145)/1000+((G145+R145)-(F145+S145))/10000+(G145+R145)/100000+(G145)/1000000)))","v":false},{"$f":"IF(AU147=4,IF(AU144=4,SUM(AV147*1000+(BC147)/10+(BA147)/100+(BK146)/1000+((G146+R146)-(F146+S146))/10000+(G146+R146)/100000+(G146)/1000000)))","v":false},{"$f":"IF(AU148=4,IF(AU144=4,SUM(AV148*1000+(BC148)/10+(BA148)/100+(BK147)/1000+((G147+R147)-(F147+S147))/10000+(G147+R147)/100000+(G147)/1000000)))","v":false},{"$f":"IF(AU149=4,IF(AU144=4,SUM(AV149*1000+(BC149)/10+(BA149)/100+(BK148)/1000+((G148+R148)-(F148+S148))/10000+(G148+R148)/100000+(G148)/1000000)))","v":false},{"$f":"IF(AU144=5,IF(AU145=5,SUM(AV144*1000+(BC144)/10+(BA144)/100+(BJ144)/1000+((F144+S144)-(G144+R144))/10000+(F144+S144)/100000+(S144)/1000000)))","v":false},{"$f":"IF(AU145=5,IF(AU144=5,SUM(AV145*1000+(BC145)/10+(BA145)/100+(BK144)/1000+((G144+R144)-(F144+S144))/10000+(G144+R144)/100000+(G144)/1000000)))","v":false},{"$f":"IF(AU146=5,IF(AU144=5,SUM(AV146*1000+(BC146)/10+(BA146)/100+(BK145)/1000+((G145+R145)-(F145+S145))/10000+(G145+R145)/100000+(G145)/1000000)))","v":false},{"$f":"IF(AU147=5,IF(AU144=5,SUM(AV147*1000+(BC147)/10+(BA147)/100+(BK146)/1000+((G146+R146)-(F146+S146))/10000+(G146+R146)/100000+(G146)/1000000)))","v":false},{"$f":"IF(AU148=5,IF(AU144=5,SUM(AV148*1000+(BC148)/10+(BA148)/100+(BK147)/1000+((G147+R147)-(F147+S147))/10000+(G147+R147)/100000+(G147)/1000000)))","v":false},{"$f":"IF(AU149=5,IF(AU144=5,SUM(AV149*1000+(BC149)/10+(BA149)/100+(BK148)/1000+((G148+R148)-(F148+S148))/10000+(G148+R148)/100000+(G148)/1000000)))","v":false},{"$f":"IF(AU144=6,IF(AU145=6,SUM(AV144*1000+(BC144)/10+(BA144)/100+(BJ144)/1000+((F144+S144)-(G144+R144))/10000+(F144+S144)/100000+(S144)/1000000)))","v":false},{"$f":"IF(AU145=6,IF(AU144=6,SUM(AV145*1000+(BC145)/10+(BA145)/100+(BK144)/1000+((G144+R144)-(F144+S144))/10000+(G144+R144)/100000+(G144)/1000000)))","v":false},{"$f":"IF(AU146=6,IF(AU144=6,SUM(AV146*1000+(BC146)/10+(BA146)/100+(BK145)/1000+((G145+R145)-(F145+S145))/10000+(G145+R145)/100000+(G145)/1000000)))","v":false},{"$f":"IF(AU147=6,IF(AU144=6,SUM(AV147*1000+(BC147)/10+(BA147)/100+(BK146)/1000+((G146+R146)-(F146+S146))/10000+(G146+R146)/100000+(G146)/1000000)))","v":false},{"$f":"IF(AU148=6,IF(AU144=6,SUM(AV148*1000+(BC148)/10+(BA148)/100+(BK147)/1000+((G147+R147)-(F147+S147))/10000+(G147+R147)/100000+(G147)/1000000)))","v":false},{"$f":"IF(AU149=6,IF(AU144=6,SUM(AV149*1000+(BC149)/10+(BA149)/100+(BK148)/1000+((G148+R148)-(F148+S148))/10000+(G148+R148)/100000+(G148)/1000000)))","v":false}]
[{"$f":"AP144","v":"BELGIQUE"},null,null,null,null,4,0,{"$f":"AP147","v":"CHYPRE"},null,null,null,null,"CHYPRE",null,null,null,null,0,3,"BELGIQUE",null,null,null,null,null,{"$f":"VLOOKUP(AN153,AO151:AT156,2,0)","v":"BOSNIE"},null,null,null,null,{"$f":"IF(CT154=CT153,CW153,CW154)","v":3},{"$f":"VLOOKUP(Z146,AP144:BC149,7,0)","v":17},{"$f":"VLOOKUP(Z146,AP144:BC149,8,0)","v":10},{"$f":"VLOOKUP(Z146,AP144:BC149,9,0)","v":5},{"$f":"VLOOKUP(Z146,AP144:BC149,10,0)","v":2},{"$f":"VLOOKUP(Z146,AP144:BC149,11,0)","v":3},{"$f":"VLOOKUP(Z146,AP144:BC149,12,0)","v":24},{"$f":"VLOOKUP(Z146,AP144:BC149,13,0)","v":13},{"$f":"VLOOKUP(Z146,AP144:BC149,14,0)","v":11},null,null,"BOSNIE",null,null,null,null,{"$f":"RANK(AV146,AV144:AV149)","v":3},{"$f":"SUMPRODUCT((A144:E158=AP146)*(BF144:BF158))+SUMPRODUCT((H144:L158=AP146)*(BG144:BG158))+SUMPRODUCT((M144:Q158=AP146)*(BH144:BH158))+SUMPRODUCT((T144:X158=AP146)*(BI144:BI158))","v":17},{"$f":"SUMPRODUCT((A144:E158=AP146)*(BL144:BL158))+SUMPRODUCT((H144:L158=AP146)*(BM144:BM158))+SUMPRODUCT((M144:Q158=AP146)*(BN144:BN158))+SUMPRODUCT((T144:X158=AP146)*(BO144:BO158))","v":10},{"$f":"SUMPRODUCT((A144:E158=AP146)*(BP144:BP158))+SUMPRODUCT((H144:L158=AP146)*(BQ144:BQ158))+SUMPRODUCT((M144:Q158=AP146)*(BR144:BR158))+SUMPRODUCT((T144:X158=AP146)*(BS144:BS158))","v":5},{"$f":"SUMPRODUCT((A144:E158=AP146)*(BT144:BT158))+SUMPRODUCT((H144:L158=AP146)*(BU144:BU158))+SUMPRODUCT((M144:Q158=AP146)*(BV144:BV158))+SUMPRODUCT((T144:X158=AP146)*(BW144:BW158))","v":2},{"$f":"SUMPRODUCT((A144:E158=AP146)*(BX144:BX158))+SUMPRODUCT((H144:L158=AP146)*(BY144:BY158))+SUMPRODUCT((M144:Q158=AP146)*(BZ144:BZ158))+SUMPRODUCT((T144:X158=AP146)*(CA144:CA158))","v":3},{"$f":"SUMPRODUCT((A144:E158=AP146)*(CB144:CB158))+SUMPRODUCT((H144:L158=AP146)*(CC144:CC158))+SUMPRODUCT((M144:Q158=AP146)*(CD144:CD158))+SUMPRODUCT((T144:X158=AP146)*(CE144:CE158))","v":24},{"$f":"SUMPRODUCT((A144:E158=AP146)*(CH144:CH158))+SUMPRODUCT((H144:L158=AP146)*(CI144:CI158))+SUMPRODUCT((M144:Q158=AP146)*(CJ144:CJ158))+SUMPRODUCT((T144:X158=AP146)*(CK144:CK158))","v":13},11,null,null,3,0,0,3,6,0,1,1,1,1,1,false,false,1,false,false,false,false,false,1,1,false,4,0,0,3,7,0,0,4,3,0,0,7,{"$f":"IF(AU144=1,IF(AU146=1,SUM(AV144*1000+(BC144)/10+(BA144)/100+(BJ145)/1000+((F145+S145)-(G145+R145))/10000+(F145+S145)/100000+(S145)/1000000)))","v":false},{"$f":"IF(AU145=1,IF(AU146=1,SUM(AV145*1000+(BC145)/10+(BA145)/100+(BJ149)/1000+((F149+S149)-(G149+R149))/10000+(F149+S149)/100000+(S149)/1000000)))","v":false},{"$f":"IF(AU146=1,IF(AU145=1,SUM(AV146*1000+(BC146)/10+(BA146)/100+(BK149)/1000+((G149+R149)-(F149+S149))/10000+(G149+R149)/1000000+(G149)/1000000)))","v":false},{"$f":"IF(AU147=1,IF(AU145=1,SUM(AV147*1000+(BC147)/10+(BA147)/100+(BK150)/1000+((G150+R150)-(F150+S150))/10000+(G150+R150)/100000+(G150)/1000000)))","v":false},{"$f":"IF(AU148=1,IF(AU145=1,SUM(AV148*1000+(BC148)/10+(BA148)/100+(BK151)/1000+((G151+R151)-(F151+S151))/10000+(G151+R151)/100000+(G151)/1000000)))","v":false},{"$f":"IF(AU149=1,IF(AU145=1,SUM(AV149*1000+(BC149)/10+(BA149)/100+(BK152)/1000+((G152+R152)-(F152+S152))/10000+(G152+R152)/100000+(G152)/1000000)))","v":false},null,{"$f":"IF(AU144=2,IF(AU146=2,SUM(AV144*1000+(BC144)/10+(BA144)/100+(BJ145)/1000+((F145+S145)-(G145+R145))/10000+(F145+S145)/100000+(S145)/1000000)))","v":false},{"$f":"IF(AU145=2,IF(AU146=2,SUM(AV145*1000+(BC145)/10+(BA145)/100+(BJ149)/1000+((F149+S149)-(G149+R149))/10000+(F149+S149)/100000+(S149)/1000000)))","v":false},{"$f":"IF(AU146=2,IF(AU145=2,SUM(AV146*1000+(BC146)/10+(BA146)/100+(BK149)/1000+((G149+R149)-(F149+S149))/10000+(G149+R149)/1000000+(G149)/1000000)))","v":false},{"$f":"IF(AU147=2,IF(AU145=2,SUM(AV147*1000+(BC147)/10+(BA147)/100+(BK150)/1000+((G150+R150)-(F150+S150))/10000+(G150+R150)/100000+(G150)/1000000)))","v":false},{"$f":"IF(AU148=2,IF(AU145=2,SUM(AV148*1000+(BC148)/10+(BA148)/100+(BK151)/1000+((G151+R151)-(F151+S151))/10000+(G151+R151)/100000+(G151)/1000000)))","v":false},{"$f":"IF(AU149=2,IF(AU145=2,SUM(AV149*1000+(BC149)/10+(BA149)/100+(BK152)/1000+((G152+R152)-(F152+S152))/10000+(G152+R152)/100000+(G152)/1000000)))","v":false},{"$f":"IF(AU144=3,IF(AU146=3,SUM(AV144*1000+(BC144)/10+(BA144)/100+(BJ145)/1000+((F145+S145)-(G145+R145))/10000+(F145+S145)/100000+(S145)/1000000)))","v":false},{"$f":"IF(AU145=3,IF(AU146=3,SUM(AV145*1000+(BC145)/10+(BA145)/100+(BJ149)/1000+((F149+S149)-(G149+R149))/10000+(F149+S149)/100000+(S149)/1000000)))","v":false},{"$f":"IF(AU146=3,IF(AU145=3,SUM(AV146*1000+(BC146)/10+(BA146)/100+(BK149)/1000+((G149+R149)-(F149+S149))/10000+(G149+R149)/1000000+(G149)/1000000)))","v":false},{"$f":"IF(AU147=3,IF(AU145=3,SUM(AV147*1000+(BC147)/10+(BA147)/100+(BK150)/1000+((G150+R150)-(F150+S150))/10000+(G150+R150)/100000+(G150)/1000000)))","v":false},{"$f":"IF(AU148=3,IF(AU145=3,SUM(AV148*1000+(BC148)/10+(BA148)/100+(BK151)/1000+((G151+R151)-(F151+S151))/10000+(G151+R151)/100000+(G151)/1000000)))","v":false},{"$f":"IF(AU149=3,IF(AU145=3,SUM(AV149*1000+(BC149)/10+(BA149)/100+(BK152)/1000+((G152+R152)-(F152+S152))/10000+(G152+R152)/100000+(G152)/1000000)))","v":false},{"$f":"IF(AU144=4,IF(AU146=4,SUM(AV144*1000+(BC144)/10+(BA144)/100+(BJ145)/1000+((F145+S145)-(G145+R145))/10000+(F145+S145)/100000+(S145)/1000000)))","v":false},{"$f":"IF(AU145=4,IF(AU146=4,SUM(AV145*1000+(BC145)/10+(BA145)/100+(BJ149)/1000+((F149+S149)-(G149+R149))/10000+(F149+S149)/100000+(S149)/1000000)))","v":false},{"$f":"IF(AU146=4,IF(AU145=4,SUM(AV146*1000+(BC146)/10+(BA146)/100+(BK149)/1000+((G149+R149)-(F149+S149))/10000+(G149+R149)/1000000+(G149)/1000000)))","v":false},{"$f":"IF(AU147=4,IF(AU145=4,SUM(AV147*1000+(BC147)/10+(BA147)/100+(BK150)/1000+((G150+R150)-(F150+S150))/10000+(G150+R150)/100000+(G150)/1000000)))","v":false},{"$f":"IF(AU148=4,IF(AU145=4,SUM(AV148*1000+(BC148)/10+(BA148)/100+(BK151)/1000+((G151+R151)-(F151+S151))/10000+(G151+R151)/100000+(G151)/1000000)))","v":false},{"$f":"IF(AU149=4,IF(AU145=4,SUM(AV149*1000+(BC149)/10+(BA149)/100+(BK152)/1000+((G152+R152)-(F152+S152))/10000+(G152+R152)/100000+(G152)/1000000)))","v":false},{"$f":"IF(AU144=5,IF(AU146=5,SUM(AV144*1000+(BC144)/10+(BA144)/100+(BJ145)/1000+((F145+S145)-(G145+R145))/10000+(F145+S145)/100000+(S145)/1000000)))","v":false},{"$f":"IF(AU145=5,IF(AU146=5,SUM(AV145*1000+(BC145)/10+(BA145)/100+(BJ149)/1000+((F149+S149)-(G149+R149))/10000+(F149+S149)/100000+(S149)/1000000)))","v":false},{"$f":"IF(AU146=5,IF(AU145=5,SUM(AV146*1000+(BC146)/10+(BA146)/100+(BK149)/1000+((G149+R149)-(F149+S149))/10000+(G149+R149)/1000000+(G149)/1000000)))","v":false},{"$f":"IF(AU147=5,IF(AU145=5,SUM(AV147*1000+(BC147)/10+(BA147)/100+(BK150)/1000+((G150+R150)-(F150+S150))/10000+(G150+R150)/100000+(G150)/1000000)))","v":false},{"$f":"IF(AU148=5,IF(AU145=5,SUM(AV148*1000+(BC148)/10+(BA148)/100+(BK151)/1000+((G151+R151)-(F151+S151))/10000+(G151+R151)/100000+(G151)/1000000)))","v":false},{"$f":"IF(AU149=5,IF(AU145=5,SUM(AV149*1000+(BC149)/10+(BA149)/100+(BK152)/1000+((G152+R152)-(F152+S152))/10000+(G152+R152)/100000+(G152)/1000000)))","v":false},{"$f":"IF(AU144=6,IF(AU146=6,SUM(AV144*1000+(BC144)/10+(BA144)/100+(BJ145)/1000+((F145+S145)-(G145+R145))/10000+(F145+S145)/100000+(S145)/1000000)))","v":false},{"$f":"IF(AU145=6,IF(AU146=6,SUM(AV145*1000+(BC145)/10+(BA145)/100+(BJ149)/1000+((F149+S149)-(G149+R149))/10000+(F149+S149)/100000+(S149)/1000000)))","v":false},{"$f":"IF(AU146=6,IF(AU145=6,SUM(AV146*1000+(BC146)/10+(BA146)/100+(BK149)/1000+((G149+R149)-(F149+S149))/10000+(G149+R149)/1000000+(G149)/1000000)))","v":false},{"$f":"IF(AU147=6,IF(AU145=6,SUM(AV147*1000+(BC147)/10+(BA147)/100+(BK150)/1000+((G150+R150)-(F150+S150))/10000+(G150+R150)/100000+(G150)/1000000)))","v":false},{"$f":"IF(AU148=6,IF(AU145=6,SUM(AV148*1000+(BC148)/10+(BA148)/100+(BK151)/1000+((G151+R151)-(F151+S151))/10000+(G151+R151)/100000+(G151)/1000000)))","v":false},{"$f":"IF(AU149=6,IF(AU145=6,SUM(AV149*1000+(BC149)/10+(BA149)/100+(BK152)/1000+((G152+R152)-(F152+S152))/10000+(G152+R152)/100000+(G152)/1000000)))","v":false}]
[{"$f":"AP144","v":"BELGIQUE"},null,null,null,null,8,1,{"$f":"AP148","v":"ESTONIE"},null,null,null,null,"ESTONIE",null,null,null,null,0,2,"BELGIQUE",null,null,null,null,null,{"$f":"VLOOKUP(AN154,AO151:AT156,2,0)","v":"ESTONIE"},null,null,null,null,4,{"$f":"VLOOKUP(Z147,AP144:BC149,7,0)","v":11},{"$f":"VLOOKUP(Z147,AP144:BC149,8,0)","v":10},{"$f":"VLOOKUP(Z147,AP144:BC149,9,0)","v":3},{"$f":"VLOOKUP(Z147,AP144:BC149,10,0)","v":2},{"$f":"VLOOKUP(Z147,AP144:BC149,11,0)","v":5},{"$f":"VLOOKUP(Z147,AP144:BC149,12,0)","v":13},{"$f":"VLOOKUP(Z147,AP144:BC149,13,0)","v":19},{"$f":"VLOOKUP(Z147,AP144:BC149,14,0)","v":-6},null,null,"CHYPRE",null,null,null,null,{"$f":"RANK(AV147,AV144:AV149)","v":5},{"$f":"SUMPRODUCT((A144:E158=AP147)*(BF144:BF158))+SUMPRODUCT((H144:L158=AP147)*(BG144:BG158))+SUMPRODUCT((M144:Q158=AP147)*(BH144:BH158))+SUMPRODUCT((T144:X158=AP147)*(BI144:BI158))","v":10},{"$f":"SUMPRODUCT((A144:E158=AP147)*(BL144:BL158))+SUMPRODUCT((H144:L158=AP147)*(BM144:BM158))+SUMPRODUCT((M144:Q158=AP147)*(BN144:BN158))+SUMPRODUCT((T144:X158=AP147)*(BO144:BO158))","v":10},{"$f":"SUMPRODUCT((A144:E158=AP147)*(BP144:BP158))+SUMPRODUCT((H144:L158=AP147)*(BQ144:BQ158))+SUMPRODUCT((M144:Q158=AP147)*(BR144:BR158))+SUMPRODUCT((T144:X158=AP147)*(BS144:BS158))","v":3},{"$f":"SUMPRODUCT((A144:E158=AP147)*(BT144:BT158))+SUMPRODUCT((H144:L158=AP147)*(BU144:BU158))+SUMPRODUCT((M144:Q158=AP147)*(BV144:BV158))+SUMPRODUCT((T144:X158=AP147)*(BW144:BW158))","v":1},{"$f":"SUMPRODUCT((A144:E158=AP147)*(BX144:BX158))+SUMPRODUCT((H144:L158=AP147)*(BY144:BY158))+SUMPRODUCT((M144:Q158=AP147)*(BZ144:BZ158))+SUMPRODUCT((T144:X158=AP147)*(CA144:CA158))","v":6},{"$f":"SUMPRODUCT((A144:E158=AP147)*(CB144:CB158))+SUMPRODUCT((H144:L158=AP147)*(CC144:CC158))+SUMPRODUCT((M144:Q158=AP147)*(CD144:CD158))+SUMPRODUCT((T144:X158=AP147)*(CE144:CE158))","v":9},{"$f":"SUMPRODUCT((A144:E158=AP147)*(CH144:CH158))+SUMPRODUCT((H144:L158=AP147)*(CI144:CI158))+SUMPRODUCT((M144:Q158=AP147)*(CJ144:CJ158))+SUMPRODUCT((T144:X158=AP147)*(CK144:CK158))","v":18},-9,null,null,3,0,0,3,6,0,1,1,1,1,1,false,false,1,false,false,false,false,false,1,1,false,8,1,0,2,10,1,1,8,2,0,1,10,{"$f":"IF(AU144=1,IF(AU147=1,SUM(AV144*1000+(BC144)/10+(BA144)/100+(BJ146)/1000+((F146+S146)-(G146+R146))/10000+(F146+S146)/100000+(S146)/1000000)))","v":false},{"$f":"IF(AU145=1,IF(AU147=1,SUM(AV145*1000+(BC145)/10+(BA145)/100+(BJ150)/1000+((F150+S150)-(G150+R150))/10000+(F150+S150)/100000+(S150)/1000000)))","v":false},{"$f":"IF(AU146=1,IF(AU147=1,SUM(AV146*1000+(BC146)/10+(BA146)/100+(BJ153)/1000+((F153+S153)-(G153+R153))/10000+(F153+S153)/100000+(S153)/1000000)))","v":false},{"$f":"IF(AU147=1,IF(AU146=1,SUM(AV147*1000+(BC147)/10+(BA147)/100+(BK153)/1000+((G153+R153)-(F153+S153))/10000+(G153+R153)/100000+(G153)/1000000)))","v":false},{"$f":"IF(AU148=1,IF(AU146=1,SUM(AV148*1000+(BC148)/10+(BA148)/100+(BK154)/1000+((G154+R154)-(F154+S154))/10000+(G154+R154)/100000+(G154)/1000000)))","v":false},{"$f":"IF(AU149=1,IF(AU146=1,SUM(AV149*1000+(BC149)/10+(BA149)/100+(BK155)/1000+((G155+R155)-(F155+S155))/10000+(G155+R155)/100000+(G155)/1000000)))","v":false},null,{"$f":"IF(AU144=2,IF(AU147=2,SUM(AV144*1000+(BC144)/10+(BA144)/100+(BJ146)/1000+((F146+S146)-(G146+R146))/10000+(F146+S146)/100000+(S146)/1000000)))","v":false},{"$f":"IF(AU145=2,IF(AU147=2,SUM(AV145*1000+(BC145)/10+(BA145)/100+(BJ150)/1000+((F150+S150)-(G150+R150))/10000+(F150+S150)/100000+(S150)/1000000)))","v":false},{"$f":"IF(AU146=2,IF(AU147=2,SUM(AV146*1000+(BC146)/10+(BA146)/100+(BJ153)/1000+((F153+S153)-(G153+R153))/10000+(F153+S153)/100000+(S153)/1000000)))","v":false},{"$f":"IF(AU147=2,IF(AU146=2,SUM(AV147*1000+(BC147)/10+(BA147)/100+(BK153)/1000+((G153+R153)-(F153+S153))/10000+(G153+R153)/100000+(G153)/1000000)))","v":false},{"$f":"IF(AU148=2,IF(AU146=2,SUM(AV148*1000+(BC148)/10+(BA148)/100+(BK154)/1000+((G154+R154)-(F154+S154))/10000+(G154+R154)/100000+(G154)/1000000)))","v":false},{"$f":"IF(AU149=2,IF(AU146=2,SUM(AV149*1000+(BC149)/10+(BA149)/100+(BK155)/1000+((G155+R155)-(F155+S155))/10000+(G155+R155)/100000+(G155)/1000000)))","v":false},{"$f":"IF(AU144=3,IF(AU147=3,SUM(AV144*1000+(BC144)/10+(BA144)/100+(BJ146)/1000+((F146+S146)-(G146+R146))/10000+(F146+S146)/100000+(S146)/1000000)))","v":false},{"$f":"IF(AU145=3,IF(AU147=3,SUM(AV145*1000+(BC145)/10+(BA145)/100+(BJ150)/1000+((F150+S150)-(G150+R150))/10000+(F150+S150)/100000+(S150)/1000000)))","v":false},{"$f":"IF(AU146=3,IF(AU147=3,SUM(AV146*1000+(BC146)/10+(BA146)/100+(BJ153)/1000+((F153+S153)-(G153+R153))/10000+(F153+S153)/100000+(S153)/1000000)))","v":false},{"$f":"IF(AU147=3,IF(AU146=3,SUM(AV147*1000+(BC147)/10+(BA147)/100+(BK153)/1000+((G153+R153)-(F153+S153))/10000+(G153+R153)/100000+(G153)/1000000)))","v":false},{"$f":"IF(AU148=3,IF(AU146=3,SUM(AV148*1000+(BC148)/10+(BA148)/100+(BK154)/1000+((G154+R154)-(F154+S154))/10000+(G154+R154)/100000+(G154)/1000000)))","v":false},{"$f":"IF(AU149=3,IF(AU146=3,SUM(AV149*1000+(BC149)/10+(BA149)/100+(BK155)/1000+((G155+R155)-(F155+S155))/10000+(G155+R155)/100000+(G155)/1000000)))","v":false},{"$f":"IF(AU144=4,IF(AU147=4,SUM(AV144*1000+(BC144)/10+(BA144)/100+(BJ146)/1000+((F146+S146)-(G146+R146))/10000+(F146+S146)/100000+(S146)/1000000)))","v":false},{"$f":"IF(AU145=4,IF(AU147=4,SUM(AV145*1000+(BC145)/10+(BA145)/100+(BJ150)/1000+((F150+S150)-(G150+R150))/10000+(F150+S150)/100000+(S150)/1000000)))","v":false},{"$f":"IF(AU146=4,IF(AU147=4,SUM(AV146*1000+(BC146)/10+(BA146)/100+(BJ153)/1000+((F153+S153)-(G153+R153))/10000+(F153+S153)/100000+(S153)/1000000)))","v":false},{"$f":"IF(AU147=4,IF(AU146=4,SUM(AV147*1000+(BC147)/10+(BA147)/100+(BK153)/1000+((G153+R153)-(F153+S153))/10000+(G153+R153)/100000+(G153)/1000000)))","v":false},{"$f":"IF(AU148=4,IF(AU146=4,SUM(AV148*1000+(BC148)/10+(BA148)/100+(BK154)/1000+((G154+R154)-(F154+S154))/10000+(G154+R154)/100000+(G154)/1000000)))","v":false},{"$f":"IF(AU149=4,IF(AU146=4,SUM(AV149*1000+(BC149)/10+(BA149)/100+(BK155)/1000+((G155+R155)-(F155+S155))/10000+(G155+R155)/100000+(G155)/1000000)))","v":false},{"$f":"IF(AU144=5,IF(AU147=5,SUM(AV144*1000+(BC144)/10+(BA144)/100+(BJ146)/1000+((F146+S146)-(G146+R146))/10000+(F146+S146)/100000+(S146)/1000000)))","v":false},{"$f":"IF(AU145=5,IF(AU147=5,SUM(AV145*1000+(BC145)/10+(BA145)/100+(BJ150)/1000+((F150+S150)-(G150+R150))/10000+(F150+S150)/100000+(S150)/1000000)))","v":false},{"$f":"IF(AU146=5,IF(AU147=5,SUM(AV146*1000+(BC146)/10+(BA146)/100+(BJ153)/1000+((F153+S153)-(G153+R153))/10000+(F153+S153)/100000+(S153)/1000000)))","v":false},{"$f":"IF(AU147=5,IF(AU146=5,SUM(AV147*1000+(BC147)/10+(BA147)/100+(BK153)/1000+((G153+R153)-(F153+S153))/10000+(G153+R153)/100000+(G153)/1000000)))","v":false},{"$f":"IF(AU148=5,IF(AU146=5,SUM(AV148*1000+(BC148)/10+(BA148)/100+(BK154)/1000+((G154+R154)-(F154+S154))/10000+(G154+R154)/100000+(G154)/1000000)))","v":false},{"$f":"IF(AU149=5,IF(AU146=5,SUM(AV149*1000+(BC149)/10+(BA149)/100+(BK155)/1000+((G155+R155)-(F155+S155))/10000+(G155+R155)/100000+(G155)/1000000)))","v":false},{"$f":"IF(AU144=6,IF(AU147=6,SUM(AV144*1000+(BC144)/10+(BA144)/100+(BJ146)/1000+((F146+S146)-(G146+R146))/10000+(F146+S146)/100000+(S146)/1000000)))","v":false},{"$f":"IF(AU145=6,IF(AU147=6,SUM(AV145*1000+(BC145)/10+(BA145)/100+(BJ150)/1000+((F150+S150)-(G150+R150))/10000+(F150+S150)/100000+(S150)/1000000)))","v":false},{"$f":"IF(AU146=6,IF(AU147=6,SUM(AV146*1000+(BC146)/10+(BA146)/100+(BJ153)/1000+((F153+S153)-(G153+R153))/10000+(F153+S153)/100000+(S153)/1000000)))","v":false},{"$f":"IF(AU147=6,IF(AU146=6,SUM(AV147*1000+(BC147)/10+(BA147)/100+(BK153)/1000+((G153+R153)-(F153+S153))/10000+(G153+R153)/100000+(G153)/1000000)))","v":false},{"$f":"IF(AU148=6,IF(AU146=6,SUM(AV148*1000+(BC148)/10+(BA148)/100+(BK154)/1000+((G154+R154)-(F154+S154))/10000+(G154+R154)/100000+(G154)/1000000)))","v":false},{"$f":"IF(AU149=6,IF(AU146=6,SUM(AV149*1000+(BC149)/10+(BA149)/100+(BK155)/1000+((G155+R155)-(F155+S155))/10000+(G155+R155)/100000+(G155)/1000000)))","v":false}]
[{"$f":"AP144","v":"BELGIQUE"},null,null,null,null,9,0,{"$f":"AP149","v":"GIBRALTAR"},null,null,null,null,"GIBRALTAR",null,null,null,null,0,6,"BELGIQUE",null,null,null,null,null,{"$f":"VLOOKUP(AN155,AO151:AT156,2,0)","v":"CHYPRE"},null,null,null,null,5,{"$f":"VLOOKUP(Z148,AP144:BC149,7,0)","v":10},{"$f":"VLOOKUP(Z148,AP144:BC149,8,0)","v":10},{"$f":"VLOOKUP(Z148,AP144:BC149,9,0)","v":3},{"$f":"VLOOKUP(Z148,AP144:BC149,10,0)","v":1},{"$f":"VLOOKUP(Z148,AP144:BC149,11,0)","v":6},{"$f":"VLOOKUP(Z148,AP144:BC149,12,0)","v":9},{"$f":"VLOOKUP(Z148,AP144:BC149,13,0)","v":18},{"$f":"VLOOKUP(Z148,AP144:BC149,14,0)","v":-9},null,null,"ESTONIE",null,null,null,null,{"$f":"RANK(AV148,AV144:AV149)","v":4},{"$f":"SUMPRODUCT((A144:E158=AP148)*(BF144:BF158))+SUMPRODUCT((H144:L158=AP148)*(BG144:BG158))+SUMPRODUCT((M144:Q158=AP148)*(BH144:BH158))+SUMPRODUCT((T144:X158=AP148)*(BI144:BI158))","v":11},{"$f":"SUMPRODUCT((A144:E158=AP148)*(BL144:BL158))+SUMPRODUCT((H144:L158=AP148)*(BM144:BM158))+SUMPRODUCT((M144:Q158=AP148)*(BN144:BN158))+SUMPRODUCT((T144:X158=AP148)*(BO144:BO158))","v":10},{"$f":"SUMPRODUCT((A144:E158=AP148)*(BP144:BP158))+SUMPRODUCT((H144:L158=AP148)*(BQ144:BQ158))+SUMPRODUCT((M144:Q158=AP148)*(BR144:BR158))+SUMPRODUCT((T144:X158=AP148)*(BS144:BS158))","v":3},{"$f":"SUMPRODUCT((A144:E158=AP148)*(BT144:BT158))+SUMPRODUCT((H144:L158=AP148)*(BU144:BU158))+SUMPRODUCT((M144:Q158=AP148)*(BV144:BV158))+SUMPRODUCT((T144:X158=AP148)*(BW144:BW158))","v":2},{"$f":"SUMPRODUCT((A144:E158=AP148)*(BX144:BX158))+SUMPRODUCT((H144:L158=AP148)*(BY144:BY158))+SUMPRODUCT((M144:Q158=AP148)*(BZ144:BZ158))+SUMPRODUCT((T144:X158=AP148)*(CA144:CA158))","v":5},{"$f":"SUMPRODUCT((A144:E158=AP148)*(CB144:CB158))+SUMPRODUCT((H144:L158=AP148)*(CC144:CC158))+SUMPRODUCT((M144:Q158=AP148)*(CD144:CD158))+SUMPRODUCT((T144:X158=AP148)*(CE144:CE158))","v":13},{"$f":"SUMPRODUCT((A144:E158=AP148)*(CH144:CH158))+SUMPRODUCT((H144:L158=AP148)*(CI144:CI158))+SUMPRODUCT((M144:Q158=AP148)*(CJ144:CJ158))+SUMPRODUCT((T144:X158=AP148)*(CK144:CK158))","v":19},-6,null,null,3,0,0,3,6,0,1,1,1,1,1,false,false,1,false,false,false,false,false,1,1,false,9,0,0,6,15,0,0,9,6,0,0,15,{"$f":"IF(AU144=1,IF(AU148=1,SUM(AV144*1000+(BC144)/10+(BA144)/100+(BJ147)/1000+((F147+S147)-(G147+R147))/10000+(F147+S147)/100000+(S147)/1000000)))","v":false},{"$f":"IF(AU145=1,IF(AU148=1,SUM(AV145*1000+(BC145)/10+(BA145)/100+(BJ151)/1000+((F151+S151)-(G151+R151))/10000+(F151+S151)/100000+(S151)/1000000)))","v":false},{"$f":"IF(AU146=1,IF(AU148=1,SUM(AV146*1000+(BC146)/10+(BA146)/100+(BJ154)/1000+((F154+S154)-(G154+R154))/10000+(F154+S154)/100000+(S154)/1000000)))","v":false},{"$f":"IF(AU147=1,IF(AU148=1,SUM(AV147*1000+(BC147)/10+(BA147)/100+(BJ156)/1000+((F156+S156)-(G156+R156))/10000+(F156+S156)/100000+(S156)/1000000)))","v":false},{"$f":"IF(AU148=1,IF(AU147=1,SUM(AV148*1000+(BC148)/10+(BA148)/100+(BK156)/1000+((G156+R156)-(F156+S156))/10000+(G156+R156)/100000+(G156)/1000000)))","v":false},{"$f":"IF(AU149=1,IF(AU147=1,SUM(AV149*1000+(BC149)/10+(BA149)/100+(BK157)/1000+((G157+R157)-(F157+S157))/10000+(G157+R157)/100000+(G157)/1000000)))","v":false},null,{"$f":"IF(AU144=2,IF(AU148=2,SUM(AV144*1000+(BC144)/10+(BA144)/100+(BJ147)/1000+((F147+S147)-(G147+R147))/10000+(F147+S147)/100000+(S147)/1000000)))","v":false},{"$f":"IF(AU145=2,IF(AU148=2,SUM(AV145*1000+(BC145)/10+(BA145)/100+(BJ151)/1000+((F151+S151)-(G151+R151))/10000+(F151+S151)/100000+(S151)/1000000)))","v":false},{"$f":"IF(AU146=2,IF(AU148=2,SUM(AV146*1000+(BC146)/10+(BA146)/100+(BJ154)/1000+((F154+S154)-(G154+R154))/10000+(F154+S154)/100000+(S154)/1000000)))","v":false},{"$f":"IF(AU147=2,IF(AU148=2,SUM(AV147*1000+(BC147)/10+(BA147)/100+(BJ156)/1000+((F156+S156)-(G156+R156))/10000+(F156+S156)/100000+(S156)/1000000)))","v":false},{"$f":"IF(AU148=2,IF(AU147=2,SUM(AV148*1000+(BC148)/10+(BA148)/100+(BK156)/1000+((G156+R156)-(F156+S156))/10000+(G156+R156)/100000+(G156)/1000000)))","v":false},{"$f":"IF(AU149=2,IF(AU147=2,SUM(AV149*1000+(BC149)/10+(BA149)/100+(BK157)/1000+((G157+R157)-(F157+S157))/10000+(G157+R157)/100000+(G157)/1000000)))","v":false},{"$f":"IF(AU144=3,IF(AU148=3,SUM(AV144*1000+(BC144)/10+(BA144)/100+(BJ147)/1000+((F147+S147)-(G147+R147))/10000+(F147+S147)/100000+(S147)/1000000)))","v":false},{"$f":"IF(AU145=3,IF(AU148=3,SUM(AV145*1000+(BC145)/10+(BA145)/100+(BJ151)/1000+((F151+S151)-(G151+R151))/10000+(F151+S151)/100000+(S151)/1000000)))","v":false},{"$f":"IF(AU146=3,IF(AU148=3,SUM(AV146*1000+(BC146)/10+(BA146)/100+(BJ154)/1000+((F154+S154)-(G154+R154))/10000+(F154+S154)/100000+(S154)/1000000)))","v":false},{"$f":"IF(AU147=3,IF(AU148=3,SUM(AV147*1000+(BC147)/10+(BA147)/100+(BJ156)/1000+((F156+S156)-(G156+R156))/10000+(F156+S156)/100000+(S156)/1000000)))","v":false},{"$f":"IF(AU148=3,IF(AU147=3,SUM(AV148*1000+(BC148)/10+(BA148)/100+(BK156)/1000+((G156+R156)-(F156+S156))/10000+(G156+R156)/100000+(G156)/1000000)))","v":false},{"$f":"IF(AU149=3,IF(AU147=3,SUM(AV149*1000+(BC149)/10+(BA149)/100+(BK157)/1000+((G157+R157)-(F157+S157))/10000+(G157+R157)/100000+(G157)/1000000)))","v":false},{"$f":"IF(AU144=4,IF(AU148=4,SUM(AV144*1000+(BC144)/10+(BA144)/100+(BJ147)/1000+((F147+S147)-(G147+R147))/10000+(F147+S147)/100000+(S147)/1000000)))","v":false},{"$f":"IF(AU145=4,IF(AU148=4,SUM(AV145*1000+(BC145)/10+(BA145)/100+(BJ151)/1000+((F151+S151)-(G151+R151))/10000+(F151+S151)/100000+(S151)/1000000)))","v":false},{"$f":"IF(AU146=4,IF(AU148=4,SUM(AV146*1000+(BC146)/10+(BA146)/100+(BJ154)/1000+((F154+S154)-(G154+R154))/10000+(F154+S154)/100000+(S154)/1000000)))","v":false},{"$f":"IF(AU147=4,IF(AU148=4,SUM(AV147*1000+(BC147)/10+(BA147)/100+(BJ156)/1000+((F156+S156)-(G156+R156))/10000+(F156+S156)/100000+(S156)/1000000)))","v":false},{"$f":"IF(AU148=4,IF(AU147=4,SUM(AV148*1000+(BC148)/10+(BA148)/100+(BK156)/1000+((G156+R156)-(F156+S156))/10000+(G156+R156)/100000+(G156)/1000000)))","v":false},{"$f":"IF(AU149=4,IF(AU147=4,SUM(AV149*1000+(BC149)/10+(BA149)/100+(BK157)/1000+((G157+R157)-(F157+S157))/10000+(G157+R157)/100000+(G157)/1000000)))","v":false},{"$f":"IF(AU144=5,IF(AU148=5,SUM(AV144*1000+(BC144)/10+(BA144)/100+(BJ147)/1000+((F147+S147)-(G147+R147))/10000+(F147+S147)/100000+(S147)/1000000)))","v":false},{"$f":"IF(AU145=5,IF(AU148=5,SUM(AV145*1000+(BC145)/10+(BA145)/100+(BJ151)/1000+((F151+S151)-(G151+R151))/10000+(F151+S151)/100000+(S151)/1000000)))","v":false},{"$f":"IF(AU146=5,IF(AU148=5,SUM(AV146*1000+(BC146)/10+(BA146)/100+(BJ154)/1000+((F154+S154)-(G154+R154))/10000+(F154+S154)/100000+(S154)/1000000)))","v":false},{"$f":"IF(AU147=5,IF(AU148=5,SUM(AV147*1000+(BC147)/10+(BA147)/100+(BJ156)/1000+((F156+S156)-(G156+R156))/10000+(F156+S156)/100000+(S156)/1000000)))","v":false},{"$f":"IF(AU148=5,IF(AU147=5,SUM(AV148*1000+(BC148)/10+(BA148)/100+(BK156)/1000+((G156+R156)-(F156+S156))/10000+(G156+R156)/100000+(G156)/1000000)))","v":false},{"$f":"IF(AU149=5,IF(AU147=5,SUM(AV149*1000+(BC149)/10+(BA149)/100+(BK157)/1000+((G157+R157)-(F157+S157))/10000+(G157+R157)/100000+(G157)/1000000)))","v":false},{"$f":"IF(AU144=6,IF(AU148=6,SUM(AV144*1000+(BC144)/10+(BA144)/100+(BJ147)/1000+((F147+S147)-(G147+R147))/10000+(F147+S147)/100000+(S147)/1000000)))","v":false},{"$f":"IF(AU145=6,IF(AU148=6,SUM(AV145*1000+(BC145)/10+(BA145)/100+(BJ151)/1000+((F151+S151)-(G151+R151))/10000+(F151+S151)/100000+(S151)/1000000)))","v":false},{"$f":"IF(AU146=6,IF(AU148=6,SUM(AV146*1000+(BC146)/10+(BA146)/100+(BJ154)/1000+((F154+S154)-(G154+R154))/10000+(F154+S154)/100000+(S154)/1000000)))","v":false},{"$f":"IF(AU147=6,IF(AU148=6,SUM(AV147*1000+(BC147)/10+(BA147)/100+(BJ156)/1000+((F156+S156)-(G156+R156))/10000+(F156+S156)/100000+(S156)/1000000)))","v":false},{"$f":"IF(AU148=6,IF(AU147=6,SUM(AV148*1000+(BC148)/10+(BA148)/100+(BK156)/1000+((G156+R156)-(F156+S156))/10000+(G156+R156)/100000+(G156)/1000000)))","v":false},{"$f":"IF(AU149=6,IF(AU147=6,SUM(AV149*1000+(BC149)/10+(BA149)/100+(BK157)/1000+((G157+R157)-(F157+S157))/10000+(G157+R157)/100000+(G157)/1000000)))","v":false}]
[{"$f":"AP145","v":"GRÈCE"},null,null,null,null,1,1,{"$f":"AP146","v":"BOSNIE"},null,null,null,null,"BOSNIE",null,null,null,null,0,0,"GRÈCE",null,null,null,null,null,{"$f":"VLOOKUP(AN156,AO151:AT156,2,0)","v":"GIBRALTAR"},null,null,null,null,6,{"$f":"VLOOKUP(Z149,AP144:BC149,7,0)","v":0},{"$f":"VLOOKUP(Z149,AP144:BC149,8,0)","v":10},{"$f":"VLOOKUP(Z149,AP144:BC149,9,0)","v":0},{"$f":"VLOOKUP(Z149,AP144:BC149,10,0)","v":0},{"$f":"VLOOKUP(Z149,AP144:BC149,11,0)","v":10},{"$f":"VLOOKUP(Z149,AP144:BC149,12,0)","v":3},{"$f":"VLOOKUP(Z149,AP144:BC149,13,0)","v":47},{"$f":"VLOOKUP(Z149,AP144:BC149,14,0)","v":-44},null,null,"GIBRALTAR",null,null,null,null,{"$f":"RANK(AV149,AV144:AV149)","v":6},{"$f":"SUMPRODUCT((A144:E158=AP149)*(BF144:BF158))+SUMPRODUCT((H144:L158=AP149)*(BG144:BG158))+SUMPRODUCT((M144:Q158=AP149)*(BH144:BH158))+SUMPRODUCT((T144:X158=AP149)*(BI144:BI158))","v":0},{"$f":"SUMPRODUCT((A144:E158=AP149)*(BL144:BL158))+SUMPRODUCT((H144:L158=AP149)*(BM144:BM158))+SUMPRODUCT((M144:Q158=AP149)*(BN144:BN158))+SUMPRODUCT((T144:X158=AP149)*(BO144:BO158))","v":10},{"$f":"SUMPRODUCT((A144:E158=AP149)*(BP144:BP158))+SUMPRODUCT((H144:L158=AP149)*(BQ144:BQ158))+SUMPRODUCT((M144:Q158=AP149)*(BR144:BR158))+SUMPRODUCT((T144:X158=AP149)*(BS144:BS158))","v":0},{"$f":"SUMPRODUCT((A144:E158=AP149)*(BT144:BT158))+SUMPRODUCT((H144:L158=AP149)*(BU144:BU158))+SUMPRODUCT((M144:Q158=AP149)*(BV144:BV158))+SUMPRODUCT((T144:X158=AP149)*(BW144:BW158))","v":0},{"$f":"SUMPRODUCT((A144:E158=AP149)*(BX144:BX158))+SUMPRODUCT((H144:L158=AP149)*(BY144:BY158))+SUMPRODUCT((M144:Q158=AP149)*(BZ144:BZ158))+SUMPRODUCT((T144:X158=AP149)*(CA144:CA158))","v":10},{"$f":"SUMPRODUCT((A144:E158=AP149)*(CB144:CB158))+SUMPRODUCT((H144:L158=AP149)*(CC144:CC158))+SUMPRODUCT((M144:Q158=AP149)*(CD144:CD158))+SUMPRODUCT((T144:X158=AP149)*(CE144:CE158))","v":3},{"$f":"SUMPRODUCT((A144:E158=AP149)*(CH144:CH158))+SUMPRODUCT((H144:L158=AP149)*(CI144:CI158))+SUMPRODUCT((M144:Q158=AP149)*(CJ144:CJ158))+SUMPRODUCT((T144:X158=AP149)*(CK144:CK158))","v":47},-44,null,null,1,1,1,1,2,2,1,1,1,1,false,false,false,false,1,1,1,1,false,false,false,false,1,1,0,0,1,1,1,1,0,0,1,1,{"$f":"IF(AU144=1,IF(AU149=1,SUM(AV144*1000+(BC144)/10+(BA144)/100+(BJ148)/1000+((F148+S148)-(G148+R148))/10000+(F148+S148)/100000+(S148)/1000000)))","v":false},{"$f":"IF(AU145=1,IF(AU149=1,SUM(AV145*1000+(BC145)/10+(BA145)/100+(BJ152)/1000+((F152+S152)-(G152+R152))/10000+(F152+S152)/100000+(S152)/1000000)))","v":false},{"$f":"IF(AU146=1,IF(AU149=1,SUM(AV146*1000+(BC146)/10+(BA146)/100+(BJ155)/1000+((F155+S155)-(G155+R155))/10000+(F155+S155)/100000+(S155)/1000000)))","v":false},{"$f":"IF(AU147=1,IF(AU149=1,SUM(AV147*1000+(BC147)/10+(BA147)/100+(BJ157)/1000+((F157+S157)-(G157+R157))/10000+(F157+S157)/100000+(S157)/1000000)))","v":false},{"$f":"IF(AU148=1,IF(AU149=1,SUM(AV148*1000+(BC148)/10+(BA148)/100+(BJ158)/1000+((F158+S158)-(G158+R158))/10000+(F158+S158)/100000+(S158)/1000000)))","v":false},{"$f":"IF(AU149=1,IF(AU148=1,SUM(AV149*1000+(BC149)/10+(BA149)/100+(BK158)/1000+((G158+R158)-(F158+S158))/10000+(G158+R158)/100000+(G158)/1000000)))","v":false},null,{"$f":"IF(AU144=2,IF(AU149=2,SUM(AV144*1000+(BC144)/10+(BA144)/100+(BJ148)/1000+((F148+S148)-(G148+R148))/10000+(F148+S148)/100000+(S148)/1000000)))","v":false},{"$f":"IF(AU145=2,IF(AU149=2,SUM(AV145*1000+(BC145)/10+(BA145)/100+(BJ152)/1000+((F152+S152)-(G152+R152))/10000+(F152+S152)/100000+(S152)/1000000)))","v":false},{"$f":"IF(AU146=2,IF(AU149=2,SUM(AV146*1000+(BC146)/10+(BA146)/100+(BJ155)/1000+((F155+S155)-(G155+R155))/10000+(F155+S155)/100000+(S155)/1000000)))","v":false},{"$f":"IF(AU147=2,IF(AU149=2,SUM(AV147*1000+(BC147)/10+(BA147)/100+(BJ157)/1000+((F157+S157)-(G157+R157))/10000+(F157+S157)/100000+(S157)/1000000)))","v":false},{"$f":"IF(AU148=2,IF(AU149=2,SUM(AV148*1000+(BC148)/10+(BA148)/100+(BJ158)/1000+((F158+S158)-(G158+R158))/10000+(F158+S158)/100000+(S158)/1000000)))","v":false},{"$f":"IF(AU149=2,IF(AU148=2,SUM(AV149*1000+(BC149)/10+(BA149)/100+(BK158)/1000+((G158+R158)-(F158+S158))/10000+(G158+R158)/100000+(G158)/1000000)))","v":false},{"$f":"IF(AU144=3,IF(AU149=3,SUM(AV144*1000+(BC144)/10+(BA144)/100+(BJ148)/1000+((F148+S148)-(G148+R148))/10000+(F148+S148)/100000+(S148)/1000000)))","v":false},{"$f":"IF(AU145=3,IF(AU149=3,SUM(AV145*1000+(BC145)/10+(BA145)/100+(BJ152)/1000+((F152+S152)-(G152+R152))/10000+(F152+S152)/100000+(S152)/1000000)))","v":false},{"$f":"IF(AU146=3,IF(AU149=3,SUM(AV146*1000+(BC146)/10+(BA146)/100+(BJ155)/1000+((F155+S155)-(G155+R155))/10000+(F155+S155)/100000+(S155)/1000000)))","v":false},{"$f":"IF(AU147=3,IF(AU149=3,SUM(AV147*1000+(BC147)/10+(BA147)/100+(BJ157)/1000+((F157+S157)-(G157+R157))/10000+(F157+S157)/100000+(S157)/1000000)))","v":false},{"$f":"IF(AU148=3,IF(AU149=3,SUM(AV148*1000+(BC148)/10+(BA148)/100+(BJ158)/1000+((F158+S158)-(G158+R158))/10000+(F158+S158)/100000+(S158)/1000000)))","v":false},{"$f":"IF(AU149=3,IF(AU148=3,SUM(AV149*1000+(BC149)/10+(BA149)/100+(BK158)/1000+((G158+R158)-(F158+S158))/10000+(G158+R158)/100000+(G158)/1000000)))","v":false},{"$f":"IF(AU144=4,IF(AU149=4,SUM(AV144*1000+(BC144)/10+(BA144)/100+(BJ148)/1000+((F148+S148)-(G148+R148))/10000+(F148+S148)/100000+(S148)/1000000)))","v":false},{"$f":"IF(AU145=4,IF(AU149=4,SUM(AV145*1000+(BC145)/10+(BA145)/100+(BJ152)/1000+((F152+S152)-(G152+R152))/10000+(F152+S152)/100000+(S152)/1000000)))","v":false},{"$f":"IF(AU146=4,IF(AU149=4,SUM(AV146*1000+(BC146)/10+(BA146)/100+(BJ155)/1000+((F155+S155)-(G155+R155))/10000+(F155+S155)/100000+(S155)/1000000)))","v":false},{"$f":"IF(AU147=4,IF(AU149=4,SUM(AV147*1000+(BC147)/10+(BA147)/100+(BJ157)/1000+((F157+S157)-(G157+R157))/10000+(F157+S157)/100000+(S157)/1000000)))","v":false},{"$f":"IF(AU148=4,IF(AU149=4,SUM(AV148*1000+(BC148)/10+(BA148)/100+(BJ158)/1000+((F158+S158)-(G158+R158))/10000+(F158+S158)/100000+(S158)/1000000)))","v":false},{"$f":"IF(AU149=4,IF(AU148=4,SUM(AV149*1000+(BC149)/10+(BA149)/100+(BK158)/1000+((G158+R158)-(F158+S158))/10000+(G158+R158)/100000+(G158)/1000000)))","v":false},{"$f":"IF(AU144=5,IF(AU149=5,SUM(AV144*1000+(BC144)/10+(BA144)/100+(BJ148)/1000+((F148+S148)-(G148+R148))/10000+(F148+S148)/100000+(S148)/1000000)))","v":false},{"$f":"IF(AU145=5,IF(AU149=5,SUM(AV145*1000+(BC145)/10+(BA145)/100+(BJ152)/1000+((F152+S152)-(G152+R152))/10000+(F152+S152)/100000+(S152)/1000000)))","v":false},{"$f":"IF(AU146=5,IF(AU149=5,SUM(AV146*1000+(BC146)/10+(BA146)/100+(BJ155)/1000+((F155+S155)-(G155+R155))/10000+(F155+S155)/100000+(S155)/1000000)))","v":false},{"$f":"IF(AU147=5,IF(AU149=5,SUM(AV147*1000+(BC147)/10+(BA147)/100+(BJ157)/1000+((F157+S157)-(G157+R157))/10000+(F157+S157)/100000+(S157)/1000000)))","v":false},{"$f":"IF(AU148=5,IF(AU149=5,SUM(AV148*1000+(BC148)/10+(BA148)/100+(BJ158)/1000+((F158+S158)-(G158+R158))/10000+(F158+S158)/100000+(S158)/1000000)))","v":false},{"$f":"IF(AU149=5,IF(AU148=5,SUM(AV149*1000+(BC149)/10+(BA149)/100+(BK158)/1000+((G158+R158)-(F158+S158))/10000+(G158+R158)/100000+(G158)/1000000)))","v":false},{"$f":"IF(AU144=6,IF(AU149=6,SUM(AV144*1000+(BC144)/10+(BA144)/100+(BJ148)/1000+((F148+S148)-(G148+R148))/10000+(F148+S148)/100000+(S148)/1000000)))","v":false},{"$f":"IF(AU145=6,IF(AU149=6,SUM(AV145*1000+(BC145)/10+(BA145)/100+(BJ152)/1000+((F152+S152)-(G152+R152))/10000+(F152+S152)/100000+(S152)/1000000)))","v":false},{"$f":"IF(AU146=6,IF(AU149=6,SUM(AV146*1000+(BC146)/10+(BA146)/100+(BJ155)/1000+((F155+S155)-(G155+R155))/10000+(F155+S155)/100000+(S155)/1000000)))","v":false},{"$f":"IF(AU147=6,IF(AU149=6,SUM(AV147*1000+(BC147)/10+(BA147)/100+(BJ157)/1000+((F157+S157)-(G157+R157))/10000+(F157+S157)/100000+(S157)/1000000)))","v":false},{"$f":"IF(AU148=6,IF(AU149=6,SUM(AV148*1000+(BC148)/10+(BA148)/100+(BJ158)/1000+((F158+S158)-(G158+R158))/10000+(F158+S158)/100000+(S158)/1000000)))","v":false},{"$f":"IF(AU149=6,IF(AU148=6,SUM(AV149*1000+(BC149)/10+(BA149)/100+(BK158)/1000+((G158+R158)-(F158+S158))/10000+(G158+R158)/100000+(G158)/1000000)))","v":false}]
[{"$f":"AP145","v":"GRÈCE"},null,null,null,null,2,0,{"$f":"AP147","v":"CHYPRE"},null,null,null,null,"CHYPRE",null,null,null,null,1,2,"GRÈCE",null,null,null,null,null,null,null,null,null,null,null,null,null,null,null,null,null,null,null,null,null,null,null,null,null,null,null,null,null,null,null,null,null,null,null,null,null,3,0,0,3,6,0,1,1,1,1,1,false,false,1,false,false,false,false,false,1,1,false,2,0,1,2,4,1,0,2,2,1,1,4,{"$f":"SUM(CN144:CN149)","v":1000000},0,0,0,0,0,null,{"$f":"SUM(CU144:CU149)","v":0},800000,0,0,0,0,0,0,600000,0,0,0,0,0,0,0,400000,0,0,0,0,200000,0,0,0,0,0,0,0,100000]
[{"$f":"AP145","v":"GRÈCE"},null,null,null,null,0,0,{"$f":"AP148","v":"ESTONIE"},null,null,null,null,"ESTONIE",null,null,null,null,0,2,"GRÈCE",null,null,null,null,null,null,null,null,null,null,null,null,null,null,null,null,null,null,null,1,{"$f":"BA151","v":1},{"$f":"AP144","v":"BELGIQUE"},null,null,null,null,{"$f":"SUM(CN150,CU150,DA150,DG150,DM150,DS150)","v":1000000},null,null,{"$f":"AU151+0.00000006","v":1000000.00000006},null,null,{"$f":"RANK(AX151,AX151:AZ156)","v":1},{"$f":"RANK(AU151,AU151:AW156)","v":1},null,null,null,1,1,0,3,4,1,1,1,1,1,false,false,false,1,1,1,false,false,false,false,1,false,0,0,0,2,2,0,0,0,2,0,0,2]
[{"$f":"AP145","v":"GRÈCE"},null,null,null,null,4,0,{"$f":"AP149","v":"GIBRALTAR"},null,null,null,null,"GIBRALTAR",null,null,null,null,1,4,"GRÈCE",null,null,null,null,null,null,null,null,null,null,null,null,null,null,null,null,null,null,null,2,{"$f":"BA152","v":2},{"$f":"AP145","v":"GRÈCE"},null,null,null,null,{"$f":"SUM(CO150,CV150,DB150,DH150,DN150,DT150)","v":800000},null,null,{"$f":"AU152+0.00000005","v":800000.00000004994},null,null,{"$f":"RANK(AX152,AX151:AZ156)","v":2},{"$f":"RANK(AU152,AU151:AW156)","v":2},null,null,null,3,0,0,3,6,0,1,1,1,1,1,false,false,1,false,false,false,false,false,1,1,false,4,0,1,4,8,1,0,4,4,1,1,8,{"$f":"VLOOKUP(AN151,AO151:AT156,2,0)","v":"BELGIQUE"},null,null,null,null,null,{"$f":"VLOOKUP(CN152,AP151:AW156,6,0)","v":1000000},null,null,{"$f":"RANK(CT152,CT152:CV157)","v":1}]
[{"$f":"AP146","v":"BOSNIE"},null,null,null,null,2,0,{"$f":"AP147","v":"CHYPRE"},null,null,null,null,"CHYPRE",null,null,null,null,3,2,"BOSNIE",null,null,null,null,null,"ÉQUIPE QUALIFIÉE",null,null,null,{"$f":"Z144","v":"BELGIQUE"},null,null,null,null,null,null,null,null,null,3,3,"BOSNIE",null,null,null,null,{"$f":"SUM(CP150,CW150,DC150,DI150,DO150,DU150)","v":600000},null,null,{"$f":"AU153+0.00000004","v":600000.00000004005},null,null,{"$f":"RANK(AX153,AX151:AZ156)","v":3},{"$f":"RANK(AU153,AU151:AW156)","v":3},null,null,null,3,0,3,0,3,3,1,1,1,1,1,false,1,false,false,false,false,false,false,1,false,1,2,0,3,2,4,3,0,2,2,3,3,4,{"$f":"VLOOKUP(AN152,AO151:AT156,2,0)","v":"GRÈCE"},null,null,null,null,null,{"$f":"VLOOKUP(CN153,AP151:AW156,6,0)","v":800000},null,null,{"$f":"RANK(CT153,CT152:CV157)","v":2}]
[{"$f":"AP146","v":"BOSNIE"},null,null,null,null,5,0,{"$f":"AP148","v":"ESTONIE"},null,null,null,null,"ESTONIE",null,null,null,null,1,2,"BOSNIE",null,null,null,null,null,null,null,null,null,null,null,null,null,null,null,null,null,null,null,4,5,"CHYPRE",null,null,null,null,{"$f":"SUM(CQ150,CX150,DD150,DJ150,DP150,DV150)","v":200000},null,null,{"$f":"AU154+0.00000003","v":200000.00000003001},null,null,{"$f":"RANK(AX154,AX151:AZ156)","v":5},{"$f":"RANK(AU154,AU151:AW156)","v":5},null,null,null,3,0,0,3,6,0,1,1,1,1,1,false,false,1,false,false,false,false,false,1,1,false,5,0,1,2,7,1,0,5,2,1,1,7,{"$f":"VLOOKUP(AN153,AO151:AT156,2,0)","v":"BOSNIE"},null,null,null,null,null,{"$f":"VLOOKUP(CN154,AP151:AW156,6,0)","v":600000},null,null,{"$f":"RANK(CT154,CT152:CV157)","v":3}]
[{"$f":"AP146","v":"BOSNIE"},null,null,null,null,5,0,{"$f":"AP149","v":"GIBRALTAR"},null,null,null,null,"GIBRALTAR",null,null,null,null,0,4,"BOSNIE",null,null,null,null,null,null,null,null,null,null,null,null,null,null,null,null,null,null,null,5,4,"ESTONIE",null,null,null,null,{"$f":"SUM(CR150,CY150,DE150,DK150,DQ150,DW150)","v":400000},null,null,{"$f":"AU155+0.00000002","v":400000.00000002002},null,null,{"$f":"RANK(AX155,AX151:AZ156)","v":4},{"$f":"RANK(AU155,AU151:AW156)","v":4},null,null,null,3,0,0,3,6,0,1,1,1,1,1,false,false,1,false,false,false,false,false,1,1,false,5,0,0,4,9,0,0,5,4,0,0,9,{"$f":"VLOOKUP(AN154,AO151:AT156,2,0)","v":"ESTONIE"},null,null,null,null,null,{"$f":"VLOOKUP(CN155,AP151:AW156,6,0)","v":400000},null,null,{"$f":"RANK(CT155,CT152:CV157)","v":4}]
[{"$f":"AP147","v":"CHYPRE"},null,null,null,null,0,0,{"$f":"AP148","v":"ESTONIE"},null,null,null,null,"ESTONIE",null,null,null,null,1,0,"CHYPRE",null,null,null,null,null,"BARRAGE",null,null,null,{"$f":"IF(M189=9,\"\",D189)","v":"GRÈCE"},null,null,null,null,null,null,null,null,null,6,6,"GIBRALTAR",null,null,null,null,{"$f":"SUM(CS150,CZ150,DF150,DL150,DR150,DX150)","v":100000},null,null,{"$f":"AU156+0.00000001","v":100000.00000001},null,null,{"$f":"RANK(AX156,AX151:AZ156)","v":6},{"$f":"RANK(AU156,AU151:AW156)","v":6},null,null,null,1,1,3,0,1,4,1,1,1,1,false,false,1,false,1,1,false,false,false,false,false,1,0,0,1,0,0,1,0,0,0,1,1,0,{"$f":"VLOOKUP(AN155,AO151:AT156,2,0)","v":"CHYPRE"},null,null,null,null,null,{"$f":"VLOOKUP(CN156,AP151:AW156,6,0)","v":200000},null,null,{"$f":"RANK(CT156,CT152:CV157)","v":5}]
[{"$f":"AP147","v":"CHYPRE"},null,null,null,null,3,1,{"$f":"AP149","v":"GIBRALTAR"},null,null,null,null,"GIBRALTAR",null,null,null,null,1,2,"CHYPRE",null,null,null,null,null,null,null,null,null,null,null,null,null,null,null,null,null,null,null,null,null,null,null,null,null,null,null,null,null,null,null,null,null,null,null,null,null,3,0,0,3,6,0,1,1,1,1,1,false,false,1,false,false,false,false,false,1,1,false,3,1,1,2,5,2,1,3,2,1,2,5,{"$f":"VLOOKUP(AN156,AO151:AT156,2,0)","v":"GIBRALTAR"},null,null,null,null,null,{"$f":"VLOOKUP(CN157,AP151:AW156,6,0)","v":100000},null,null,{"$f":"RANK(CT157,CT152:CV157)","v":6}]
[{"$f":"AP148","v":"ESTONIE"},null,null,null,null,4,0,{"$f":"AP149","v":"GIBRALTAR"},null,null,null,null,"GIBRALTAR",null,null,null,null,0,6,"ESTONIE",null,null,null,null,null,null,null,null,null,null,null,null,null,null,null,null,null,null,null,null,null,null,null,null,null,null,null,null,null,null,null,null,null,null,null,null,null,3,0,0,3,6,0,1,1,1,1,1,false,false,1,false,false,false,false,false,1,1,false,4,0,0,6,10,0,0,4,6,0,0,10]
[]
[]
["MATCHS  ALLER",null,null,null,null,null,null,null,null,"GROUPE  I",null,null,null,null,null,"MATCHS  RETOUR",null,null,null,null,null,null,null,null,"GROUPE  I","CLASSEMENT",null,null,null,null,null,null,null,null,null,null,null,null,null,null,null,"CLASSEMENT"]
[]
["Équipes",null,null,null,null,"Bts","Bts","Équipes",null,null,null,null,"Équipes",null,null,null,null,"Bts","Bts","Équipes",null,null,null,null,null,"Équipes",null,null,null,null,"R","Pts","J","G","N","P","B +","B -","Diff",null,null,"Équipes",null,null,null,null,"R","Pts","J","G","N","P","B +","B -","Diff",null,null,"pts","pts","pts","pts","t pts","t pts","j","j","j","j","g","g","g","g","n","n","n","n","p","p","p","p","b+","b+","b+","b+","b+","b+","b-","b-","b-","b-","b-","b-",{"$f":"AP164","v":"CROATIE"},{"$f":"AP165","v":"ISLANDE"},{"$f":"AP166","v":"UKRAINE"},{"$f":"AP167","v":"TURQUIE"},{"$f":"AP168","v":"FINLANDE"},{"$f":"AP169","v":"KOSOVO"},null,{"$f":"CN163","v":"CROATIE"},{"$f":"CO163","v":"ISLANDE"},{"$f":"CP163","v":"UKRAINE"},{"$f":"CQ163","v":"TURQUIE"},{"$f":"CR163","v":"FINLANDE"},{"$f":"CS163","v":"KOSOVO"},{"$f":"CN163","v":"CROATIE"},{"$f":"CO163","v":"ISLANDE"},{"$f":"CP163","v":"UKRAINE"},{"$f":"CQ163","v":"TURQUIE"},{"$f":"CR163","v":"FINLANDE"},{"$f":"CS163","v":"KOSOVO"},{"$f":"CN163","v":"CROATIE"},{"$f":"CO163","v":"ISLANDE"},{"$f":"CP163","v":"UKRAINE"},{"$f":"CQ163","v":"TURQUIE"},{"$f":"CR163","v":"FINLANDE"},{"$f":"CS163","v":"KOSOVO"},{"$f":"CN163","v":"CROATIE"},{"$f":"CO163","v":"ISLANDE"},{"$f":"CP163","v":"UKRAINE"},{"$f":"CQ163","v":"TURQUIE"},{"$f":"CR163","v":"FINLANDE"},{"$f":"CS163","v":"KOSOVO"},{"$f":"CN163","v":"CROATIE"},{"$f":"CO163","v":"ISLANDE"},{"$f":"CP163","v":"UKRAINE"},{"$f":"CQ163","v":"TURQUIE"},{"$f":"CR163","v":"FINLANDE"},{"$f":"CS163","v":"KOSOVO"}]
[{"$f":"AP164","v":"CROATIE"},null,null,null,null,2,0,{"$f":"AP165","v":"ISLANDE"},null,null,null,null,{"$f":"H164","v":"ISLANDE"},null,null,null,null,1,0,{"$f":"A164","v":"CROATIE"},null,null,null,null,null,{"$f":"VLOOKUP(AN171,AO171:AT176,2,0)","v":"ISLANDE"},null,null,null,null,1,{"$f":"VLOOKUP(Z164,AP164:BC169,7,0)","v":22},{"$f":"VLOOKUP(Z164,AP164:BC169,8,0)","v":10},{"$f":"VLOOKUP(Z164,AP164:BC169,9,0)","v":7},{"$f":"VLOOKUP(Z164,AP164:BC169,10,0)","v":1},{"$f":"VLOOKUP(Z164,AP164:BC169,11,0)","v":2},{"$f":"VLOOKUP(Z164,AP164:BC169,12,0)","v":16},{"$f":"VLOOKUP(Z164,AP164:BC169,13,0)","v":7},{"$f":"VLOOKUP(Z164,AP164:BC169,14,0)","v":9},null,null,"CROATIE",null,null,null,null,{"$f":"RANK(AV164,AV164:AV169)","v":2},{"$f":"SUMPRODUCT((A164:E178=AP164)*(BF164:BF178))+SUMPRODUCT((H164:L178=AP164)*(BG164:BG178))+SUMPRODUCT((M164:Q178=AP164)*(BH164:BH178))+SUMPRODUCT((T164:X178=AP164)*(BI164:BI178))","v":20},{"$f":"SUMPRODUCT((A164:E178=AP164)*(BL164:BL178))+SUMPRODUCT((H164:L178=AP164)*(BM164:BM178))+SUMPRODUCT((M164:Q178=AP164)*(BN164:BN178))+SUMPRODUCT((T164:X178=AP164)*(BO164:BO178))","v":10},{"$f":"SUMPRODUCT((A164:E178=AP164)*(BP164:BP178))+SUMPRODUCT((H164:L178=AP164)*(BQ164:BQ178))+SUMPRODUCT((M164:Q178=AP164)*(BR164:BR178))+SUMPRODUCT((T164:X178=AP164)*(BS164:BS178))","v":6},{"$f":"SUMPRODUCT((A164:E178=AP164)*(BT164:BT178))+SUMPRODUCT((H164:L178=AP164)*(BU164:BU178))+SUMPRODUCT((M164:Q178=AP164)*(BV164:BV178))+SUMPRODUCT((T164:X178=AP164)*(BW164:BW178))","v":2},{"$f":"SUMPRODUCT((A164:E178=AP164)*(BX164:BX178))+SUMPRODUCT((H164:L178=AP164)*(BY164:BY178))+SUMPRODUCT((M164:Q178=AP164)*(BZ164:BZ178))+SUMPRODUCT((T164:X178=AP164)*(CA164:CA178))","v":2},{"$f":"SUMPRODUCT((A164:E178=AP164)*(CB164:CB178))+SUMPRODUCT((H164:L178=AP164)*(CC164:CC178))+SUMPRODUCT((M164:Q178=AP164)*(CD164:CD178))+SUMPRODUCT((T164:X178=AP164)*(CE164:CE178))","v":15},{"$f":"SUMPRODUCT((A164:E178=AP164)*(CH164:CH178))+SUMPRODUCT((H164:L178=AP164)*(CI164:CI178))+SUMPRODUCT((M164:Q178=AP164)*(CJ164:CJ178))+SUMPRODUCT((T164:X178=AP164)*(CK164:CK178))","v":4},{"$f":"BA164-BB164","v":11},null,null,{"$f":"IF(F164=\"\",0,IF(F164>G164,3,IF(F164=G164,1,IF(F164<G164,0))))","v":3},{"$f":"IF(G164=\"\",0,IF(G164>F164,3,IF(G164=F164,1,IF(G164<F164,0))))","v":0},{"$f":"IF(R164=\"\",0,IF(R164>S164,3,IF(R164=S164,1,IF(R164<S164,0))))","v":3},{"$f":"IF(S164=\"\",0,IF(S164>R164,3,IF(S164=R164,1,IF(S164<R164,0))))","v":0},{"$f":"BF164+BI164","v":3},{"$f":"BG164+BH164","v":3},{"$f":"IF(F164=\"\",0,1)","v":1},{"$f":"IF(G164=\"\",0,1)","v":1},{"$f":"IF(R164=\"\",0,1)","v":1},{"$f":"IF(S164=\"\",0,1)","v":1},{"$f":"IF(F164<>\"\",IF(F164>G164,1))","v":1},{"$f":"IF(G164<>\"\",IF(G164>F164,1))","v":false},{"$f":"IF(R164<>\"\",IF(R164>S164,1))","v":1},{"$f":"IF(S164<>\"\",IF(S164>R164,1))","v":false},{"$f":"IF(F164<>\"\",IF(F164=G164,1))","v":false},{"$f":"IF(G164<>\"\",IF(G164=F164,1))","v":false},{"$f":"IF(R164<>\"\",IF(R164=S164,1))","v":false},{"$f":"IF(S164<>\"\",IF(S164=R164,1))","v":false},{"$f":"IF(F164<>\"\",IF(F164<G164,1))","v":false},{"$f":"IF(G164<>\"\",IF(G164<F164,1))","v":1},{"$f":"IF(R164<>\"\",IF(R164<S164,1))","v":false},{"$f":"IF(S164<>\"\",IF(S164<R164,1))","v":1},{"$f":"F164","v":2},{"$f":"G164","v":0},{"$f":"R164","v":1},{"$f":"S164","v":0},{"$f":"CB164+CE164","v":2},{"$f":"CC164+CD164","v":1},{"$f":"G164","v":0},{"$f":"F164","v":2},{"$f":"S164","v":0},{"$f":"R164","v":1},{"$f":"CH164+CK164","v":1},{"$f":"CI164+CJ164","v":2},{"$f":"IF(AU164=1,1000000)","v":false},{"$f":"IF(AU165=1,1000000)","v":1000000},{"$f":"IF(AU166=1,1000000)","v":false},{"$f":"IF(AU167=1,1000000)","v":false},{"$f":"IF(AU168=1,1000000)","v":false},{"$f":"IF(AU169=1,1000000)","v":false},null,{"$f":"IF(AU164=2,800000)","v":800000},{"$f":"IF(AU165=2,800000)","v":false},{"$f":"IF(AU166=2,800000)","v":false},{"$f":"IF(AU167=2,800000)","v":false},{"$f":"IF(AU168=2,800000)","v":false},{"$f":"IF(AU169=2,800000)","v":false},{"$f":"IF(AU164=3,600000)","v":false},{"$f":"IF(AU165=3,600000)","v":false},{"$f":"IF(AU166=3,600000)","v":600000},{"$f":"IF(AU167=3,600000)","v":false},{"$f":"IF(AU168=3,600000)","v":false},{"$f":"IF(AU169=3,600000)","v":false},{"$f":"IF(AU164=4,400000)","v":false},{"$f":"IF(AU165=4,400000)","v":false},{"$f":"IF(AU166=4,400000)","v":false},{"$f":"IF(AU167=4,400000)","v":400000},{"$f":"IF(AU168=4,400000)","v":false},{"$f":"IF(AU169=4,400000)","v":false},{"$f":"IF(AU164=5,200000)","v":false},{"$f":"IF(AU165=5,200000)","v":false},{"$f":"IF(AU166=5,200000)","v":false},{"$f":"IF(AU167=5,200000)","v":false},{"$f":"IF(AU168=5,200000)","v":200000},{"$f":"IF(AU169=5,200000)","v":false},{"$f":"IF(AU164=6,100000)","v":false},{"$f":"IF(AU165=6,100000)","v":false},{"$f":"IF(AU166=6,100000)","v":false},{"$f":"IF(AU167=6,100000)","v":false},{"$f":"IF(AU168=6,100000)","v":false},{"$f":"IF(AU169=6,100000)","v":100000}]
[{"$f":"AP164","v":"CROATIE"},null,null,null,null,1,0,{"$f":"AP166","v":"UKRAINE"},null,null,null,null,{"$f":"H165","v":"UKRAINE"},null,null,null,null,0,2,{"$f":"A165","v":"CROATIE"},null,null,null,null,null,{"$f":"VLOOKUP(AN172,AO171:AT176,2,0)","v":"CROATIE"},null,null,null,null,{"$f":"IF(CT173=CT172,CW172,CW173)","v":2},{"$f":"VLOOKUP(Z165,AP164:BC169,7,0)","v":20},{"$f":"VLOOKUP(Z165,AP164:BC169,8,0)","v":10},{"$f":"VLOOKUP(Z165,AP164:BC169,9,0)","v":6},{"$f":"VLOOKUP(Z165,AP164:BC169,10,0)","v":2},{"$f":"VLOOKUP(Z165,AP164:BC169,11,0)","v":2},{"$f":"VLOOKUP(Z165,AP164:BC169,12,0)","v":15},{"$f":"VLOOKUP(Z165,AP164:BC169,13,0)","v":4},{"$f":"VLOOKUP(Z165,AP164:BC169,14,0)","v":11},null,null,"ISLANDE",null,null,null,null,{"$f":"RANK(AV165,AV164:AV169)","v":1},{"$f":"SUMPRODUCT((A164:E178=AP165)*(BF164:BF178))+SUMPRODUCT((H164:L178=AP165)*(BG164:BG178))+SUMPRODUCT((M164:Q178=AP165)*(BH164:BH178))+SUMPRODUCT((T164:X178=AP165)*(BI164:BI178))","v":22},{"$f":"SUMPRODUCT((A164:E178=AP165)*(BL164:BL178))+SUMPRODUCT((H164:L178=AP165)*(BM164:BM178))+SUMPRODUCT((M164:Q178=AP165)*(BN164:BN178))+SUMPRODUCT((T164:X178=AP165)*(BO164:BO178))","v":10},{"$f":"SUMPRODUCT((A164:E178=AP165)*(BP164:BP178))+SUMPRODUCT((H164:L178=AP165)*(BQ164:BQ178))+SUMPRODUCT((M164:Q178=AP165)*(BR164:BR178))+SUMPRODUCT((T164:X178=AP165)*(BS164:BS178))","v":7},{"$f":"SUMPRODUCT((A164:E178=AP165)*(BT164:BT178))+SUMPRODUCT((H164:L178=AP165)*(BU164:BU178))+SUMPRODUCT((M164:Q178=AP165)*(BV164:BV178))+SUMPRODUCT((T164:X178=AP165)*(BW164:BW178))","v":1},{"$f":"SUMPRODUCT((A164:E178=AP165)*(BX164:BX178))+SUMPRODUCT((H164:L178=AP165)*(BY164:BY178))+SUMPRODUCT((M164:Q178=AP165)*(BZ164:BZ178))+SUMPRODUCT((T164:X178=AP165)*(CA164:CA178))","v":2},{"$f":"SUMPRODUCT((A164:E178=AP165)*(CB164:CB178))+SUMPRODUCT((H164:L178=AP165)*(CC164:CC178))+SUMPRODUCT((M164:Q178=AP165)*(CD164:CD178))+SUMPRODUCT((T164:X178=AP165)*(CE164:CE178))","v":16},{"$f":"SUMPRODUCT((A164:E178=AP165)*(CH164:CH178))+SUMPRODUCT((H164:L178=AP165)*(CI164:CI178))+SUMPRODUCT((M164:Q178=AP165)*(CJ164:CJ178))+SUMPRODUCT((T164:X178=AP165)*(CK164:CK178))","v":7},{"$f":"BA165-BB165","v":9},null,null,{"$f":"IF(F165=\"\",0,IF(F165>G165,3,IF(F165=G165,1,IF(F165<G165,0))))","v":3},{"$f":"IF(G165=\"\",0,IF(G165>F165,3,IF(G165=F165,1,IF(G165<F165,0))))","v":0},{"$f":"IF(R165=\"\",0,IF(R165>S165,3,IF(R165=S165,1,IF(R165<S165,0))))","v":0},{"$f":"IF(S165=\"\",0,IF(S165>R165,3,IF(S165=R165,1,IF(S165<R165,0))))","v":3},{"$f":"BF165+BI165","v":6},{"$f":"BG165+BH165","v":0},{"$f":"IF(F165=\"\",0,1)","v":1},{"$f":"IF(G165=\"\",0,1)","v":1},{"$f":"IF(R165=\"\",0,1)","v":1},{"$f":"IF(S165=\"\",0,1)","v":1},{"$f":"IF(F165<>\"\",IF(F165>G165,1))","v":1},{"$f":"IF(G165<>\"\",IF(G165>F165,1))","v":false},{"$f":"IF(R165<>\"\",IF(R165>S165,1))","v":false},{"$f":"IF(S165<>\"\",IF(S165>R165,1))","v":1},{"$f":"IF(F165<>\"\",IF(F165=G165,1))","v":false},{"$f":"IF(G165<>\"\",IF(G165=F165,1))","v":false},{"$f":"IF(R165<>\"\",IF(R165=S165,1))","v":false},{"$f":"IF(S165<>\"\",IF(S165=R165,1))","v":false},{"$f":"IF(F165<>\"\",IF(F165<G165,1))","v":false},{"$f":"IF(G165<>\"\",IF(G165<F165,1))","v":1},{"$f":"IF(R165<>\"\",IF(R165<S165,1))","v":1},{"$f":"IF(S165<>\"\",IF(S165<R165,1))","v":false},{"$f":"F165","v":1},{"$f":"G165","v":0},{"$f":"R165","v":0},{"$f":"S165","v":2},{"$f":"CB165+CE165","v":3},{"$f":"CC165+CD165","v":0},{"$f":"G165","v":0},{"$f":"F165","v":1},{"$f":"S165","v":2},{"$f":"R165","v":0},{"$f":"CH165+CK165","v":0},{"$f":"CI165+CJ165","v":3},{"$f":"IF(AU164=1,IF(AU165=1,SUM(AV164*1000+(BC164)/10+(BA164)/100+(BJ164)/1000+((F164+S164)-(G164+R164))/10000+(F164+S164)/100000+(S164)/1000000)))","v":false},{"$f":"IF(AU165=1,IF(AU164=1,SUM(AV165*1000+(BC165)/10+(BA165)/100+(BK164)/1000+((G164+R164)-(F164+S164))/10000+(G164+R164)/100000+(G164)/1000000)))","v":false},{"$f":"IF(AU166=1,IF(AU164=1,SUM(AV166*1000+(BC166)/10+(BA166)/100+(BK165)/1000+((G165+R165)-(F165+S165))/10000+(G165+R165)/100000+(G165)/1000000)))","v":false},{"$f":"IF(AU167=1,IF(AU164=1,SUM(AV167*1000+(BC167)/10+(BA167)/100+(BK166)/1000+((G166+R166)-(F166+S166))/10000+(G166+R166)/100000+(G166)/1000000)))","v":false},{"$f":"IF(AU168=1,IF(AU164=1,SUM(AV168*1000+(BC168)/10+(BA168)/100+(BK167)/1000+((G167+R167)-(F167+S167))/10000+(G167+R167)/100000+(G167)/1000000)))","v":false},{"$f":"IF(AU169=1,IF(AU164=1,SUM(AV169*1000+(BC169)/10+(BA169)/100+(BK168)/1000+((G168+R168)-(F168+S168))/10000+(G168+R168)/100000+(G168)/1000000)))","v":false},null,{"$f":"IF(AU164=2,IF(AU165=2,SUM(AV164*1000+(BC164)/10+(BA164)/100+(BJ164)/1000+((F164+S164)-(G164+R164))/10000+(F164+S164)/100000+(S164)/1000000)))","v":false},{"$f":"IF(AU165=2,IF(AU164=2,SUM(AV165*1000+(BC165)/10+(BA165)/100+(BK164)/1000+((G164+R164)-(F164+S164))/10000+(G164+R164)/100000+(G164)/1000000)))","v":false},{"$f":"IF(AU166=2,IF(AU164=2,SUM(AV166*1000+(BC166)/10+(BA166)/100+(BK165)/1000+((G165+R165)-(F165+S165))/10000+(G165+R165)/100000+(G165)/1000000)))","v":false},{"$f":"IF(AU167=2,IF(AU164=2,SUM(AV167*1000+(BC167)/10+(BA167)/100+(BK166)/1000+((G166+R166)-(F166+S166))/10000+(G166+R166)/100000+(G166)/1000000)))","v":false},{"$f":"IF(AU168=2,IF(AU164=2,SUM(AV168*1000+(BC168)/10+(BA168)/100+(BK167)/1000+((G167+R167)-(F167+S167))/10000+(G167+R167)/100000+(G167)/1000000)))","v":false},{"$f":"IF(AU169=2,IF(AU164=2,SUM(AV169*1000+(BC169)/10+(BA169)/100+(BK168)/1000+((G168+R168)-(F168+S168))/10000+(G168+R168)/100000+(G168)/1000000)))","v":false},{"$f":"IF(AU164=3,IF(AU165=3,SUM(AV164*1000+(BC164)/10+(BA164)/100+(BJ164)/1000+((F164+S164)-(G164+R164))/10000+(F164+S164)/100000+(S164)/1000000)))","v":false},{"$f":"IF(AU165=3,IF(AU164=3,SUM(AV165*1000+(BC165)/10+(BA165)/100+(BK164)/1000+((G164+R164)-(F164+S164))/10000+(G164+R164)/100000+(G164)/1000000)))","v":false},{"$f":"IF(AU166=3,IF(AU164=3,SUM(AV166*1000+(BC166)/10+(BA166)/100+(BK165)/1000+((G165+R165)-(F165+S165))/10000+(G165+R165)/100000+(G165)/1000000)))","v":false},{"$f":"IF(AU167=3,IF(AU164=3,SUM(AV167*1000+(BC167)/10+(BA167)/100+(BK166)/1000+((G166+R166)-(F166+S166))/10000+(G166+R166)/100000+(G166)/1000000)))","v":false},{"$f":"IF(AU168=3,IF(AU164=3,SUM(AV168*1000+(BC168)/10+(BA168)/100+(BK167)/1000+((G167+R167)-(F167+S167))/10000+(G167+R167)/100000+(G167)/1000000)))","v":false},{"$f":"IF(AU169=3,IF(AU164=3,SUM(AV169*1000+(BC169)/10+(BA169)/100+(BK168)/1000+((G168+R168)-(F168+S168))/10000+(G168+R168)/100000+(G168)/1000000)))","v":false},{"$f":"IF(AU164=4,IF(AU165=4,SUM(AV164*1000+(BC164)/10+(BA164)/100+(BJ164)/1000+((F164+S164)-(G164+R164))/10000+(F164+S164)/100000+(S164)/1000000)))","v":false},{"$f":"IF(AU165=4,IF(AU164=4,SUM(AV165*1000+(BC165)/10+(BA165)/100+(BK164)/1000+((G164+R164)-(F164+S164))/10000+(G164+R164)/100000+(G164)/1000000)))","v":false},{"$f":"IF(AU166=4,IF(AU164=4,SUM(AV166*1000+(BC166)/10+(BA166)/100+(BK165)/1000+((G165+R165)-(F165+S165))/10000+(G165+R165)/100000+(G165)/1000000)))","v":false},{"$f":"IF(AU167=4,IF(AU164=4,SUM(AV167*1000+(BC167)/10+(BA167)/100+(BK166)/1000+((G166+R166)-(F166+S166))/10000+(G166+R166)/100000+(G166)/1000000)))","v":false},{"$f":"IF(AU168=4,IF(AU164=4,SUM(AV168*1000+(BC168)/10+(BA168)/100+(BK167)/1000+((G167+R167)-(F167+S167))/10000+(G167+R167)/100000+(G167)/1000000)))","v":false},{"$f":"IF(AU169=4,IF(AU164=4,SUM(AV169*1000+(BC169)/10+(BA169)/100+(BK168)/1000+((G168+R168)-(F168+S168))/10000+(G168+R168)/100000+(G168)/1000000)))","v":false},{"$f":"IF(AU164=5,IF(AU165=5,SUM(AV164*1000+(BC164)/10+(BA164)/100+(BJ164)/1000+((F164+S164)-(G164+R164))/10000+(F164+S164)/100000+(S164)/1000000)))","v":false},{"$f":"IF(AU165=5,IF(AU164=5,SUM(AV165*1000+(BC165)/10+(BA165)/100+(BK164)/1000+((G164+R164)-(F164+S164))/10000+(G164+R164)/100000+(G164)/1000000)))","v":false},{"$f":"IF(AU166=5,IF(AU164=5,SUM(AV166*1000+(BC166)/10+(BA166)/100+(BK165)/1000+((G165+R165)-(F165+S165))/10000+(G165+R165)/100000+(G165)/1000000)))","v":false},{"$f":"IF(AU167=5,IF(AU164=5,SUM(AV167*1000+(BC167)/10+(BA167)/100+(BK166)/1000+((G166+R166)-(F166+S166))/10000+(G166+R166)/100000+(G166)/1000000)))","v":false},{"$f":"IF(AU168=5,IF(AU164=5,SUM(AV168*1000+(BC168)/10+(BA168)/100+(BK167)/1000+((G167+R167)-(F167+S167))/10000+(G167+R167)/100000+(G167)/1000000)))","v":false},{"$f":"IF(AU169=5,IF(AU164=5,SUM(AV169*1000+(BC169)/10+(BA169)/100+(BK168)/1000+((G168+R168)-(F168+S168))/10000+(G168+R168)/100000+(G168)/1000000)))","v":false},{"$f":"IF(AU164=6,IF(AU165=6,SUM(AV164*1000+(BC164)/10+(BA164)/100+(BJ164)/1000+((F164+S164)-(G164+R164))/10000+(F164+S164)/100000+(S164)/1000000)))","v":false},{"$f":"IF(AU165=6,IF(AU164=6,SUM(AV165*1000+(BC165)/10+(BA165)/100+(BK164)/1000+((G164+R164)-(F164+S164))/10000+(G164+R164)/100000+(G164)/1000000)))","v":false},{"$f":"IF(AU166=6,IF(AU164=6,SUM(AV166*1000+(BC166)/10+(BA166)/100+(BK165)/1000+((G165+R165)-(F165+S165))/10000+(G165+R165)/100000+(G165)/1000000)))","v":false},{"$f":"IF(AU167=6,IF(AU164=6,SUM(AV167*1000+(BC167)/10+(BA167)/100+(BK166)/1000+((G166+R166)-(F166+S166))/10000+(G166+R166)/100000+(G166)/1000000)))","v":false},{"$f":"IF(AU168=6,IF(AU164=6,SUM(AV168*1000+(BC168)/10+(BA168)/100+(BK167)/1000+((G167+R167)-(F167+S167))/10000+(G167+R167)/100000+(G167)/1000000)))","v":false},{"$f":"IF(AU169=6,IF(AU164=6,SUM(AV169*1000+(BC169)/10+(BA169)/100+(BK168)/1000+((G168+R168)-(F168+S168))/10000+(G168+R168)/100000+(G168)/1000000)))","v":false}]
[{"$f":"AP164","v":"CROATIE"},null,null,null,null,1,1,{"$f":"AP167","v":"TURQUIE"},null,null,null,null,"TURQUIE",null,null,null,null,1,0,"CROATIE",null,null,null,null,null,{"$f":"VLOOKUP(AN173,AO171:AT176,2,0)","v":"UKRAINE"},null,null,null,null,{"$f":"IF(CT174=CT173,CW173,CW174)","v":3},{"$f":"VLOOKUP(Z166,AP164:BC169,7,0)","v":17},{"$f":"VLOOKUP(Z166,AP164:BC169,8,0)","v":10},{"$f":"VLOOKUP(Z166,AP164:BC169,9,0)","v":5},{"$f":"VLOOKUP(Z166,AP164:BC169,10,0)","v":2},{"$f":"VLOOKUP(Z166,AP164:BC169,11,0)","v":3},{"$f":"VLOOKUP(Z166,AP164:BC169,12,0)","v":13},{"$f":"VLOOKUP(Z166,AP164:BC169,13,0)","v":9},{"$f":"VLOOKUP(Z166,AP164:BC169,14,0)","v":4},null,null,"UKRAINE",null,null,null,null,{"$f":"RANK(AV166,AV164:AV169)","v":3},{"$f":"SUMPRODUCT((A164:E178=AP166)*(BF164:BF178))+SUMPRODUCT((H164:L178=AP166)*(BG164:BG178))+SUMPRODUCT((M164:Q178=AP166)*(BH164:BH178))+SUMPRODUCT((T164:X178=AP166)*(BI164:BI178))","v":17},{"$f":"SUMPRODUCT((A164:E178=AP166)*(BL164:BL178))+SUMPRODUCT((H164:L178=AP166)*(BM164:BM178))+SUMPRODUCT((M164:Q178=AP166)*(BN164:BN178))+SUMPRODUCT((T164:X178=AP166)*(BO164:BO178))","v":10},{"$f":"SUMPRODUCT((A164:E178=AP166)*(BP164:BP178))+SUMPRODUCT((H164:L178=AP166)*(BQ164:BQ178))+SUMPRODUCT((M164:Q178=AP166)*(BR164:BR178))+SUMPRODUCT((T164:X178=AP166)*(BS164:BS178))","v":5},{"$f":"SUMPRODUCT((A164:E178=AP166)*(BT164:BT178))+SUMPRODUCT((H164:L178=AP166)*(BU164:BU178))+SUMPRODUCT((M164:Q178=AP166)*(BV164:BV178))+SUMPRODUCT((T164:X178=AP166)*(BW164:BW178))","v":2},{"$f":"SUMPRODUCT((A164:E178=AP166)*(BX164:BX178))+SUMPRODUCT((H164:L178=AP166)*(BY164:BY178))+SUMPRODUCT((M164:Q178=AP166)*(BZ164:BZ178))+SUMPRODUCT((T164:X178=AP166)*(CA164:CA178))","v":3},{"$f":"SUMPRODUCT((A164:E178=AP166)*(CB164:CB178))+SUMPRODUCT((H164:L178=AP166)*(CC164:CC178))+SUMPRODUCT((M164:Q178=AP166)*(CD164:CD178))+SUMPRODUCT((T164:X178=AP166)*(CE164:CE178))","v":13},{"$f":"SUMPRODUCT((A164:E178=AP166)*(CH164:CH178))+SUMPRODUCT((H164:L178=AP166)*(CI164:CI178))+SUMPRODUCT((M164:Q178=AP166)*(CJ164:CJ178))+SUMPRODUCT((T164:X178=AP166)*(CK164:CK178))","v":9},4,null,null,1,1,3,0,1,4,1,1,1,1,false,false,1,false,1,1,false,false,false,false,false,1,1,1,1,0,1,2,1,1,0,1,2,1,{"$f":"IF(AU164=1,IF(AU166=1,SUM(AV164*1000+(BC164)/10+(BA164)/100+(BJ165)/1000+((F165+S165)-(G165+R165))/10000+(F165+S165)/100000+(S165)/1000000)))","v":false},{"$f":"IF(AU165=1,IF(AU166=1,SUM(AV165*1000+(BC165)/10+(BA165)/100+(BJ169)/1000+((F169+S169)-(G169+R169))/10000+(F169+S169)/100000+(S169)/1000000)))","v":false},{"$f":"IF(AU166=1,IF(AU165=1,SUM(AV166*1000+(BC166)/10+(BA166)/100+(BK169)/1000+((G169+R169)-(F169+S169))/10000+(G169+R169)/1000000+(G169)/1000000)))","v":false},{"$f":"IF(AU167=1,IF(AU165=1,SUM(AV167*1000+(BC167)/10+(BA167)/100+(BK170)/1000+((G170+R170)-(F170+S170))/10000+(G170+R170)/100000+(G170)/1000000)))","v":false},{"$f":"IF(AU168=1,IF(AU165=1,SUM(AV168*1000+(BC168)/10+(BA168)/100+(BK171)/1000+((G171+R171)-(F171+S171))/10000+(G171+R171)/100000+(G171)/1000000)))","v":false},{"$f":"IF(AU169=1,IF(AU165=1,SUM(AV169*1000+(BC169)/10+(BA169)/100+(BK172)/1000+((G172+R172)-(F172+S172))/10000+(G172+R172)/100000+(G172)/1000000)))","v":false},null,{"$f":"IF(AU164=2,IF(AU166=2,SUM(AV164*1000+(BC164)/10+(BA164)/100+(BJ165)/1000+((F165+S165)-(G165+R165))/10000+(F165+S165)/100000+(S165)/1000000)))","v":false},{"$f":"IF(AU165=2,IF(AU166=2,SUM(AV165*1000+(BC165)/10+(BA165)/100+(BJ169)/1000+((F169+S169)-(G169+R169))/10000+(F169+S169)/100000+(S169)/1000000)))","v":false},{"$f":"IF(AU166=2,IF(AU165=2,SUM(AV166*1000+(BC166)/10+(BA166)/100+(BK169)/1000+((G169+R169)-(F169+S169))/10000+(G169+R169)/1000000+(G169)/1000000)))","v":false},{"$f":"IF(AU167=2,IF(AU165=2,SUM(AV167*1000+(BC167)/10+(BA167)/100+(BK170)/1000+((G170+R170)-(F170+S170))/10000+(G170+R170)/100000+(G170)/1000000)))","v":false},{"$f":"IF(AU168=2,IF(AU165=2,SUM(AV168*1000+(BC168)/10+(BA168)/100+(BK171)/1000+((G171+R171)-(F171+S171))/10000+(G171+R171)/100000+(G171)/1000000)))","v":false},{"$f":"IF(AU169=2,IF(AU165=2,SUM(AV169*1000+(BC169)/10+(BA169)/100+(BK172)/1000+((G172+R172)-(F172+S172))/10000+(G172+R172)/100000+(G172)/1000000)))","v":false},{"$f":"IF(AU164=3,IF(AU166=3,SUM(AV164*1000+(BC164)/10+(BA164)/100+(BJ165)/1000+((F165+S165)-(G165+R165))/10000+(F165+S165)/100000+(S165)/1000000)))","v":false},{"$f":"IF(AU165=3,IF(AU166=3,SUM(AV165*1000+(BC165)/10+(BA165)/100+(BJ169)/1000+((F169+S169)-(G169+R169))/10000+(F169+S169)/100000+(S169)/1000000)))","v":false},{"$f":"IF(AU166=3,IF(AU165=3,SUM(AV166*1000+(BC166)/10+(BA166)/100+(BK169)/1000+((G169+R169)-(F169+S169))/10000+(G169+R169)/1000000+(G169)/1000000)))","v":false},{"$f":"IF(AU167=3,IF(AU165=3,SUM(AV167*1000+(BC167)/10+(BA167)/100+(BK170)/1000+((G170+R170)-(F170+S170))/10000+(G170+R170)/100000+(G170)/1000000)))","v":false},{"$f":"IF(AU168=3,IF(AU165=3,SUM(AV168*1000+(BC168)/10+(BA168)/100+(BK171)/1000+((G171+R171)-(F171+S171))/10000+(G171+R171)/100000+(G171)/1000000)))","v":false},{"$f":"IF(AU169=3,IF(AU165=3,SUM(AV169*1000+(BC169)/10+(BA169)/100+(BK172)/1000+((G172+R172)-(F172+S172))/10000+(G172+R172)/100000+(G172)/1000000)))","v":false},{"$f":"IF(AU164=4,IF(AU166=4,SUM(AV164*1000+(BC164)/10+(BA164)/100+(BJ165)/1000+((F165+S165)-(G165+R165))/10000+(F165+S165)/100000+(S165)/1000000)))","v":false},{"$f":"IF(AU165=4,IF(AU166=4,SUM(AV165*1000+(BC165)/10+(BA165)/100+(BJ169)/1000+((F169+S169)-(G169+R169))/10000+(F169+S169)/100000+(S169)/1000000)))","v":false},{"$f":"IF(AU166=4,IF(AU165=4,SUM(AV166*1000+(BC166)/10+(BA166)/100+(BK169)/1000+((G169+R169)-(F169+S169))/10000+(G169+R169)/1000000+(G169)/1000000)))","v":false},{"$f":"IF(AU167=4,IF(AU165=4,SUM(AV167*1000+(BC167)/10+(BA167)/100+(BK170)/1000+((G170+R170)-(F170+S170))/10000+(G170+R170)/100000+(G170)/1000000)))","v":false},{"$f":"IF(AU168=4,IF(AU165=4,SUM(AV168*1000+(BC168)/10+(BA168)/100+(BK171)/1000+((G171+R171)-(F171+S171))/10000+(G171+R171)/100000+(G171)/1000000)))","v":false},{"$f":"IF(AU169=4,IF(AU165=4,SUM(AV169*1000+(BC169)/10+(BA169)/100+(BK172)/1000+((G172+R172)-(F172+S172))/10000+(G172+R172)/100000+(G172)/1000000)))","v":false},{"$f":"IF(AU164=5,IF(AU166=5,SUM(AV164*1000+(BC164)/10+(BA164)/100+(BJ165)/1000+((F165+S165)-(G165+R165))/10000+(F165+S165)/100000+(S165)/1000000)))","v":false},{"$f":"IF(AU165=5,IF(AU166=5,SUM(AV165*1000+(BC165)/10+(BA165)/100+(BJ169)/1000+((F169+S169)-(G169+R169))/10000+(F169+S169)/100000+(S169)/1000000)))","v":false},{"$f":"IF(AU166=5,IF(AU165=5,SUM(AV166*1000+(BC166)/10+(BA166)/100+(BK169)/1000+((G169+R169)-(F169+S169))/10000+(G169+R169)/1000000+(G169)/1000000)))","v":false},{"$f":"IF(AU167=5,IF(AU165=5,SUM(AV167*1000+(BC167)/10+(BA167)/100+(BK170)/1000+((G170+R170)-(F170+S170))/10000+(G170+R170)/100000+(G170)/1000000)))","v":false},{"$f":"IF(AU168=5,IF(AU165=5,SUM(AV168*1000+(BC168)/10+(BA168)/100+(BK171)/1000+((G171+R171)-(F171+S171))/10000+(G171+R171)/100000+(G171)/1000000)))","v":false},{"$f":"IF(AU169=5,IF(AU165=5,SUM(AV169*1000+(BC169)/10+(BA169)/100+(BK172)/1000+((G172+R172)-(F172+S172))/10000+(G172+R172)/100000+(G172)/1000000)))","v":false},{"$f":"IF(AU164=6,IF(AU166=6,SUM(AV164*1000+(BC164)/10+(BA164)/100+(BJ165)/1000+((F165+S165)-(G165+R165))/10000+(F165+S165)/100000+(S165)/1000000)))","v":false},{"$f":"IF(AU165=6,IF(AU166=6,SUM(AV165*1000+(BC165)/10+(BA165)/100+(BJ169)/1000+((F169+S169)-(G169+R169))/10000+(F169+S169)/100000+(S169)/1000000)))","v":false},{"$f":"IF(AU166=6,IF(AU165=6,SUM(AV166*1000+(BC166)/10+(BA166)/100+(BK169)/1000+((G169+R169)-(F169+S169))/10000+(G169+R169)/1000000+(G169)/1000000)))","v":false},{"$f":"IF(AU167=6,IF(AU165=6,SUM(AV167*1000+(BC167)/10+(BA167)/100+(BK170)/1000+((G170+R170)-(F170+S170))/10000+(G170+R170)/100000+(G170)/1000000)))","v":false},{"$f":"IF(AU168=6,IF(AU165=6,SUM(AV168*1000+(BC168)/10+(BA168)/100+(BK171)/1000+((G171+R171)-(F171+S171))/10000+(G171+R171)/100000+(G171)/1000000)))","v":false},{"$f":"IF(AU169=6,IF(AU165=6,SUM(AV169*1000+(BC169)/10+(BA169)/100+(BK172)/1000+((G172+R172)-(F172+S172))/10000+(G172+R172)/100000+(G172)/1000000)))","v":false}]
[{"$f":"AP164","v":"CROATIE"},null,null,null,null,1,1,{"$f":"AP168","v":"FINLANDE"},null,null,null,null,"FINLANDE",null,null,null,null,0,1,"CROATIE",null,null,null,null,null,{"$f":"VLOOKUP(AN174,AO171:AT176,2,0)","v":"TURQUIE"},null,null,null,null,4,{"$f":"VLOOKUP(Z167,AP164:BC169,7,0)","v":15},{"$f":"VLOOKUP(Z167,AP164:BC169,8,0)","v":10},{"$f":"VLOOKUP(Z167,AP164:BC169,9,0)","v":4},{"$f":"VLOOKUP(Z167,AP164:BC169,10,0)","v":3},{"$f":"VLOOKUP(Z167,AP164:BC169,11,0)","v":3},{"$f":"VLOOKUP(Z167,AP164:BC169,12,0)","v":14},{"$f":"VLOOKUP(Z167,AP164:BC169,13,0)","v":13},{"$f":"VLOOKUP(Z167,AP164:BC169,14,0)","v":1},null,null,"TURQUIE",null,null,null,null,{"$f":"RANK(AV167,AV164:AV169)","v":4},{"$f":"SUMPRODUCT((A164:E178=AP167)*(BF164:BF178))+SUMPRODUCT((H164:L178=AP167)*(BG164:BG178))+SUMPRODUCT((M164:Q178=AP167)*(BH164:BH178))+SUMPRODUCT((T164:X178=AP167)*(BI164:BI178))","v":15},{"$f":"SUMPRODUCT((A164:E178=AP167)*(BL164:BL178))+SUMPRODUCT((H164:L178=AP167)*(BM164:BM178))+SUMPRODUCT((M164:Q178=AP167)*(BN164:BN178))+SUMPRODUCT((T164:X178=AP167)*(BO164:BO178))","v":10},{"$f":"SUMPRODUCT((A164:E178=AP167)*(BP164:BP178))+SUMPRODUCT((H164:L178=AP167)*(BQ164:BQ178))+SUMPRODUCT((M164:Q178=AP167)*(BR164:BR178))+SUMPRODUCT((T164:X178=AP167)*(BS164:BS178))","v":4},{"$f":"SUMPRODUCT((A164:E178=AP167)*(BT164:BT178))+SUMPRODUCT((H164:L178=AP167)*(BU164:BU178))+SUMPRODUCT((M164:Q178=AP167)*(BV164:BV178))+SUMPRODUCT((T164:X178=AP167)*(BW164:BW178))","v":3},{"$f":"SUMPRODUCT((A164:E178=AP167)*(BX164:BX178))+SUMPRODUCT((H164:L178=AP167)*(BY164:BY178))+SUMPRODUCT((M164:Q178=AP167)*(BZ164:BZ178))+SUMPRODUCT((T164:X178=AP167)*(CA164:CA178))","v":3},{"$f":"SUMPRODUCT((A164:E178=AP167)*(CB164:CB178))+SUMPRODUCT((H164:L178=AP167)*(CC164:CC178))+SUMPRODUCT((M164:Q178=AP167)*(CD164:CD178))+SUMPRODUCT((T164:X178=AP167)*(CE164:CE178))","v":14},{"$f":"SUMPRODUCT((A164:E178=AP167)*(CH164:CH178))+SUMPRODUCT((H164:L178=AP167)*(CI164:CI178))+SUMPRODUCT((M164:Q178=AP167)*(CJ164:CJ178))+SUMPRODUCT((T164:X178=AP167)*(CK164:CK178))","v":13},1,null,null,1,1,0,3,4,1,1,1,1,1,false,false,false,1,1,1,false,false,false,false,1,false,1,1,0,1,2,1,1,1,1,0,1,2,{"$f":"IF(AU164=1,IF(AU167=1,SUM(AV164*1000+(BC164)/10+(BA164)/100+(BJ166)/1000+((F166+S166)-(G166+R166))/10000+(F166+S166)/100000+(S166)/1000000)))","v":false},{"$f":"IF(AU165=1,IF(AU167=1,SUM(AV165*1000+(BC165)/10+(BA165)/100+(BJ170)/1000+((F170+S170)-(G170+R170))/10000+(F170+S170)/100000+(S170)/1000000)))","v":false},{"$f":"IF(AU166=1,IF(AU167=1,SUM(AV166*1000+(BC166)/10+(BA166)/100+(BJ173)/1000+((F173+S173)-(G173+R173))/10000+(F173+S173)/100000+(S173)/1000000)))","v":false},{"$f":"IF(AU167=1,IF(AU166=1,SUM(AV167*1000+(BC167)/10+(BA167)/100+(BK173)/1000+((G173+R173)-(F173+S173))/10000+(G173+R173)/100000+(G173)/1000000)))","v":false},{"$f":"IF(AU168=1,IF(AU166=1,SUM(AV168*1000+(BC168)/10+(BA168)/100+(BK174)/1000+((G174+R174)-(F174+S174))/10000+(G174+R174)/100000+(G174)/1000000)))","v":false},{"$f":"IF(AU169=1,IF(AU166=1,SUM(AV169*1000+(BC169)/10+(BA169)/100+(BK175)/1000+((G175+R175)-(F175+S175))/10000+(G175+R175)/100000+(G175)/1000000)))","v":false},null,{"$f":"IF(AU164=2,IF(AU167=2,SUM(AV164*1000+(BC164)/10+(BA164)/100+(BJ166)/1000+((F166+S166)-(G166+R166))/10000+(F166+S166)/100000+(S166)/1000000)))","v":false},{"$f":"IF(AU165=2,IF(AU167=2,SUM(AV165*1000+(BC165)/10+(BA165)/100+(BJ170)/1000+((F170+S170)-(G170+R170))/10000+(F170+S170)/100000+(S170)/1000000)))","v":false},{"$f":"IF(AU166=2,IF(AU167=2,SUM(AV166*1000+(BC166)/10+(BA166)/100+(BJ173)/1000+((F173+S173)-(G173+R173))/10000+(F173+S173)/100000+(S173)/1000000)))","v":false},{"$f":"IF(AU167=2,IF(AU166=2,SUM(AV167*1000+(BC167)/10+(BA167)/100+(BK173)/1000+((G173+R173)-(F173+S173))/10000+(G173+R173)/100000+(G173)/1000000)))","v":false},{"$f":"IF(AU168=2,IF(AU166=2,SUM(AV168*1000+(BC168)/10+(BA168)/100+(BK174)/1000+((G174+R174)-(F174+S174))/10000+(G174+R174)/100000+(G174)/1000000)))","v":false},{"$f":"IF(AU169=2,IF(AU166=2,SUM(AV169*1000+(BC169)/10+(BA169)/100+(BK175)/1000+((G175+R175)-(F175+S175))/10000+(G175+R175)/100000+(G175)/1000000)))","v":false},{"$f":"IF(AU164=3,IF(AU167=3,SUM(AV164*1000+(BC164)/10+(BA164)/100+(BJ166)/1000+((F166+S166)-(G166+R166))/10000+(F166+S166)/100000+(S166)/1000000)))","v":false},{"$f":"IF(AU165=3,IF(AU167=3,SUM(AV165*1000+(BC165)/10+(BA165)/100+(BJ170)/1000+((F170+S170)-(G170+R170))/10000+(F170+S170)/100000+(S170)/1000000)))","v":false},{"$f":"IF(AU166=3,IF(AU167=3,SUM(AV166*1000+(BC166)/10+(BA166)/100+(BJ173)/1000+((F173+S173)-(G173+R173))/10000+(F173+S173)/100000+(S173)/1000000)))","v":false},{"$f":"IF(AU167=3,IF(AU166=3,SUM(AV167*1000+(BC167)/10+(BA167)/100+(BK173)/1000+((G173+R173)-(F173+S173))/10000+(G173+R173)/100000+(G173)/1000000)))","v":false},{"$f":"IF(AU168=3,IF(AU166=3,SUM(AV168*1000+(BC168)/10+(BA168)/100+(BK174)/1000+((G174+R174)-(F174+S174))/10000+(G174+R174)/100000+(G174)/1000000)))","v":false},{"$f":"IF(AU169=3,IF(AU166=3,SUM(AV169*1000+(BC169)/10+(BA169)/100+(BK175)/1000+((G175+R175)-(F175+S175))/10000+(G175+R175)/100000+(G175)/1000000)))","v":false},{"$f":"IF(AU164=4,IF(AU167=4,SUM(AV164*1000+(BC164)/10+(BA164)/100+(BJ166)/1000+((F166+S166)-(G166+R166))/10000+(F166+S166)/100000+(S166)/1000000)))","v":false},{"$f":"IF(AU165=4,IF(AU167=4,SUM(AV165*1000+(BC165)/10+(BA165)/100+(BJ170)/1000+((F170+S170)-(G170+R170))/10000+(F170+S170)/100000+(S170)/1000000)))","v":false},{"$f":"IF(AU166=4,IF(AU167=4,SUM(AV166*1000+(BC166)/10+(BA166)/100+(BJ173)/1000+((F173+S173)-(G173+R173))/10000+(F173+S173)/100000+(S173)/1000000)))","v":false},{"$f":"IF(AU167=4,IF(AU166=4,SUM(AV167*1000+(BC167)/10+(BA167)/100+(BK173)/1000+((G173+R173)-(F173+S173))/10000+(G173+R173)/100000+(G173)/1000000)))","v":false},{"$f":"IF(AU168=4,IF(AU166=4,SUM(AV168*1000+(BC168)/10+(BA168)/100+(BK174)/1000+((G174+R174)-(F174+S174))/10000+(G174+R174)/100000+(G174)/1000000)))","v":false},{"$f":"IF(AU169=4,IF(AU166=4,SUM(AV169*1000+(BC169)/10+(BA169)/100+(BK175)/1000+((G175+R175)-(F175+S175))/10000+(G175+R175)/100000+(G175)/1000000)))","v":false},{"$f":"IF(AU164=5,IF(AU167=5,SUM(AV164*1000+(BC164)/10+(BA164)/100+(BJ166)/1000+((F166+S166)-(G166+R166))/10000+(F166+S166)/100000+(S166)/1000000)))","v":false},{"$f":"IF(AU165=5,IF(AU167=5,SUM(AV165*1000+(BC165)/10+(BA165)/100+(BJ170)/1000+((F170+S170)-(G170+R170))/10000+(F170+S170)/100000+(S170)/1000000)))","v":false},{"$f":"IF(AU166=5,IF(AU167=5,SUM(AV166*1000+(BC166)/10+(BA166)/100+(BJ173)/1000+((F173+S173)-(G173+R173))/10000+(F173+S173)/100000+(S173)/1000000)))","v":false},{"$f":"IF(AU167=5,IF(AU166=5,SUM(AV167*1000+(BC167)/10+(BA167)/100+(BK173)/1000+((G173+R173)-(F173+S173))/10000+(G173+R173)/100000+(G173)/1000000)))","v":false},{"$f":"IF(AU168=5,IF(AU166=5,SUM(AV168*1000+(BC168)/10+(BA168)/100+(BK174)/1000+((G174+R174)-(F174+S174))/10000+(G174+R174)/100000+(G174)/1000000)))","v":false},{"$f":"IF(AU169=5,IF(AU166=5,SUM(AV169*1000+(BC169)/10+(BA169)/100+(BK175)/1000+((G175+R175)-(F175+S175))/10000+(G175+R175)/100000+(G175)/1000000)))","v":false},{"$f":"IF(AU164=6,IF(AU167=6,SUM(AV164*1000+(BC164)/10+(BA164)/100+(BJ166)/1000+((F166+S166)-(G166+R166))/10000+(F166+S166)/100000+(S166)/1000000)))","v":false},{"$f":"IF(AU165=6,IF(AU167=6,SUM(AV165*1000+(BC165)/10+(BA165)/100+(BJ170)/1000+((F170+S170)-(G170+R170))/10000+(F170+S170)/100000+(S170)/1000000)))","v":false},{"$f":"IF(AU166=6,IF(AU167=6,SUM(AV166*1000+(BC166)/10+(BA166)/100+(BJ173)/1000+((F173+S173)-(G173+R173))/10000+(F173+S173)/100000+(S173)/1000000)))","v":false},{"$f":"IF(AU167=6,IF(AU166=6,SUM(AV167*1000+(BC167)/10+(BA167)/100+(BK173)/1000+((G173+R173)-(F173+S173))/10000+(G173+R173)/100000+(G173)/1000000)))","v":false},{"$f":"IF(AU168=6,IF(AU166=6,SUM(AV168*1000+(BC168)/10+(BA168)/100+(BK174)/1000+((G174+R174)-(F174+S174))/10000+(G174+R174)/100000+(G174)/1000000)))","v":false},{"$f":"IF(AU169=6,IF(AU166=6,SUM(AV169*1000+(BC169)/10+(BA169)/100+(BK175)/1000+((G175+R175)-(F175+S175))/10000+(G175+R175)/100000+(G175)/1000000)))","v":false}]
[{"$f":"AP164","v":"CROATIE"},null,null,null,null,1,0,{"$f":"AP169","v":"KOSOVO"},null,null,null,null,"KOSOVO",null,null,null,null,0,6,"CROATIE",null,null,null,null,null,{"$f":"VLOOKUP(AN175,AO171:AT176,2,0)","v":"FINLANDE"},null,null,null,null,5,{"$f":"VLOOKUP(Z168,AP164:BC169,7,0)","v":9},{"$f":"VLOOKUP(Z168,AP164:BC169,8,0)","v":10},{"$f":"VLOOKUP(Z168,AP164:BC169,9,0)","v":2},{"$f":"VLOOKUP(Z168,AP164:BC169,10,0)","v":3},{"$f":"VLOOKUP(Z168,AP164:BC169,11,0)","v":5},{"$f":"VLOOKUP(Z168,AP164:BC169,12,0)","v":9},{"$f":"VLOOKUP(Z168,AP164:BC169,13,0)","v":13},{"$f":"VLOOKUP(Z168,AP164:BC169,14,0)","v":-4},null,null,"FINLANDE",null,null,null,null,{"$f":"RANK(AV168,AV164:AV169)","v":5},{"$f":"SUMPRODUCT((A164:E178=AP168)*(BF164:BF178))+SUMPRODUCT((H164:L178=AP168)*(BG164:BG178))+SUMPRODUCT((M164:Q178=AP168)*(BH164:BH178))+SUMPRODUCT((T164:X178=AP168)*(BI164:BI178))","v":9},{"$f":"SUMPRODUCT((A164:E178=AP168)*(BL164:BL178))+SUMPRODUCT((H164:L178=AP168)*(BM164:BM178))+SUMPRODUCT((M164:Q178=AP168)*(BN164:BN178))+SUMPRODUCT((T164:X178=AP168)*(BO164:BO178))","v":10},{"$f":"SUMPRODUCT((A164:E178=AP168)*(BP164:BP178))+SUMPRODUCT((H164:L178=AP168)*(BQ164:BQ178))+SUMPRODUCT((M164:Q178=AP168)*(BR164:BR178))+SUMPRODUCT((T164:X178=AP168)*(BS164:BS178))","v":2},{"$f":"SUMPRODUCT((A164:E178=AP168)*(BT164:BT178))+SUMPRODUCT((H164:L178=AP168)*(BU164:BU178))+SUMPRODUCT((M164:Q178=AP168)*(BV164:BV178))+SUMPRODUCT((T164:X178=AP168)*(BW164:BW178))","v":3},{"$f":"SUMPRODUCT((A164:E178=AP168)*(BX164:BX178))+SUMPRODUCT((H164:L178=AP168)*(BY164:BY178))+SUMPRODUCT((M164:Q178=AP168)*(BZ164:BZ178))+SUMPRODUCT((T164:X178=AP168)*(CA164:CA178))","v":5},{"$f":"SUMPRODUCT((A164:E178=AP168)*(CB164:CB178))+SUMPRODUCT((H164:L178=AP168)*(CC164:CC178))+SUMPRODUCT((M164:Q178=AP168)*(CD164:CD178))+SUMPRODUCT((T164:X178=AP168)*(CE164:CE178))","v":9},{"$f":"SUMPRODUCT((A164:E178=AP168)*(CH164:CH178))+SUMPRODUCT((H164:L178=AP168)*(CI164:CI178))+SUMPRODUCT((M164:Q178=AP168)*(CJ164:CJ178))+SUMPRODUCT((T164:X178=AP168)*(CK164:CK178))","v":13},-4,null,null,3,0,0,3,6,0,1,1,1,1,1,false,false,1,false,false,false,false,false,1,1,false,1,0,0,6,7,0,0,1,6,0,0,7,{"$f":"IF(AU164=1,IF(AU168=1,SUM(AV164*1000+(BC164)/10+(BA164)/100+(BJ167)/1000+((F167+S167)-(G167+R167))/10000+(F167+S167)/100000+(S167)/1000000)))","v":false},{"$f":"IF(AU165=1,IF(AU168=1,SUM(AV165*1000+(BC165)/10+(BA165)/100+(BJ171)/1000+((F171+S171)-(G171+R171))/10000+(F171+S171)/100000+(S171)/1000000)))","v":false},{"$f":"IF(AU166=1,IF(AU168=1,SUM(AV166*1000+(BC166)/10+(BA166)/100+(BJ174)/1000+((F174+S174)-(G174+R174))/10000+(F174+S174)/100000+(S174)/1000000)))","v":false},{"$f":"IF(AU167=1,IF(AU168=1,SUM(AV167*1000+(BC167)/10+(BA167)/100+(BJ176)/1000+((F176+S176)-(G176+R176))/10000+(F176+S176)/100000+(S176)/1000000)))","v":false},{"$f":"IF(AU168=1,IF(AU167=1,SUM(AV168*1000+(BC168)/10+(BA168)/100+(BK176)/1000+((G176+R176)-(F176+S176))/10000+(G176+R176)/100000+(G176)/1000000)))","v":false},{"$f":"IF(AU169=1,IF(AU167=1,SUM(AV169*1000+(BC169)/10+(BA169)/100+(BK177)/1000+((G177+R177)-(F177+S177))/10000+(G177+R177)/100000+(G177)/1000000)))","v":false},null,{"$f":"IF(AU164=2,IF(AU168=2,SUM(AV164*1000+(BC164)/10+(BA164)/100+(BJ167)/1000+((F167+S167)-(G167+R167))/10000+(F167+S167)/100000+(S167)/1000000)))","v":false},{"$f":"IF(AU165=2,IF(AU168=2,SUM(AV165*1000+(BC165)/10+(BA165)/100+(BJ171)/1000+((F171+S171)-(G171+R171))/10000+(F171+S171)/100000+(S171)/1000000)))","v":false},{"$f":"IF(AU166=2,IF(AU168=2,SUM(AV166*1000+(BC166)/10+(BA166)/100+(BJ174)/1000+((F174+S174)-(G174+R174))/10000+(F174+S174)/100000+(S174)/1000000)))","v":false},{"$f":"IF(AU167=2,IF(AU168=2,SUM(AV167*1000+(BC167)/10+(BA167)/100+(BJ176)/1000+((F176+S176)-(G176+R176))/10000+(F176+S176)/100000+(S176)/1000000)))","v":false},{"$f":"IF(AU168=2,IF(AU167=2,SUM(AV168*1000+(BC168)/10+(BA168)/100+(BK176)/1000+((G176+R176)-(F176+S176))/10000+(G176+R176)/100000+(G176)/1000000)))","v":false},{"$f":"IF(AU169=2,IF(AU167=2,SUM(AV169*1000+(BC169)/10+(BA169)/100+(BK177)/1000+((G177+R177)-(F177+S177))/10000+(G177+R177)/100000+(G177)/1000000)))","v":false},{"$f":"IF(AU164=3,IF(AU168=3,SUM(AV164*1000+(BC164)/10+(BA164)/100+(BJ167)/1000+((F167+S167)-(G167+R167))/10000+(F167+S167)/100000+(S167)/1000000)))","v":false},{"$f":"IF(AU165=3,IF(AU168=3,SUM(AV165*1000+(BC165)/10+(BA165)/100+(BJ171)/1000+((F171+S171)-(G171+R171))/10000+(F171+S171)/100000+(S171)/1000000)))","v":false},{"$f":"IF(AU166=3,IF(AU168=3,SUM(AV166*1000+(BC166)/10+(BA166)/100+(BJ174)/1000+((F174+S174)-(G174+R174))/10000+(F174+S174)/100000+(S174)/1000000)))","v":false},{"$f":"IF(AU167=3,IF(AU168=3,SUM(AV167*1000+(BC167)/10+(BA167)/100+(BJ176)/1000+((F176+S176)-(G176+R176))/10000+(F176+S176)/100000+(S176)/1000000)))","v":false},{"$f":"IF(AU168=3,IF(AU167=3,SUM(AV168*1000+(BC168)/10+(BA168)/100+(BK176)/1000+((G176+R176)-(F176+S176))/10000+(G176+R176)/100000+(G176)/1000000)))","v":false},{"$f":"IF(AU169=3,IF(AU167=3,SUM(AV169*1000+(BC169)/10+(BA169)/100+(BK177)/1000+((G177+R177)-(F177+S177))/10000+(G177+R177)/100000+(G177)/1000000)))","v":false},{"$f":"IF(AU164=4,IF(AU168=4,SUM(AV164*1000+(BC164)/10+(BA164)/100+(BJ167)/1000+((F167+S167)-(G167+R167))/10000+(F167+S167)/100000+(S167)/1000000)))","v":false},{"$f":"IF(AU165=4,IF(AU168=4,SUM(AV165*1000+(BC165)/10+(BA165)/100+(BJ171)/1000+((F171+S171)-(G171+R171))/10000+(F171+S171)/100000+(S171)/1000000)))","v":false},{"$f":"IF(AU166=4,IF(AU168=4,SUM(AV166*1000+(BC166)/10+(BA166)/100+(BJ174)/1000+((F174+S174)-(G174+R174))/10000+(F174+S174)/100000+(S174)/1000000)))","v":false},{"$f":"IF(AU167=4,IF(AU168=4,SUM(AV167*1000+(BC167)/10+(BA167)/100+(BJ176)/1000+((F176+S176)-(G176+R176))/10000+(F176+S176)/100000+(S176)/1000000)))","v":false},{"$f":"IF(AU168=4,IF(AU167=4,SUM(AV168*1000+(BC168)/10+(BA168)/100+(BK176)/1000+((G176+R176)-(F176+S176))/10000+(G176+R176)/100000+(G176)/1000000)))","v":false},{"$f":"IF(AU169=4,IF(AU167=4,SUM(AV169*1000+(BC169)/10+(BA169)/100+(BK177)/1000+((G177+R177)-(F177+S177))/10000+(G177+R177)/100000+(G177)/1000000)))","v":false},{"$f":"IF(AU164=5,IF(AU168=5,SUM(AV164*1000+(BC164)/10+(BA164)/100+(BJ167)/1000+((F167+S167)-(G167+R167))/10000+(F167+S167)/100000+(S167)/1000000)))","v":false},{"$f":"IF(AU165=5,IF(AU168=5,SUM(AV165*1000+(BC165)/10+(BA165)/100+(BJ171)/1000+((F171+S171)-(G171+R171))/10000+(F171+S171)/100000+(S171)/1000000)))","v":false},{"$f":"IF(AU166=5,IF(AU168=5,SUM(AV166*1000+(BC166)/10+(BA166)/100+(BJ174)/1000+((F174+S174)-(G174+R174))/10000+(F174+S174)/100000+(S174)/1000000)))","v":false},{"$f":"IF(AU167=5,IF(AU168=5,SUM(AV167*1000+(BC167)/10+(BA167)/100+(BJ176)/1000+((F176+S176)-(G176+R176))/10000+(F176+S176)/100000+(S176)/1000000)))","v":false},{"$f":"IF(AU168=5,IF(AU167=5,SUM(AV168*1000+(BC168)/10+(BA168)/100+(BK176)/1000+((G176+R176)-(F176+S176))/10000+(G176+R176)/100000+(G176)/1000000)))","v":false},{"$f":"IF(AU169=5,IF(AU167=5,SUM(AV169*1000+(BC169)/10+(BA169)/100+(BK177)/1000+((G177+R177)-(F177+S177))/10000+(G177+R177)/100000+(G177)/1000000)))","v":false},{"$f":"IF(AU164=6,IF(AU168=6,SUM(AV164*1000+(BC164)/10+(BA164)/100+(BJ167)/1000+((F167+S167)-(G167+R167))/10000+(F167+S167)/100000+(S167)/1000000)))","v":false},{"$f":"IF(AU165=6,IF(AU168=6,SUM(AV165*1000+(BC165)/10+(BA165)/100+(BJ171)/1000+((F171+S171)-(G171+R171))/10000+(F171+S171)/100000+(S171)/1000000)))","v":false},{"$f":"IF(AU166=6,IF(AU168=6,SUM(AV166*1000+(BC166)/10+(BA166)/100+(BJ174)/1000+((F174+S174)-(G174+R174))/10000+(F174+S174)/100000+(S174)/1000000)))","v":false},{"$f":"IF(AU167=6,IF(AU168=6,SUM(AV167*1000+(BC167)/10+(BA167)/100+(BJ176)/1000+((F176+S176)-(G176+R176))/10000+(F176+S176)/100000+(S176)/1000000)))","v":false},{"$f":"IF(AU168=6,IF(AU167=6,SUM(AV168*1000+(BC168)/10+(BA168)/100+(BK176)/1000+((G176+R176)-(F176+S176))/10000+(G176+R176)/100000+(G176)/1000000)))","v":false},{"$f":"IF(AU169=6,IF(AU167=6,SUM(AV169*1000+(BC169)/10+(BA169)/100+(BK177)/1000+((G177+R177)-(F177+S177))/10000+(G177+R177)/100000+(G177)/1000000)))","v":false}]
[{"$f":"AP165","v":"ISLANDE"},null,null,null,null,2,0,{"$f":"AP166","v":"UKRAINE"},null,null,null,null,"UKRAINE",null,null,null,null,1,1,"ISLANDE",null,null,null,null,null,{"$f":"VLOOKUP(AN176,AO171:AT176,2,0)","v":"KOSOVO"},null,null,null,null,6,{"$f":"VLOOKUP(Z169,AP164:BC169,7,0)","v":1},{"$f":"VLOOKUP(Z169,AP164:BC169,8,0)","v":10},{"$f":"VLOOKUP(Z169,AP164:BC169,9,0)","v":0},{"$f":"VLOOKUP(Z169,AP164:BC169,10,0)","v":1},{"$f":"VLOOKUP(Z169,AP164:BC169,11,0)","v":9},{"$f":"VLOOKUP(Z169,AP164:BC169,12,0)","v":3},{"$f":"VLOOKUP(Z169,AP164:BC169,13,0)","v":24},{"$f":"VLOOKUP(Z169,AP164:BC169,14,0)","v":-21},null,null,"KOSOVO",null,null,null,null,{"$f":"RANK(AV169,AV164:AV169)","v":6},{"$f":"SUMPRODUCT((A164:E178=AP169)*(BF164:BF178))+SUMPRODUCT((H164:L178=AP169)*(BG164:BG178))+SUMPRODUCT((M164:Q178=AP169)*(BH164:BH178))+SUMPRODUCT((T164:X178=AP169)*(BI164:BI178))","v":1},{"$f":"SUMPRODUCT((A164:E178=AP169)*(BL164:BL178))+SUMPRODUCT((H164:L178=AP169)*(BM164:BM178))+SUMPRODUCT((M164:Q178=AP169)*(BN164:BN178))+SUMPRODUCT((T164:X178=AP169)*(BO164:BO178))","v":10},{"$f":"SUMPRODUCT((A164:E178=AP169)*(BP164:BP178))+SUMPRODUCT((H164:L178=AP169)*(BQ164:BQ178))+SUMPRODUCT((M164:Q178=AP169)*(BR164:BR178))+SUMPRODUCT((T164:X178=AP169)*(BS164:BS178))","v":0},{"$f":"SUMPRODUCT((A164:E178=AP169)*(BT164:BT178))+SUMPRODUCT((H164:L178=AP169)*(BU164:BU178))+SUMPRODUCT((M164:Q178=AP169)*(BV164:BV178))+SUMPRODUCT((T164:X178=AP169)*(BW164:BW178))","v":1},{"$f":"SUMPRODUCT((A164:E178=AP169)*(BX164:BX178))+SUMPRODUCT((H164:L178=AP169)*(BY164:BY178))+SUMPRODUCT((M164:Q178=AP169)*(BZ164:BZ178))+SUMPRODUCT((T164:X178=AP169)*(CA164:CA178))","v":9},{"$f":"SUMPRODUCT((A164:E178=AP169)*(CB164:CB178))+SUMPRODUCT((H164:L178=AP169)*(CC164:CC178))+SUMPRODUCT((M164:Q178=AP169)*(CD164:CD178))+SUMPRODUCT((T164:X178=AP169)*(CE164:CE178))","v":3},{"$f":"SUMPRODUCT((A164:E178=AP169)*(CH164:CH178))+SUMPRODUCT((H164:L178=AP169)*(CI164:CI178))+SUMPRODUCT((M164:Q178=AP169)*(CJ164:CJ178))+SUMPRODUCT((T164:X178=AP169)*(CK164:CK178))","v":24},-21,null,null,3,0,1,1,4,1,1,1,1,1,1,false,false,false,false,false,1,1,false,1,false,false,2,0,1,1,3,1,0,2,1,1,1,3,{"$f":"IF(AU164=1,IF(AU169=1,SUM(AV164*1000+(BC164)/10+(BA164)/100+(BJ168)/1000+((F168+S168)-(G168+R168))/10000+(F168+S168)/100000+(S168)/1000000)))","v":false},{"$f":"IF(AU165=1,IF(AU169=1,SUM(AV165*1000+(BC165)/10+(BA165)/100+(BJ172)/1000+((F172+S172)-(G172+R172))/10000+(F172+S172)/100000+(S172)/1000000)))","v":false},{"$f":"IF(AU166=1,IF(AU169=1,SUM(AV166*1000+(BC166)/10+(BA166)/100+(BJ175)/1000+((F175+S175)-(G175+R175))/10000+(F175+S175)/100000+(S175)/1000000)))","v":false},{"$f":"IF(AU167=1,IF(AU169=1,SUM(AV167*1000+(BC167)/10+(BA167)/100+(BJ177)/1000+((F177+S177)-(G177+R177))/10000+(F177+S177)/100000+(S177)/1000000)))","v":false},{"$f":"IF(AU168=1,IF(AU169=1,SUM(AV168*1000+(BC168)/10+(BA168)/100+(BJ178)/1000+((F178+S178)-(G178+R178))/10000+(F178+S178)/100000+(S178)/1000000)))","v":false},{"$f":"IF(AU169=1,IF(AU168=1,SUM(AV169*1000+(BC169)/10+(BA169)/100+(BK178)/1000+((G178+R178)-(F178+S178))/10000+(G178+R178)/100000+(G178)/1000000)))","v":false},null,{"$f":"IF(AU164=2,IF(AU169=2,SUM(AV164*1000+(BC164)/10+(BA164)/100+(BJ168)/1000+((F168+S168)-(G168+R168))/10000+(F168+S168)/100000+(S168)/1000000)))","v":false},{"$f":"IF(AU165=2,IF(AU169=2,SUM(AV165*1000+(BC165)/10+(BA165)/100+(BJ172)/1000+((F172+S172)-(G172+R172))/10000+(F172+S172)/100000+(S172)/1000000)))","v":false},{"$f":"IF(AU166=2,IF(AU169=2,SUM(AV166*1000+(BC166)/10+(BA166)/100+(BJ175)/1000+((F175+S175)-(G175+R175))/10000+(F175+S175)/100000+(S175)/1000000)))","v":false},{"$f":"IF(AU167=2,IF(AU169=2,SUM(AV167*1000+(BC167)/10+(BA167)/100+(BJ177)/1000+((F177+S177)-(G177+R177))/10000+(F177+S177)/100000+(S177)/1000000)))","v":false},{"$f":"IF(AU168=2,IF(AU169=2,SUM(AV168*1000+(BC168)/10+(BA168)/100+(BJ178)/1000+((F178+S178)-(G178+R178))/10000+(F178+S178)/100000+(S178)/1000000)))","v":false},{"$f":"IF(AU169=2,IF(AU168=2,SUM(AV169*1000+(BC169)/10+(BA169)/100+(BK178)/1000+((G178+R178)-(F178+S178))/10000+(G178+R178)/100000+(G178)/1000000)))","v":false},{"$f":"IF(AU164=3,IF(AU169=3,SUM(AV164*1000+(BC164)/10+(BA164)/100+(BJ168)/1000+((F168+S168)-(G168+R168))/10000+(F168+S168)/100000+(S168)/1000000)))","v":false},{"$f":"IF(AU165=3,IF(AU169=3,SUM(AV165*1000+(BC165)/10+(BA165)/100+(BJ172)/1000+((F172+S172)-(G172+R172))/10000+(F172+S172)/100000+(S172)/1000000)))","v":false},{"$f":"IF(AU166=3,IF(AU169=3,SUM(AV166*1000+(BC166)/10+(BA166)/100+(BJ175)/1000+((F175+S175)-(G175+R175))/10000+(F175+S175)/100000+(S175)/1000000)))","v":false},{"$f":"IF(AU167=3,IF(AU169=3,SUM(AV167*1000+(BC167)/10+(BA167)/100+(BJ177)/1000+((F177+S177)-(G177+R177))/10000+(F177+S177)/100000+(S177)/1000000)))","v":false},{"$f":"IF(AU168=3,IF(AU169=3,SUM(AV168*1000+(BC168)/10+(BA168)/100+(BJ178)/1000+((F178+S178)-(G178+R178))/10000+(F178+S178)/100000+(S178)/1000000)))","v":false},{"$f":"IF(AU169=3,IF(AU168=3,SUM(AV169*1000+(BC169)/10+(BA169)/100+(BK178)/1000+((G178+R178)-(F178+S178))/10000+(G178+R178)/100000+(G178)/1000000)))","v":false},{"$f":"IF(AU164=4,IF(AU169=4,SUM(AV164*1000+(BC164)/10+(BA164)/100+(BJ168)/1000+((F168+S168)-(G168+R168))/10000+(F168+S168)/100000+(S168)/1000000)))","v":false},{"$f":"IF(AU165=4,IF(AU169=4,SUM(AV165*1000+(BC165)/10+(BA165)/100+(BJ172)/1000+((F172+S172)-(G172+R172))/10000+(F172+S172)/100000+(S172)/1000000)))","v":false},{"$f":"IF(AU166=4,IF(AU169=4,SUM(AV166*1000+(BC166)/10+(BA166)/100+(BJ175)/1000+((F175+S175)-(G175+R175))/10000+(F175+S175)/100000+(S175)/1000000)))","v":false},{"$f":"IF(AU167=4,IF(AU169=4,SUM(AV167*1000+(BC167)/10+(BA167)/100+(BJ177)/1000+((F177+S177)-(G177+R177))/10000+(F177+S177)/100000+(S177)/1000000)))","v":false},{"$f":"IF(AU168=4,IF(AU169=4,SUM(AV168*1000+(BC168)/10+(BA168)/100+(BJ178)/1000+((F178+S178)-(G178+R178))/10000+(F178+S178)/100000+(S178)/1000000)))","v":false},{"$f":"IF(AU169=4,IF(AU168=4,SUM(AV169*1000+(BC169)/10+(BA169)/100+(BK178)/1000+((G178+R178)-(F178+S178))/10000+(G178+R178)/100000+(G178)/1000000)))","v":false},{"$f":"IF(AU164=5,IF(AU169=5,SUM(AV164*1000+(BC164)/10+(BA164)/100+(BJ168)/1000+((F168+S168)-(G168+R168))/10000+(F168+S168)/100000+(S168)/1000000)))","v":false},{"$f":"IF(AU165=5,IF(AU169=5,SUM(AV165*1000+(BC165)/10+(BA165)/100+(BJ172)/1000+((F172+S172)-(G172+R172))/10000+(F172+S172)/100000+(S172)/1000000)))","v":false},{"$f":"IF(AU166=5,IF(AU169=5,SUM(AV166*1000+(BC166)/10+(BA166)/100+(BJ175)/1000+((F175+S175)-(G175+R175))/10000+(F175+S175)/100000+(S175)/1000000)))","v":false},{"$f":"IF(AU167=5,IF(AU169=5,SUM(AV167*1000+(BC167)/10+(BA167)/100+(BJ177)/1000+((F177+S177)-(G177+R177))/10000+(F177+S177)/100000+(S177)/1000000)))","v":false},{"$f":"IF(AU168=5,IF(AU169=5,SUM(AV168*1000+(BC168)/10+(BA168)/100+(BJ178)/1000+((F178+S178)-(G178+R178))/10000+(F178+S178)/100000+(S178)/1000000)))","v":false},{"$f":"IF(AU169=5,IF(AU168=5,SUM(AV169*1000+(BC169)/10+(BA169)/100+(BK178)/1000+((G178+R178)-(F178+S178))/10000+(G178+R178)/100000+(G178)/1000000)))","v":false},{"$f":"IF(AU164=6,IF(AU169=6,SUM(AV164*1000+(BC164)/10+(BA164)/100+(BJ168)/1000+((F168+S168)-(G168+R168))/10000+(F168+S168)/100000+(S168)/1000000)))","v":false},{"$f":"IF(AU165=6,IF(AU169=6,SUM(AV165*1000+(BC165)/10+(BA165)/100+(BJ172)/1000+((F172+S172)-(G172+R172))/10000+(F172+S172)/100000+(S172)/1000000)))","v":false},{"$f":"IF(AU166=6,IF(AU169=6,SUM(AV166*1000+(BC166)/10+(BA166)/100+(BJ175)/1000+((F175+S175)-(G175+R175))/10000+(F175+S175)/100000+(S175)/1000000)))","v":false},{"$f":"IF(AU167=6,IF(AU169=6,SUM(AV167*1000+(BC167)/10+(BA167)/100+(BJ177)/1000+((F177+S177)-(G177+R177))/10000+(F177+S177)/100000+(S177)/1000000)))","v":false},{"$f":"IF(AU168=6,IF(AU169=6,SUM(AV168*1000+(BC168)/10+(BA168)/100+(BJ178)/1000+((F178+S178)-(G178+R178))/10000+(F178+S178)/100000+(S178)/1000000)))","v":false},{"$f":"IF(AU169=6,IF(AU168=6,SUM(AV169*1000+(BC169)/10+(BA169)/100+(BK178)/1000+((G178+R178)-(F178+S178))/10000+(G178+R178)/100000+(G178)/1000000)))","v":false}]
[{"$f":"AP165","v":"ISLANDE"},null,null,null,null,2,0,{"$f":"AP167","v":"TURQUIE"},null,null,null,null,"TURQUIE",null,null,null,null,0,3,"ISLANDE",null,null,null,null,null,null,null,null,null,null,null,null,null,null,null,null,null,null,null,null,null,null,null,null,null,null,null,null,null,null,null,null,null,null,null,null,null,3,0,0,3,6,0,1,1,1,1,1,false,false,1,false,false,false,false,false,1,1,false,2,0,0,3,5,0,0,2,3,0,0,5,{"$f":"SUM(CN164:CN169)","v":0},1000000,0,0,0,0,null,{"$f":"SUM(CU164:CU169)","v":800000},0,0,0,0,0,0,0,600000,0,0,0,0,0,0,400000,0,0,0,0,0,0,200000,0,0,0,0,0,0,100000]
[{"$f":"AP165","v":"ISLANDE"},null,null,null,null,3,2,{"$f":"AP168","v":"FINLANDE"},null,null,null,null,"FINLANDE",null,null,null,null,1,0,"ISLANDE",null,null,null,null,null,null,null,null,null,null,null,null,null,null,null,null,null,null,null,1,{"$f":"BA171","v":2},{"$f":"AP164","v":"CROATIE"},null,null,null,null,{"$f":"SUM(CN170,CU170,DA170,DG170,DM170,DS170)","v":800000},null,null,{"$f":"AU171+0.00000006","v":800000.00000005995},null,null,{"$f":"RANK(AX171,AX171:AZ176)","v":2},{"$f":"RANK(AU171,AU171:AW176)","v":2},null,null,null,3,0,3,0,3,3,1,1,1,1,1,false,1,false,false,false,false,false,false,1,false,1,3,2,1,0,3,3,2,3,0,1,3,3]
[{"$f":"AP165","v":"ISLANDE"},null,null,null,null,2,0,{"$f":"AP169","v":"KOSOVO"},null,null,null,null,"KOSOVO",null,null,null,null,1,2,"ISLANDE",null,null,null,null,null,null,null,null,null,null,null,null,null,null,null,null,null,null,null,2,1,{"$f":"AP165","v":"ISLANDE"},null,null,null,null,{"$f":"SUM(CO170,CV170,DB170,DH170,DN170,DT170)","v":1000000},null,null,{"$f":"AU172+0.00000005","v":1000000.0000000499},null,null,{"$f":"RANK(AX172,AX171:AZ176)","v":1},{"$f":"RANK(AU172,AU171:AW176)","v":1},null,null,null,3,0,0,3,6,0,1,1,1,1,1,false,false,1,false,false,false,false,false,1,1,false,2,0,1,2,4,1,0,2,2,1,1,4,{"$f":"VLOOKUP(AN171,AO171:AT176,2,0)","v":"ISLANDE"},null,null,null,null,null,{"$f":"VLOOKUP(CN172,AP171:AW176,6,0)","v":1000000},null,null,{"$f":"RANK(CT172,CT172:CV177)","v":1}]
[{"$f":"AP166","v":"UKRAINE"},null,null,null,null,2,0,{"$f":"AP167","v":"TURQUIE"},null,null,null,null,"TURQUIE",null,null,null,null,2,2,"UKRAINE",null,null,null,null,null,"ÉQUIPE QUALIFIÉE",null,null,null,{"$f":"Z164","v":"ISLANDE"},null,null,null,null,null,null,null,null,null,3,3,"UKRAINE",null,null,null,null,{"$f":"SUM(CP170,CW170,DC170,DI170,DO170,DU170)","v":600000},null,null,{"$f":"AU173+0.00000004","v":600000.00000004005},null,null,{"$f":"RANK(AX173,AX171:AZ176)","v":3},{"$f":"RANK(AU173,AU171:AW176)","v":3},null,null,null,3,0,1,1,4,1,1,1,1,1,1,false,false,false,false,false,1,1,false,1,false,false,2,0,2,2,4,2,0,2,2,2,2,4,{"$f":"VLOOKUP(AN172,AO171:AT176,2,0)","v":"CROATIE"},null,null,null,null,null,{"$f":"VLOOKUP(CN173,AP171:AW176,6,0)","v":800000},null,null,{"$f":"RANK(CT173,CT172:CV177)","v":2}]
[{"$f":"AP166","v":"UKRAINE"},null,null,null,null,1,0,{"$f":"AP168","v":"FINLANDE"},null,null,null,null,"FINLANDE",null,null,null,null,1,2,"UKRAINE",null,null,null,null,null,null,null,null,null,null,null,null,null,null,null,null,null,null,null,4,4,"TURQUIE",null,null,null,null,{"$f":"SUM(CQ170,CX170,DD170,DJ170,DP170,DV170)","v":400000},null,null,{"$f":"AU174+0.00000003","v":400000.00000002998},null,null,{"$f":"RANK(AX174,AX171:AZ176)","v":4},{"$f":"RANK(AU174,AU171:AW176)","v":4},null,null,null,3,0,0,3,6,0,1,1,1,1,1,false,false,1,false,false,false,false,false,1,1,false,1,0,1,2,3,1,0,1,2,1,1,3,{"$f":"VLOOKUP(AN173,AO171:AT176,2,0)","v":"UKRAINE"},null,null,null,null,null,{"$f":"VLOOKUP(CN174,AP171:AW176,6,0)","v":600000},null,null,{"$f":"RANK(CT174,CT172:CV177)","v":3}]
[{"$f":"AP166","v":"UKRAINE"},null,null,null,null,3,0,{"$f":"AP169","v":"KOSOVO"},null,null,null,null,"KOSOVO",null,null,null,null,0,2,"UKRAINE",null,null,null,null,null,null,null,null,null,null,null,null,null,null,null,null,null,null,null,5,5,"FINLANDE",null,null,null,null,{"$f":"SUM(CR170,CY170,DE170,DK170,DQ170,DW170)","v":200000},null,null,{"$f":"AU175+0.00000002","v":200000.00000001999},null,null,{"$f":"RANK(AX175,AX171:AZ176)","v":5},{"$f":"RANK(AU175,AU171:AW176)","v":5},null,null,null,3,0,0,3,6,0,1,1,1,1,1,false,false,1,false,false,false,false,false,1,1,false,3,0,0,2,5,0,0,3,2,0,0,5,{"$f":"VLOOKUP(AN174,AO171:AT176,2,0)","v":"TURQUIE"},null,null,null,null,null,{"$f":"VLOOKUP(CN175,AP171:AW176,6,0)","v":400000},null,null,{"$f":"RANK(CT175,CT172:CV177)","v":4}]
[{"$f":"AP167","v":"TURQUIE"},null,null,null,null,2,0,{"$f":"AP168","v":"FINLANDE"},null,null,null,null,"FINLANDE",null,null,null,null,2,2,"TURQUIE",null,null,null,null,null,"BARRAGE",null,null,null,{"$f":"IF(M190=9,\"\",D190)","v":"CROATIE"},null,null,null,null,null,null,null,null,null,6,6,"KOSOVO",null,null,null,null,{"$f":"SUM(CS170,CZ170,DF170,DL170,DR170,DX170)","v":100000},null,null,{"$f":"AU176+0.00000001","v":100000.00000001},null,null,{"$f":"RANK(AX176,AX171:AZ176)","v":6},{"$f":"RANK(AU176,AU171:AW176)","v":6},null,null,null,3,0,1,1,4,1,1,1,1,1,1,false,false,false,false,false,1,1,false,1,false,false,2,0,2,2,4,2,0,2,2,2,2,4,{"$f":"VLOOKUP(AN175,AO171:AT176,2,0)","v":"FINLANDE"},null,null,null,null,null,{"$f":"VLOOKUP(CN176,AP171:AW176,6,0)","v":200000},null,null,{"$f":"RANK(CT176,CT172:CV177)","v":5}]
[{"$f":"AP167","v":"TURQUIE"},null,null,null,null,2,0,{"$f":"AP169","v":"KOSOVO"},null,null,null,null,"KOSOVO",null,null,null,null,1,4,"TURQUIE",null,null,null,null,null,null,null,null,null,null,null,null,null,null,null,null,null,null,null,null,null,null,null,null,null,null,null,null,null,null,null,null,null,null,null,null,null,3,0,0,3,6,0,1,1,1,1,1,false,false,1,false,false,false,false,false,1,1,false,2,0,1,4,6,1,0,2,4,1,1,6,{"$f":"VLOOKUP(AN176,AO171:AT176,2,0)","v":"KOSOVO"},null,null,null,null,null,{"$f":"VLOOKUP(CN177,AP171:AW176,6,0)","v":100000},null,null,{"$f":"RANK(CT177,CT172:CV177)","v":6}]
[{"$f":"AP168","v":"FINLANDE"},null,null,null,null,1,1,{"$f":"AP169","v":"KOSOVO"},null,null,null,null,"KOSOVO",null,null,null,null,0,1,"FINLANDE",null,null,null,null,null,null,null,null,null,null,null,null,null,null,null,null,null,null,null,null,null,null,null,null,null,null,null,null,null,null,null,null,null,null,null,null,null,1,1,0,3,4,1,1,1,1,1,false,false,false,1,1,1,false,false,false,false,1,false,1,1,0,1,2,1,1,1,1,0,1,2]
[]
[]
[]
[null,null,null,{"$f":"Z5","v":"SUÈDE"},null,null,null,null,{"$f":"SUM(AF5*1000+(AM5)/10+(AK5)/100)","v":19001.96},null,null,null,{"$f":"RANK(I182,$I$182:$L$190)","v":5}]
[null,null,null,{"$f":"Z25","v":"SUISSE"},null,null,null,null,{"$f":"SUM(AF25*1000+(AM25)/10+(AK25)/100)","v":27001.829999999998},null,null,null,{"$f":"RANK(I183,$I$182:$L$190)","v":1}]
[null,null,null,{"$f":"Z45","v":"IRLANDE DU NORD"},null,null,null,null,{"$f":"SUM(AF45*1000+(AM45)/10+(AK45)/100)","v":19001.269999999997},null,null,null,6]
[null,null,null,{"$f":"Z65","v":"IRLANDE"},null,null,null,null,{"$f":"SUM(AF65*1000+(AM65)/10+(AK65)/100)","v":19000.719999999998},null,null,null,8]
[null,null,null,{"$f":"Z85","v":"DANEMARK"},null,null,null,null,{"$f":"SUM(AF85*1000+(AM85)/10+(AK85)/100)","v":20001.400000000001},null,null,null,3]
[null,null,null,{"$f":"Z105","v":"SLOVAQUIE"},null,null,null,null,{"$f":"SUM(AF105*1000+(AM105)/10+(AK105)/100)","v":18001.169999999998},null,null,null,9]
[null,null,null,{"$f":"Z125","v":"ITALIE"},null,null,null,null,{"$f":"SUM(AF125*1000+(AM125)/10+(AK125)/100)","v":23001.51},null,null,null,2]
[null,null,null,{"$f":"Z145","v":"GRÈCE"},null,null,null,null,{"$f":"SUM(AF145*1000+(AM145)/10+(AK145)/100)","v":19001.269999999997},null,null,null,6]
[null,null,null,{"$f":"Z165","v":"CROATIE"},null,null,null,null,{"$f":"SUM(AF165*1000+(AM165)/10+(AK165)/100)","v":20001.25},null,null,null,4]

{"sheet":"AMERIQUE DU NORD","index":3,"n_rows":19,"n_cols":128,"rows_kept":19,"cut":false,"hidden":false,"merged":[[12,25,13,28],[14,25,15,28],[16,25,17,28],[18,25,19,28],[12,29,13,38],[14,29,15,38],[16,29,17,38],[18,29,19,38],[15,97,15,99],[13,97,13,99],[16,0,16,4],[16,7,16,11],[16,12,16,16],[16,19,16,23],[16,91,16,96],[16,97,16,99],[14,7,14,11],[14,12,14,16],[14,19,14,23],[14,41,14,45],[14,46,14,48],[14,49,14,51],[14,91,14,96],[14,97,14,99],[15,0,15,4],[15,7,15,11],[15,12,15,16],[15,19,15,23],[15,41,15,45],[15,46,15,48],[15,49,15,51],[15,91,15,96],[14,0,14,4],[17,0,17,4],[17,7,17,11],[17,12,17,16],[17,19,17,23],[11,91,11,96],[11,97,11,99],[12,0,12,4],[12,7,12,11],[12,12,12,16],[12,19,12,23],[12,41,12,45],[12,46,12,48],[9,27,11,28],[12,49,12,51],[12,91,12,96],[12,97,12,99],[13,0,13,4],[13,7,13,11],[13,12,13,16],[13,19,13,23],[13,41,13,45],[13,46,13,48],[13,49,13,51],[13,91,13,96],[10,46,10,48],[10,49,10,51],[11,0,11,4],[11,7,11,11],[11,12,11,16],[11,19,11,23],[11,41,11,45],[11,46,11,48],[11,49,11,51],[9,29,11,30],[9,31,11,32],[9,33,11,34],[9,35,11,36],[9,37,11,38],[10,0,10,4],[10,7,10,11],[10,12,10,16],[10,19,10,23],[7,41,7,45],[6,0,6,4],[6,7,6,11],[6,12,6,16],[6,19,6,23],[6,25,6,29],[6,41,6,45],[9,0,9,4],[9,7,9,11],[9,12,9,16],[9,19,9,23],[9,25,11,26],[8,0,8,4],[8,7,8,11],[8,12,8,16],[8,19,8,23],[8,25,8,29],[10,41,10,45],[0,0,1,8],[0,9,1,14],[0,15,1,23],[0,24,17,24],[0,25,1,38],[0,41,1,54],[2,0,2,4],[2,7,2,11],[2,12,2,16],[2,19,2,23],[4,0,4,4],[4,7,4,11],[4,12,4,16],[4,19,4,23],[4,25,4,29],[4,41,4,45],[2,25,2,29],[2,41,2,45],[8,41,8,45],[7,0,7,4],[7,7,7,11],[7,12,7,16],[7,19,7,23],[7,25,7,29],[3,0,3,4],[3,7,3,11],[3,12,3,16],[3,19,3,23],[3,25,3,29],[3,41,3,45],[5,0,5,4],[5,7,5,11],[5,12,5,16],[5,19,5,23],[5,25,5,29],[5,41,5,45]]}
["MATCHS  ALLER",null,null,null,null,null,null,null,null,"GROUPE  A",null,null,null,null,null,"MATCHS  RETOUR",null,null,null,null,null,null,null,null,"GROUPE  A","CLASSEMENT",null,null,null,null,null,null,null,null,null,null,null,null,null,null,null,"CLASSEMENT"]
[]
["Équipes",null,null,null,null,"Bts","Bts","Équipes",null,null,null,null,"Équipes",null,null,null,null,"Bts","Bts","Équipes",null,null,null,null,null,"Équipes",null,null,null,null,"R","Pts","J","G","N","P","B +","B -","Diff",null,null,"Équipes",null,null,null,null,"R","Pts","J","G","N","P","B +","B -","Diff",null,null,"pts","pts","pts","pts","t pts","t pts","j","j","j","j","g","g","g","g","n","n","n","n","p","p","p","p","b+","b+","b+","b+","b+","b+","b-","b-","b-","b-","b-","b-",{"$f":"AP4","v":"MEXIQUE"},{"$f":"AP5","v":"COSTA RICA"},{"$f":"AP6","v":"PANAMA"},{"$f":"AP7","v":"ÉTATS-UNIS"},{"$f":"AP8","v":"HONDURAS"},{"$f":"AP9","v":"TRINITÉ ET TOBAGO"},null,{"$f":"CN3","v":"MEXIQUE"},{"$f":"CO3","v":"COSTA RICA"},"PANAMA","ÉTATS-UNIS","HONDURAS","TRINITÉ ET TOBAGO",{"$f":"CN3","v":"MEXIQUE"},{"$f":"CO3","v":"COSTA RICA"},"PANAMA","ÉTATS-UNIS","HONDURAS","TRINITÉ ET TOBAGO",{"$f":"CN3","v":"MEXIQUE"},{"$f":"CO3","v":"COSTA RICA"},"PANAMA","ÉTATS-UNIS","HONDURAS","TRINITÉ ET TOBAGO",{"$f":"CN3","v":"MEXIQUE"},{"$f":"CO3","v":"COSTA RICA"},"PANAMA","ÉTATS-UNIS","HONDURAS","TRINITÉ ET TOBAGO",{"$f":"CN3","v":"MEXIQUE"},{"$f":"CO3","v":"COSTA RICA"},"PANAMA","ÉTATS-UNIS","HONDURAS","TRINITÉ ET TOBAGO"]
[{"$f":"AP4","v":"MEXIQUE"},null,null,null,null,2,0,{"$f":"AP5","v":"COSTA RICA"},null,null,null,null,{"$f":"H4","v":"COSTA RICA"},null,null,null,null,1,1,{"$f":"A4","v":"MEXIQUE"},null,null,null,null,null,{"$f":"VLOOKUP(AN11,AO11:AT16,2,0)","v":"MEXIQUE"},null,null,null,null,1,{"$f":"VLOOKUP(Z4,AP4:BC9,7,0)","v":21},{"$f":"VLOOKUP(Z4,AP4:BC9,8,0)","v":10},{"$f":"VLOOKUP(Z4,AP4:BC9,9,0)","v":6},{"$f":"VLOOKUP(Z4,AP4:BC9,10,0)","v":3},{"$f":"VLOOKUP(Z4,AP4:BC9,11,0)","v":1},{"$f":"VLOOKUP(Z4,AP4:BC9,12,0)","v":16},{"$f":"VLOOKUP(Z4,AP4:BC9,13,0)","v":7},{"$f":"VLOOKUP(Z4,AP4:BC9,14,0)","v":9},null,null,"MEXIQUE",null,null,null,null,{"$f":"RANK(AV4,AV4:AV9)","v":1},{"$f":"SUMPRODUCT((A4:E18=AP4)*(BF4:BF18))+SUMPRODUCT((H4:L18=AP4)*(BG4:BG18))+SUMPRODUCT((M4:Q18=AP4)*(BH4:BH18))+SUMPRODUCT((T4:X18=AP4)*(BI4:BI18))","v":21},{"$f":"SUMPRODUCT((A4:E18=AP4)*(BL4:BL18))+SUMPRODUCT((H4:L18=AP4)*(BM4:BM18))+SUMPRODUCT((M4:Q18=AP4)*(BN4:BN18))+SUMPRODUCT((T4:X18=AP4)*(BO4:BO18))","v":10},{"$f":"SUMPRODUCT((A4:E18=AP4)*(BP4:BP18))+SUMPRODUCT((H4:L18=AP4)*(BQ4:BQ18))+SUMPRODUCT((M4:Q18=AP4)*(BR4:BR18))+SUMPRODUCT((T4:X18=AP4)*(BS4:BS18))","v":6},{"$f":"SUMPRODUCT((A4:E18=AP4)*(BT4:BT18))+SUMPRODUCT((H4:L18=AP4)*(BU4:BU18))+SUMPRODUCT((M4:Q18=AP4)*(BV4:BV18))+SUMPRODUCT((T4:X18=AP4)*(BW4:BW18))","v":3},{"$f":"SUMPRODUCT((A4:E18=AP4)*(BX4:BX18))+SUMPRODUCT((H4:L18=AP4)*(BY4:BY18))+SUMPRODUCT((M4:Q18=AP4)*(BZ4:BZ18))+SUMPRODUCT((T4:X18=AP4)*(CA4:CA18))","v":1},{"$f":"SUMPRODUCT((A4:E18=AP4)*(CB4:CB18))+SUMPRODUCT((H4:L18=AP4)*(CC4:CC18))+SUMPRODUCT((M4:Q18=AP4)*(CD4:CD18))+SUMPRODUCT((T4:X18=AP4)*(CE4:CE18))","v":16},{"$f":"SUMPRODUCT((A4:E18=AP4)*(CH4:CH18))+SUMPRODUCT((H4:L18=AP4)*(CI4:CI18))+SUMPRODUCT((M4:Q18=AP4)*(CJ4:CJ18))+SUMPRODUCT((T4:X18=AP4)*(CK4:CK18))","v":7},{"$f":"BA4-BB4","v":9},null,null,{"$f":"IF(F4=\"\",0,IF(F4>G4,3,IF(F4=G4,1,IF(F4<G4,0))))","v":3},{"$f":"IF(G4=\"\",0,IF(G4>F4,3,IF(G4=F4,1,IF(G4<F4,0))))","v":0},{"$f":"IF(R4=\"\",0,IF(R4>S4,3,IF(R4=S4,1,IF(R4<S4,0))))","v":1},{"$f":"IF(S4=\"\",0,IF(S4>R4,3,IF(S4=R4,1,IF(S4<R4,0))))","v":1},{"$f":"BF4+BI4","v":4},{"$f":"BG4+BH4","v":1},{"$f":"IF(F4=\"\",0,1)","v":1},{"$f":"IF(G4=\"\",0,1)","v":1},{"$f":"IF(R4=\"\",0,1)","v":1},{"$f":"IF(S4=\"\",0,1)","v":1},{"$f":"IF(F4<>\"\",IF(F4>G4,1))","v":1},{"$f":"IF(G4<>\"\",IF(G4>F4,1))","v":false},{"$f":"IF(R4<>\"\",IF(R4>S4,1))","v":false},{"$f":"IF(S4<>\"\",IF(S4>R4,1))","v":false},{"$f":"IF(F4<>\"\",IF(F4=G4,1))","v":false},{"$f":"IF(G4<>\"\",IF(G4=F4,1))","v":false},{"$f":"IF(R4<>\"\",IF(R4=S4,1))","v":1},{"$f":"IF(S4<>\"\",IF(S4=R4,1))","v":1},{"$f":"IF(F4<>\"\",IF(F4<G4,1))","v":false},{"$f":"IF(G4<>\"\",IF(G4<F4,1))","v":1},{"$f":"IF(R4<>\"\",IF(R4<S4,1))","v":false},{"$f":"IF(S4<>\"\",IF(S4<R4,1))","v":false},{"$f":"F4","v":2},{"$f":"G4","v":0},{"$f":"R4","v":1},{"$f":"S4","v":1},{"$f":"CB4+CE4","v":3},{"$f":"CC4+CD4","v":1},{"$f":"G4","v":0},{"$f":"F4","v":2},{"$f":"S4","v":1},{"$f":"R4","v":1},{"$f":"CH4+CK4","v":1},{"$f":"CI4+CJ4","v":3},{"$f":"IF(AU4=1,1000000)","v":1000000},{"$f":"IF(AU5=1,1000000)","v":false},{"$f":"IF(AU6=1,1000000)","v":false},{"$f":"IF(AU7=1,1000000)","v":false},{"$f":"IF(AU8=1,1000000)","v":false},{"$f":"IF(AU9=1,1000000)","v":false},null,{"$f":"IF(AU4=2,800000)","v":false},{"$f":"IF(AU5=2,800000)","v":800000},{"$f":"IF(AU6=2,800000)","v":false},{"$f":"IF(AU7=2,800000)","v":false},{"$f":"IF(AU8=2,800000)","v":false},{"$f":"IF(AU9=2,800000)","v":false},{"$f":"IF(AU4=3,600000)","v":false},{"$f":"IF(AU5=3,600000)","v":false},{"$f":"IF(AU6=3,600000)","v":600000},{"$f":"IF(AU7=3,600000)","v":false},{"$f":"IF(AU8=3,600000)","v":600000},{"$f":"IF(AU9=3,600000)","v":false},{"$f":"IF(AU4=4,400000)","v":false},{"$f":"IF(AU5=4,400000)","v":false},{"$f":"IF(AU6=4,400000)","v":false},{"$f":"IF(AU7=4,400000)","v":false},{"$f":"IF(AU8=4,400000)","v":false},{"$f":"IF(AU9=4,400000)","v":false},{"$f":"IF(AU4=5,200000)","v":false},{"$f":"IF(AU5=5,200000)","v":false},{"$f":"IF(AU6=5,200000)","v":false},{"$f":"IF(AU7=5,200000)","v":200000},{"$f":"IF(AU8=5,200000)","v":false},{"$f":"IF(AU9=5,200000)","v":false},{"$f":"IF(AU4=6,100000)","v":false},{"$f":"IF(AU5=6,100000)","v":false},{"$f":"IF(AU6=6,100000)","v":false},{"$f":"IF(AU7=6,100000)","v":false},{"$f":"IF(AU8=6,100000)","v":false},{"$f":"IF(AU9=6,100000)","v":100000}]
[{"$f":"AP4","v":"MEXIQUE"},null,null,null,null,1,0,{"$f":"AP6","v":"PANAMA"},null,null,null,null,{"$f":"H5","v":"PANAMA"},null,null,null,null,0,0,{"$f":"A5","v":"MEXIQUE"},null,null,null,null,null,{"$f":"VLOOKUP(AN12,AO11:AT16,2,0)","v":"COSTA RICA"},null,null,null,null,{"$f":"IF(CT13=CT12,CW12,CW13)","v":2},{"$f":"VLOOKUP(Z5,AP4:BC9,7,0)","v":16},{"$f":"VLOOKUP(Z5,AP4:BC9,8,0)","v":10},{"$f":"VLOOKUP(Z5,AP4:BC9,9,0)","v":4},{"$f":"VLOOKUP(Z5,AP4:BC9,10,0)","v":4},{"$f":"VLOOKUP(Z5,AP4:BC9,11,0)","v":2},{"$f":"VLOOKUP(Z5,AP4:BC9,12,0)","v":14},{"$f":"VLOOKUP(Z5,AP4:BC9,13,0)","v":8},{"$f":"VLOOKUP(Z5,AP4:BC9,14,0)","v":6},null,null,"COSTA RICA",null,null,null,null,{"$f":"RANK(AV5,AV4:AV9)","v":2},{"$f":"SUMPRODUCT((A4:E18=AP5)*(BF4:BF18))+SUMPRODUCT((H4:L18=AP5)*(BG4:BG18))+SUMPRODUCT((M4:Q18=AP5)*(BH4:BH18))+SUMPRODUCT((T4:X18=AP5)*(BI4:BI18))","v":16},{"$f":"SUMPRODUCT((A4:E18=AP5)*(BL4:BL18))+SUMPRODUCT((H4:L18=AP5)*(BM4:BM18))+SUMPRODUCT((M4:Q18=AP5)*(BN4:BN18))+SUMPRODUCT((T4:X18=AP5)*(BO4:BO18))","v":10},{"$f":"SUMPRODUCT((A4:E18=AP5)*(BP4:BP18))+SUMPRODUCT((H4:L18=AP5)*(BQ4:BQ18))+SUMPRODUCT((M4:Q18=AP5)*(BR4:BR18))+SUMPRODUCT((T4:X18=AP5)*(BS4:BS18))","v":4},{"$f":"SUMPRODUCT((A4:E18=AP5)*(BT4:BT18))+SUMPRODUCT((H4:L18=AP5)*(BU4:BU18))+SUMPRODUCT((M4:Q18=AP5)*(BV4:BV18))+SUMPRODUCT((T4:X18=AP5)*(BW4:BW18))","v":4},{"$f":"SUMPRODUCT((A4:E18=AP5)*(BX4:BX18))+SUMPRODUCT((H4:L18=AP5)*(BY4:BY18))+SUMPRODUCT((M4:Q18=AP5)*(BZ4:BZ18))+SUMPRODUCT((T4:X18=AP5)*(CA4:CA18))","v":2},{"$f":"SUMPRODUCT((A4:E18=AP5)*(CB4:CB18))+SUMPRODUCT((H4:L18=AP5)*(CC4:CC18))+SUMPRODUCT((M4:Q18=AP5)*(CD4:CD18))+SUMPRODUCT((T4:X18=AP5)*(CE4:CE18))","v":14},{"$f":"SUMPRODUCT((A4:E18=AP5)*(CH4:CH18))+SUMPRODUCT((H4:L18=AP5)*(CI4:CI18))+SUMPRODUCT((M4:Q18=AP5)*(CJ4:CJ18))+SUMPRODUCT((T4:X18=AP5)*(CK4:CK18))","v":8},{"$f":"BA5-BB5","v":6},null,null,{"$f":"IF(F5=\"\",0,IF(F5>G5,3,IF(F5=G5,1,IF(F5<G5,0))))","v":3},{"$f":"IF(G5=\"\",0,IF(G5>F5,3,IF(G5=F5,1,IF(G5<F5,0))))","v":0},{"$f":"IF(R5=\"\",0,IF(R5>S5,3,IF(R5=S5,1,IF(R5<S5,0))))","v":1},{"$f":"IF(S5=\"\",0,IF(S5>R5,3,IF(S5=R5,1,IF(S5<R5,0))))","v":1},{"$f":"BF5+BI5","v":4},{"$f":"BG5+BH5","v":1},{"$f":"IF(F5=\"\",0,1)","v":1},1,{"$f":"IF(R5=\"\",0,1)","v":1},1,{"$f":"IF(F5<>\"\",IF(F5>G5,1))","v":1},{"$f":"IF(G5<>\"\",IF(G5>F5,1))","v":false},{"$f":"IF(R5<>\"\",IF(R5>S5,1))","v":false},{"$f":"IF(S5<>\"\",IF(S5>R5,1))","v":false},{"$f":"IF(F5<>\"\",IF(F5=G5,1))","v":false},{"$f":"IF(G5<>\"\",IF(G5=F5,1))","v":false},{"$f":"IF(R5<>\"\",IF(R5=S5,1))","v":1},{"$f":"IF(S5<>\"\",IF(S5=R5,1))","v":1},{"$f":"IF(F5<>\"\",IF(F5<G5,1))","v":false},{"$f":"IF(G5<>\"\",IF(G5<F5,1))","v":1},{"$f":"IF(R5<>\"\",IF(R5<S5,1))","v":false},{"$f":"IF(S5<>\"\",IF(S5<R5,1))","v":false},{"$f":"F5","v":1},0,{"$f":"R5","v":0},0,{"$f":"CB5+CE5","v":1},{"$f":"CC5+CD5","v":0},{"$f":"G5","v":0},{"$f":"F5","v":1},{"$f":"S5","v":0},{"$f":"R5","v":0},{"$f":"CH5+CK5","v":0},{"$f":"CI5+CJ5","v":1},{"$f":"IF(AU4=1,IF(AU5=1,SUM(AV4*1000+(BC4)/10+(BA4)/100+(BJ4)/1000+((F4+S4)-(G4+R4))/10000+(F4+S4)/100000+(S4)/1000000)))","v":false},{"$f":"IF(AU5=1,IF(AU4=1,SUM(AV5*1000+(BC5)/10+(BA5)/100+(BK4)/1000+((G4+R4)-(F4+S4))/10000+(G4+R4)/100000+(G4)/1000000)))","v":false},{"$f":"IF(AU6=1,IF(AU4=1,SUM(AV6*1000+(BC6)/10+(BA6)/100+(BK5)/1000+((G5+R5)-(F5+S5))/10000+(G5+R5)/100000+(G5)/1000000)))","v":false},{"$f":"IF(AU7=1,IF(AU4=1,SUM(AV7*1000+(BC7)/10+(BA7)/100+(BK6)/1000+((G6+R6)-(F6+S6))/10000+(G6+R6)/100000+(G6)/1000000)))","v":false},{"$f":"IF(AU8=1,IF(AU4=1,SUM(AV8*1000+(BC8)/10+(BA8)/100+(BK7)/1000+((G7+R7)-(F7+S7))/10000+(G7+R7)/100000+(G7)/1000000)))","v":false},{"$f":"IF(AU9=1,IF(AU4=1,SUM(AV9*1000+(BC9)/10+(BA9)/100+(BK8)/1000+((G8+R8)-(F8+S8))/10000+(G8+R8)/100000+(G8)/1000000)))","v":false},null,{"$f":"IF(AU4=2,IF(AU5=2,SUM(AV4*1000+(BC4)/10+(BA4)/100+(BJ4)/1000+((F4+S4)-(G4+R4))/10000+(F4+S4)/100000+(S4)/1000000)))","v":false},{"$f":"IF(AU5=2,IF(AU4=2,SUM(AV5*1000+(BC5)/10+(BA5)/100+(BK4)/1000+((G4+R4)-(F4+S4))/10000+(G4+R4)/100000+(G4)/1000000)))","v":false},{"$f":"IF(AU6=2,IF(AU4=2,SUM(AV6*1000+(BC6)/10+(BA6)/100+(BK5)/1000+((G5+R5)-(F5+S5))/10000+(G5+R5)/100000+(G5)/1000000)))","v":false},{"$f":"IF(AU7=2,IF(AU4=2,SUM(AV7*1000+(BC7)/10+(BA7)/100+(BK6)/1000+((G6+R6)-(F6+S6))/10000+(G6+R6)/100000+(G6)/1000000)))","v":false},{"$f":"IF(AU8=2,IF(AU4=2,SUM(AV8*1000+(BC8)/10+(BA8)/100+(BK7)/1000+((G7+R7)-(F7+S7))/10000+(G7+R7)/100000+(G7)/1000000)))","v":false},{"$f":"IF(AU9=2,IF(AU4=2,SUM(AV9*1000+(BC9)/10+(BA9)/100+(BK8)/1000+((G8+R8)-(F8+S8))/10000+(G8+R8)/100000+(G8)/1000000)))","v":false},{"$f":"IF(AU4=3,IF(AU5=3,SUM(AV4*1000+(BC4)/10+(BA4)/100+(BJ4)/1000+((F4+S4)-(G4+R4))/10000+(F4+S4)/100000+(S4)/1000000)))","v":false},{"$f":"IF(AU5=3,IF(AU4=3,SUM(AV5*1000+(BC5)/10+(BA5)/100+(BK4)/1000+((G4+R4)-(F4+S4))/10000+(G4+R4)/100000+(G4)/1000000)))","v":false},{"$f":"IF(AU6=3,IF(AU4=3,SUM(AV6*1000+(BC6)/10+(BA6)/100+(BK5)/1000+((G5+R5)-(F5+S5))/10000+(G5+R5)/100000+(G5)/1000000)))","v":false},{"$f":"IF(AU7=3,IF(AU4=3,SUM(AV7*1000+(BC7)/10+(BA7)/100+(BK6)/1000+((G6+R6)-(F6+S6))/10000+(G6+R6)/100000+(G6)/1000000)))","v":false},{"$f":"IF(AU8=3,IF(AU4=3,SUM(AV8*1000+(BC8)/10+(BA8)/100+(BK7)/1000+((G7+R7)-(F7+S7))/10000+(G7+R7)/100000+(G7)/1000000)))","v":false},{"$f":"IF(AU9=3,IF(AU4=3,SUM(AV9*1000+(BC9)/10+(BA9)/100+(BK8)/1000+((G8+R8)-(F8+S8))/10000+(G8+R8)/100000+(G8)/1000000)))","v":false},{"$f":"IF(AU4=4,IF(AU5=4,SUM(AV4*1000+(BC4)/10+(BA4)/100+(BJ4)/1000+((F4+S4)-(G4+R4))/10000+(F4+S4)/100000+(S4)/1000000)))","v":false},{"$f":"IF(AU5=4,IF(AU4=4,SUM(AV5*1000+(BC5)/10+(BA5)/100+(BK4)/1000+((G4+R4)-(F4+S4))/10000+(G4+R4)/100000+(G4)/1000000)))","v":false},{"$f":"IF(AU6=4,IF(AU4=4,SUM(AV6*1000+(BC6)/10+(BA6)/100+(BK5)/1000+((G5+R5)-(F5+S5))/10000+(G5+R5)/100000+(G5)/1000000)))","v":false},{"$f":"IF(AU7=4,IF(AU4=4,SUM(AV7*1000+(BC7)/10+(BA7)/100+(BK6)/1000+((G6+R6)-(F6+S6))/10000+(G6+R6)/100000+(G6)/1000000)))","v":false},{"$f":"IF(AU8=4,IF(AU4=4,SUM(AV8*1000+(BC8)/10+(BA8)/100+(BK7)/1000+((G7+R7)-(F7+S7))/10000+(G7+R7)/100000+(G7)/1000000)))","v":false},{"$f":"IF(AU9=4,IF(AU4=4,SUM(AV9*1000+(BC9)/10+(BA9)/100+(BK8)/1000+((G8+R8)-(F8+S8))/10000+(G8+R8)/100000+(G8)/1000000)))","v":false},{"$f":"IF(AU4=5,IF(AU5=5,SUM(AV4*1000+(BC4)/10+(BA4)/100+(BJ4)/1000+((F4+S4)-(G4+R4))/10000+(F4+S4)/100000+(S4)/1000000)))","v":false},{"$f":"IF(AU5=5,IF(AU4=5,SUM(AV5*1000+(BC5)/10+(BA5)/100+(BK4)/1000+((G4+R4)-(F4+S4))/10000+(G4+R4)/100000+(G4)/1000000)))","v":false},{"$f":"IF(AU6=5,IF(AU4=5,SUM(AV6*1000+(BC6)/10+(BA6)/100+(BK5)/1000+((G5+R5)-(F5+S5))/10000+(G5+R5)/100000+(G5)/1000000)))","v":false},{"$f":"IF(AU7=5,IF(AU4=5,SUM(AV7*1000+(BC7)/10+(BA7)/100+(BK6)/1000+((G6+R6)-(F6+S6))/10000+(G6+R6)/100000+(G6)/1000000)))","v":false},{"$f":"IF(AU8=5,IF(AU4=5,SUM(AV8*1000+(BC8)/10+(BA8)/100+(BK7)/1000+((G7+R7)-(F7+S7))/10000+(G7+R7)/100000+(G7)/1000000)))","v":false},{"$f":"IF(AU9=5,IF(AU4=5,SUM(AV9*1000+(BC9)/10+(BA9)/100+(BK8)/1000+((G8+R8)-(F8+S8))/10000+(G8+R8)/100000+(G8)/1000000)))","v":false},{"$f":"IF(AU4=6,IF(AU5=6,SUM(AV4*1000+(BC4)/10+(BA4)/100+(BJ4)/1000+((F4+S4)-(G4+R4))/10000+(F4+S4)/100000+(S4)/1000000)))","v":false},{"$f":"IF(AU5=6,IF(AU4=6,SUM(AV5*1000+(BC5)/10+(BA5)/100+(BK4)/1000+((G4+R4)-(F4+S4))/10000+(G4+R4)/100000+(G4)/1000000)))","v":false},{"$f":"IF(AU6=6,IF(AU4=6,SUM(AV6*1000+(BC6)/10+(BA6)/100+(BK5)/1000+((G5+R5)-(F5+S5))/10000+(G5+R5)/100000+(G5)/1000000)))","v":false},{"$f":"IF(AU7=6,IF(AU4=6,SUM(AV7*1000+(BC7)/10+(BA7)/100+(BK6)/1000+((G6+R6)-(F6+S6))/10000+(G6+R6)/100000+(G6)/1000000)))","v":false},{"$f":"IF(AU8=6,IF(AU4=6,SUM(AV8*1000+(BC8)/10+(BA8)/100+(BK7)/1000+((G7+R7)-(F7+S7))/10000+(G7+R7)/100000+(G7)/1000000)))","v":false},{"$f":"IF(AU9=6,IF(AU4=6,SUM(AV9*1000+(BC9)/10+(BA9)/100+(BK8)/1000+((G8+R8)-(F8+S8))/10000+(G8+R8)/100000+(G8)/1000000)))","v":false}]
[{"$f":"AP4","v":"MEXIQUE"},null,null,null,null,1,1,{"$f":"AP7","v":"ÉTATS-UNIS"},null,null,null,null,"ÉTATS-UNIS",null,null,null,null,1,2,"MEXIQUE",null,null,null,null,null,{"$f":"VLOOKUP(AN13,AO11:AT16,2,0)","v":"PANAMA"},null,null,null,null,{"$f":"IF(CT14=CT13,CW13,CW14)","v":3},{"$f":"VLOOKUP(Z6,AP4:BC9,7,0)","v":13},{"$f":"VLOOKUP(Z6,AP4:BC9,8,0)","v":10},{"$f":"VLOOKUP(Z6,AP4:BC9,9,0)","v":3},{"$f":"VLOOKUP(Z6,AP4:BC9,10,0)","v":4},{"$f":"VLOOKUP(Z6,AP4:BC9,11,0)","v":3},{"$f":"VLOOKUP(Z6,AP4:BC9,12,0)","v":9},{"$f":"VLOOKUP(Z6,AP4:BC9,13,0)","v":10},{"$f":"VLOOKUP(Z6,AP4:BC9,14,0)","v":-1},null,null,"PANAMA",null,null,null,null,{"$f":"RANK(AV6,AV4:AV9)","v":3},{"$f":"SUMPRODUCT((A4:E18=AP6)*(BF4:BF18))+SUMPRODUCT((H4:L18=AP6)*(BG4:BG18))+SUMPRODUCT((M4:Q18=AP6)*(BH4:BH18))+SUMPRODUCT((T4:X18=AP6)*(BI4:BI18))","v":13},{"$f":"SUMPRODUCT((A4:E18=AP6)*(BL4:BL18))+SUMPRODUCT((H4:L18=AP6)*(BM4:BM18))+SUMPRODUCT((M4:Q18=AP6)*(BN4:BN18))+SUMPRODUCT((T4:X18=AP6)*(BO4:BO18))","v":10},{"$f":"SUMPRODUCT((A4:E18=AP6)*(BP4:BP18))+SUMPRODUCT((H4:L18=AP6)*(BQ4:BQ18))+SUMPRODUCT((M4:Q18=AP6)*(BR4:BR18))+SUMPRODUCT((T4:X18=AP6)*(BS4:BS18))","v":3},{"$f":"SUMPRODUCT((A4:E18=AP6)*(BT4:BT18))+SUMPRODUCT((H4:L18=AP6)*(BU4:BU18))+SUMPRODUCT((M4:Q18=AP6)*(BV4:BV18))+SUMPRODUCT((T4:X18=AP6)*(BW4:BW18))","v":4},{"$f":"SUMPRODUCT((A4:E18=AP6)*(BX4:BX18))+SUMPRODUCT((H4:L18=AP6)*(BY4:BY18))+SUMPRODUCT((M4:Q18=AP6)*(BZ4:BZ18))+SUMPRODUCT((T4:X18=AP6)*(CA4:CA18))","v":3},{"$f":"SUMPRODUCT((A4:E18=AP6)*(CB4:CB18))+SUMPRODUCT((H4:L18=AP6)*(CC4:CC18))+SUMPRODUCT((M4:Q18=AP6)*(CD4:CD18))+SUMPRODUCT((T4:X18=AP6)*(CE4:CE18))","v":9},{"$f":"SUMPRODUCT((A4:E18=AP6)*(CH4:CH18))+SUMPRODUCT((H4:L18=AP6)*(CI4:CI18))+SUMPRODUCT((M4:Q18=AP6)*(CJ4:CJ18))+SUMPRODUCT((T4:X18=AP6)*(CK4:CK18))","v":10},-1,null,null,1,1,0,3,4,1,1,1,1,1,false,false,false,1,1,1,false,false,false,false,1,false,1,1,1,2,3,2,1,1,2,1,2,3,{"$f":"IF(AU4=1,IF(AU6=1,SUM(AV4*1000+(BC4)/10+(BA4)/100+(BJ5)/1000+((F5+S5)-(G5+R5))/10000+(F5+S5)/100000+(S5)/1000000)))","v":false},{"$f":"IF(AU5=1,IF(AU6=1,SUM(AV5*1000+(BC5)/10+(BA5)/100+(BJ9)/1000+((F9+S9)-(G9+R9))/10000+(F9+S9)/100000+(S9)/1000000)))","v":false},{"$f":"IF(AU6=1,IF(AU5=1,SUM(AV6*1000+(BC6)/10+(BA6)/100+(BK9)/1000+((G9+R9)-(F9+S9))/10000+(G9+R9)/1000000+(G9)/1000000)))","v":false},{"$f":"IF(AU7=1,IF(AU5=1,SUM(AV7*1000+(BC7)/10+(BA7)/100+(BK10)/1000+((G10+R10)-(F10+S10))/10000+(G10+R10)/100000+(G10)/1000000)))","v":false},{"$f":"IF(AU8=1,IF(AU5=1,SUM(AV8*1000+(BC8)/10+(BA8)/100+(BK11)/1000+((G11+R11)-(F11+S11))/10000+(G11+R11)/100000+(G11)/1000000)))","v":false},{"$f":"IF(AU9=1,IF(AU5=1,SUM(AV9*1000+(BC9)/10+(BA9)/100+(BK12)/1000+((G12+R12)-(F12+S12))/10000+(G12+R12)/100000+(G12)/1000000)))","v":false},null,{"$f":"IF(AU4=2,IF(AU6=2,SUM(AV4*1000+(BC4)/10+(BA4)/100+(BJ5)/1000+((F5+S5)-(G5+R5))/10000+(F5+S5)/100000+(S5)/1000000)))","v":false},{"$f":"IF(AU5=2,IF(AU6=2,SUM(AV5*1000+(BC5)/10+(BA5)/100+(BJ9)/1000+((F9+S9)-(G9+R9))/10000+(F9+S9)/100000+(S9)/1000000)))","v":false},{"$f":"IF(AU6=2,IF(AU5=2,SUM(AV6*1000+(BC6)/10+(BA6)/100+(BK9)/1000+((G9+R9)-(F9+S9))/10000+(G9+R9)/1000000+(G9)/1000000)))","v":false},{"$f":"IF(AU7=2,IF(AU5=2,SUM(AV7*1000+(BC7)/10+(BA7)/100+(BK10)/1000+((G10+R10)-(F10+S10))/10000+(G10+R10)/100000+(G10)/1000000)))","v":false},{"$f":"IF(AU8=2,IF(AU5=2,SUM(AV8*1000+(BC8)/10+(BA8)/100+(BK11)/1000+((G11+R11)-(F11+S11))/10000+(G11+R11)/100000+(G11)/1000000)))","v":false},{"$f":"IF(AU9=2,IF(AU5=2,SUM(AV9*1000+(BC9)/10+(BA9)/100+(BK12)/1000+((G12+R12)-(F12+S12))/10000+(G12+R12)/100000+(G12)/1000000)))","v":false},{"$f":"IF(AU4=3,IF(AU6=3,SUM(AV4*1000+(BC4)/10+(BA4)/100+(BJ5)/1000+((F5+S5)-(G5+R5))/10000+(F5+S5)/100000+(S5)/1000000)))","v":false},{"$f":"IF(AU5=3,IF(AU6=3,SUM(AV5*1000+(BC5)/10+(BA5)/100+(BJ9)/1000+((F9+S9)-(G9+R9))/10000+(F9+S9)/100000+(S9)/1000000)))","v":false},{"$f":"IF(AU6=3,IF(AU5=3,SUM(AV6*1000+(BC6)/10+(BA6)/100+(BK9)/1000+((G9+R9)-(F9+S9))/10000+(G9+R9)/1000000+(G9)/1000000)))","v":false},{"$f":"IF(AU7=3,IF(AU5=3,SUM(AV7*1000+(BC7)/10+(BA7)/100+(BK10)/1000+((G10+R10)-(F10+S10))/10000+(G10+R10)/100000+(G10)/1000000)))","v":false},{"$f":"IF(AU8=3,IF(AU5=3,SUM(AV8*1000+(BC8)/10+(BA8)/100+(BK11)/1000+((G11+R11)-(F11+S11))/10000+(G11+R11)/100000+(G11)/1000000)))","v":false},{"$f":"IF(AU9=3,IF(AU5=3,SUM(AV9*1000+(BC9)/10+(BA9)/100+(BK12)/1000+((G12+R12)-(F12+S12))/10000+(G12+R12)/100000+(G12)/1000000)))","v":false},{"$f":"IF(AU4=4,IF(AU6=4,SUM(AV4*1000+(BC4)/10+(BA4)/100+(BJ5)/1000+((F5+S5)-(G5+R5))/10000+(F5+S5)/100000+(S5)/1000000)))","v":false},{"$f":"IF(AU5=4,IF(AU6=4,SUM(AV5*1000+(BC5)/10+(BA5)/100+(BJ9)/1000+((F9+S9)-(G9+R9))/10000+(F9+S9)/100000+(S9)/1000000)))","v":false},{"$f":"IF(AU6=4,IF(AU5=4,SUM(AV6*1000+(BC6)/10+(BA6)/100+(BK9)/1000+((G9+R9)-(F9+S9))/10000+(G9+R9)/1000000+(G9)/1000000)))","v":false},{"$f":"IF(AU7=4,IF(AU5=4,SUM(AV7*1000+(BC7)/10+(BA7)/100+(BK10)/1000+((G10+R10)-(F10+S10))/10000+(G10+R10)/100000+(G10)/1000000)))","v":false},{"$f":"IF(AU8=4,IF(AU5=4,SUM(AV8*1000+(BC8)/10+(BA8)/100+(BK11)/1000+((G11+R11)-(F11+S11))/10000+(G11+R11)/100000+(G11)/1000000)))","v":false},{"$f":"IF(AU9=4,IF(AU5=4,SUM(AV9*1000+(BC9)/10+(BA9)/100+(BK12)/1000+((G12+R12)-(F12+S12))/10000+(G12+R12)/100000+(G12)/1000000)))","v":false},{"$f":"IF(AU4=5,IF(AU6=5,SUM(AV4*1000+(BC4)/10+(BA4)/100+(BJ5)/1000+((F5+S5)-(G5+R5))/10000+(F5+S5)/100000+(S5)/1000000)))","v":false},{"$f":"IF(AU5=5,IF(AU6=5,SUM(AV5*1000+(BC5)/10+(BA5)/100+(BJ9)/1000+((F9+S9)-(G9+R9))/10000+(F9+S9)/100000+(S9)/1000000)))","v":false},{"$f":"IF(AU6=5,IF(AU5=5,SUM(AV6*1000+(BC6)/10+(BA6)/100+(BK9)/1000+((G9+R9)-(F9+S9))/10000+(G9+R9)/1000000+(G9)/1000000)))","v":false},{"$f":"IF(AU7=5,IF(AU5=5,SUM(AV7*1000+(BC7)/10+(BA7)/100+(BK10)/1000+((G10+R10)-(F10+S10))/10000+(G10+R10)/100000+(G10)/1000000)))","v":false},{"$f":"IF(AU8=5,IF(AU5=5,SUM(AV8*1000+(BC8)/10+(BA8)/100+(BK11)/1000+((G11+R11)-(F11+S11))/10000+(G11+R11)/100000+(G11)/1000000)))","v":false},{"$f":"IF(AU9=5,IF(AU5=5,SUM(AV9*1000+(BC9)/10+(BA9)/100+(BK12)/1000+((G12+R12)-(F12+S12))/10000+(G12+R12)/100000+(G12)/1000000)))","v":false},{"$f":"IF(AU4=6,IF(AU6=6,SUM(AV4*1000+(BC4)/10+(BA4)/100+(BJ5)/1000+((F5+S5)-(G5+R5))/10000+(F5+S5)/100000+(S5)/1000000)))","v":false},{"$f":"IF(AU5=6,IF(AU6=6,SUM(AV5*1000+(BC5)/10+(BA5)/100+(BJ9)/1000+((F9+S9)-(G9+R9))/10000+(F9+S9)/100000+(S9)/1000000)))","v":false},{"$f":"IF(AU6=6,IF(AU5=6,SUM(AV6*1000+(BC6)/10+(BA6)/100+(BK9)/1000+((G9+R9)-(F9+S9))/10000+(G9+R9)/1000000+(G9)/1000000)))","v":false},{"$f":"IF(AU7=6,IF(AU5=6,SUM(AV7*1000+(BC7)/10+(BA7)/100+(BK10)/1000+((G10+R10)-(F10+S10))/10000+(G10+R10)/100000+(G10)/1000000)))","v":false},{"$f":"IF(AU8=6,IF(AU5=6,SUM(AV8*1000+(BC8)/10+(BA8)/100+(BK11)/1000+((G11+R11)-(F11+S11))/10000+(G11+R11)/100000+(G11)/1000000)))","v":false},{"$f":"IF(AU9=6,IF(AU5=6,SUM(AV9*1000+(BC9)/10+(BA9)/100+(BK12)/1000+((G12+R12)-(F12+S12))/10000+(G12+R12)/100000+(G12)/1000000)))","v":false}]
[{"$f":"AP4","v":"MEXIQUE"},null,null,null,null,3,0,{"$f":"AP8","v":"HONDURAS"},null,null,null,null,"HONDURAS",null,null,null,null,3,2,"MEXIQUE",null,null,null,null,null,{"$f":"VLOOKUP(AN14,AO11:AT16,2,0)","v":"HONDURAS"},null,null,null,null,4,{"$f":"VLOOKUP(Z7,AP4:BC9,7,0)","v":13},{"$f":"VLOOKUP(Z7,AP4:BC9,8,0)","v":10},{"$f":"VLOOKUP(Z7,AP4:BC9,9,0)","v":3},{"$f":"VLOOKUP(Z7,AP4:BC9,10,0)","v":4},{"$f":"VLOOKUP(Z7,AP4:BC9,11,0)","v":3},{"$f":"VLOOKUP(Z7,AP4:BC9,12,0)","v":13},{"$f":"VLOOKUP(Z7,AP4:BC9,13,0)","v":19},{"$f":"VLOOKUP(Z7,AP4:BC9,14,0)","v":-6},null,null,"ÉTATS-UNIS",null,null,null,null,{"$f":"RANK(AV7,AV4:AV9)","v":5},{"$f":"SUMPRODUCT((A4:E18=AP7)*(BF4:BF18))+SUMPRODUCT((H4:L18=AP7)*(BG4:BG18))+SUMPRODUCT((M4:Q18=AP7)*(BH4:BH18))+SUMPRODUCT((T4:X18=AP7)*(BI4:BI18))","v":12},{"$f":"SUMPRODUCT((A4:E18=AP7)*(BL4:BL18))+SUMPRODUCT((H4:L18=AP7)*(BM4:BM18))+SUMPRODUCT((M4:Q18=AP7)*(BN4:BN18))+SUMPRODUCT((T4:X18=AP7)*(BO4:BO18))","v":10},{"$f":"SUMPRODUCT((A4:E18=AP7)*(BP4:BP18))+SUMPRODUCT((H4:L18=AP7)*(BQ4:BQ18))+SUMPRODUCT((M4:Q18=AP7)*(BR4:BR18))+SUMPRODUCT((T4:X18=AP7)*(BS4:BS18))","v":3},{"$f":"SUMPRODUCT((A4:E18=AP7)*(BT4:BT18))+SUMPRODUCT((H4:L18=AP7)*(BU4:BU18))+SUMPRODUCT((M4:Q18=AP7)*(BV4:BV18))+SUMPRODUCT((T4:X18=AP7)*(BW4:BW18))","v":3},{"$f":"SUMPRODUCT((A4:E18=AP7)*(BX4:BX18))+SUMPRODUCT((H4:L18=AP7)*(BY4:BY18))+SUMPRODUCT((M4:Q18=AP7)*(BZ4:BZ18))+SUMPRODUCT((T4:X18=AP7)*(CA4:CA18))","v":4},{"$f":"SUMPRODUCT((A4:E18=AP7)*(CB4:CB18))+SUMPRODUCT((H4:L18=AP7)*(CC4:CC18))+SUMPRODUCT((M4:Q18=AP7)*(CD4:CD18))+SUMPRODUCT((T4:X18=AP7)*(CE4:CE18))","v":17},{"$f":"SUMPRODUCT((A4:E18=AP7)*(CH4:CH18))+SUMPRODUCT((H4:L18=AP7)*(CI4:CI18))+SUMPRODUCT((M4:Q18=AP7)*(CJ4:CJ18))+SUMPRODUCT((T4:X18=AP7)*(CK4:CK18))","v":13},4,null,null,3,0,3,0,3,3,1,1,1,1,1,false,1,false,false,false,false,false,false,1,false,1,3,0,3,2,5,3,0,3,2,3,3,5,{"$f":"IF(AU4=1,IF(AU7=1,SUM(AV4*1000+(BC4)/10+(BA4)/100+(BJ6)/1000+((F6+S6)-(G6+R6))/10000+(F6+S6)/100000+(S6)/1000000)))","v":false},{"$f":"IF(AU5=1,IF(AU7=1,SUM(AV5*1000+(BC5)/10+(BA5)/100+(BJ10)/1000+((F10+S10)-(G10+R10))/10000+(F10+S10)/100000+(S10)/1000000)))","v":false},{"$f":"IF(AU6=1,IF(AU7=1,SUM(AV6*1000+(BC6)/10+(BA6)/100+(BJ13)/1000+((F13+S13)-(G13+R13))/10000+(F13+S13)/100000+(S13)/1000000)))","v":false},{"$f":"IF(AU7=1,IF(AU6=1,SUM(AV7*1000+(BC7)/10+(BA7)/100+(BK13)/1000+((G13+R13)-(F13+S13))/10000+(G13+R13)/100000+(G13)/1000000)))","v":false},{"$f":"IF(AU8=1,IF(AU6=1,SUM(AV8*1000+(BC8)/10+(BA8)/100+(BK14)/1000+((G14+R14)-(F14+S14))/10000+(G14+R14)/100000+(G14)/1000000)))","v":false},{"$f":"IF(AU9=1,IF(AU6=1,SUM(AV9*1000+(BC9)/10+(BA9)/100+(BK15)/1000+((G15+R15)-(F15+S15))/10000+(G15+R15)/100000+(G15)/1000000)))","v":false},null,{"$f":"IF(AU4=2,IF(AU7=2,SUM(AV4*1000+(BC4)/10+(BA4)/100+(BJ6)/1000+((F6+S6)-(G6+R6))/10000+(F6+S6)/100000+(S6)/1000000)))","v":false},{"$f":"IF(AU5=2,IF(AU7=2,SUM(AV5*1000+(BC5)/10+(BA5)/100+(BJ10)/1000+((F10+S10)-(G10+R10))/10000+(F10+S10)/100000+(S10)/1000000)))","v":false},{"$f":"IF(AU6=2,IF(AU7=2,SUM(AV6*1000+(BC6)/10+(BA6)/100+(BJ13)/1000+((F13+S13)-(G13+R13))/10000+(F13+S13)/100000+(S13)/1000000)))","v":false},{"$f":"IF(AU7=2,IF(AU6=2,SUM(AV7*1000+(BC7)/10+(BA7)/100+(BK13)/1000+((G13+R13)-(F13+S13))/10000+(G13+R13)/100000+(G13)/1000000)))","v":false},{"$f":"IF(AU8=2,IF(AU6=2,SUM(AV8*1000+(BC8)/10+(BA8)/100+(BK14)/1000+((G14+R14)-(F14+S14))/10000+(G14+R14)/100000+(G14)/1000000)))","v":false},{"$f":"IF(AU9=2,IF(AU6=2,SUM(AV9*1000+(BC9)/10+(BA9)/100+(BK15)/1000+((G15+R15)-(F15+S15))/10000+(G15+R15)/100000+(G15)/1000000)))","v":false},{"$f":"IF(AU4=3,IF(AU7=3,SUM(AV4*1000+(BC4)/10+(BA4)/100+(BJ6)/1000+((F6+S6)-(G6+R6))/10000+(F6+S6)/100000+(S6)/1000000)))","v":false},{"$f":"IF(AU5=3,IF(AU7=3,SUM(AV5*1000+(BC5)/10+(BA5)/100+(BJ10)/1000+((F10+S10)-(G10+R10))/10000+(F10+S10)/100000+(S10)/1000000)))","v":false},{"$f":"IF(AU6=3,IF(AU7=3,SUM(AV6*1000+(BC6)/10+(BA6)/100+(BJ13)/1000+((F13+S13)-(G13+R13))/10000+(F13+S13)/100000+(S13)/1000000)))","v":false},{"$f":"IF(AU7=3,IF(AU6=3,SUM(AV7*1000+(BC7)/10+(BA7)/100+(BK13)/1000+((G13+R13)-(F13+S13))/10000+(G13+R13)/100000+(G13)/1000000)))","v":false},{"$f":"IF(AU8=3,IF(AU6=3,SUM(AV8*1000+(BC8)/10+(BA8)/100+(BK14)/1000+((G14+R14)-(F14+S14))/10000+(G14+R14)/100000+(G14)/1000000)))","v":12999.530922},{"$f":"IF(AU9=3,IF(AU6=3,SUM(AV9*1000+(BC9)/10+(BA9)/100+(BK15)/1000+((G15+R15)-(F15+S15))/10000+(G15+R15)/100000+(G15)/1000000)))","v":false},{"$f":"IF(AU4=4,IF(AU7=4,SUM(AV4*1000+(BC4)/10+(BA4)/100+(BJ6)/1000+((F6+S6)-(G6+R6))/10000+(F6+S6)/100000+(S6)/1000000)))","v":false},{"$f":"IF(AU5=4,IF(AU7=4,SUM(AV5*1000+(BC5)/10+(BA5)/100+(BJ10)/1000+((F10+S10)-(G10+R10))/10000+(F10+S10)/100000+(S10)/1000000)))","v":false},{"$f":"IF(AU6=4,IF(AU7=4,SUM(AV6*1000+(BC6)/10+(BA6)/100+(BJ13)/1000+((F13+S13)-(G13+R13))/10000+(F13+S13)/100000+(S13)/1000000)))","v":false},{"$f":"IF(AU7=4,IF(AU6=4,SUM(AV7*1000+(BC7)/10+(BA7)/100+(BK13)/1000+((G13+R13)-(F13+S13))/10000+(G13+R13)/100000+(G13)/1000000)))","v":false},{"$f":"IF(AU8=4,IF(AU6=4,SUM(AV8*1000+(BC8)/10+(BA8)/100+(BK14)/1000+((G14+R14)-(F14+S14))/10000+(G14+R14)/100000+(G14)/1000000)))","v":false},{"$f":"IF(AU9=4,IF(AU6=4,SUM(AV9*1000+(BC9)/10+(BA9)/100+(BK15)/1000+((G15+R15)-(F15+S15))/10000+(G15+R15)/100000+(G15)/1000000)))","v":false},{"$f":"IF(AU4=5,IF(AU7=5,SUM(AV4*1000+(BC4)/10+(BA4)/100+(BJ6)/1000+((F6+S6)-(G6+R6))/10000+(F6+S6)/100000+(S6)/1000000)))","v":false},{"$f":"IF(AU5=5,IF(AU7=5,SUM(AV5*1000+(BC5)/10+(BA5)/100+(BJ10)/1000+((F10+S10)-(G10+R10))/10000+(F10+S10)/100000+(S10)/1000000)))","v":false},{"$f":"IF(AU6=5,IF(AU7=5,SUM(AV6*1000+(BC6)/10+(BA6)/100+(BJ13)/1000+((F13+S13)-(G13+R13))/10000+(F13+S13)/100000+(S13)/1000000)))","v":false},{"$f":"IF(AU7=5,IF(AU6=5,SUM(AV7*1000+(BC7)/10+(BA7)/100+(BK13)/1000+((G13+R13)-(F13+S13))/10000+(G13+R13)/100000+(G13)/1000000)))","v":false},{"$f":"IF(AU8=5,IF(AU6=5,SUM(AV8*1000+(BC8)/10+(BA8)/100+(BK14)/1000+((G14+R14)-(F14+S14))/10000+(G14+R14)/100000+(G14)/1000000)))","v":false},{"$f":"IF(AU9=5,IF(AU6=5,SUM(AV9*1000+(BC9)/10+(BA9)/100+(BK15)/1000+((G15+R15)-(F15+S15))/10000+(G15+R15)/100000+(G15)/1000000)))","v":false},{"$f":"IF(AU4=6,IF(AU7=6,SUM(AV4*1000+(BC4)/10+(BA4)/100+(BJ6)/1000+((F6+S6)-(G6+R6))/10000+(F6+S6)/100000+(S6)/1000000)))","v":false},{"$f":"IF(AU5=6,IF(AU7=6,SUM(AV5*1000+(BC5)/10+(BA5)/100+(BJ10)/1000+((F10+S10)-(G10+R10))/10000+(F10+S10)/100000+(S10)/1000000)))","v":false},{"$f":"IF(AU6=6,IF(AU7=6,SUM(AV6*1000+(BC6)/10+(BA6)/100+(BJ13)/1000+((F13+S13)-(G13+R13))/10000+(F13+S13)/100000+(S13)/1000000)))","v":false},{"$f":"IF(AU7=6,IF(AU6=6,SUM(AV7*1000+(BC7)/10+(BA7)/100+(BK13)/1000+((G13+R13)-(F13+S13))/10000+(G13+R13)/100000+(G13)/1000000)))","v":false},{"$f":"IF(AU8=6,IF(AU6=6,SUM(AV8*1000+(BC8)/10+(BA8)/100+(BK14)/1000+((G14+R14)-(F14+S14))/10000+(G14+R14)/100000+(G14)/1000000)))","v":false},{"$f":"IF(AU9=6,IF(AU6=6,SUM(AV9*1000+(BC9)/10+(BA9)/100+(BK15)/1000+((G15+R15)-(F15+S15))/10000+(G15+R15)/100000+(G15)/1000000)))","v":false}]
[{"$f":"AP4","v":"MEXIQUE"},null,null,null,null,3,1,{"$f":"AP9","v":"TRINITÉ ET TOBAGO"},null,null,null,null,"TRINITÉ ET TOBAGO",null,null,null,null,0,1,"MEXIQUE",null,null,null,null,null,{"$f":"VLOOKUP(AN15,AO11:AT16,2,0)","v":"ÉTATS-UNIS"},null,null,null,null,5,{"$f":"VLOOKUP(Z8,AP4:BC9,7,0)","v":12},{"$f":"VLOOKUP(Z8,AP4:BC9,8,0)","v":10},{"$f":"VLOOKUP(Z8,AP4:BC9,9,0)","v":3},{"$f":"VLOOKUP(Z8,AP4:BC9,10,0)","v":3},{"$f":"VLOOKUP(Z8,AP4:BC9,11,0)","v":4},{"$f":"VLOOKUP(Z8,AP4:BC9,12,0)","v":17},{"$f":"VLOOKUP(Z8,AP4:BC9,13,0)","v":13},{"$f":"VLOOKUP(Z8,AP4:BC9,14,0)","v":4},null,null,"HONDURAS",null,null,null,null,{"$f":"RANK(AV8,AV4:AV9)","v":3},{"$f":"SUMPRODUCT((A4:E18=AP8)*(BF4:BF18))+SUMPRODUCT((H4:L18=AP8)*(BG4:BG18))+SUMPRODUCT((M4:Q18=AP8)*(BH4:BH18))+SUMPRODUCT((T4:X18=AP8)*(BI4:BI18))","v":13},{"$f":"SUMPRODUCT((A4:E18=AP8)*(BL4:BL18))+SUMPRODUCT((H4:L18=AP8)*(BM4:BM18))+SUMPRODUCT((M4:Q18=AP8)*(BN4:BN18))+SUMPRODUCT((T4:X18=AP8)*(BO4:BO18))","v":10},{"$f":"SUMPRODUCT((A4:E18=AP8)*(BP4:BP18))+SUMPRODUCT((H4:L18=AP8)*(BQ4:BQ18))+SUMPRODUCT((M4:Q18=AP8)*(BR4:BR18))+SUMPRODUCT((T4:X18=AP8)*(BS4:BS18))","v":3},{"$f":"SUMPRODUCT((A4:E18=AP8)*(BT4:BT18))+SUMPRODUCT((H4:L18=AP8)*(BU4:BU18))+SUMPRODUCT((M4:Q18=AP8)*(BV4:BV18))+SUMPRODUCT((T4:X18=AP8)*(BW4:BW18))","v":4},{"$f":"SUMPRODUCT((A4:E18=AP8)*(BX4:BX18))+SUMPRODUCT((H4:L18=AP8)*(BY4:BY18))+SUMPRODUCT((M4:Q18=AP8)*(BZ4:BZ18))+SUMPRODUCT((T4:X18=AP8)*(CA4:CA18))","v":3},{"$f":"SUMPRODUCT((A4:E18=AP8)*(CB4:CB18))+SUMPRODUCT((H4:L18=AP8)*(CC4:CC18))+SUMPRODUCT((M4:Q18=AP8)*(CD4:CD18))+SUMPRODUCT((T4:X18=AP8)*(CE4:CE18))","v":13},{"$f":"SUMPRODUCT((A4:E18=AP8)*(CH4:CH18))+SUMPRODUCT((H4:L18=AP8)*(CI4:CI18))+SUMPRODUCT((M4:Q18=AP8)*(CJ4:CJ18))+SUMPRODUCT((T4:X18=AP8)*(CK4:CK18))","v":19},-6,null,null,3,0,0,3,6,0,1,1,1,1,1,false,false,1,false,false,false,false,false,1,1,false,3,1,0,1,4,1,1,3,1,0,1,4,{"$f":"IF(AU4=1,IF(AU8=1,SUM(AV4*1000+(BC4)/10+(BA4)/100+(BJ7)/1000+((F7+S7)-(G7+R7))/10000+(F7+S7)/100000+(S7)/1000000)))","v":false},{"$f":"IF(AU5=1,IF(AU8=1,SUM(AV5*1000+(BC5)/10+(BA5)/100+(BJ11)/1000+((F11+S11)-(G11+R11))/10000+(F11+S11)/100000+(S11)/1000000)))","v":false},{"$f":"IF(AU6=1,IF(AU8=1,SUM(AV6*1000+(BC6)/10+(BA6)/100+(BJ14)/1000+((F14+S14)-(G14+R14))/10000+(F14+S14)/100000+(S14)/1000000)))","v":false},{"$f":"IF(AU7=1,IF(AU8=1,SUM(AV7*1000+(BC7)/10+(BA7)/100+(BJ16)/1000+((F16+S16)-(G16+R16))/10000+(F16+S16)/100000+(S16)/1000000)))","v":false},{"$f":"IF(AU8=1,IF(AU7=1,SUM(AV8*1000+(BC8)/10+(BA8)/100+(BK16)/1000+((G16+R16)-(F16+S16))/10000+(G16+R16)/100000+(G16)/1000000)))","v":false},{"$f":"IF(AU9=1,IF(AU7=1,SUM(AV9*1000+(BC9)/10+(BA9)/100+(BK17)/1000+((G17+R17)-(F17+S17))/10000+(G17+R17)/100000+(G17)/1000000)))","v":false},null,{"$f":"IF(AU4=2,IF(AU8=2,SUM(AV4*1000+(BC4)/10+(BA4)/100+(BJ7)/1000+((F7+S7)-(G7+R7))/10000+(F7+S7)/100000+(S7)/1000000)))","v":false},{"$f":"IF(AU5=2,IF(AU8=2,SUM(AV5*1000+(BC5)/10+(BA5)/100+(BJ11)/1000+((F11+S11)-(G11+R11))/10000+(F11+S11)/100000+(S11)/1000000)))","v":false},{"$f":"IF(AU6=2,IF(AU8=2,SUM(AV6*1000+(BC6)/10+(BA6)/100+(BJ14)/1000+((F14+S14)-(G14+R14))/10000+(F14+S14)/100000+(S14)/1000000)))","v":false},{"$f":"IF(AU7=2,IF(AU8=2,SUM(AV7*1000+(BC7)/10+(BA7)/100+(BJ16)/1000+((F16+S16)-(G16+R16))/10000+(F16+S16)/100000+(S16)/1000000)))","v":false},{"$f":"IF(AU8=2,IF(AU7=2,SUM(AV8*1000+(BC8)/10+(BA8)/100+(BK16)/1000+((G16+R16)-(F16+S16))/10000+(G16+R16)/100000+(G16)/1000000)))","v":false},{"$f":"IF(AU9=2,IF(AU7=2,SUM(AV9*1000+(BC9)/10+(BA9)/100+(BK17)/1000+((G17+R17)-(F17+S17))/10000+(G17+R17)/100000+(G17)/1000000)))","v":false},{"$f":"IF(AU4=3,IF(AU8=3,SUM(AV4*1000+(BC4)/10+(BA4)/100+(BJ7)/1000+((F7+S7)-(G7+R7))/10000+(F7+S7)/100000+(S7)/1000000)))","v":false},{"$f":"IF(AU5=3,IF(AU8=3,SUM(AV5*1000+(BC5)/10+(BA5)/100+(BJ11)/1000+((F11+S11)-(G11+R11))/10000+(F11+S11)/100000+(S11)/1000000)))","v":false},{"$f":"IF(AU6=3,IF(AU8=3,SUM(AV6*1000+(BC6)/10+(BA6)/100+(BJ14)/1000+((F14+S14)-(G14+R14))/10000+(F14+S14)/100000+(S14)/1000000)))","v":12999.994130999999},{"$f":"IF(AU7=3,IF(AU8=3,SUM(AV7*1000+(BC7)/10+(BA7)/100+(BJ16)/1000+((F16+S16)-(G16+R16))/10000+(F16+S16)/100000+(S16)/1000000)))","v":false},{"$f":"IF(AU8=3,IF(AU7=3,SUM(AV8*1000+(BC8)/10+(BA8)/100+(BK16)/1000+((G16+R16)-(F16+S16))/10000+(G16+R16)/100000+(G16)/1000000)))","v":false},{"$f":"IF(AU9=3,IF(AU7=3,SUM(AV9*1000+(BC9)/10+(BA9)/100+(BK17)/1000+((G17+R17)-(F17+S17))/10000+(G17+R17)/100000+(G17)/1000000)))","v":false},{"$f":"IF(AU4=4,IF(AU8=4,SUM(AV4*1000+(BC4)/10+(BA4)/100+(BJ7)/1000+((F7+S7)-(G7+R7))/10000+(F7+S7)/100000+(S7)/1000000)))","v":false},{"$f":"IF(AU5=4,IF(AU8=4,SUM(AV5*1000+(BC5)/10+(BA5)/100+(BJ11)/1000+((F11+S11)-(G11+R11))/10000+(F11+S11)/100000+(S11)/1000000)))","v":false},{"$f":"IF(AU6=4,IF(AU8=4,SUM(AV6*1000+(BC6)/10+(BA6)/100+(BJ14)/1000+((F14+S14)-(G14+R14))/10000+(F14+S14)/100000+(S14)/1000000)))","v":false},{"$f":"IF(AU7=4,IF(AU8=4,SUM(AV7*1000+(BC7)/10+(BA7)/100+(BJ16)/1000+((F16+S16)-(G16+R16))/10000+(F16+S16)/100000+(S16)/1000000)))","v":false},{"$f":"IF(AU8=4,IF(AU7=4,SUM(AV8*1000+(BC8)/10+(BA8)/100+(BK16)/1000+((G16+R16)-(F16+S16))/10000+(G16+R16)/100000+(G16)/1000000)))","v":false},{"$f":"IF(AU9=4,IF(AU7=4,SUM(AV9*1000+(BC9)/10+(BA9)/100+(BK17)/1000+((G17+R17)-(F17+S17))/10000+(G17+R17)/100000+(G17)/1000000)))","v":false},{"$f":"IF(AU4=5,IF(AU8=5,SUM(AV4*1000+(BC4)/10+(BA4)/100+(BJ7)/1000+((F7+S7)-(G7+R7))/10000+(F7+S7)/100000+(S7)/1000000)))","v":false},{"$f":"IF(AU5=5,IF(AU8=5,SUM(AV5*1000+(BC5)/10+(BA5)/100+(BJ11)/1000+((F11+S11)-(G11+R11))/10000+(F11+S11)/100000+(S11)/1000000)))","v":false},{"$f":"IF(AU6=5,IF(AU8=5,SUM(AV6*1000+(BC6)/10+(BA6)/100+(BJ14)/1000+((F14+S14)-(G14+R14))/10000+(F14+S14)/100000+(S14)/1000000)))","v":false},{"$f":"IF(AU7=5,IF(AU8=5,SUM(AV7*1000+(BC7)/10+(BA7)/100+(BJ16)/1000+((F16+S16)-(G16+R16))/10000+(F16+S16)/100000+(S16)/1000000)))","v":false},{"$f":"IF(AU8=5,IF(AU7=5,SUM(AV8*1000+(BC8)/10+(BA8)/100+(BK16)/1000+((G16+R16)-(F16+S16))/10000+(G16+R16)/100000+(G16)/1000000)))","v":false},{"$f":"IF(AU9=5,IF(AU7=5,SUM(AV9*1000+(BC9)/10+(BA9)/100+(BK17)/1000+((G17+R17)-(F17+S17))/10000+(G17+R17)/100000+(G17)/1000000)))","v":false},{"$f":"IF(AU4=6,IF(AU8=6,SUM(AV4*1000+(BC4)/10+(BA4)/100+(BJ7)/1000+((F7+S7)-(G7+R7))/10000+(F7+S7)/100000+(S7)/1000000)))","v":false},{"$f":"IF(AU5=6,IF(AU8=6,SUM(AV5*1000+(BC5)/10+(BA5)/100+(BJ11)/1000+((F11+S11)-(G11+R11))/10000+(F11+S11)/100000+(S11)/1000000)))","v":false},{"$f":"IF(AU6=6,IF(AU8=6,SUM(AV6*1000+(BC6)/10+(BA6)/100+(BJ14)/1000+((F14+S14)-(G14+R14))/10000+(F14+S14)/100000+(S14)/1000000)))","v":false},{"$f":"IF(AU7=6,IF(AU8=6,SUM(AV7*1000+(BC7)/10+(BA7)/100+(BJ16)/1000+((F16+S16)-(G16+R16))/10000+(F16+S16)/100000+(S16)/1000000)))","v":false},{"$f":"IF(AU8=6,IF(AU7=6,SUM(AV8*1000+(BC8)/10+(BA8)/100+(BK16)/1000+((G16+R16)-(F16+S16))/10000+(G16+R16)/100000+(G16)/1000000)))","v":false},{"$f":"IF(AU9=6,IF(AU7=6,SUM(AV9*1000+(BC9)/10+(BA9)/100+(BK17)/1000+((G17+R17)-(F17+S17))/10000+(G17+R17)/100000+(G17)/1000000)))","v":false}]
[{"$f":"AP5","v":"COSTA RICA"},null,null,null,null,0,0,{"$f":"AP6","v":"PANAMA"},null,null,null,null,"PANAMA",null,null,null,null,2,1,"COSTA RICA",null,null,null,null,null,{"$f":"VLOOKUP(AN16,AO11:AT16,2,0)","v":"TRINITÉ ET TOBAGO"},null,null,null,null,6,{"$f":"VLOOKUP(Z9,AP4:BC9,7,0)","v":6},{"$f":"VLOOKUP(Z9,AP4:BC9,8,0)","v":10},{"$f":"VLOOKUP(Z9,AP4:BC9,9,0)","v":2},{"$f":"VLOOKUP(Z9,AP4:BC9,10,0)","v":0},{"$f":"VLOOKUP(Z9,AP4:BC9,11,0)","v":8},{"$f":"VLOOKUP(Z9,AP4:BC9,12,0)","v":7},{"$f":"VLOOKUP(Z9,AP4:BC9,13,0)","v":19},{"$f":"VLOOKUP(Z9,AP4:BC9,14,0)","v":-12},null,null,"TRINITÉ ET TOBAGO",null,null,null,null,{"$f":"RANK(AV9,AV4:AV9)","v":6},{"$f":"SUMPRODUCT((A4:E18=AP9)*(BF4:BF18))+SUMPRODUCT((H4:L18=AP9)*(BG4:BG18))+SUMPRODUCT((M4:Q18=AP9)*(BH4:BH18))+SUMPRODUCT((T4:X18=AP9)*(BI4:BI18))","v":6},{"$f":"SUMPRODUCT((A4:E18=AP9)*(BL4:BL18))+SUMPRODUCT((H4:L18=AP9)*(BM4:BM18))+SUMPRODUCT((M4:Q18=AP9)*(BN4:BN18))+SUMPRODUCT((T4:X18=AP9)*(BO4:BO18))","v":10},{"$f":"SUMPRODUCT((A4:E18=AP9)*(BP4:BP18))+SUMPRODUCT((H4:L18=AP9)*(BQ4:BQ18))+SUMPRODUCT((M4:Q18=AP9)*(BR4:BR18))+SUMPRODUCT((T4:X18=AP9)*(BS4:BS18))","v":2},{"$f":"SUMPRODUCT((A4:E18=AP9)*(BT4:BT18))+SUMPRODUCT((H4:L18=AP9)*(BU4:BU18))+SUMPRODUCT((M4:Q18=AP9)*(BV4:BV18))+SUMPRODUCT((T4:X18=AP9)*(BW4:BW18))","v":0},{"$f":"SUMPRODUCT((A4:E18=AP9)*(BX4:BX18))+SUMPRODUCT((H4:L18=AP9)*(BY4:BY18))+SUMPRODUCT((M4:Q18=AP9)*(BZ4:BZ18))+SUMPRODUCT((T4:X18=AP9)*(CA4:CA18))","v":8},{"$f":"SUMPRODUCT((A4:E18=AP9)*(CB4:CB18))+SUMPRODUCT((H4:L18=AP9)*(CC4:CC18))+SUMPRODUCT((M4:Q18=AP9)*(CD4:CD18))+SUMPRODUCT((T4:X18=AP9)*(CE4:CE18))","v":7},{"$f":"SUMPRODUCT((A4:E18=AP9)*(CH4:CH18))+SUMPRODUCT((H4:L18=AP9)*(CI4:CI18))+SUMPRODUCT((M4:Q18=AP9)*(CJ4:CJ18))+SUMPRODUCT((T4:X18=AP9)*(CK4:CK18))","v":19},-12,null,null,1,1,3,0,1,4,1,1,1,1,false,false,1,false,1,1,false,false,false,false,false,1,0,0,2,1,1,2,0,0,1,2,2,1,{"$f":"IF(AU4=1,IF(AU9=1,SUM(AV4*1000+(BC4)/10+(BA4)/100+(BJ8)/1000+((F8+S8)-(G8+R8))/10000+(F8+S8)/100000+(S8)/1000000)))","v":false},{"$f":"IF(AU5=1,IF(AU9=1,SUM(AV5*1000+(BC5)/10+(BA5)/100+(BJ12)/1000+((F12+S12)-(G12+R12))/10000+(F12+S12)/100000+(S12)/1000000)))","v":false},{"$f":"IF(AU6=1,IF(AU9=1,SUM(AV6*1000+(BC6)/10+(BA6)/100+(BJ15)/1000+((F15+S15)-(G15+R15))/10000+(F15+S15)/100000+(S15)/1000000)))","v":false},{"$f":"IF(AU7=1,IF(AU9=1,SUM(AV7*1000+(BC7)/10+(BA7)/100+(BJ17)/1000+((F17+S17)-(G17+R17))/10000+(F17+S17)/100000+(S17)/1000000)))","v":false},{"$f":"IF(AU8=1,IF(AU9=1,SUM(AV8*1000+(BC8)/10+(BA8)/100+(BJ18)/1000+((F18+S18)-(G18+R18))/10000+(F18+S18)/100000+(S18)/1000000)))","v":false},{"$f":"IF(AU9=1,IF(AU8=1,SUM(AV9*1000+(BC9)/10+(BA9)/100+(BK18)/1000+((G18+R18)-(F18+S18))/10000+(G18+R18)/100000+(G18)/1000000)))","v":false},null,{"$f":"IF(AU4=2,IF(AU9=2,SUM(AV4*1000+(BC4)/10+(BA4)/100+(BJ8)/1000+((F8+S8)-(G8+R8))/10000+(F8+S8)/100000+(S8)/1000000)))","v":false},{"$f":"IF(AU5=2,IF(AU9=2,SUM(AV5*1000+(BC5)/10+(BA5)/100+(BJ12)/1000+((F12+S12)-(G12+R12))/10000+(F12+S12)/100000+(S12)/1000000)))","v":false},{"$f":"IF(AU6=2,IF(AU9=2,SUM(AV6*1000+(BC6)/10+(BA6)/100+(BJ15)/1000+((F15+S15)-(G15+R15))/10000+(F15+S15)/100000+(S15)/1000000)))","v":false},{"$f":"IF(AU7=2,IF(AU9=2,SUM(AV7*1000+(BC7)/10+(BA7)/100+(BJ17)/1000+((F17+S17)-(G17+R17))/10000+(F17+S17)/100000+(S17)/1000000)))","v":false},{"$f":"IF(AU8=2,IF(AU9=2,SUM(AV8*1000+(BC8)/10+(BA8)/100+(BJ18)/1000+((F18+S18)-(G18+R18))/10000+(F18+S18)/100000+(S18)/1000000)))","v":false},{"$f":"IF(AU9=2,IF(AU8=2,SUM(AV9*1000+(BC9)/10+(BA9)/100+(BK18)/1000+((G18+R18)-(F18+S18))/10000+(G18+R18)/100000+(G18)/1000000)))","v":false},{"$f":"IF(AU4=3,IF(AU9=3,SUM(AV4*1000+(BC4)/10+(BA4)/100+(BJ8)/1000+((F8+S8)-(G8+R8))/10000+(F8+S8)/100000+(S8)/1000000)))","v":false},{"$f":"IF(AU5=3,IF(AU9=3,SUM(AV5*1000+(BC5)/10+(BA5)/100+(BJ12)/1000+((F12+S12)-(G12+R12))/10000+(F12+S12)/100000+(S12)/1000000)))","v":false},{"$f":"IF(AU6=3,IF(AU9=3,SUM(AV6*1000+(BC6)/10+(BA6)/100+(BJ15)/1000+((F15+S15)-(G15+R15))/10000+(F15+S15)/100000+(S15)/1000000)))","v":false},{"$f":"IF(AU7=3,IF(AU9=3,SUM(AV7*1000+(BC7)/10+(BA7)/100+(BJ17)/1000+((F17+S17)-(G17+R17))/10000+(F17+S17)/100000+(S17)/1000000)))","v":false},{"$f":"IF(AU8=3,IF(AU9=3,SUM(AV8*1000+(BC8)/10+(BA8)/100+(BJ18)/1000+((F18+S18)-(G18+R18))/10000+(F18+S18)/100000+(S18)/1000000)))","v":false},{"$f":"IF(AU9=3,IF(AU8=3,SUM(AV9*1000+(BC9)/10+(BA9)/100+(BK18)/1000+((G18+R18)-(F18+S18))/10000+(G18+R18)/100000+(G18)/1000000)))","v":false},{"$f":"IF(AU4=4,IF(AU9=4,SUM(AV4*1000+(BC4)/10+(BA4)/100+(BJ8)/1000+((F8+S8)-(G8+R8))/10000+(F8+S8)/100000+(S8)/1000000)))","v":false},{"$f":"IF(AU5=4,IF(AU9=4,SUM(AV5*1000+(BC5)/10+(BA5)/100+(BJ12)/1000+((F12+S12)-(G12+R12))/10000+(F12+S12)/100000+(S12)/1000000)))","v":false},{"$f":"IF(AU6=4,IF(AU9=4,SUM(AV6*1000+(BC6)/10+(BA6)/100+(BJ15)/1000+((F15+S15)-(G15+R15))/10000+(F15+S15)/100000+(S15)/1000000)))","v":false},{"$f":"IF(AU7=4,IF(AU9=4,SUM(AV7*1000+(BC7)/10+(BA7)/100+(BJ17)/1000+((F17+S17)-(G17+R17))/10000+(F17+S17)/100000+(S17)/1000000)))","v":false},{"$f":"IF(AU8=4,IF(AU9=4,SUM(AV8*1000+(BC8)/10+(BA8)/100+(BJ18)/1000+((F18+S18)-(G18+R18))/10000+(F18+S18)/100000+(S18)/1000000)))","v":false},{"$f":"IF(AU9=4,IF(AU8=4,SUM(AV9*1000+(BC9)/10+(BA9)/100+(BK18)/1000+((G18+R18)-(F18+S18))/10000+(G18+R18)/100000+(G18)/1000000)))","v":false},{"$f":"IF(AU4=5,IF(AU9=5,SUM(AV4*1000+(BC4)/10+(BA4)/100+(BJ8)/1000+((F8+S8)-(G8+R8))/10000+(F8+S8)/100000+(S8)/1000000)))","v":false},{"$f":"IF(AU5=5,IF(AU9=5,SUM(AV5*1000+(BC5)/10+(BA5)/100+(BJ12)/1000+((F12+S12)-(G12+R12))/10000+(F12+S12)/100000+(S12)/1000000)))","v":false},{"$f":"IF(AU6=5,IF(AU9=5,SUM(AV6*1000+(BC6)/10+(BA6)/100+(BJ15)/1000+((F15+S15)-(G15+R15))/10000+(F15+S15)/100000+(S15)/1000000)))","v":false},{"$f":"IF(AU7=5,IF(AU9=5,SUM(AV7*1000+(BC7)/10+(BA7)/100+(BJ17)/1000+((F17+S17)-(G17+R17))/10000+(F17+S17)/100000+(S17)/1000000)))","v":false},{"$f":"IF(AU8=5,IF(AU9=5,SUM(AV8*1000+(BC8)/10+(BA8)/100+(BJ18)/1000+((F18+S18)-(G18+R18))/10000+(F18+S18)/100000+(S18)/1000000)))","v":false},{"$f":"IF(AU9=5,IF(AU8=5,SUM(AV9*1000+(BC9)/10+(BA9)/100+(BK18)/1000+((G18+R18)-(F18+S18))/10000+(G18+R18)/100000+(G18)/1000000)))","v":false},{"$f":"IF(AU4=6,IF(AU9=6,SUM(AV4*1000+(BC4)/10+(BA4)/100+(BJ8)/1000+((F8+S8)-(G8+R8))/10000+(F8+S8)/100000+(S8)/1000000)))","v":false},{"$f":"IF(AU5=6,IF(AU9=6,SUM(AV5*1000+(BC5)/10+(BA5)/100+(BJ12)/1000+((F12+S12)-(G12+R12))/10000+(F12+S12)/100000+(S12)/1000000)))","v":false},{"$f":"IF(AU6=6,IF(AU9=6,SUM(AV6*1000+(BC6)/10+(BA6)/100+(BJ15)/1000+((F15+S15)-(G15+R15))/10000+(F15+S15)/100000+(S15)/1000000)))","v":false},{"$f":"IF(AU7=6,IF(AU9=6,SUM(AV7*1000+(BC7)/10+(BA7)/100+(BJ17)/1000+((F17+S17)-(G17+R17))/10000+(F17+S17)/100000+(S17)/1000000)))","v":false},{"$f":"IF(AU8=6,IF(AU9=6,SUM(AV8*1000+(BC8)/10+(BA8)/100+(BJ18)/1000+((F18+S18)-(G18+R18))/10000+(F18+S18)/100000+(S18)/1000000)))","v":false},{"$f":"IF(AU9=6,IF(AU8=6,SUM(AV9*1000+(BC9)/10+(BA9)/100+(BK18)/1000+((G18+R18)-(F18+S18))/10000+(G18+R18)/100000+(G18)/1000000)))","v":false}]
[{"$f":"AP5","v":"COSTA RICA"},null,null,null,null,4,0,{"$f":"AP7","v":"ÉTATS-UNIS"},null,null,null,null,"ÉTATS-UNIS",null,null,null,null,0,2,"COSTA RICA",null,null,null,null,null,null,null,null,null,null,null,null,null,null,null,null,null,null,null,null,null,null,null,null,null,null,null,null,null,null,null,null,null,null,null,null,null,3,0,0,3,6,0,1,1,1,1,1,false,false,1,false,false,false,false,false,1,1,false,4,0,0,2,6,0,0,4,2,0,0,6,{"$f":"SUM(CN4:CN9)","v":1000000},0,0,0,0,0,null,{"$f":"SUM(CU4:CU9)","v":0},800000,0,0,0,0,0,0,612999.99413100001,0,612999.53092199995,0,0,0,0,0,0,0,0,0,0,200000,0,0,0,0,0,0,0,100000]
[{"$f":"AP5","v":"COSTA RICA"},null,null,null,null,1,1,{"$f":"AP8","v":"HONDURAS"},null,null,null,null,"HONDURAS",null,null,null,null,1,1,"COSTA RICA",null,null,null,null,null,null,null,null,null,null,null,null,null,null,null,null,null,null,null,1,{"$f":"BA11","v":1},{"$f":"AP4","v":"MEXIQUE"},null,null,null,null,{"$f":"SUM(CN10,CU10,DA10,DG10,DM10,DS10)","v":1000000},null,null,{"$f":"AU11+0.00000006","v":1000000.00000006},null,null,{"$f":"RANK(AX11,AX11:AZ16)","v":1},{"$f":"RANK(AU11,AU11:AW16)","v":1},null,null,null,1,1,1,1,2,2,1,1,1,1,false,false,false,false,1,1,1,1,false,false,false,false,1,1,1,1,2,2,1,1,1,1,2,2]
[{"$f":"AP5","v":"COSTA RICA"},null,null,null,null,2,1,{"$f":"AP9","v":"TRINITÉ ET TOBAGO"},null,null,null,null,"TRINITÉ ET TOBAGO",null,null,null,null,0,2,"COSTA RICA",null,null,null,null,null,null,null,null,null,null,null,null,null,null,null,null,null,null,null,2,{"$f":"BA12","v":2},{"$f":"AP5","v":"COSTA RICA"},null,null,null,null,{"$f":"SUM(CO10,CV10,DB10,DH10,DN10,DT10)","v":800000},null,null,{"$f":"AU12+0.00000005","v":800000.00000004994},null,null,{"$f":"RANK(AX12,AX11:AZ16)","v":2},{"$f":"RANK(AU12,AU11:AW16)","v":2},null,null,null,3,0,0,3,6,0,1,1,1,1,1,false,false,1,false,false,false,false,false,1,1,false,2,1,0,2,4,1,1,2,2,0,1,4,{"$f":"VLOOKUP(AN11,AO11:AT16,2,0)","v":"MEXIQUE"},null,null,null,null,null,{"$f":"VLOOKUP(CN12,AP11:AW16,6,0)","v":1000000},null,null,{"$f":"RANK(CT12,CT12:CV17)","v":1}]
[{"$f":"AP6","v":"PANAMA"},null,null,null,null,1,1,{"$f":"AP7","v":"ÉTATS-UNIS"},null,null,null,null,"ÉTATS-UNIS",null,null,null,null,4,0,"PANAMA",null,null,null,null,null,"ÉQUIPE QUALIFIÉE",null,null,null,{"$f":"Z4","v":"MEXIQUE"},null,null,null,null,null,null,null,null,null,3,3,"PANAMA",null,null,null,null,{"$f":"SUM(CP10,CW10,DC10,DI10,DO10,DU10)","v":612999.99413100001},null,null,{"$f":"AU13+0.00000004","v":612999.99413104006},null,null,{"$f":"RANK(AX13,AX11:AZ16)","v":3},{"$f":"RANK(AU13,AU11:AW16)","v":3},null,null,null,1,1,3,0,1,4,1,1,1,1,false,false,1,false,1,1,false,false,false,false,false,1,1,1,4,0,1,5,1,1,0,4,5,1,{"$f":"VLOOKUP(AN12,AO11:AT16,2,0)","v":"COSTA RICA"},null,null,null,null,null,{"$f":"VLOOKUP(CN13,AP11:AW16,6,0)","v":800000},null,null,{"$f":"RANK(CT13,CT12:CV17)","v":2}]
[{"$f":"AP6","v":"PANAMA"},null,null,null,null,2,2,{"$f":"AP8","v":"HONDURAS"},null,null,null,null,"HONDURAS",null,null,null,null,0,1,"PANAMA",null,null,null,null,null,null,null,null,null,null,null,null,null,null,null,null,null,null,null,4,5,"ÉTATS-UNIS",null,null,null,null,{"$f":"SUM(CQ10,CX10,DD10,DJ10,DP10,DV10)","v":200000},null,null,{"$f":"AU14+0.00000003","v":200000.00000003001},null,null,{"$f":"RANK(AX14,AX11:AZ16)","v":5},{"$f":"RANK(AU14,AU11:AW16)","v":5},null,null,null,1,1,0,3,4,1,1,1,1,1,false,false,false,1,1,1,false,false,false,false,1,false,2,2,0,1,3,2,2,2,1,0,2,3,{"$f":"VLOOKUP(AN13,AO11:AT16,2,0)","v":"PANAMA"},null,null,null,null,null,{"$f":"VLOOKUP(CN14,AP11:AW16,6,0)","v":612999.99413100001},null,null,{"$f":"RANK(CT14,CT12:CV17)","v":3}]
[{"$f":"AP6","v":"PANAMA"},null,null,null,null,3,0,{"$f":"AP9","v":"TRINITÉ ET TOBAGO"},null,null,null,null,"TRINITÉ ET TOBAGO",null,null,null,null,1,0,"PANAMA",null,null,null,null,null,"ÉQUIPE QUALIFIÉE",null,null,null,{"$f":"Z5","v":"COSTA RICA"},null,null,null,null,null,null,null,null,null,5,4,"HONDURAS",null,null,null,null,{"$f":"SUM(CR10,CY10,DE10,DK10,DQ10,DW10)","v":612999.53092199995},null,null,{"$f":"AU15+0.00000002","v":612999.53092201997},null,null,{"$f":"RANK(AX15,AX11:AZ16)","v":4},{"$f":"RANK(AU15,AU11:AW16)","v":4},null,null,null,3,0,3,0,3,3,1,1,1,1,1,false,1,false,false,false,false,false,false,1,false,1,3,0,1,0,3,1,0,3,0,1,1,3,{"$f":"VLOOKUP(AN14,AO11:AT16,2,0)","v":"HONDURAS"},null,null,null,null,null,{"$f":"VLOOKUP(CN15,AP11:AW16,6,0)","v":612999.53092199995},null,null,{"$f":"RANK(CT15,CT12:CV17)","v":4}]
[{"$f":"AP7","v":"ÉTATS-UNIS"},null,null,null,null,6,0,{"$f":"AP8","v":"HONDURAS"},null,null,null,null,"HONDURAS",null,null,null,null,1,1,"ÉTATS-UNIS",null,null,null,null,null,null,null,null,null,null,null,null,null,null,null,null,null,null,null,6,6,"TRINITÉ ET TOBAGO",null,null,null,null,{"$f":"SUM(CS10,CZ10,DF10,DL10,DR10,DX10)","v":100000},null,null,{"$f":"AU16+0.00000001","v":100000.00000001},null,null,{"$f":"RANK(AX16,AX11:AZ16)","v":6},{"$f":"RANK(AU16,AU11:AW16)","v":6},null,null,null,3,0,1,1,4,1,1,1,1,1,1,false,false,false,false,false,1,1,false,1,false,false,6,0,1,1,7,1,0,6,1,1,1,7,{"$f":"VLOOKUP(AN15,AO11:AT16,2,0)","v":"ÉTATS-UNIS"},null,null,null,null,null,{"$f":"VLOOKUP(CN16,AP11:AW16,6,0)","v":200000},null,null,{"$f":"RANK(CT16,CT12:CV17)","v":5}]
[{"$f":"AP7","v":"ÉTATS-UNIS"},null,null,null,null,2,0,{"$f":"AP9","v":"TRINITÉ ET TOBAGO"},null,null,null,null,"TRINITÉ ET TOBAGO",null,null,null,null,2,1,"ÉTATS-UNIS",null,null,null,null,null,"ÉQUIPE QUALIFIÉE",null,null,null,{"$f":"Z6","v":"PANAMA"},null,null,null,null,null,null,null,null,null,null,null,null,null,null,null,null,null,null,null,null,null,null,null,null,null,null,null,3,0,3,0,3,3,1,1,1,1,1,false,1,false,false,false,false,false,false,1,false,1,2,0,2,1,3,2,0,2,1,2,2,3,{"$f":"VLOOKUP(AN16,AO11:AT16,2,0)","v":"TRINITÉ ET TOBAGO"},null,null,null,null,null,{"$f":"VLOOKUP(CN17,AP11:AW16,6,0)","v":100000},null,null,{"$f":"RANK(CT17,CT12:CV17)","v":6}]
[{"$f":"AP8","v":"HONDURAS"},null,null,null,null,3,1,{"$f":"AP9","v":"TRINITÉ ET TOBAGO"},null,null,null,null,"TRINITÉ ET TOBAGO",null,null,null,null,1,2,"HONDURAS",null,null,null,null,null,null,null,null,null,null,null,null,null,null,null,null,null,null,null,null,null,null,null,null,null,null,null,null,null,null,null,null,null,null,null,null,null,3,0,0,3,6,0,1,1,1,1,1,false,false,1,false,false,false,false,false,1,1,false,3,1,1,2,5,2,1,3,2,1,2,5]
[null,null,null,null,null,null,null,null,null,null,null,null,null,null,null,null,null,null,null,null,null,null,null,null,null,"BARRAGE",null,null,null,{"$f":"Z7","v":"HONDURAS"}]

{"sheet":"OCEANIE","index":4,"n_rows":30,"n_cols":100,"rows_kept":30,"cut":false,"hidden":false,"merged":[[11,97,11,99],[12,41,12,45],[12,46,12,48],[12,49,12,51],[12,55,12,59],[12,60,12,62],[12,97,12,99],[10,60,10,62],[11,41,11,45],[11,46,11,48],[11,49,11,51],[11,55,11,59],[11,60,11,62],[10,41,10,45],[10,46,10,48],[10,49,10,51],[10,55,10,59],[29,97,29,99],[27,97,27,99],[26,97,26,99],[25,49,25,51],[25,97,25,99],[23,55,23,59],[24,55,24,59],[25,55,25,59],[23,60,23,62],[24,60,24,62],[25,60,25,62],[28,97,28,99],[24,97,24,99],[25,41,25,45],[25,46,25,48],[23,41,23,45],[23,46,23,48],[23,49,23,51],[24,41,24,45],[24,46,24,48],[24,49,24,51],[18,0,18,4],[18,7,18,11],[18,12,18,16],[18,19,18,23],[18,25,18,29],[19,0,21,5],[19,6,21,14],[20,41,20,45],[19,41,19,45],[21,41,21,45],[19,15,21,17],[19,18,21,20],[19,21,21,23],[18,41,18,45],[22,0,23,38],[24,0,24,6],[0,0,1,8],[0,9,1,14],[0,15,1,23],[0,25,1,38],[3,0,3,4],[3,7,3,11],[3,12,3,16],[3,19,3,23],[3,25,3,29],[2,19,2,23],[2,25,2,29],[13,0,14,8],[13,9,14,14],[13,15,14,23],[13,25,14,38],[13,24,21,24],[16,0,16,4],[16,7,16,11],[16,12,16,16],[16,19,16,23],[19,25,21,27],[19,28,21,38],[15,0,15,4],[15,7,15,11],[15,12,15,16],[15,19,15,23],[15,25,15,29],[17,0,17,4],[17,7,17,11],[17,12,17,16],[17,19,17,23],[17,25,17,29],[2,41,2,45],[6,18,8,20],[6,15,8,17],[6,21,8,23],[5,0,5,4],[5,7,5,11],[5,12,5,16],[5,19,5,23],[5,25,5,29],[6,25,8,27],[6,28,8,38],[13,41,14,54],[16,25,16,29],[16,41,16,45],[17,41,17,45],[15,41,15,45],[9,0,12,38],[5,41,5,45],[6,0,8,5],[6,6,8,14],[6,41,6,45],[7,41,7,45],[8,41,8,45],[0,24,8,24],[3,41,3,45],[4,0,4,4],[4,7,4,11],[4,12,4,16],[4,19,4,23],[4,25,4,29],[4,41,4,45],[0,41,1,54],[2,0,2,4],[2,7,2,11],[2,12,2,16],[25,22,25,28],[26,22,27,28],[27,0,28,6],[27,7,28,8],[27,10,28,11],[27,12,28,13],[27,14,28,20],[24,22,24,28],[24,7,24,8],[24,10,24,11],[24,12,24,13],[24,14,24,20],[25,0,26,6],[25,7,26,8],[25,10,26,11],[25,12,26,13],[25,14,26,20]]}
["MATCHS  ALLER",null,null,null,null,null,null,null,null,"GROUPE  A",null,null,null,null,null,"MATCHS  RETOUR",null,null,null,null,null,null,null,null,null,"CLASSEMENT",null,null,null,null,null,null,null,null,null,null,null,null,null,null,null,"CLASSEMENT"]
[]
["Équipes",null,null,null,null,"Bts","Bts","Équipes",null,null,null,null,"Équipes",null,null,null,null,"Bts","Bts","Équipes",null,null,null,null,null,"Équipes",null,null,null,null,"R","Pts","J","G","N","P","B +","B -","Diff",null,null,"Équipes",null,null,null,null,"R","Pts","J","G","N","P","B +","B -","Diff",null,null,"pts","pts","pts","pts","t pts","t pts","j","j","j","j","g","g","g","g","n","n","n","n","p","p","p","p","b+","b+","b+","b+","b+","b+","b-","b-","b-","b-","b-","b-",{"$f":"AP4","v":"NOUVELLE-ZELANDE"},{"$f":"AP5","v":"NOUVELLE-CALEDONIE"},{"$f":"AP6","v":"FIDJI"},{"$f":"CN3","v":"NOUVELLE-ZELANDE"},{"$f":"CO3","v":"NOUVELLE-CALEDONIE"},{"$f":"CP3","v":"FIDJI"},{"$f":"CN3","v":"NOUVELLE-ZELANDE"},{"$f":"CO3","v":"NOUVELLE-CALEDONIE"},{"$f":"CP3","v":"FIDJI"}]
[{"$f":"AP4","v":"NOUVELLE-ZELANDE"},null,null,null,null,2,0,{"$f":"AP5","v":"NOUVELLE-CALEDONIE"},null,null,null,null,{"$f":"H4","v":"NOUVELLE-CALEDONIE"},null,null,null,null,0,0,{"$f":"A4","v":"NOUVELLE-ZELANDE"},null,null,null,null,null,{"$f":"VLOOKUP(AN11,AO11:AT13,2,0)","v":"NOUVELLE-ZELANDE"},null,null,null,null,1,{"$f":"VLOOKUP(Z4,AP4:BC9,7,0)","v":10},{"$f":"VLOOKUP(Z4,AP4:BC9,8,0)","v":4},{"$f":"VLOOKUP(Z4,AP4:BC9,9,0)","v":3},{"$f":"VLOOKUP(Z4,AP4:BC9,10,0)","v":1},{"$f":"VLOOKUP(Z4,AP4:BC9,11,0)","v":0},{"$f":"VLOOKUP(Z4,AP4:BC9,12,0)","v":6},{"$f":"VLOOKUP(Z4,AP4:BC9,13,0)","v":0},{"$f":"VLOOKUP(Z4,AP4:BC9,14,0)","v":6},null,null,"NOUVELLE-ZELANDE",null,null,null,null,{"$f":"RANK(AV4,AV4:AV9)","v":1},{"$f":"SUMPRODUCT((A4:E6=AP4)*(BF4:BF6))+SUMPRODUCT((H4:L6=AP4)*(BG4:BG6))+SUMPRODUCT((M4:Q6=AP4)*(BH4:BH6))+SUMPRODUCT((T4:X6=AP4)*(BI4:BI6))","v":10},{"$f":"SUMPRODUCT((A4:E6=AP4)*(BL4:BL6))+SUMPRODUCT((H4:L6=AP4)*(BM4:BM6))+SUMPRODUCT((M4:Q6=AP4)*(BN4:BN6))+SUMPRODUCT((T4:X6=AP4)*(BO4:BO6))","v":4},{"$f":"SUMPRODUCT((A4:E6=AP4)*(BP4:BP6))+SUMPRODUCT((H4:L6=AP4)*(BQ4:BQ6))+SUMPRODUCT((M4:Q6=AP4)*(BR4:BR6))+SUMPRODUCT((T4:X6=AP4)*(BS4:BS6))","v":3},{"$f":"SUMPRODUCT((A4:E6=AP4)*(BT4:BT6))+SUMPRODUCT((H4:L6=AP4)*(BU4:BU6))+SUMPRODUCT((M4:Q6=AP4)*(BV4:BV6))+SUMPRODUCT((T4:X6=AP4)*(BW4:BW6))","v":1},{"$f":"SUMPRODUCT((A4:E6=AP4)*(BX4:BX6))+SUMPRODUCT((H4:L6=AP4)*(BY4:BY6))+SUMPRODUCT((M4:Q6=AP4)*(BZ4:BZ6))+SUMPRODUCT((T4:X6=AP4)*(CA4:CA6))","v":0},{"$f":"SUMPRODUCT((A4:E6=AP4)*(CB4:CB6))+SUMPRODUCT((H4:L6=AP4)*(CC4:CC6))+SUMPRODUCT((M4:Q6=AP4)*(CD4:CD6))+SUMPRODUCT((T4:X6=AP4)*(CE4:CE6))","v":6},{"$f":"SUMPRODUCT((A4:E6=AP4)*(CH4:CH6))+SUMPRODUCT((H4:L6=AP4)*(CI4:CI6))+SUMPRODUCT((M4:Q6=AP4)*(CJ4:CJ6))+SUMPRODUCT((T4:X6=AP4)*(CK4:CK6))","v":0},{"$f":"BA4-BB4","v":6},null,null,{"$f":"IF(F4=\"\",0,IF(F4>G4,3,IF(F4=G4,1,IF(F4<G4,0))))","v":3},{"$f":"IF(G4=\"\",0,IF(G4>F4,3,IF(G4=F4,1,IF(G4<F4,0))))","v":0},{"$f":"IF(R4=\"\",0,IF(R4>S4,3,IF(R4=S4,1,IF(R4<S4,0))))","v":1},{"$f":"IF(S4=\"\",0,IF(S4>R4,3,IF(S4=R4,1,IF(S4<R4,0))))","v":1},{"$f":"BF4+BI4","v":4},{"$f":"BG4+BH4","v":1},{"$f":"IF(F4=\"\",0,1)","v":1},{"$f":"IF(G4=\"\",0,1)","v":1},{"$f":"IF(R4=\"\",0,1)","v":1},{"$f":"IF(S4=\"\",0,1)","v":1},{"$f":"IF(F4<>\"\",IF(F4>G4,1))","v":1},{"$f":"IF(G4<>\"\",IF(G4>F4,1))","v":false},{"$f":"IF(R4<>\"\",IF(R4>S4,1))","v":false},{"$f":"IF(S4<>\"\",IF(S4>R4,1))","v":false},{"$f":"IF(F4<>\"\",IF(F4=G4,1))","v":false},{"$f":"IF(G4<>\"\",IF(G4=F4,1))","v":false},{"$f":"IF(R4<>\"\",IF(R4=S4,1))","v":1},{"$f":"IF(S4<>\"\",IF(S4=R4,1))","v":1},{"$f":"IF(F4<>\"\",IF(F4<G4,1))","v":false},{"$f":"IF(G4<>\"\",IF(G4<F4,1))","v":1},{"$f":"IF(R4<>\"\",IF(R4<S4,1))","v":false},{"$f":"IF(S4<>\"\",IF(S4<R4,1))","v":false},{"$f":"F4","v":2},{"$f":"G4","v":0},{"$f":"R4","v":0},{"$f":"S4","v":0},{"$f":"CB4+CE4","v":2},{"$f":"CC4+CD4","v":0},{"$f":"G4","v":0},{"$f":"F4","v":2},{"$f":"S4","v":0},{"$f":"R4","v":0},{"$f":"CH4+CK4","v":0},{"$f":"CI4+CJ4","v":2},{"$f":"IF(AU4=1,1000000)","v":1000000},{"$f":"IF(AU5=1,1000000)","v":false},{"$f":"IF(AU6=1,1000000)","v":false},{"$f":"IF(AU4=2,800000)","v":false},{"$f":"IF(AU5=2,800000)","v":800000},{"$f":"IF(AU6=2,800000)","v":false},{"$f":"IF(AU4=3,400000)","v":false},{"$f":"IF(AU5=3,400000)","v":false},{"$f":"IF(AU6=3,400000)","v":400000}]
[{"$f":"AP4","v":"NOUVELLE-ZELANDE"},null,null,null,null,2,0,{"$f":"AP6","v":"FIDJI"},null,null,null,null,{"$f":"H5","v":"FIDJI"},null,null,null,null,0,2,{"$f":"A5","v":"NOUVELLE-ZELANDE"},null,null,null,null,null,{"$f":"VLOOKUP(AN12,AO11:AT13,2,0)","v":"NOUVELLE-CALEDONIE"},null,null,null,null,{"$f":"IF(BI12=BI11,BL11,BL12)","v":2},{"$f":"VLOOKUP(Z5,AP4:BC9,7,0)","v":5},{"$f":"VLOOKUP(Z5,AP4:BC9,8,0)","v":4},{"$f":"VLOOKUP(Z5,AP4:BC9,9,0)","v":1},{"$f":"VLOOKUP(Z5,AP4:BC9,10,0)","v":2},{"$f":"VLOOKUP(Z5,AP4:BC9,11,0)","v":1},{"$f":"VLOOKUP(Z5,AP4:BC9,12,0)","v":4},{"$f":"VLOOKUP(Z5,AP4:BC9,13,0)","v":5},{"$f":"VLOOKUP(Z5,AP4:BC9,14,0)","v":-1},null,null,"NOUVELLE-CALEDONIE",null,null,null,null,{"$f":"RANK(AV5,AV4:AV9)","v":2},{"$f":"SUMPRODUCT((A4:E6=AP5)*(BF4:BF6))+SUMPRODUCT((H4:L6=AP5)*(BG4:BG6))+SUMPRODUCT((M4:Q6=AP5)*(BH4:BH6))+SUMPRODUCT((T4:X6=AP5)*(BI4:BI6))","v":5},{"$f":"SUMPRODUCT((A4:E6=AP5)*(BL4:BL6))+SUMPRODUCT((H4:L6=AP5)*(BM4:BM6))+SUMPRODUCT((M4:Q6=AP5)*(BN4:BN6))+SUMPRODUCT((T4:X6=AP5)*(BO4:BO6))","v":4},{"$f":"SUMPRODUCT((A4:E6=AP5)*(BP4:BP6))+SUMPRODUCT((H4:L6=AP5)*(BQ4:BQ6))+SUMPRODUCT((M4:Q6=AP5)*(BR4:BR6))+SUMPRODUCT((T4:X6=AP5)*(BS4:BS6))","v":1},{"$f":"SUMPRODUCT((A4:E6=AP5)*(BT4:BT6))+SUMPRODUCT((H4:L6=AP5)*(BU4:BU6))+SUMPRODUCT((M4:Q6=AP5)*(BV4:BV6))+SUMPRODUCT((T4:X6=AP5)*(BW4:BW6))","v":2},{"$f":"SUMPRODUCT((A4:E6=AP5)*(BX4:BX6))+SUMPRODUCT((H4:L6=AP5)*(BY4:BY6))+SUMPRODUCT((M4:Q6=AP5)*(BZ4:BZ6))+SUMPRODUCT((T4:X6=AP5)*(CA4:CA6))","v":1},{"$f":"SUMPRODUCT((A4:E6=AP5)*(CB4:CB6))+SUMPRODUCT((H4:L6=AP5)*(CC4:CC6))+SUMPRODUCT((M4:Q6=AP5)*(CD4:CD6))+SUMPRODUCT((T4:X6=AP5)*(CE4:CE6))","v":4},{"$f":"SUMPRODUCT((A4:E6=AP5)*(CH4:CH6))+SUMPRODUCT((H4:L6=AP5)*(CI4:CI6))+SUMPRODUCT((M4:Q6=AP5)*(CJ4:CJ6))+SUMPRODUCT((T4:X6=AP5)*(CK4:CK6))","v":5},{"$f":"BA5-BB5","v":-1},null,null,{"$f":"IF(F5=\"\",0,IF(F5>G5,3,IF(F5=G5,1,IF(F5<G5,0))))","v":3},{"$f":"IF(G5=\"\",0,IF(G5>F5,3,IF(G5=F5,1,IF(G5<F5,0))))","v":0},{"$f":"IF(R5=\"\",0,IF(R5>S5,3,IF(R5=S5,1,IF(R5<S5,0))))","v":0},{"$f":"IF(S5=\"\",0,IF(S5>R5,3,IF(S5=R5,1,IF(S5<R5,0))))","v":3},{"$f":"BF5+BI5","v":6},{"$f":"BG5+BH5","v":0},{"$f":"IF(F5=\"\",0,1)","v":1},{"$f":"IF(G5=\"\",0,1)","v":1},{"$f":"IF(R5=\"\",0,1)","v":1},{"$f":"IF(S5=\"\",0,1)","v":1},{"$f":"IF(F5<>\"\",IF(F5>G5,1))","v":1},{"$f":"IF(G5<>\"\",IF(G5>F5,1))","v":false},{"$f":"IF(R5<>\"\",IF(R5>S5,1))","v":false},{"$f":"IF(S5<>\"\",IF(S5>R5,1))","v":1},{"$f":"IF(F5<>\"\",IF(F5=G5,1))","v":false},{"$f":"IF(G5<>\"\",IF(G5=F5,1))","v":false},{"$f":"IF(R5<>\"\",IF(R5=S5,1))","v":false},{"$f":"IF(S5<>\"\",IF(S5=R5,1))","v":false},{"$f":"IF(F5<>\"\",IF(F5<G5,1))","v":false},{"$f":"IF(G5<>\"\",IF(G5<F5,1))","v":1},{"$f":"IF(R5<>\"\",IF(R5<S5,1))","v":1},{"$f":"IF(S5<>\"\",IF(S5<R5,1))","v":false},{"$f":"F5","v":2},{"$f":"G5","v":0},{"$f":"R5","v":0},{"$f":"S5","v":2},{"$f":"CB5+CE5","v":4},{"$f":"CC5+CD5","v":0},{"$f":"G5","v":0},{"$f":"F5","v":2},{"$f":"S5","v":2},{"$f":"R5","v":0},{"$f":"CH5+CK5","v":0},{"$f":"CI5+CJ5","v":4},{"$f":"IF(AU4=1,IF(AU5=1,SUM(AV4*1000+(BC4)/10+(BA4)/100+(BJ4)/1000+((F4+S4)-(G4+R4))/10000+(F4+S4)/100000+(S4)/1000000)))","v":false},{"$f":"IF(AU5=1,IF(AU4=1,SUM(AV5*1000+(BC5)/10+(BA5)/100+(BK4)/1000+((G4+R4)-(F4+S4))/10000+(G4+R4)/100000+(G4)/1000000)))","v":false},{"$f":"IF(AU6=1,IF(AU4=1,SUM(AV6*1000+(BC6)/10+(BA6)/100+(BK5)/1000+((G5+R5)-(F5+S5))/10000+(G5+R5)/100000+(G5)/1000000)))","v":false},{"$f":"IF(AU4=2,IF(AU5=2,SUM(AV4*1000+(BC4)/10+(BA4)/100+(BJ4)/1000+((F4+S4)-(G4+R4))/10000+(F4+S4)/100000+(S4)/1000000)))","v":false},{"$f":"IF(AU5=2,IF(AU4=2,SUM(AV5*1000+(BC5)/10+(BA5)/100+(BK4)/1000+((G4+R4)-(F4+S4))/10000+(G4+R4)/100000+(G4)/1000000)))","v":false},{"$f":"IF(AU6=2,IF(AU4=2,SUM(AV6*1000+(BC6)/10+(BA6)/100+(BK5)/1000+((G5+R5)-(F5+S5))/10000+(G5+R5)/100000+(G5)/1000000)))","v":false},{"$f":"IF(AU4=3,IF(AU5=3,SUM(AV4*1000+(BC4)/10+(BA4)/100+(BJ4)/1000+((F4+S4)-(G4+R4))/10000+(F4+S4)/100000+(S4)/1000000)))","v":false},{"$f":"IF(AU5=3,IF(AU4=3,SUM(AV5*1000+(BC5)/10+(BA5)/100+(BK4)/1000+((G4+R4)-(F4+S4))/10000+(G4+R4)/100000+(G4)/1000000)))","v":false},{"$f":"IF(AU6=3,IF(AU4=3,SUM(AV6*1000+(BC6)/10+(BA6)/100+(BK5)/1000+((G5+R5)-(F5+S5))/10000+(G5+R5)/100000+(G5)/1000000)))","v":false}]
[{"$f":"AP5","v":"NOUVELLE-CALEDONIE"},null,null,null,null,2,1,{"$f":"AP6","v":"FIDJI"},null,null,null,null,"FIDJI",null,null,null,null,2,2,"NOUVELLE-CALEDONIE",null,null,null,null,null,{"$f":"VLOOKUP(AN13,AO11:AT13,2,0)","v":"FIDJI"},null,null,null,null,{"$f":"IF(BI13=BI12,BL12,BL13)","v":3},{"$f":"VLOOKUP(Z6,AP4:BC9,7,0)","v":1},{"$f":"VLOOKUP(Z6,AP4:BC9,8,0)","v":4},{"$f":"VLOOKUP(Z6,AP4:BC9,9,0)","v":0},{"$f":"VLOOKUP(Z6,AP4:BC9,10,0)","v":1},{"$f":"VLOOKUP(Z6,AP4:BC9,11,0)","v":3},{"$f":"VLOOKUP(Z6,AP4:BC9,12,0)","v":3},{"$f":"VLOOKUP(Z6,AP4:BC9,13,0)","v":8},{"$f":"VLOOKUP(Z6,AP4:BC9,14,0)","v":-5},null,null,"FIDJI",null,null,null,null,{"$f":"RANK(AV6,AV4:AV9)","v":3},{"$f":"SUMPRODUCT((A4:E6=AP6)*(BF4:BF6))+SUMPRODUCT((H4:L6=AP6)*(BG4:BG6))+SUMPRODUCT((M4:Q6=AP6)*(BH4:BH6))+SUMPRODUCT((T4:X6=AP6)*(BI4:BI6))","v":1},{"$f":"SUMPRODUCT((A4:E6=AP6)*(BL4:BL6))+SUMPRODUCT((H4:L6=AP6)*(BM4:BM6))+SUMPRODUCT((M4:Q6=AP6)*(BN4:BN6))+SUMPRODUCT((T4:X6=AP6)*(BO4:BO6))","v":4},{"$f":"SUMPRODUCT((A4:E6=AP6)*(BP4:BP6))+SUMPRODUCT((H4:L6=AP6)*(BQ4:BQ6))+SUMPRODUCT((M4:Q6=AP6)*(BR4:BR6))+SUMPRODUCT((T4:X6=AP6)*(BS4:BS6))","v":0},{"$f":"SUMPRODUCT((A4:E6=AP6)*(BT4:BT6))+SUMPRODUCT((H4:L6=AP6)*(BU4:BU6))+SUMPRODUCT((M4:Q6=AP6)*(BV4:BV6))+SUMPRODUCT((T4:X6=AP6)*(BW4:BW6))","v":1},{"$f":"SUMPRODUCT((A4:E6=AP6)*(BX4:BX6))+SUMPRODUCT((H4:L6=AP6)*(BY4:BY6))+SUMPRODUCT((M4:Q6=AP6)*(BZ4:BZ6))+SUMPRODUCT((T4:X6=AP6)*(CA4:CA6))","v":3},{"$f":"SUMPRODUCT((A4:E6=AP6)*(CB4:CB6))+SUMPRODUCT((H4:L6=AP6)*(CC4:CC6))+SUMPRODUCT((M4:Q6=AP6)*(CD4:CD6))+SUMPRODUCT((T4:X6=AP6)*(CE4:CE6))","v":3},{"$f":"SUMPRODUCT((A4:E6=AP6)*(CH4:CH6))+SUMPRODUCT((H4:L6=AP6)*(CI4:CI6))+SUMPRODUCT((M4:Q6=AP6)*(CJ4:CJ6))+SUMPRODUCT((T4:X6=AP6)*(CK4:CK6))","v":8},-5,null,null,3,0,1,1,4,1,1,1,1,1,1,false,false,false,false,false,1,1,false,1,false,false,2,1,2,2,4,3,1,2,2,2,3,4,{"$f":"IF(AU4=1,IF(AU6=1,SUM(AV4*1000+(BC4)/10+(BA4)/100+(BJ5)/1000+((F5+S5)-(G5+R5))/10000+(F5+S5)/100000+(S5)/1000000)))","v":false},{"$f":"IF(AU5=1,IF(AU6=1,SUM(AV5*1000+(BC5)/10+(BA5)/100+(BJ9)/1000+((F9+S9)-(G9+R9))/10000+(F9+S9)/100000+(S9)/1000000)))","v":false},{"$f":"IF(AU6=1,IF(AU5=1,SUM(AV6*1000+(BC6)/10+(BA6)/100+(BK9)/1000+((G9+R9)-(F9+S9))/10000+(G9+R9)/1000000+(G9)/1000000)))","v":false},{"$f":"IF(AU4=2,IF(AU6=2,SUM(AV4*1000+(BC4)/10+(BA4)/100+(BJ5)/1000+((F5+S5)-(G5+R5))/10000+(F5+S5)/100000+(S5)/1000000)))","v":false},{"$f":"IF(AU5=2,IF(AU6=2,SUM(AV5*1000+(BC5)/10+(BA5)/100+(BJ9)/1000+((F9+S9)-(G9+R9))/10000+(F9+S9)/100000+(S9)/1000000)))","v":false},{"$f":"IF(AU6=2,IF(AU5=2,SUM(AV6*1000+(BC6)/10+(BA6)/100+(BK9)/1000+((G9+R9)-(F9+S9))/10000+(G9+R9)/1000000+(G9)/1000000)))","v":false},{"$f":"IF(AU4=3,IF(AU6=3,SUM(AV4*1000+(BC4)/10+(BA4)/100+(BJ5)/1000+((F5+S5)-(G5+R5))/10000+(F5+S5)/100000+(S5)/1000000)))","v":false},{"$f":"IF(AU5=3,IF(AU6=3,SUM(AV5*1000+(BC5)/10+(BA5)/100+(BJ9)/1000+((F9+S9)-(G9+R9))/10000+(F9+S9)/100000+(S9)/1000000)))","v":false},{"$f":"IF(AU6=3,IF(AU5=3,SUM(AV6*1000+(BC6)/10+(BA6)/100+(BK9)/1000+((G9+R9)-(F9+S9))/10000+(G9+R9)/1000000+(G9)/1000000)))","v":false}]
["ÉQUIPE  QUALIFIÉE",null,null,null,null,null,{"$f":"Z4","v":"NOUVELLE-ZELANDE"},null,null,null,null,null,null,null,null,null,null,null,null,null,null,null,null,null,null,null,null,null,"GROUPE  A",null,null,null,null,null,null,null,null,null,null,null,null,null,null,null,null,null,null,null,null,null,null,null,null,null,null,null,null,null,null,null,null,null,null,null,null,null,null,null,null,null,null,null,null,null,null,null,null,null,null,null,null,null,null,null,null,null,null,null,null,null,null,{"$f":"SUM(CN4:CN6)","v":1000000},{"$f":"SUM(CO4:CO6)","v":0},{"$f":"SUM(CP4:CP6)","v":0},{"$f":"SUM(CQ4:CQ6)","v":0},{"$f":"SUM(CR4:CR6)","v":800000},{"$f":"SUM(CS4:CS6)","v":0},{"$f":"SUM(CT4:CT6)","v":0},{"$f":"SUM(CU4:CU6)","v":0},{"$f":"SUM(CV4:CV6)","v":400000}]
[]
[]
[]
[null,null,null,null,null,null,null,null,null,null,null,null,null,null,null,null,null,null,null,null,null,null,null,null,null,null,null,null,null,null,null,null,null,null,null,null,null,null,null,1,{"$f":"BA11","v":1},{"$f":"AP4","v":"NOUVELLE-ZELANDE"},null,null,null,null,{"$f":"SUM(CN7,CQ7,CT7)","v":1000000},null,null,{"$f":"AU11+0.00000006","v":1000000.00000006},null,null,{"$f":"RANK(AX11,AX11:AZ13)","v":1},{"$f":"RANK(AU11,AU11:AW13)","v":1},null,{"$f":"VLOOKUP(AN11,AO11:AT13,2,0)","v":"NOUVELLE-ZELANDE"},null,null,null,null,{"$f":"VLOOKUP(BD11,AP11:AW13,6,0)","v":1000000},null,null,{"$f":"RANK(BI11,BI11:BK13)","v":1}]
[null,null,null,null,null,null,null,null,null,null,null,null,null,null,null,null,null,null,null,null,null,null,null,null,null,null,null,null,null,null,null,null,null,null,null,null,null,null,null,2,{"$f":"BA12","v":2},{"$f":"AP5","v":"NOUVELLE-CALEDONIE"},null,null,null,null,{"$f":"SUM(CO7,CR7,CU7)","v":800000},null,null,{"$f":"AU12+0.00000005","v":800000.00000004994},null,null,{"$f":"RANK(AX12,AX11:AZ13)","v":2},{"$f":"RANK(AU12,AU11:AW13)","v":2},null,{"$f":"VLOOKUP(AN12,AO11:AT13,2,0)","v":"NOUVELLE-CALEDONIE"},null,null,null,null,{"$f":"VLOOKUP(BD12,AP11:AW13,6,0)","v":800000},null,null,{"$f":"RANK(BI12,BI11:BK13)","v":2}]
[null,null,null,null,null,null,null,null,null,null,null,null,null,null,null,null,null,null,null,null,null,null,null,null,null,null,null,null,null,null,null,null,null,null,null,null,null,null,null,3,3,"FIDJI",null,null,null,null,{"$f":"SUM(CP7,CS7,CV7)","v":400000},null,null,{"$f":"AU13+0.00000004","v":400000.00000003999},null,null,{"$f":"RANK(AX13,AX11:AZ13)","v":3},{"$f":"RANK(AU13,AU11:AW13)","v":3},null,{"$f":"VLOOKUP(AN13,AO11:AT13,2,0)","v":"FIDJI"},null,null,null,null,{"$f":"VLOOKUP(BD13,AP11:AW13,6,0)","v":400000},null,null,{"$f":"RANK(BI13,BI11:BK13)","v":3}]
["MATCHS  ALLER",null,null,null,null,null,null,null,null,"GROUPE  B",null,null,null,null,null,"MATCHS  RETOUR",null,null,null,null,null,null,null,null,null,"CLASSEMENT",null,null,null,null,null,null,null,null,null,null,null,null,null,null,null,"CLASSEMENT"]
[]
["Équipes",null,null,null,null,"Bts","Bts","Équipes",null,null,null,null,"Équipes",null,null,null,null,"Bts","Bts","Équipes",null,null,null,null,null,"Équipes",null,null,null,null,"R","Pts","J","G","N","P","B +","B -","Diff",null,null,"Équipes",null,null,null,null,"R","Pts","J","G","N","P","B +","B -","Diff",null,null,"pts","pts","pts","pts","t pts","t pts","j","j","j","j","g","g","g","g","n","n","n","n","p","p","p","p","b+","b+","b+","b+","b+","b+","b-","b-","b-","b-","b-","b-",{"$f":"AP17","v":"TAHITI"},{"$f":"AP18","v":"PAPOUASIE-NG"},{"$f":"AP19","v":"ILES SALOMON"},{"$f":"CN16","v":"TAHITI"},{"$f":"CO16","v":"PAPOUASIE-NG"},"ILES SALOMON",{"$f":"CN16","v":"TAHITI"},{"$f":"CO16","v":"PAPOUASIE-NG"},"ILES SALOMON"]
[{"$f":"AP17","v":"TAHITI"},null,null,null,null,1,2,{"$f":"AP18","v":"PAPOUASIE-NG"},null,null,null,null,{"$f":"H17","v":"PAPOUASIE-NG"},null,null,null,null,1,3,{"$f":"A17","v":"TAHITI"},null,null,null,null,null,{"$f":"VLOOKUP(AN24,AO24:AT29,2,0)","v":"ILES SALOMON"},null,null,null,null,1,{"$f":"VLOOKUP(Z17,AP17:BC22,7,0)","v":9},{"$f":"VLOOKUP(Z17,AP17:BC22,8,0)","v":4},{"$f":"VLOOKUP(Z17,AP17:BC22,9,0)","v":3},{"$f":"VLOOKUP(Z17,AP17:BC22,10,0)","v":0},{"$f":"VLOOKUP(Z17,AP17:BC22,11,0)","v":1},{"$f":"VLOOKUP(Z17,AP17:BC22,12,0)","v":6},{"$f":"VLOOKUP(Z17,AP17:BC22,13,0)","v":6},{"$f":"VLOOKUP(Z17,AP17:BC22,14,0)","v":0},null,null,"TAHITI",null,null,null,null,{"$f":"RANK(AV17,AV17:AV22)","v":2},{"$f":"SUMPRODUCT((A17:E19=AP17)*(BF17:BF19))+SUMPRODUCT((H17:L19=AP17)*(BG17:BG19))+SUMPRODUCT((M17:Q19=AP17)*(BH17:BH19))+SUMPRODUCT((T17:X19=AP17)*(BI17:BI19))","v":6},{"$f":"SUMPRODUCT((A17:E19=AP17)*(BL17:BL19))+SUMPRODUCT((H17:L19=AP17)*(BM17:BM19))+SUMPRODUCT((M17:Q19=AP17)*(BN17:BN19))+SUMPRODUCT((T17:X19=AP17)*(BO17:BO19))","v":4},{"$f":"SUMPRODUCT((A17:E19=AP17)*(BP17:BP19))+SUMPRODUCT((H17:L19=AP17)*(BQ17:BQ19))+SUMPRODUCT((M17:Q19=AP17)*(BR17:BR19))+SUMPRODUCT((T17:X19=AP17)*(BS17:BS19))","v":2},{"$f":"SUMPRODUCT((A17:E19=AP17)*(BT17:BT19))+SUMPRODUCT((H17:L19=AP17)*(BU17:BU19))+SUMPRODUCT((M17:Q19=AP17)*(BV17:BV19))+SUMPRODUCT((T17:X19=AP17)*(BW17:BW19))","v":0},{"$f":"SUMPRODUCT((A17:E19=AP17)*(BX17:BX19))+SUMPRODUCT((H17:L19=AP17)*(BY17:BY19))+SUMPRODUCT((M17:Q19=AP17)*(BZ17:BZ19))+SUMPRODUCT((T17:X19=AP17)*(CA17:CA19))","v":2},{"$f":"SUMPRODUCT((A17:E19=AP17)*(CB17:CB19))+SUMPRODUCT((H17:L19=AP17)*(CC17:CC19))+SUMPRODUCT((M17:Q19=AP17)*(CD17:CD19))+SUMPRODUCT((T17:X19=AP17)*(CE17:CE19))","v":7},{"$f":"SUMPRODUCT((A17:E19=AP17)*(CH17:CH19))+SUMPRODUCT((H17:L19=AP17)*(CI17:CI19))+SUMPRODUCT((M17:Q19=AP17)*(CJ17:CJ19))+SUMPRODUCT((T17:X19=AP17)*(CK17:CK19))","v":4},{"$f":"BA17-BB17","v":3},null,null,{"$f":"IF(F17=\"\",0,IF(F17>G17,3,IF(F17=G17,1,IF(F17<G17,0))))","v":0},{"$f":"IF(G17=\"\",0,IF(G17>F17,3,IF(G17=F17,1,IF(G17<F17,0))))","v":3},{"$f":"IF(R17=\"\",0,IF(R17>S17,3,IF(R17=S17,1,IF(R17<S17,0))))","v":0},{"$f":"IF(S17=\"\",0,IF(S17>R17,3,IF(S17=R17,1,IF(S17<R17,0))))","v":3},{"$f":"BF17+BI17","v":3},{"$f":"BG17+BH17","v":3},{"$f":"IF(F17=\"\",0,1)","v":1},{"$f":"IF(G17=\"\",0,1)","v":1},{"$f":"IF(R17=\"\",0,1)","v":1},{"$f":"IF(S17=\"\",0,1)","v":1},{"$f":"IF(F17<>\"\",IF(F17>G17,1))","v":false},{"$f":"IF(G17<>\"\",IF(G17>F17,1))","v":1},{"$f":"IF(R17<>\"\",IF(R17>S17,1))","v":false},{"$f":"IF(S17<>\"\",IF(S17>R17,1))","v":1},{"$f":"IF(F17<>\"\",IF(F17=G17,1))","v":false},{"$f":"IF(G17<>\"\",IF(G17=F17,1))","v":false},{"$f":"IF(R17<>\"\",IF(R17=S17,1))","v":false},{"$f":"IF(S17<>\"\",IF(S17=R17,1))","v":false},{"$f":"IF(F17<>\"\",IF(F17<G17,1))","v":1},{"$f":"IF(G17<>\"\",IF(G17<F17,1))","v":false},{"$f":"IF(R17<>\"\",IF(R17<S17,1))","v":1},{"$f":"IF(S17<>\"\",IF(S17<R17,1))","v":false},{"$f":"F17","v":1},{"$f":"G17","v":2},{"$f":"R17","v":1},{"$f":"S17","v":3},{"$f":"CB17+CE17","v":4},{"$f":"CC17+CD17","v":3},{"$f":"G17","v":2},{"$f":"F17","v":1},{"$f":"S17","v":3},{"$f":"R17","v":1},{"$f":"CH17+CK17","v":3},{"$f":"CI17+CJ17","v":4},{"$f":"IF(AU17=1,1000000)","v":false},{"$f":"IF(AU18=1,1000000)","v":false},{"$f":"IF(AU19=1,1000000)","v":1000000},{"$f":"IF(AU17=2,800000)","v":800000},{"$f":"IF(AU18=2,800000)","v":false},{"$f":"IF(AU19=2,800000)","v":false},{"$f":"IF(AU17=3,400000)","v":false},{"$f":"IF(AU18=3,400000)","v":400000},{"$f":"IF(AU19=3,400000)","v":false}]
[{"$f":"AP17","v":"TAHITI"},null,null,null,null,3,0,{"$f":"AP19","v":"ILES SALOMON"},null,null,null,null,{"$f":"H18","v":"ILES SALOMON"},null,null,null,null,1,0,{"$f":"A18","v":"TAHITI"},null,null,null,null,null,{"$f":"VLOOKUP(AN25,AO24:AT29,2,0)","v":"TAHITI"},null,null,null,null,{"$f":"IF(BI25=BI24,BL24,BL25)","v":2},{"$f":"VLOOKUP(Z18,AP17:BC22,7,0)","v":6},{"$f":"VLOOKUP(Z18,AP17:BC22,8,0)","v":4},{"$f":"VLOOKUP(Z18,AP17:BC22,9,0)","v":2},{"$f":"VLOOKUP(Z18,AP17:BC22,10,0)","v":0},{"$f":"VLOOKUP(Z18,AP17:BC22,11,0)","v":2},{"$f":"VLOOKUP(Z18,AP17:BC22,12,0)","v":7},{"$f":"VLOOKUP(Z18,AP17:BC22,13,0)","v":4},{"$f":"VLOOKUP(Z18,AP17:BC22,14,0)","v":3},null,null,"PAPOUASIE-NG",null,null,null,null,{"$f":"RANK(AV18,AV17:AV22)","v":3},{"$f":"SUMPRODUCT((A17:E19=AP18)*(BF17:BF19))+SUMPRODUCT((H17:L19=AP18)*(BG17:BG19))+SUMPRODUCT((M17:Q19=AP18)*(BH17:BH19))+SUMPRODUCT((T17:X19=AP18)*(BI17:BI19))","v":3},{"$f":"SUMPRODUCT((A17:E19=AP18)*(BL17:BL19))+SUMPRODUCT((H17:L19=AP18)*(BM17:BM19))+SUMPRODUCT((M17:Q19=AP18)*(BN17:BN19))+SUMPRODUCT((T17:X19=AP18)*(BO17:BO19))","v":4},{"$f":"SUMPRODUCT((A17:E19=AP18)*(BP17:BP19))+SUMPRODUCT((H17:L19=AP18)*(BQ17:BQ19))+SUMPRODUCT((M17:Q19=AP18)*(BR17:BR19))+SUMPRODUCT((T17:X19=AP18)*(BS17:BS19))","v":1},{"$f":"SUMPRODUCT((A17:E19=AP18)*(BT17:BT19))+SUMPRODUCT((H17:L19=AP18)*(BU17:BU19))+SUMPRODUCT((M17:Q19=AP18)*(BV17:BV19))+SUMPRODUCT((T17:X19=AP18)*(BW17:BW19))","v":0},{"$f":"SUMPRODUCT((A17:E19=AP18)*(BX17:BX19))+SUMPRODUCT((H17:L19=AP18)*(BY17:BY19))+SUMPRODUCT((M17:Q19=AP18)*(BZ17:BZ19))+SUMPRODUCT((T17:X19=AP18)*(CA17:CA19))","v":3},{"$f":"SUMPRODUCT((A17:E19=AP18)*(CB17:CB19))+SUMPRODUCT((H17:L19=AP18)*(CC17:CC19))+SUMPRODUCT((M17:Q19=AP18)*(CD17:CD19))+SUMPRODUCT((T17:X19=AP18)*(CE17:CE19))","v":6},{"$f":"SUMPRODUCT((A17:E19=AP18)*(CH17:CH19))+SUMPRODUCT((H17:L19=AP18)*(CI17:CI19))+SUMPRODUCT((M17:Q19=AP18)*(CJ17:CJ19))+SUMPRODUCT((T17:X19=AP18)*(CK17:CK19))","v":9},{"$f":"BA18-BB18","v":-3},null,null,{"$f":"IF(F18=\"\",0,IF(F18>G18,3,IF(F18=G18,1,IF(F18<G18,0))))","v":3},{"$f":"IF(G18=\"\",0,IF(G18>F18,3,IF(G18=F18,1,IF(G18<F18,0))))","v":0},{"$f":"IF(R18=\"\",0,IF(R18>S18,3,IF(R18=S18,1,IF(R18<S18,0))))","v":3},{"$f":"IF(S18=\"\",0,IF(S18>R18,3,IF(S18=R18,1,IF(S18<R18,0))))","v":0},{"$f":"BF18+BI18","v":3},{"$f":"BG18+BH18","v":3},{"$f":"IF(F18=\"\",0,1)","v":1},{"$f":"IF(G18=\"\",0,1)","v":1},{"$f":"IF(R18=\"\",0,1)","v":1},{"$f":"IF(S18=\"\",0,1)","v":1},{"$f":"IF(F18<>\"\",IF(F18>G18,1))","v":1},{"$f":"IF(G18<>\"\",IF(G18>F18,1))","v":false},{"$f":"IF(R18<>\"\",IF(R18>S18,1))","v":1},{"$f":"IF(S18<>\"\",IF(S18>R18,1))","v":false},{"$f":"IF(F18<>\"\",IF(F18=G18,1))","v":false},{"$f":"IF(G18<>\"\",IF(G18=F18,1))","v":false},{"$f":"IF(R18<>\"\",IF(R18=S18,1))","v":false},{"$f":"IF(S18<>\"\",IF(S18=R18,1))","v":false},{"$f":"IF(F18<>\"\",IF(F18<G18,1))","v":false},{"$f":"IF(G18<>\"\",IF(G18<F18,1))","v":1},{"$f":"IF(R18<>\"\",IF(R18<S18,1))","v":false},{"$f":"IF(S18<>\"\",IF(S18<R18,1))","v":1},{"$f":"F18","v":3},{"$f":"G18","v":0},{"$f":"R18","v":1},{"$f":"S18","v":0},{"$f":"CB18+CE18","v":3},{"$f":"CC18+CD18","v":1},{"$f":"G18","v":0},{"$f":"F18","v":3},{"$f":"S18","v":0},{"$f":"R18","v":1},{"$f":"CH18+CK18","v":1},{"$f":"CI18+CJ18","v":3},{"$f":"IF(AU17=1,IF(AU18=1,SUM(AV17*1000+(BC17)/10+(BA17)/100+(BJ17)/1000+((F17+S17)-(G17+R17))/10000+(F17+S17)/100000+(S17)/1000000)))","v":false},{"$f":"IF(AU18=1,IF(AU17=1,SUM(AV18*1000+(BC18)/10+(BA18)/100+(BK17)/1000+((G17+R17)-(F17+S17))/10000+(G17+R17)/100000+(G17)/1000000)))","v":false},{"$f":"IF(AU19=1,IF(AU17=1,SUM(AV19*1000+(BC19)/10+(BA19)/100+(BK18)/1000+((G18+R18)-(F18+S18))/10000+(G18+R18)/100000+(G18)/1000000)))","v":false},{"$f":"IF(AU17=2,IF(AU18=2,SUM(AV17*1000+(BC17)/10+(BA17)/100+(BJ17)/1000+((F17+S17)-(G17+R17))/10000+(F17+S17)/100000+(S17)/1000000)))","v":false},{"$f":"IF(AU18=2,IF(AU17=2,SUM(AV18*1000+(BC18)/10+(BA18)/100+(BK17)/1000+((G17+R17)-(F17+S17))/10000+(G17+R17)/100000+(G17)/1000000)))","v":false},{"$f":"IF(AU19=2,IF(AU17=2,SUM(AV19*1000+(BC19)/10+(BA19)/100+(BK18)/1000+((G18+R18)-(F18+S18))/10000+(G18+R18)/100000+(G18)/1000000)))","v":false},{"$f":"IF(AU17=3,IF(AU18=3,SUM(AV17*1000+(BC17)/10+(BA17)/100+(BJ17)/1000+((F17+S17)-(G17+R17))/10000+(F17+S17)/100000+(S17)/1000000)))","v":false},{"$f":"IF(AU18=3,IF(AU17=3,SUM(AV18*1000+(BC18)/10+(BA18)/100+(BK17)/1000+((G17+R17)-(F17+S17))/10000+(G17+R17)/100000+(G17)/1000000)))","v":false},{"$f":"IF(AU19=3,IF(AU17=3,SUM(AV19*1000+(BC19)/10+(BA19)/100+(BK18)/1000+((G18+R18)-(F18+S18))/10000+(G18+R18)/100000+(G18)/1000000)))","v":false}]
[{"$f":"AP18","v":"PAPOUASIE-NG"},null,null,null,null,1,2,{"$f":"AP19","v":"ILES SALOMON"},null,null,null,null,"ILES SALOMON",null,null,null,null,3,2,"PAPOUASIE-NG",null,null,null,null,null,{"$f":"VLOOKUP(AN26,AO24:AT29,2,0)","v":"PAPOUASIE-NG"},null,null,null,null,{"$f":"IF(BI26=BI25,BL25,BL26)","v":3},{"$f":"VLOOKUP(Z19,AP17:BC22,7,0)","v":3},{"$f":"VLOOKUP(Z19,AP17:BC22,8,0)","v":4},{"$f":"VLOOKUP(Z19,AP17:BC22,9,0)","v":1},{"$f":"VLOOKUP(Z19,AP17:BC22,10,0)","v":0},{"$f":"VLOOKUP(Z19,AP17:BC22,11,0)","v":3},{"$f":"VLOOKUP(Z19,AP17:BC22,12,0)","v":6},{"$f":"VLOOKUP(Z19,AP17:BC22,13,0)","v":9},{"$f":"VLOOKUP(Z19,AP17:BC22,14,0)","v":-3},null,null,"ILES SALOMON",null,null,null,null,{"$f":"RANK(AV19,AV17:AV22)","v":1},{"$f":"SUMPRODUCT((A17:E19=AP19)*(BF17:BF19))+SUMPRODUCT((H17:L19=AP19)*(BG17:BG19))+SUMPRODUCT((M17:Q19=AP19)*(BH17:BH19))+SUMPRODUCT((T17:X19=AP19)*(BI17:BI19))","v":9},{"$f":"SUMPRODUCT((A17:E19=AP19)*(BL17:BL19))+SUMPRODUCT((H17:L19=AP19)*(BM17:BM19))+SUMPRODUCT((M17:Q19=AP19)*(BN17:BN19))+SUMPRODUCT((T17:X19=AP19)*(BO17:BO19))","v":4},{"$f":"SUMPRODUCT((A17:E19=AP19)*(BP17:BP19))+SUMPRODUCT((H17:L19=AP19)*(BQ17:BQ19))+SUMPRODUCT((M17:Q19=AP19)*(BR17:BR19))+SUMPRODUCT((T17:X19=AP19)*(BS17:BS19))","v":3},{"$f":"SUMPRODUCT((A17:E19=AP19)*(BT17:BT19))+SUMPRODUCT((H17:L19=AP19)*(BU17:BU19))+SUMPRODUCT((M17:Q19=AP19)*(BV17:BV19))+SUMPRODUCT((T17:X19=AP19)*(BW17:BW19))","v":0},{"$f":"SUMPRODUCT((A17:E19=AP19)*(BX17:BX19))+SUMPRODUCT((H17:L19=AP19)*(BY17:BY19))+SUMPRODUCT((M17:Q19=AP19)*(BZ17:BZ19))+SUMPRODUCT((T17:X19=AP19)*(CA17:CA19))","v":1},{"$f":"SUMPRODUCT((A17:E19=AP19)*(CB17:CB19))+SUMPRODUCT((H17:L19=AP19)*(CC17:CC19))+SUMPRODUCT((M17:Q19=AP19)*(CD17:CD19))+SUMPRODUCT((T17:X19=AP19)*(CE17:CE19))","v":6},{"$f":"SUMPRODUCT((A17:E19=AP19)*(CH17:CH19))+SUMPRODUCT((H17:L19=AP19)*(CI17:CI19))+SUMPRODUCT((M17:Q19=AP19)*(CJ17:CJ19))+SUMPRODUCT((T17:X19=AP19)*(CK17:CK19))","v":6},0,null,null,0,3,3,0,0,6,1,1,1,1,false,1,1,false,false,false,false,false,1,false,false,1,1,2,3,2,3,5,2,1,2,3,5,3,{"$f":"IF(AU17=1,IF(AU19=1,SUM(AV17*1000+(BC17)/10+(BA17)/100+(BJ18)/1000+((F18+S18)-(G18+R18))/10000+(F18+S18)/100000+(S18)/1000000)))","v":false},{"$f":"IF(AU18=1,IF(AU19=1,SUM(AV18*1000+(BC18)/10+(BA18)/100+(BJ22)/1000+((F22+S22)-(G22+R22))/10000+(F22+S22)/100000+(S22)/1000000)))","v":false},{"$f":"IF(AU19=1,IF(AU18=1,SUM(AV19*1000+(BC19)/10+(BA19)/100+(BK22)/1000+((G22+R22)-(F22+S22))/10000+(G22+R22)/1000000+(G22)/1000000)))","v":false},{"$f":"IF(AU17=2,IF(AU19=2,SUM(AV17*1000+(BC17)/10+(BA17)/100+(BJ18)/1000+((F18+S18)-(G18+R18))/10000+(F18+S18)/100000+(S18)/1000000)))","v":false},{"$f":"IF(AU18=2,IF(AU19=2,SUM(AV18*1000+(BC18)/10+(BA18)/100+(BJ22)/1000+((F22+S22)-(G22+R22))/10000+(F22+S22)/100000+(S22)/1000000)))","v":false},{"$f":"IF(AU19=2,IF(AU18=2,SUM(AV19*1000+(BC19)/10+(BA19)/100+(BK22)/1000+((G22+R22)-(F22+S22))/10000+(G22+R22)/1000000+(G22)/1000000)))","v":false},{"$f":"IF(AU17=3,IF(AU19=3,SUM(AV17*1000+(BC17)/10+(BA17)/100+(BJ18)/1000+((F18+S18)-(G18+R18))/10000+(F18+S18)/100000+(S18)/1000000)))","v":false},{"$f":"IF(AU18=3,IF(AU19=3,SUM(AV18*1000+(BC18)/10+(BA18)/100+(BJ22)/1000+((F22+S22)-(G22+R22))/10000+(F22+S22)/100000+(S22)/1000000)))","v":false},{"$f":"IF(AU19=3,IF(AU18=3,SUM(AV19*1000+(BC19)/10+(BA19)/100+(BK22)/1000+((G22+R22)-(F22+S22))/10000+(G22+R22)/1000000+(G22)/1000000)))","v":false}]
["ÉQUIPE  QUALIFIÉE",null,null,null,null,null,{"$f":"Z17","v":"ILES SALOMON"},null,null,null,null,null,null,null,null,null,null,null,null,null,null,null,null,null,null,null,null,null,"GROUPE  B",null,null,null,null,null,null,null,null,null,null,null,null,null,null,null,null,null,null,null,null,null,null,null,null,null,null,null,null,null,null,null,null,null,null,null,null,null,null,null,null,null,null,null,null,null,null,null,null,null,null,null,null,null,null,null,null,null,null,null,null,null,null,{"$f":"SUM(CN17:CN19)","v":0},0,1000000,800000,0,0,0,400000,0]
[]
[]
[]
[null,null,null,null,null,null,null,null,null,null,null,null,null,null,null,null,null,null,null,null,null,null,null,null,null,null,null,null,null,null,null,null,null,null,null,null,null,null,null,1,{"$f":"BA24","v":2},{"$f":"AP17","v":"TAHITI"},null,null,null,null,{"$f":"SUM(CN20,CQ20,CT20)","v":800000},null,null,{"$f":"AU24+0.00000006","v":800000.00000005995},null,null,{"$f":"RANK(AX24,AX24:AZ29)","v":2},{"$f":"RANK(AU24,AU24:AW29)","v":2},null,{"$f":"VLOOKUP(AN24,AO24:AT26,2,0)","v":"ILES SALOMON"},null,null,null,null,{"$f":"VLOOKUP(BD24,AP24:AW26,6,0)","v":1000000},null,null,{"$f":"RANK(BI24,BI24:BK26)","v":1}]
["ÉQUIPE",null,null,null,null,null,null,"BUTS",null,null,"PENALTIES",null,"BUTS",null,"ÉQUIPE",null,null,null,null,null,null,null,null,null,null,null,null,null,null,null,null,null,null,null,null,null,null,null,null,2,{"$f":"BA25","v":3},{"$f":"AP18","v":"PAPOUASIE-NG"},null,null,null,null,{"$f":"SUM(CO20,CR20,CU20)","v":400000},null,null,{"$f":"AU25+0.00000005","v":400000.00000005},null,null,{"$f":"RANK(AX25,AX24:AZ29)","v":3},{"$f":"RANK(AU25,AU24:AW29)","v":3},null,{"$f":"VLOOKUP(AN25,AO24:AT26,2,0)","v":"TAHITI"},null,null,null,null,{"$f":"VLOOKUP(BD25,AP24:AW26,6,0)","v":800000},null,null,{"$f":"RANK(BI25,BI24:BK26)","v":2}]
[{"$f":"G7","v":"NOUVELLE-ZELANDE"},null,null,null,null,null,null,6,null,null,null,null,2,null,{"$f":"A28","v":"ILES SALOMON"},null,null,null,null,null,null,null,"BARRAGES",null,null,null,null,null,null,null,null,null,null,null,null,null,null,null,null,3,1,"ILES SALOMON",null,null,null,null,{"$f":"SUM(CP20,CS20,CV20)","v":1000000},null,null,{"$f":"AU26+0.00000004","v":1000000.00000004},null,null,{"$f":"RANK(AX26,AX24:AZ29)","v":1},{"$f":"RANK(AU26,AU24:AW29)","v":1},null,{"$f":"VLOOKUP(AN26,AO24:AT26,2,0)","v":"PAPOUASIE-NG"},null,null,null,null,{"$f":"VLOOKUP(BD26,AP24:AW26,6,0)","v":400000},null,null,{"$f":"RANK(BI26,BI24:BK26)","v":3}]
[null,null,null,null,null,null,null,null,null,null,null,null,null,null,null,null,null,null,null,null,null,null,{"$f":"IF(H26=\"\",\"\",IF(AN28>AN30,A26,A28))","v":"NOUVELLE-ZELANDE"}]
[{"$f":"G20","v":"ILES SALOMON"},null,null,null,null,null,null,1,null,null,null,null,2,null,{"$f":"A26","v":"NOUVELLE-ZELANDE"},null,null,null,null,null,null,null,null,null,null,null,null,null,null,null,null,null,null,null,null,null,null,null,null,{"$f":"SUM(M28*2)/10+(H26)/100+(K28)/10000","v":0.46}]
[]
[null,null,null,null,null,null,null,null,null,null,null,null,null,null,null,null,null,null,null,null,null,null,null,null,null,null,null,null,null,null,null,null,null,null,null,null,null,null,null,{"$f":"SUM(H28*2)/10+(M26)/100+(K26)/10000","v":0.22}]

{"sheet":"Feuil2","index":5,"n_rows":523,"n_cols":10,"rows_kept":523,"cut":false,"hidden":true,"merged":[[0,9,269,9],[282,9,341,9],[522,9,611,9],[270,9,281,9],[342,9,371,9],[372,9,431,9],[432,9,521,9]]}
[{"$f":"EUROPE!A4","v":"FRANCE"},{"$f":"IF(EUROPE!F4=\"\",\"\",EUROPE!F4)","v":2},{"$f":"IF(EUROPE!G4=\"\",\"\",EUROPE!G4)","v":1},{"$f":"IF(EUROPE!H4=\"\",\"\",EUROPE!H4)","v":"SUÈDE"},{"$f":"EUROPE!M4","v":"SUÈDE"},{"$f":"IF(EUROPE!R4=\"\",\"\",EUROPE!R4)","v":2},{"$f":"IF(EUROPE!S4=\"\",\"\",EUROPE!S4)","v":1},{"$f":"IF(EUROPE!T4=\"\",\"\",EUROPE!T4)","v":"FRANCE"},null,"EUROPE - EUROPE - EUROPE - EUROPE - EUROPE - EUROPE - EUROPE"]
[{"$f":"EUROPE!A5","v":"FRANCE"},{"$f":"IF(EUROPE!F5=\"\",\"\",EUROPE!F5)","v":4},{"$f":"IF(EUROPE!G5=\"\",\"\",EUROPE!G5)","v":1},{"$f":"IF(EUROPE!H5=\"\",\"\",EUROPE!H5)","v":"BULGARIE"},{"$f":"EUROPE!M5","v":"BULGARIE"},{"$f":"IF(EUROPE!R5=\"\",\"\",EUROPE!R5)","v":0},{"$f":"IF(EUROPE!S5=\"\",\"\",EUROPE!S5)","v":1},{"$f":"IF(EUROPE!T5=\"\",\"\",EUROPE!T5)","v":"FRANCE"}]
[{"$f":"EUROPE!A6","v":"FRANCE"},{"$f":"IF(EUROPE!F6=\"\",\"\",EUROPE!F6)","v":4},{"$f":"IF(EUROPE!G6=\"\",\"\",EUROPE!G6)","v":0},{"$f":"IF(EUROPE!H6=\"\",\"\",EUROPE!H6)","v":"PAYS-BAS"},{"$f":"EUROPE!M6","v":"PAYS-BAS"},{"$f":"IF(EUROPE!R6=\"\",\"\",EUROPE!R6)","v":0},{"$f":"IF(EUROPE!S6=\"\",\"\",EUROPE!S6)","v":1},{"$f":"IF(EUROPE!T6=\"\",\"\",EUROPE!T6)","v":"FRANCE"}]
[{"$f":"EUROPE!A7","v":"FRANCE"},{"$f":"IF(EUROPE!F7=\"\",\"\",EUROPE!F7)","v":2},{"$f":"IF(EUROPE!G7=\"\",\"\",EUROPE!G7)","v":1},{"$f":"IF(EUROPE!H7=\"\",\"\",EUROPE!H7)","v":"BIELORUSSIE"},{"$f":"EUROPE!M7","v":"BIELORUSSIE"},{"$f":"IF(EUROPE!R7=\"\",\"\",EUROPE!R7)","v":0},{"$f":"IF(EUROPE!S7=\"\",\"\",EUROPE!S7)","v":0},{"$f":"IF(EUROPE!T7=\"\",\"\",EUROPE!T7)","v":"FRANCE"}]
[{"$f":"EUROPE!A8","v":"FRANCE"},{"$f":"IF(EUROPE!F8=\"\",\"\",EUROPE!F8)","v":0},{"$f":"IF(EUROPE!G8=\"\",\"\",EUROPE!G8)","v":0},{"$f":"IF(EUROPE!H8=\"\",\"\",EUROPE!H8)","v":"LUXEMBOURG"},{"$f":"EUROPE!M8","v":"LUXEMBOURG"},{"$f":"IF(EUROPE!R8=\"\",\"\",EUROPE!R8)","v":1},{"$f":"IF(EUROPE!S8=\"\",\"\",EUROPE!S8)","v":3},{"$f":"IF(EUROPE!T8=\"\",\"\",EUROPE!T8)","v":"FRANCE"}]
[{"$f":"EUROPE!A9","v":"SUÈDE"},{"$f":"IF(EUROPE!F9=\"\",\"\",EUROPE!F9)","v":3},{"$f":"IF(EUROPE!G9=\"\",\"\",EUROPE!G9)","v":0},{"$f":"IF(EUROPE!H9=\"\",\"\",EUROPE!H9)","v":"BULGARIE"},{"$f":"EUROPE!M9","v":"BULGARIE"},{"$f":"IF(EUROPE!R9=\"\",\"\",EUROPE!R9)","v":3},{"$f":"IF(EUROPE!S9=\"\",\"\",EUROPE!S9)","v":2},{"$f":"IF(EUROPE!T9=\"\",\"\",EUROPE!T9)","v":"SUÈDE"}]
[{"$f":"EUROPE!A10","v":"SUÈDE"},{"$f":"IF(EUROPE!F10=\"\",\"\",EUROPE!F10)","v":1},{"$f":"IF(EUROPE!G10=\"\",\"\",EUROPE!G10)","v":1},{"$f":"IF(EUROPE!H10=\"\",\"\",EUROPE!H10)","v":"PAYS-BAS"},{"$f":"EUROPE!M10","v":"PAYS-BAS"},{"$f":"IF(EUROPE!R10=\"\",\"\",EUROPE!R10)","v":2},{"$f":"IF(EUROPE!S10=\"\",\"\",EUROPE!S10)","v":0},{"$f":"IF(EUROPE!T10=\"\",\"\",EUROPE!T10)","v":"SUÈDE"}]
[{"$f":"EUROPE!A11","v":"SUÈDE"},{"$f":"IF(EUROPE!F11=\"\",\"\",EUROPE!F11)","v":4},{"$f":"IF(EUROPE!G11=\"\",\"\",EUROPE!G11)","v":0},{"$f":"IF(EUROPE!H11=\"\",\"\",EUROPE!H11)","v":"BIELORUSSIE"},{"$f":"EUROPE!M11","v":"BIELORUSSIE"},{"$f":"IF(EUROPE!R11=\"\",\"\",EUROPE!R11)","v":0},{"$f":"IF(EUROPE!S11=\"\",\"\",EUROPE!S11)","v":4},{"$f":"IF(EUROPE!T11=\"\",\"\",EUROPE!T11)","v":"SUÈDE"}]
[{"$f":"EUROPE!A12","v":"SUÈDE"},{"$f":"IF(EUROPE!F12=\"\",\"\",EUROPE!F12)","v":8},{"$f":"IF(EUROPE!G12=\"\",\"\",EUROPE!G12)","v":0},{"$f":"IF(EUROPE!H12=\"\",\"\",EUROPE!H12)","v":"LUXEMBOURG"},{"$f":"EUROPE!M12","v":"LUXEMBOURG"},{"$f":"IF(EUROPE!R12=\"\",\"\",EUROPE!R12)","v":0},{"$f":"IF(EUROPE!S12=\"\",\"\",EUROPE!S12)","v":1},{"$f":"IF(EUROPE!T12=\"\",\"\",EUROPE!T12)","v":"SUÈDE"}]
[{"$f":"EUROPE!A13","v":"BULGARIE"},{"$f":"IF(EUROPE!F13=\"\",\"\",EUROPE!F13)","v":2},{"$f":"IF(EUROPE!G13=\"\",\"\",EUROPE!G13)","v":0},{"$f":"IF(EUROPE!H13=\"\",\"\",EUROPE!H13)","v":"PAYS-BAS"},{"$f":"EUROPE!M13","v":"PAYS-BAS"},{"$f":"IF(EUROPE!R13=\"\",\"\",EUROPE!R13)","v":3},{"$f":"IF(EUROPE!S13=\"\",\"\",EUROPE!S13)","v":1},{"$f":"IF(EUROPE!T13=\"\",\"\",EUROPE!T13)","v":"BULGARIE"}]
[{"$f":"EUROPE!A14","v":"BULGARIE"},{"$f":"IF(EUROPE!F14=\"\",\"\",EUROPE!F14)","v":1},{"$f":"IF(EUROPE!G14=\"\",\"\",EUROPE!G14)","v":0},{"$f":"IF(EUROPE!H14=\"\",\"\",EUROPE!H14)","v":"BIELORUSSIE"},{"$f":"EUROPE!M14","v":"BIELORUSSIE"},{"$f":"IF(EUROPE!R14=\"\",\"\",EUROPE!R14)","v":2},{"$f":"IF(EUROPE!S14=\"\",\"\",EUROPE!S14)","v":1},{"$f":"IF(EUROPE!T14=\"\",\"\",EUROPE!T14)","v":"BULGARIE"}]
[{"$f":"EUROPE!A15","v":"BULGARIE"},{"$f":"IF(EUROPE!F15=\"\",\"\",EUROPE!F15)","v":4},{"$f":"IF(EUROPE!G15=\"\",\"\",EUROPE!G15)","v":3},{"$f":"IF(EUROPE!H15=\"\",\"\",EUROPE!H15)","v":"LUXEMBOURG"},{"$f":"EUROPE!M15","v":"LUXEMBOURG"},{"$f":"IF(EUROPE!R15=\"\",\"\",EUROPE!R15)","v":1},{"$f":"IF(EUROPE!S15=\"\",\"\",EUROPE!S15)","v":1},{"$f":"IF(EUROPE!T15=\"\",\"\",EUROPE!T15)","v":"BULGARIE"}]
[{"$f":"EUROPE!A16","v":"PAYS-BAS"},{"$f":"IF(EUROPE!F16=\"\",\"\",EUROPE!F16)","v":4},{"$f":"IF(EUROPE!G16=\"\",\"\",EUROPE!G16)","v":1},{"$f":"IF(EUROPE!H16=\"\",\"\",EUROPE!H16)","v":"BIELORUSSIE"},{"$f":"EUROPE!M16","v":"BIELORUSSIE"},{"$f":"IF(EUROPE!R16=\"\",\"\",EUROPE!R16)","v":1},{"$f":"IF(EUROPE!S16=\"\",\"\",EUROPE!S16)","v":3},{"$f":"IF(EUROPE!T16=\"\",\"\",EUROPE!T16)","v":"PAYS-BAS"}]
[{"$f":"EUROPE!A17","v":"PAYS-BAS"},{"$f":"IF(EUROPE!F17=\"\",\"\",EUROPE!F17)","v":5},{"$f":"IF(EUROPE!G17=\"\",\"\",EUROPE!G17)","v":0},{"$f":"IF(EUROPE!H17=\"\",\"\",EUROPE!H17)","v":"LUXEMBOURG"},{"$f":"EUROPE!M17","v":"LUXEMBOURG"},{"$f":"IF(EUROPE!R17=\"\",\"\",EUROPE!R17)","v":1},{"$f":"IF(EUROPE!S17=\"\",\"\",EUROPE!S17)","v":3},{"$f":"IF(EUROPE!T17=\"\",\"\",EUROPE!T17)","v":"PAYS-BAS"}]
[{"$f":"EUROPE!A18","v":"BIELORUSSIE"},{"$f":"IF(EUROPE!F18=\"\",\"\",EUROPE!F18)","v":1},{"$f":"IF(EUROPE!G18=\"\",\"\",EUROPE!G18)","v":1},{"$f":"IF(EUROPE!H18=\"\",\"\",EUROPE!H18)","v":"LUXEMBOURG"},{"$f":"EUROPE!M18","v":"LUXEMBOURG"},{"$f":"IF(EUROPE!R18=\"\",\"\",EUROPE!R18)","v":1},{"$f":"IF(EUROPE!S18=\"\",\"\",EUROPE!S18)","v":0},{"$f":"IF(EUROPE!T18=\"\",\"\",EUROPE!T18)","v":"BIELORUSSIE"}]
[{"$f":"E1","v":"SUÈDE"},{"$f":"F1","v":2},1,"FRANCE",{"$f":"A1","v":"FRANCE"},{"$f":"B1","v":2},1,"SUÈDE"]
[{"$f":"E2","v":"BULGARIE"},{"$f":"F2","v":0},{"$f":"G2","v":1},{"$f":"H2","v":"FRANCE"},{"$f":"A2","v":"FRANCE"},{"$f":"B2","v":4},{"$f":"C2","v":1},{"$f":"D2","v":"BULGARIE"}]
["PAYS-BAS",0,1,"FRANCE","FRANCE",4,0,"PAYS-BAS"]
["BIELORUSSIE",0,0,"FRANCE","FRANCE",2,1,"BIELORUSSIE"]
["LUXEMBOURG",1,3,"FRANCE","FRANCE",0,0,"LUXEMBOURG"]
["BULGARIE",3,2,"SUÈDE","SUÈDE",3,0,"BULGARIE"]
["PAYS-BAS",2,0,"SUÈDE","SUÈDE",1,1,"PAYS-BAS"]
["BIELORUSSIE",0,4,"SUÈDE","SUÈDE",4,0,"BIELORUSSIE"]
["LUXEMBOURG",0,1,"SUÈDE","SUÈDE",8,0,"LUXEMBOURG"]
["PAYS-BAS",3,1,"BULGARIE","BULGARIE",2,0,"PAYS-BAS"]
["BIELORUSSIE",2,1,"BULGARIE","BULGARIE",1,0,"BIELORUSSIE"]
["LUXEMBOURG",1,1,"BULGARIE","BULGARIE",4,3,"LUXEMBOURG"]
["BIELORUSSIE",1,3,"PAYS-BAS","PAYS-BAS",4,1,"BIELORUSSIE"]
["LUXEMBOURG",1,3,"PAYS-BAS","PAYS-BAS",5,0,"LUXEMBOURG"]
["LUXEMBOURG",1,0,"BIELORUSSIE","BIELORUSSIE",1,1,"LUXEMBOURG"]
[{"$f":"EUROPE!A24","v":"SUISSE"},{"$f":"IF(EUROPE!F24=\"\",\"\",EUROPE!F24)","v":2},{"$f":"IF(EUROPE!G24=\"\",\"\",EUROPE!G24)","v":0},{"$f":"IF(EUROPE!H24=\"\",\"\",EUROPE!H24)","v":"PORTUGAL"},{"$f":"EUROPE!M24","v":"PORTUGAL"},{"$f":"IF(EUROPE!R24=\"\",\"\",EUROPE!R24)","v":2},{"$f":"IF(EUROPE!S24=\"\",\"\",EUROPE!S24)","v":0},{"$f":"IF(EUROPE!T24=\"\",\"\",EUROPE!T24)","v":"SUISSE"}]
[{"$f":"EUROPE!A25","v":"SUISSE"},{"$f":"IF(EUROPE!F25=\"\",\"\",EUROPE!F25)","v":5},{"$f":"IF(EUROPE!G25=\"\",\"\",EUROPE!G25)","v":2},{"$f":"IF(EUROPE!H25=\"\",\"\",EUROPE!H25)","v":"HONGRIE"},{"$f":"EUROPE!M25","v":"HONGRIE"},{"$f":"IF(EUROPE!R25=\"\",\"\",EUROPE!R25)","v":2},{"$f":"IF(EUROPE!S25=\"\",\"\",EUROPE!S25)","v":3},{"$f":"IF(EUROPE!T25=\"\",\"\",EUROPE!T25)","v":"SUISSE"}]
[{"$f":"EUROPE!A26","v":"SUISSE"},{"$f":"IF(EUROPE!F26=\"\",\"\",EUROPE!F26)","v":2},{"$f":"IF(EUROPE!G26=\"\",\"\",EUROPE!G26)","v":0},{"$f":"IF(EUROPE!H26=\"\",\"\",EUROPE!H26)","v":"ILES FEROE"},{"$f":"EUROPE!M26","v":"ILES FEROE"},{"$f":"IF(EUROPE!R26=\"\",\"\",EUROPE!R26)","v":0},{"$f":"IF(EUROPE!S26=\"\",\"\",EUROPE!S26)","v":2},{"$f":"IF(EUROPE!T26=\"\",\"\",EUROPE!T26)","v":"SUISSE"}]
[{"$f":"EUROPE!A27","v":"SUISSE"},{"$f":"IF(EUROPE!F27=\"\",\"\",EUROPE!F27)","v":1},{"$f":"IF(EUROPE!G27=\"\",\"\",EUROPE!G27)","v":0},{"$f":"IF(EUROPE!H27=\"\",\"\",EUROPE!H27)","v":"LETTONIE"},{"$f":"EUROPE!M27","v":"LETTONIE"},{"$f":"IF(EUROPE!R27=\"\",\"\",EUROPE!R27)","v":0},{"$f":"IF(EUROPE!S27=\"\",\"\",EUROPE!S27)","v":3},{"$f":"IF(EUROPE!T27=\"\",\"\",EUROPE!T27)","v":"SUISSE"}]
[{"$f":"EUROPE!A28","v":"SUISSE"},{"$f":"IF(EUROPE!F28=\"\",\"\",EUROPE!F28)","v":3},{"$f":"IF(EUROPE!G28=\"\",\"\",EUROPE!G28)","v":0},{"$f":"IF(EUROPE!H28=\"\",\"\",EUROPE!H28)","v":"ANDORRE"},{"$f":"EUROPE!M28","v":"ANDORRE"},{"$f":"IF(EUROPE!R28=\"\",\"\",EUROPE!R28)","v":1},{"$f":"IF(EUROPE!S28=\"\",\"\",EUROPE!S28)","v":2},{"$f":"IF(EUROPE!T28=\"\",\"\",EUROPE!T28)","v":"SUISSE"}]
[{"$f":"EUROPE!A29","v":"PORTUGAL"},{"$f":"IF(EUROPE!F29=\"\",\"\",EUROPE!F29)","v":3},{"$f":"IF(EUROPE!G29=\"\",\"\",EUROPE!G29)","v":0},{"$f":"IF(EUROPE!H29=\"\",\"\",EUROPE!H29)","v":"HONGRIE"},{"$f":"EUROPE!M29","v":"HONGRIE"},{"$f":"IF(EUROPE!R29=\"\",\"\",EUROPE!R29)","v":0},{"$f":"IF(EUROPE!S29=\"\",\"\",EUROPE!S29)","v":1},{"$f":"IF(EUROPE!T29=\"\",\"\",EUROPE!T29)","v":"PORTUGAL"}]
[{"$f":"EUROPE!A30","v":"PORTUGAL"},{"$f":"IF(EUROPE!F30=\"\",\"\",EUROPE!F30)","v":5},{"$f":"IF(EUROPE!G30=\"\",\"\",EUROPE!G30)","v":1},{"$f":"IF(EUROPE!H30=\"\",\"\",EUROPE!H30)","v":"ILES FEROE"},{"$f":"EUROPE!M30","v":"ILES FEROE"},{"$f":"IF(EUROPE!R30=\"\",\"\",EUROPE!R30)","v":0},{"$f":"IF(EUROPE!S30=\"\",\"\",EUROPE!S30)","v":6},{"$f":"IF(EUROPE!T30=\"\",\"\",EUROPE!T30)","v":"PORTUGAL"}]
[{"$f":"EUROPE!A31","v":"PORTUGAL"},{"$f":"IF(EUROPE!F31=\"\",\"\",EUROPE!F31)","v":4},{"$f":"IF(EUROPE!G31=\"\",\"\",EUROPE!G31)","v":1},{"$f":"IF(EUROPE!H31=\"\",\"\",EUROPE!H31)","v":"LETTONIE"},{"$f":"EUROPE!M31","v":"LETTONIE"},{"$f":"IF(EUROPE!R31=\"\",\"\",EUROPE!R31)","v":0},{"$f":"IF(EUROPE!S31=\"\",\"\",EUROPE!S31)","v":3},{"$f":"IF(EUROPE!T31=\"\",\"\",EUROPE!T31)","v":"PORTUGAL"}]
[{"$f":"EUROPE!A32","v":"PORTUGAL"},{"$f":"IF(EUROPE!F32=\"\",\"\",EUROPE!F32)","v":6},{"$f":"IF(EUROPE!G32=\"\",\"\",EUROPE!G32)","v":0},{"$f":"IF(EUROPE!H32=\"\",\"\",EUROPE!H32)","v":"ANDORRE"},{"$f":"EUROPE!M32","v":"ANDORRE"},{"$f":"IF(EUROPE!R32=\"\",\"\",EUROPE!R32)","v":0},{"$f":"IF(EUROPE!S32=\"\",\"\",EUROPE!S32)","v":2},{"$f":"IF(EUROPE!T32=\"\",\"\",EUROPE!T32)","v":"PORTUGAL"}]
[{"$f":"EUROPE!A33","v":"HONGRIE"},{"$f":"IF(EUROPE!F33=\"\",\"\",EUROPE!F33)","v":1},{"$f":"IF(EUROPE!G33=\"\",\"\",EUROPE!G33)","v":0},{"$f":"IF(EUROPE!H33=\"\",\"\",EUROPE!H33)","v":"ILES FEROE"},{"$f":"EUROPE!M33","v":"ILES FEROE"},{"$f":"IF(EUROPE!R33=\"\",\"\",EUROPE!R33)","v":0},{"$f":"IF(EUROPE!S33=\"\",\"\",EUROPE!S33)","v":0},{"$f":"IF(EUROPE!T33=\"\",\"\",EUROPE!T33)","v":"HONGRIE"}]
[{"$f":"EUROPE!A34","v":"HONGRIE"},{"$f":"IF(EUROPE!F34=\"\",\"\",EUROPE!F34)","v":3},{"$f":"IF(EUROPE!G34=\"\",\"\",EUROPE!G34)","v":1},{"$f":"IF(EUROPE!H34=\"\",\"\",EUROPE!H34)","v":"LETTONIE"},{"$f":"EUROPE!M34","v":"LETTONIE"},{"$f":"IF(EUROPE!R34=\"\",\"\",EUROPE!R34)","v":0},{"$f":"IF(EUROPE!S34=\"\",\"\",EUROPE!S34)","v":2},{"$f":"IF(EUROPE!T34=\"\",\"\",EUROPE!T34)","v":"HONGRIE"}]
[{"$f":"EUROPE!A35","v":"HONGRIE"},{"$f":"IF(EUROPE!F35=\"\",\"\",EUROPE!F35)","v":4},{"$f":"IF(EUROPE!G35=\"\",\"\",EUROPE!G35)","v":0},{"$f":"IF(EUROPE!H35=\"\",\"\",EUROPE!H35)","v":"ANDORRE"},{"$f":"EUROPE!M35","v":"ANDORRE"},{"$f":"IF(EUROPE!R35=\"\",\"\",EUROPE!R35)","v":1},{"$f":"IF(EUROPE!S35=\"\",\"\",EUROPE!S35)","v":0},{"$f":"IF(EUROPE!T35=\"\",\"\",EUROPE!T35)","v":"HONGRIE"}]
[{"$f":"EUROPE!A36","v":"ILES FEROE"},{"$f":"IF(EUROPE!F36=\"\",\"\",EUROPE!F36)","v":0},{"$f":"IF(EUROPE!G36=\"\",\"\",EUROPE!G36)","v":0},{"$f":"IF(EUROPE!H36=\"\",\"\",EUROPE!H36)","v":"LETTONIE"},{"$f":"EUROPE!M36","v":"LETTONIE"},{"$f":"IF(EUROPE!R36=\"\",\"\",EUROPE!R36)","v":0},{"$f":"IF(EUROPE!S36=\"\",\"\",EUROPE!S36)","v":2},{"$f":"IF(EUROPE!T36=\"\",\"\",EUROPE!T36)","v":"ILES FEROE"}]
[{"$f":"EUROPE!A37","v":"ILES FEROE"},{"$f":"IF(EUROPE!F37=\"\",\"\",EUROPE!F37)","v":1},{"$f":"IF(EUROPE!G37=\"\",\"\",EUROPE!G37)","v":0},{"$f":"IF(EUROPE!H37=\"\",\"\",EUROPE!H37)","v":"ANDORRE"},{"$f":"EUROPE!M37","v":"ANDORRE"},{"$f":"IF(EUROPE!R37=\"\",\"\",EUROPE!R37)","v":0},{"$f":"IF(EUROPE!S37=\"\",\"\",EUROPE!S37)","v":0},{"$f":"IF(EUROPE!T37=\"\",\"\",EUROPE!T37)","v":"ILES FEROE"}]
[{"$f":"EUROPE!A38","v":"LETTONIE"},{"$f":"IF(EUROPE!F38=\"\",\"\",EUROPE!F38)","v":4},{"$f":"IF(EUROPE!G38=\"\",\"\",EUROPE!G38)","v":0},{"$f":"IF(EUROPE!H38=\"\",\"\",EUROPE!H38)","v":"ANDORRE"},{"$f":"EUROPE!M38","v":"ANDORRE"},{"$f":"IF(EUROPE!R38=\"\",\"\",EUROPE!R38)","v":0},{"$f":"IF(EUROPE!S38=\"\",\"\",EUROPE!S38)","v":1},{"$f":"IF(EUROPE!T38=\"\",\"\",EUROPE!T38)","v":"LETTONIE"}]
[{"$f":"E31","v":"PORTUGAL"},{"$f":"F31","v":2},0,"SUISSE",{"$f":"A31","v":"SUISSE"},{"$f":"B31","v":2},0,"PORTUGAL"]
[{"$f":"E32","v":"HONGRIE"},{"$f":"F32","v":2},{"$f":"G32","v":3},{"$f":"H32","v":"SUISSE"},{"$f":"A32","v":"SUISSE"},{"$f":"B32","v":5},{"$f":"C32","v":2},{"$f":"D32","v":"HONGRIE"}]
["ILES FEROE",0,2,"SUISSE","SUISSE",2,0,"ILES FEROE"]
["LETTONIE",0,3,"SUISSE","SUISSE",1,0,"LETTONIE"]
["ANDORRE",1,2,"SUISSE","SUISSE",3,0,"ANDORRE"]
["HONGRIE",0,1,"PORTUGAL","PORTUGAL",3,0,"HONGRIE"]
["ILES FEROE",0,6,"PORTUGAL","PORTUGAL",5,1,"ILES FEROE"]
["LETTONIE",0,3,"PORTUGAL","PORTUGAL",4,1,"LETTONIE"]
["ANDORRE",0,2,"PORTUGAL","PORTUGAL",6,0,"ANDORRE"]
["ILES FEROE",0,0,"HONGRIE","HONGRIE",1,0,"ILES FEROE"]
["LETTONIE",0,2,"HONGRIE","HONGRIE",3,1,"LETTONIE"]
["ANDORRE",1,0,"HONGRIE","HONGRIE",4,0,"ANDORRE"]
["LETTONIE",0,2,"ILES FEROE","ILES FEROE",0,0,"LETTONIE"]
["ANDORRE",0,0,"ILES FEROE","ILES FEROE",1,0,"ANDORRE"]
["ANDORRE",0,1,"LETTONIE","LETTONIE",4,0,"ANDORRE"]
[{"$f":"EUROPE!A44","v":"ALLEMAGNE"},{"$f":"IF(EUROPE!F44=\"\",\"\",EUROPE!F44)","v":2},{"$f":"IF(EUROPE!G44=\"\",\"\",EUROPE!G44)","v":0},{"$f":"IF(EUROPE!H44=\"\",\"\",EUROPE!H44)","v":"IRLANDE DU NORD"},{"$f":"EUROPE!M44","v":"IRLANDE DU NORD"},{"$f":"IF(EUROPE!R44=\"\",\"\",EUROPE!R44)","v":1},{"$f":"IF(EUROPE!S44=\"\",\"\",EUROPE!S44)","v":3},{"$f":"IF(EUROPE!T44=\"\",\"\",EUROPE!T44)","v":"ALLEMAGNE"}]
[{"$f":"EUROPE!A45","v":"ALLEMAGNE"},{"$f":"IF(EUROPE!F45=\"\",\"\",EUROPE!F45)","v":3},{"$f":"IF(EUROPE!G45=\"\",\"\",EUROPE!G45)","v":0},{"$f":"IF(EUROPE!H45=\"\",\"\",EUROPE!H45)","v":"RÉPUBLIQUE TCHÈQUE"},{"$f":"EUROPE!M45","v":"RÉPUBLIQUE TCHÈQUE"},{"$f":"IF(EUROPE!R45=\"\",\"\",EUROPE!R45)","v":1},{"$f":"IF(EUROPE!S45=\"\",\"\",EUROPE!S45)","v":2},{"$f":"IF(EUROPE!T45=\"\",\"\",EUROPE!T45)","v":"ALLEMAGNE"}]
[{"$f":"EUROPE!A46","v":"ALLEMAGNE"},{"$f":"IF(EUROPE!F46=\"\",\"\",EUROPE!F46)","v":5},{"$f":"IF(EUROPE!G46=\"\",\"\",EUROPE!G46)","v":1},{"$f":"IF(EUROPE!H46=\"\",\"\",EUROPE!H46)","v":"AZERBAIDJAN"},{"$f":"EUROPE!M46","v":"AZERBAIDJAN"},{"$f":"IF(EUROPE!R46=\"\",\"\",EUROPE!R46)","v":1},{"$f":"IF(EUROPE!S46=\"\",\"\",EUROPE!S46)","v":4},{"$f":"IF(EUROPE!T46=\"\",\"\",EUROPE!T46)","v":"ALLEMAGNE"}]
[{"$f":"EUROPE!A47","v":"ALLEMAGNE"},{"$f":"IF(EUROPE!F47=\"\",\"\",EUROPE!F47)","v":6},{"$f":"IF(EUROPE!G47=\"\",\"\",EUROPE!G47)","v":0},{"$f":"IF(EUROPE!H47=\"\",\"\",EUROPE!H47)","v":"NORVÈGE"},{"$f":"EUROPE!M47","v":"NORVÈGE"},{"$f":"IF(EUROPE!R47=\"\",\"\",EUROPE!R47)","v":0},{"$f":"IF(EUROPE!S47=\"\",\"\",EUROPE!S47)","v":3},{"$f":"IF(EUROPE!T47=\"\",\"\",EUROPE!T47)","v":"ALLEMAGNE"}]
[{"$f":"EUROPE!A48","v":"ALLEMAGNE"},{"$f":"IF(EUROPE!F48=\"\",\"\",EUROPE!F48)","v":7},{"$f":"IF(EUROPE!G48=\"\",\"\",EUROPE!G48)","v":0},{"$f":"IF(EUROPE!H48=\"\",\"\",EUROPE!H48)","v":"SAINT-MARIN"},{"$f":"EUROPE!M48","v":"SAINT-MARIN"},{"$f":"IF(EUROPE!R48=\"\",\"\",EUROPE!R48)","v":0},{"$f":"IF(EUROPE!S48=\"\",\"\",EUROPE!S48)","v":8},{"$f":"IF(EUROPE!T48=\"\",\"\",EUROPE!T48)","v":"ALLEMAGNE"}]
[{"$f":"EUROPE!A49","v":"IRLANDE DU NORD"},{"$f":"IF(EUROPE!F49=\"\",\"\",EUROPE!F49)","v":2},{"$f":"IF(EUROPE!G49=\"\",\"\",EUROPE!G49)","v":0},{"$f":"IF(EUROPE!H49=\"\",\"\",EUROPE!H49)","v":"RÉPUBLIQUE TCHÈQUE"},{"$f":"EUROPE!M49","v":"RÉPUBLIQUE TCHÈQUE"},{"$f":"IF(EUROPE!R49=\"\",\"\",EUROPE!R49)","v":0},{"$f":"IF(EUROPE!S49=\"\",\"\",EUROPE!S49)","v":0},{"$f":"IF(EUROPE!T49=\"\",\"\",EUROPE!T49)","v":"IRLANDE DU NORD"}]
[{"$f":"EUROPE!A50","v":"IRLANDE DU NORD"},{"$f":"IF(EUROPE!F50=\"\",\"\",EUROPE!F50)","v":4},{"$f":"IF(EUROPE!G50=\"\",\"\",EUROPE!G50)","v":0},{"$f":"IF(EUROPE!H50=\"\",\"\",EUROPE!H50)","v":"AZERBAIDJAN"},{"$f":"EUROPE!M50","v":"AZERBAIDJAN"},{"$f":"IF(EUROPE!R50=\"\",\"\",EUROPE!R50)","v":0},{"$f":"IF(EUROPE!S50=\"\",\"\",EUROPE!S50)","v":1},{"$f":"IF(EUROPE!T50=\"\",\"\",EUROPE!T50)","v":"IRLANDE DU NORD"}]
[{"$f":"EUROPE!A51","v":"IRLANDE DU NORD"},{"$f":"IF(EUROPE!F51=\"\",\"\",EUROPE!F51)","v":2},{"$f":"IF(EUROPE!G51=\"\",\"\",EUROPE!G51)","v":0},{"$f":"IF(EUROPE!H51=\"\",\"\",EUROPE!H51)","v":"NORVÈGE"},{"$f":"EUROPE!M51","v":"NORVÈGE"},{"$f":"IF(EUROPE!R51=\"\",\"\",EUROPE!R51)","v":1},{"$f":"IF(EUROPE!S51=\"\",\"\",EUROPE!S51)","v":0},{"$f":"IF(EUROPE!T51=\"\",\"\",EUROPE!T51)","v":"IRLANDE DU NORD"}]
[{"$f":"EUROPE!A52","v":"IRLANDE DU NORD"},{"$f":"IF(EUROPE!F52=\"\",\"\",EUROPE!F52)","v":4},{"$f":"IF(EUROPE!G52=\"\",\"\",EUROPE!G52)","v":0},{"$f":"IF(EUROPE!H52=\"\",\"\",EUROPE!H52)","v":"SAINT-MARIN"},{"$f":"EUROPE!M52","v":"SAINT-MARIN"},{"$f":"IF(EUROPE!R52=\"\",\"\",EUROPE!R52)","v":0},{"$f":"IF(EUROPE!S52=\"\",\"\",EUROPE!S52)","v":3},{"$f":"IF(EUROPE!T52=\"\",\"\",EUROPE!T52)","v":"IRLANDE DU NORD"}]
[{"$f":"EUROPE!A53","v":"RÉPUBLIQUE TCHÈQUE"},{"$f":"IF(EUROPE!F53=\"\",\"\",EUROPE!F53)","v":0},{"$f":"IF(EUROPE!G53=\"\",\"\",EUROPE!G53)","v":0},{"$f":"IF(EUROPE!H53=\"\",\"\",EUROPE!H53)","v":"AZERBAIDJAN"},{"$f":"EUROPE!M53","v":"AZERBAIDJAN"},{"$f":"IF(EUROPE!R53=\"\",\"\",EUROPE!R53)","v":1},{"$f":"IF(EUROPE!S53=\"\",\"\",EUROPE!S53)","v":2},{"$f":"IF(EUROPE!T53=\"\",\"\",EUROPE!T53)","v":"RÉPUBLIQUE TCHÈQUE"}]
[{"$f":"EUROPE!A54","v":"RÉPUBLIQUE TCHÈQUE"},{"$f":"IF(EUROPE!F54=\"\",\"\",EUROPE!F54)","v":2},{"$f":"IF(EUROPE!G54=\"\",\"\",EUROPE!G54)","v":1},{"$f":"IF(EUROPE!H54=\"\",\"\",EUROPE!H54)","v":"NORVÈGE"},{"$f":"EUROPE!M54","v":"NORVÈGE"},{"$f":"IF(EUROPE!R54=\"\",\"\",EUROPE!R54)","v":1},{"$f":"IF(EUROPE!S54=\"\",\"\",EUROPE!S54)","v":1},{"$f":"IF(EUROPE!T54=\"\",\"\",EUROPE!T54)","v":"RÉPUBLIQUE TCHÈQUE"}]
[{"$f":"EUROPE!A55","v":"RÉPUBLIQUE TCHÈQUE"},{"$f":"IF(EUROPE!F55=\"\",\"\",EUROPE!F55)","v":5},{"$f":"IF(EUROPE!G55=\"\",\"\",EUROPE!G55)","v":0},{"$f":"IF(EUROPE!H55=\"\",\"\",EUROPE!H55)","v":"SAINT-MARIN"},{"$f":"EUROPE!M55","v":"SAINT-MARIN"},{"$f":"IF(EUROPE!R55=\"\",\"\",EUROPE!R55)","v":0},{"$f":"IF(EUROPE!S55=\"\",\"\",EUROPE!S55)","v":6},{"$f":"IF(EUROPE!T55=\"\",\"\",EUROPE!T55)","v":"RÉPUBLIQUE TCHÈQUE"}]
[{"$f":"EUROPE!A56","v":"AZERBAIDJAN"},{"$f":"IF(EUROPE!F56=\"\",\"\",EUROPE!F56)","v":1},{"$f":"IF(EUROPE!G56=\"\",\"\",EUROPE!G56)","v":0},{"$f":"IF(EUROPE!H56=\"\",\"\",EUROPE!H56)","v":"NORVÈGE"},{"$f":"EUROPE!M56","v":"NORVÈGE"},{"$f":"IF(EUROPE!R56=\"\",\"\",EUROPE!R56)","v":2},{"$f":"IF(EUROPE!S56=\"\",\"\",EUROPE!S56)","v":0},{"$f":"IF(EUROPE!T56=\"\",\"\",EUROPE!T56)","v":"AZERBAIDJAN"}]
[{"$f":"EUROPE!A57","v":"AZERBAIDJAN"},{"$f":"IF(EUROPE!F57=\"\",\"\",EUROPE!F57)","v":5},{"$f":"IF(EUROPE!G57=\"\",\"\",EUROPE!G57)","v":1},{"$f":"IF(EUROPE!H57=\"\",\"\",EUROPE!H57)","v":"SAINT-MARIN"},{"$f":"EUROPE!M57","v":"SAINT-MARIN"},{"$f":"IF(EUROPE!R57=\"\",\"\",EUROPE!R57)","v":0},{"$f":"IF(EUROPE!S57=\"\",\"\",EUROPE!S57)","v":1},{"$f":"IF(EUROPE!T57=\"\",\"\",EUROPE!T57)","v":"AZERBAIDJAN"}]
[{"$f":"EUROPE!A58","v":"NORVÈGE"},{"$f":"IF(EUROPE!F58=\"\",\"\",EUROPE!F58)","v":4},{"$f":"IF(EUROPE!G58=\"\",\"\",EUROPE!G58)","v":1},{"$f":"IF(EUROPE!H58=\"\",\"\",EUROPE!H58)","v":"SAINT-MARIN"},{"$f":"EUROPE!M58","v":"SAINT-MARIN"},{"$f":"IF(EUROPE!R58=\"\",\"\",EUROPE!R58)","v":0},{"$f":"IF(EUROPE!S58=\"\",\"\",EUROPE!S58)","v":8},{"$f":"IF(EUROPE!T58=\"\",\"\",EUROPE!T58)","v":"NORVÈGE"}]
[{"$f":"E61","v":"IRLANDE DU NORD"},{"$f":"F61","v":1},3,"ALLEMAGNE",{"$f":"A61","v":"ALLEMAGNE"},{"$f":"B61","v":2},0,"IRLANDE DU NORD"]
[{"$f":"E62","v":"RÉPUBLIQUE TCHÈQUE"},{"$f":"F62","v":1},{"$f":"G62","v":2},{"$f":"H62","v":"ALLEMAGNE"},{"$f":"A62","v":"ALLEMAGNE"},{"$f":"B62","v":3},{"$f":"C62","v":0},{"$f":"D62","v":"RÉPUBLIQUE TCHÈQUE"}]
["AZERBAIDJAN",1,4,"ALLEMAGNE","ALLEMAGNE",5,1,"AZERBAIDJAN"]
["NORVÈGE",0,3,"ALLEMAGNE","ALLEMAGNE",6,0,"NORVÈGE"]
["SAINT-MARIN",0,8,"ALLEMAGNE","ALLEMAGNE",7,0,"SAINT-MARIN"]
["RÉPUBLIQUE TCHÈQUE",0,0,"IRLANDE DU NORD","IRLANDE DU NORD",2,0,"RÉPUBLIQUE TCHÈQUE"]
["AZERBAIDJAN",0,1,"IRLANDE DU NORD","IRLANDE DU NORD",4,0,"AZERBAIDJAN"]
["NORVÈGE",1,0,"IRLANDE DU NORD","IRLANDE DU NORD",2,0,"NORVÈGE"]
["SAINT-MARIN",0,3,"IRLANDE DU NORD","IRLANDE DU NORD",4,0,"SAINT-MARIN"]
["AZERBAIDJAN",1,2,"RÉPUBLIQUE TCHÈQUE","RÉPUBLIQUE TCHÈQUE",0,0,"AZERBAIDJAN"]
["NORVÈGE",1,1,"RÉPUBLIQUE TCHÈQUE","RÉPUBLIQUE TCHÈQUE",2,1,"NORVÈGE"]
["SAINT-MARIN",0,6,"RÉPUBLIQUE TCHÈQUE","RÉPUBLIQUE TCHÈQUE",5,0,"SAINT-MARIN"]
["NORVÈGE",2,0,"AZERBAIDJAN","AZERBAIDJAN",1,0,"NORVÈGE"]
["SAINT-MARIN",0,1,"AZERBAIDJAN","AZERBAIDJAN",5,1,"SAINT-MARIN"]
["SAINT-MARIN",0,8,"NORVÈGE","NORVÈGE",4,1,"SAINT-MARIN"]
[{"$f":"EUROPE!A64","v":"SERBIE"},{"$f":"IF(EUROPE!F64=\"\",\"\",EUROPE!F64)","v":2},{"$f":"IF(EUROPE!G64=\"\",\"\",EUROPE!G64)","v":2},{"$f":"IF(EUROPE!H64=\"\",\"\",EUROPE!H64)","v":"IRLANDE"},{"$f":"EUROPE!M64","v":"IRLANDE"},{"$f":"IF(EUROPE!R64=\"\",\"\",EUROPE!R64)","v":0},{"$f":"IF(EUROPE!S64=\"\",\"\",EUROPE!S64)","v":1},{"$f":"IF(EUROPE!T64=\"\",\"\",EUROPE!T64)","v":"SERBIE"}]
[{"$f":"EUROPE!A65","v":"SERBIE"},{"$f":"IF(EUROPE!F65=\"\",\"\",EUROPE!F65)","v":1},{"$f":"IF(EUROPE!G65=\"\",\"\",EUROPE!G65)","v":1},{"$f":"IF(EUROPE!H65=\"\",\"\",EUROPE!H65)","v":"PAYS DE GALLES"},{"$f":"EUROPE!M65","v":"PAYS DE GALLES"},{"$f":"IF(EUROPE!R65=\"\",\"\",EUROPE!R65)","v":1},{"$f":"IF(EUROPE!S65=\"\",\"\",EUROPE!S65)","v":1},{"$f":"IF(EUROPE!T65=\"\",\"\",EUROPE!T65)","v":"SERBIE"}]
[{"$f":"EUROPE!A66","v":"SERBIE"},{"$f":"IF(EUROPE!F66=\"\",\"\",EUROPE!F66)","v":3},{"$f":"IF(EUROPE!G66=\"\",\"\",EUROPE!G66)","v":2},{"$f":"IF(EUROPE!H66=\"\",\"\",EUROPE!H66)","v":"AUTRICHE"},{"$f":"EUROPE!M66","v":"AUTRICHE"},{"$f":"IF(EUROPE!R66=\"\",\"\",EUROPE!R66)","v":3},{"$f":"IF(EUROPE!S66=\"\",\"\",EUROPE!S66)","v":2},{"$f":"IF(EUROPE!T66=\"\",\"\",EUROPE!T66)","v":"SERBIE"}]
[{"$f":"EUROPE!A67","v":"SERBIE"},{"$f":"IF(EUROPE!F67=\"\",\"\",EUROPE!F67)","v":1},{"$f":"IF(EUROPE!G67=\"\",\"\",EUROPE!G67)","v":0},{"$f":"IF(EUROPE!H67=\"\",\"\",EUROPE!H67)","v":"GÉORGIE"},{"$f":"EUROPE!M67","v":"GÉORGIE"},{"$f":"IF(EUROPE!R67=\"\",\"\",EUROPE!R67)","v":1},{"$f":"IF(EUROPE!S67=\"\",\"\",EUROPE!S67)","v":3},{"$f":"IF(EUROPE!T67=\"\",\"\",EUROPE!T67)","v":"SERBIE"}]
[{"$f":"EUROPE!A68","v":"SERBIE"},{"$f":"IF(EUROPE!F68=\"\",\"\",EUROPE!F68)","v":3},{"$f":"IF(EUROPE!G68=\"\",\"\",EUROPE!G68)","v":0},{"$f":"IF(EUROPE!H68=\"\",\"\",EUROPE!H68)","v":"MOLDALVIE"},{"$f":"EUROPE!M68","v":"MOLDALVIE"},{"$f":"IF(EUROPE!R68=\"\",\"\",EUROPE!R68)","v":0},{"$f":"IF(EUROPE!S68=\"\",\"\",EUROPE!S68)","v":3},{"$f":"IF(EUROPE!T68=\"\",\"\",EUROPE!T68)","v":"SERBIE"}]
[{"$f":"EUROPE!A69","v":"IRLANDE"},{"$f":"IF(EUROPE!F69=\"\",\"\",EUROPE!F69)","v":0},{"$f":"IF(EUROPE!G69=\"\",\"\",EUROPE!G69)","v":0},{"$f":"IF(EUROPE!H69=\"\",\"\",EUROPE!H69)","v":"PAYS DE GALLES"},{"$f":"EUROPE!M69","v":"PAYS DE GALLES"},{"$f":"IF(EUROPE!R69=\"\",\"\",EUROPE!R69)","v":0},{"$f":"IF(EUROPE!S69=\"\",\"\",EUROPE!S69)","v":1},{"$f":"IF(EUROPE!T69=\"\",\"\",EUROPE!T69)","v":"IRLANDE"}]
[{"$f":"EUROPE!A70","v":"IRLANDE"},{"$f":"IF(EUROPE!F70=\"\",\"\",EUROPE!F70)","v":1},{"$f":"IF(EUROPE!G70=\"\",\"\",EUROPE!G70)","v":1},{"$f":"IF(EUROPE!H70=\"\",\"\",EUROPE!H70)","v":"AUTRICHE"},{"$f":"EUROPE!M70","v":"AUTRICHE"},{"$f":"IF(EUROPE!R70=\"\",\"\",EUROPE!R70)","v":0},{"$f":"IF(EUROPE!S70=\"\",\"\",EUROPE!S70)","v":1},{"$f":"IF(EUROPE!T70=\"\",\"\",EUROPE!T70)","v":"IRLANDE"}]
[{"$f":"EUROPE!A71","v":"IRLANDE"},{"$f":"IF(EUROPE!F71=\"\",\"\",EUROPE!F71)","v":1},{"$f":"IF(EUROPE!G71=\"\",\"\",EUROPE!G71)","v":0},{"$f":"IF(EUROPE!H71=\"\",\"\",EUROPE!H71)","v":"GÉORGIE"},{"$f":"EUROPE!M71","v":"GÉORGIE"},{"$f":"IF(EUROPE!R71=\"\",\"\",EUROPE!R71)","v":1},{"$f":"IF(EUROPE!S71=\"\",\"\",EUROPE!S71)","v":1},{"$f":"IF(EUROPE!T71=\"\",\"\",EUROPE!T71)","v":"IRLANDE"}]
[{"$f":"EUROPE!A72","v":"IRLANDE"},{"$f":"IF(EUROPE!F72=\"\",\"\",EUROPE!F72)","v":2},{"$f":"IF(EUROPE!G72=\"\",\"\",EUROPE!G72)","v":0},{"$f":"IF(EUROPE!H72=\"\",\"\",EUROPE!H72)","v":"MOLDALVIE"},{"$f":"EUROPE!M72","v":"MOLDALVIE"},{"$f":"IF(EUROPE!R72=\"\",\"\",EUROPE!R72)","v":1},{"$f":"IF(EUROPE!S72=\"\",\"\",EUROPE!S72)","v":3},{"$f":"IF(EUROPE!T72=\"\",\"\",EUROPE!T72)","v":"IRLANDE"}]
[{"$f":"EUROPE!A73","v":"PAYS DE GALLES"},{"$f":"IF(EUROPE!F73=\"\",\"\",EUROPE!F73)","v":1},{"$f":"IF(EUROPE!G73=\"\",\"\",EUROPE!G73)","v":0},{"$f":"IF(EUROPE!H73=\"\",\"\",EUROPE!H73)","v":"AUTRICHE"},{"$f":"EUROPE!M73","v":"AUTRICHE"},{"$f":"IF(EUROPE!R73=\"\",\"\",EUROPE!R73)","v":2},{"$f":"IF(EUROPE!S73=\"\",\"\",EUROPE!S73)","v":2},{"$f":"IF(EUROPE!T73=\"\",\"\",EUROPE!T73)","v":"PAYS DE GALLES"}]
[{"$f":"EUROPE!A74","v":"PAYS DE GALLES"},{"$f":"IF(EUROPE!F74=\"\",\"\",EUROPE!F74)","v":1},{"$f":"IF(EUROPE!G74=\"\",\"\",EUROPE!G74)","v":1},{"$f":"IF(EUROPE!H74=\"\",\"\",EUROPE!H74)","v":"GÉORGIE"},{"$f":"EUROPE!M74","v":"GÉORGIE"},{"$f":"IF(EUROPE!R74=\"\",\"\",EUROPE!R74)","v":0},{"$f":"IF(EUROPE!S74=\"\",\"\",EUROPE!S74)","v":1},{"$f":"IF(EUROPE!T74=\"\",\"\",EUROPE!T74)","v":"PAYS DE GALLES"}]
[{"$f":"EUROPE!A75","v":"PAYS DE GALLES"},{"$f":"IF(EUROPE!F75=\"\",\"\",EUROPE!F75)","v":4},{"$f":"IF(EUROPE!G75=\"\",\"\",EUROPE!G75)","v":0},{"$f":"IF(EUROPE!H75=\"\",\"\",EUROPE!H75)","v":"MOLDALVIE"},{"$f":"EUROPE!M75","v":"MOLDALVIE"},{"$f":"IF(EUROPE!R75=\"\",\"\",EUROPE!R75)","v":0},{"$f":"IF(EUROPE!S75=\"\",\"\",EUROPE!S75)","v":2},{"$f":"IF(EUROPE!T75=\"\",\"\",EUROPE!T75)","v":"PAYS DE GALLES"}]
[{"$f":"EUROPE!A76","v":"AUTRICHE"},{"$f":"IF(EUROPE!F76=\"\",\"\",EUROPE!F76)","v":1},{"$f":"IF(EUROPE!G76=\"\",\"\",EUROPE!G76)","v":1},{"$f":"IF(EUROPE!H76=\"\",\"\",EUROPE!H76)","v":"GÉORGIE"},{"$f":"EUROPE!M76","v":"GÉORGIE"},{"$f":"IF(EUROPE!R76=\"\",\"\",EUROPE!R76)","v":1},{"$f":"IF(EUROPE!S76=\"\",\"\",EUROPE!S76)","v":2},{"$f":"IF(EUROPE!T76=\"\",\"\",EUROPE!T76)","v":"AUTRICHE"}]
[{"$f":"EUROPE!A77","v":"AUTRICHE"},{"$f":"IF(EUROPE!F77=\"\",\"\",EUROPE!F77)","v":2},{"$f":"IF(EUROPE!G77=\"\",\"\",EUROPE!G77)","v":0},{"$f":"IF(EUROPE!H77=\"\",\"\",EUROPE!H77)","v":"MOLDALVIE"},{"$f":"EUROPE!M77","v":"MOLDALVIE"},{"$f":"IF(EUROPE!R77=\"\",\"\",EUROPE!R77)","v":0},{"$f":"IF(EUROPE!S77=\"\",\"\",EUROPE!S77)","v":1},{"$f":"IF(EUROPE!T77=\"\",\"\",EUROPE!T77)","v":"AUTRICHE"}]
[{"$f":"EUROPE!A78","v":"GÉORGIE"},{"$f":"IF(EUROPE!F78=\"\",\"\",EUROPE!F78)","v":1},{"$f":"IF(EUROPE!G78=\"\",\"\",EUROPE!G78)","v":1},{"$f":"IF(EUROPE!H78=\"\",\"\",EUROPE!H78)","v":"MOLDALVIE"},{"$f":"EUROPE!M78","v":"MOLDALVIE"},{"$f":"IF(EUROPE!R78=\"\",\"\",EUROPE!R78)","v":2},{"$f":"IF(EUROPE!S78=\"\",\"\",EUROPE!S78)","v":2},{"$f":"IF(EUROPE!T78=\"\",\"\",EUROPE!T78)","v":"GÉORGIE"}]
[{"$f":"E91","v":"IRLANDE"},{"$f":"F91","v":0},1,"SERBIE",{"$f":"A91","v":"SERBIE"},{"$f":"B91","v":2},2,"IRLANDE"]
[{"$f":"E92","v":"PAYS DE GALLES"},{"$f":"F92","v":1},{"$f":"G92","v":1},{"$f":"H92","v":"SERBIE"},{"$f":"A92","v":"SERBIE"},{"$f":"B92","v":1},{"$f":"C92","v":1},{"$f":"D92","v":"PAYS DE GALLES"}]
["AUTRICHE",3,2,"SERBIE","SERBIE",3,2,"AUTRICHE"]
["GÉORGIE",1,3,"SERBIE","SERBIE",1,0,"GÉORGIE"]
["MOLDALVIE",0,3,"SERBIE","SERBIE",3,0,"MOLDALVIE"]
["PAYS DE GALLES",0,1,"IRLANDE","IRLANDE",0,0,"PAYS DE GALLES"]
["AUTRICHE",0,1,"IRLANDE","IRLANDE",1,1,"AUTRICHE"]
["GÉORGIE",1,1,"IRLANDE","IRLANDE",1,0,"GÉORGIE"]
["MOLDALVIE",1,3,"IRLANDE","IRLANDE",2,0,"MOLDALVIE"]
["AUTRICHE",2,2,"PAYS DE GALLES","PAYS DE GALLES",1,0,"AUTRICHE"]
["GÉORGIE",0,1,"PAYS DE GALLES","PAYS DE GALLES",1,1,"GÉORGIE"]
["MOLDALVIE",0,2,"PAYS DE GALLES","PAYS DE GALLES",4,0,"MOLDALVIE"]
["GÉORGIE",1,2,"AUTRICHE","AUTRICHE",1,1,"GÉORGIE"]
["MOLDALVIE",0,1,"AUTRICHE","AUTRICHE",2,0,"MOLDALVIE"]
["MOLDALVIE",2,2,"GÉORGIE","GÉORGIE",1,1,"MOLDALVIE"]
[{"$f":"EUROPE!A84","v":"POLOGNE"},{"$f":"IF(EUROPE!F84=\"\",\"\",EUROPE!F84)","v":4},{"$f":"IF(EUROPE!G84=\"\",\"\",EUROPE!G84)","v":2},{"$f":"IF(EUROPE!H84=\"\",\"\",EUROPE!H84)","v":"MONTÉNEGRO"},{"$f":"EUROPE!M84","v":"MONTÉNEGRO"},{"$f":"IF(EUROPE!R84=\"\",\"\",EUROPE!R84)","v":1},{"$f":"IF(EUROPE!S84=\"\",\"\",EUROPE!S84)","v":2},{"$f":"IF(EUROPE!T84=\"\",\"\",EUROPE!T84)","v":"POLOGNE"}]
[{"$f":"EUROPE!A85","v":"POLOGNE"},{"$f":"IF(EUROPE!F85=\"\",\"\",EUROPE!F85)","v":3},{"$f":"IF(EUROPE!G85=\"\",\"\",EUROPE!G85)","v":2},{"$f":"IF(EUROPE!H85=\"\",\"\",EUROPE!H85)","v":"DANEMARK"},{"$f":"EUROPE!M85","v":"DANEMARK"},{"$f":"IF(EUROPE!R85=\"\",\"\",EUROPE!R85)","v":4},{"$f":"IF(EUROPE!S85=\"\",\"\",EUROPE!S85)","v":0},{"$f":"IF(EUROPE!T85=\"\",\"\",EUROPE!T85)","v":"POLOGNE"}]
[{"$f":"EUROPE!A86","v":"POLOGNE"},{"$f":"IF(EUROPE!F86=\"\",\"\",EUROPE!F86)","v":3},{"$f":"IF(EUROPE!G86=\"\",\"\",EUROPE!G86)","v":1},{"$f":"IF(EUROPE!H86=\"\",\"\",EUROPE!H86)","v":"ROUMANIE"},{"$f":"EUROPE!M86","v":"ROUMANIE"},{"$f":"IF(EUROPE!R86=\"\",\"\",EUROPE!R86)","v":0},{"$f":"IF(EUROPE!S86=\"\",\"\",EUROPE!S86)","v":3},{"$f":"IF(EUROPE!T86=\"\",\"\",EUROPE!T86)","v":"POLOGNE"}]
[{"$f":"EUROPE!A87","v":"POLOGNE"},{"$f":"IF(EUROPE!F87=\"\",\"\",EUROPE!F87)","v":2},{"$f":"IF(EUROPE!G87=\"\",\"\",EUROPE!G87)","v":1},{"$f":"IF(EUROPE!H87=\"\",\"\",EUROPE!H87)","v":"ARMÉNIE"},{"$f":"EUROPE!M87","v":"ARMÉNIE"},{"$f":"IF(EUROPE!R87=\"\",\"\",EUROPE!R87)","v":1},{"$f":"IF(EUROPE!S87=\"\",\"\",EUROPE!S87)","v":6},{"$f":"IF(EUROPE!T87=\"\",\"\",EUROPE!T87)","v":"POLOGNE"}]
[{"$f":"EUROPE!A88","v":"POLOGNE"},{"$f":"IF(EUROPE!F88=\"\",\"\",EUROPE!F88)","v":3},{"$f":"IF(EUROPE!G88=\"\",\"\",EUROPE!G88)","v":0},{"$f":"IF(EUROPE!H88=\"\",\"\",EUROPE!H88)","v":"KAZAKHSTAN"},{"$f":"EUROPE!M88","v":"KAZAKHSTAN"},{"$f":"IF(EUROPE!R88=\"\",\"\",EUROPE!R88)","v":2},{"$f":"IF(EUROPE!S88=\"\",\"\",EUROPE!S88)","v":2},{"$f":"IF(EUROPE!T88=\"\",\"\",EUROPE!T88)","v":"POLOGNE"}]
[{"$f":"EUROPE!A89","v":"MONTÉNEGRO"},{"$f":"IF(EUROPE!F89=\"\",\"\",EUROPE!F89)","v":0},{"$f":"IF(EUROPE!G89=\"\",\"\",EUROPE!G89)","v":1},{"$f":"IF(EUROPE!H89=\"\",\"\",EUROPE!H89)","v":"DANEMARK"},{"$f":"EUROPE!M89","v":"DANEMARK"},{"$f":"IF(EUROPE!R89=\"\",\"\",EUROPE!R89)","v":0},{"$f":"IF(EUROPE!S89=\"\",\"\",EUROPE!S89)","v":1},{"$f":"IF(EUROPE!T89=\"\",\"\",EUROPE!T89)","v":"MONTÉNEGRO"}]
[{"$f":"EUROPE!A90","v":"MONTÉNEGRO"},{"$f":"IF(EUROPE!F90=\"\",\"\",EUROPE!F90)","v":1},{"$f":"IF(EUROPE!G90=\"\",\"\",EUROPE!G90)","v":0},{"$f":"IF(EUROPE!H90=\"\",\"\",EUROPE!H90)","v":"ROUMANIE"},{"$f":"EUROPE!M90","v":"ROUMANIE"},{"$f":"IF(EUROPE!R90=\"\",\"\",EUROPE!R90)","v":1},{"$f":"IF(EUROPE!S90=\"\",\"\",EUROPE!S90)","v":1},{"$f":"IF(EUROPE!T90=\"\",\"\",EUROPE!T90)","v":"MONTÉNEGRO"}]
[{"$f":"EUROPE!A91","v":"MONTÉNEGRO"},{"$f":"IF(EUROPE!F91=\"\",\"\",EUROPE!F91)","v":4},{"$f":"IF(EUROPE!G91=\"\",\"\",EUROPE!G91)","v":1},{"$f":"IF(EUROPE!H91=\"\",\"\",EUROPE!H91)","v":"ARMÉNIE"},{"$f":"EUROPE!M91","v":"ARMÉNIE"},{"$f":"IF(EUROPE!R91=\"\",\"\",EUROPE!R91)","v":3},{"$f":"IF(EUROPE!S91=\"\",\"\",EUROPE!S91)","v":2},{"$f":"IF(EUROPE!T91=\"\",\"\",EUROPE!T91)","v":"MONTÉNEGRO"}]
[{"$f":"EUROPE!A92","v":"MONTÉNEGRO"},{"$f":"IF(EUROPE!F92=\"\",\"\",EUROPE!F92)","v":5},{"$f":"IF(EUROPE!G92=\"\",\"\",EUROPE!G92)","v":0},{"$f":"IF(EUROPE!H92=\"\",\"\",EUROPE!H92)","v":"KAZAKHSTAN"},{"$f":"EUROPE!M92","v":"KAZAKHSTAN"},{"$f":"IF(EUROPE!R92=\"\",\"\",EUROPE!R92)","v":0},{"$f":"IF(EUROPE!S92=\"\",\"\",EUROPE!S92)","v":3},{"$f":"IF(EUROPE!T92=\"\",\"\",EUROPE!T92)","v":"MONTÉNEGRO"}]
[{"$f":"EUROPE!A93","v":"DANEMARK"},{"$f":"IF(EUROPE!F93=\"\",\"\",EUROPE!F93)","v":1},{"$f":"IF(EUROPE!G93=\"\",\"\",EUROPE!G93)","v":1},{"$f":"IF(EUROPE!H93=\"\",\"\",EUROPE!H93)","v":"ROUMANIE"},{"$f":"EUROPE!M93","v":"ROUMANIE"},{"$f":"IF(EUROPE!R93=\"\",\"\",EUROPE!R93)","v":0},{"$f":"IF(EUROPE!S93=\"\",\"\",EUROPE!S93)","v":0},{"$f":"IF(EUROPE!T93=\"\",\"\",EUROPE!T93)","v":"DANEMARK"}]
[{"$f":"EUROPE!A94","v":"DANEMARK"},{"$f":"IF(EUROPE!F94=\"\",\"\",EUROPE!F94)","v":1},{"$f":"IF(EUROPE!G94=\"\",\"\",EUROPE!G94)","v":0},{"$f":"IF(EUROPE!H94=\"\",\"\",EUROPE!H94)","v":"ARMÉNIE"},{"$f":"EUROPE!M94","v":"ARMÉNIE"},{"$f":"IF(EUROPE!R94=\"\",\"\",EUROPE!R94)","v":1},{"$f":"IF(EUROPE!S94=\"\",\"\",EUROPE!S94)","v":4},{"$f":"IF(EUROPE!T94=\"\",\"\",EUROPE!T94)","v":"DANEMARK"}]
[{"$f":"EUROPE!A95","v":"DANEMARK"},{"$f":"IF(EUROPE!F95=\"\",\"\",EUROPE!F95)","v":4},{"$f":"IF(EUROPE!G95=\"\",\"\",EUROPE!G95)","v":1},{"$f":"IF(EUROPE!H95=\"\",\"\",EUROPE!H95)","v":"KAZAKHSTAN"},{"$f":"EUROPE!M95","v":"KAZAKHSTAN"},{"$f":"IF(EUROPE!R95=\"\",\"\",EUROPE!R95)","v":1},{"$f":"IF(EUROPE!S95=\"\",\"\",EUROPE!S95)","v":3},{"$f":"IF(EUROPE!T95=\"\",\"\",EUROPE!T95)","v":"DANEMARK"}]
[{"$f":"EUROPE!A96","v":"ROUMANIE"},{"$f":"IF(EUROPE!F96=\"\",\"\",EUROPE!F96)","v":1},{"$f":"IF(EUROPE!G96=\"\",\"\",EUROPE!G96)","v":0},{"$f":"IF(EUROPE!H96=\"\",\"\",EUROPE!H96)","v":"ARMÉNIE"},{"$f":"EUROPE!M96","v":"ARMÉNIE"},{"$f":"IF(EUROPE!R96=\"\",\"\",EUROPE!R96)","v":0},{"$f":"IF(EUROPE!S96=\"\",\"\",EUROPE!S96)","v":5},{"$f":"IF(EUROPE!T96=\"\",\"\",EUROPE!T96)","v":"ROUMANIE"}]
[{"$f":"EUROPE!A97","v":"ROUMANIE"},{"$f":"IF(EUROPE!F97=\"\",\"\",EUROPE!F97)","v":3},{"$f":"IF(EUROPE!G97=\"\",\"\",EUROPE!G97)","v":1},{"$f":"IF(EUROPE!H97=\"\",\"\",EUROPE!H97)","v":"KAZAKHSTAN"},{"$f":"EUROPE!M97","v":"KAZAKHSTAN"},{"$f":"IF(EUROPE!R97=\"\",\"\",EUROPE!R97)","v":0},{"$f":"IF(EUROPE!S97=\"\",\"\",EUROPE!S97)","v":0},{"$f":"IF(EUROPE!T97=\"\",\"\",EUROPE!T97)","v":"ROUMANIE"}]
[{"$f":"EUROPE!A98","v":"ARMÉNIE"},{"$f":"IF(EUROPE!F98=\"\",\"\",EUROPE!F98)","v":2},{"$f":"IF(EUROPE!G98=\"\",\"\",EUROPE!G98)","v":0},{"$f":"IF(EUROPE!H98=\"\",\"\",EUROPE!H98)","v":"KAZAKHSTAN"},{"$f":"EUROPE!M98","v":"KAZAKHSTAN"},{"$f":"IF(EUROPE!R98=\"\",\"\",EUROPE!R98)","v":1},{"$f":"IF(EUROPE!S98=\"\",\"\",EUROPE!S98)","v":1},{"$f":"IF(EUROPE!T98=\"\",\"\",EUROPE!T98)","v":"ARMÉNIE"}]
[{"$f":"E121","v":"MONTÉNEGRO"},{"$f":"F121","v":1},2,"POLOGNE",{"$f":"A121","v":"POLOGNE"},{"$f":"B121","v":4},2,"MONTÉNEGRO"]
[{"$f":"E122","v":"DANEMARK"},{"$f":"F122","v":4},{"$f":"G122","v":0},{"$f":"H122","v":"POLOGNE"},{"$f":"A122","v":"POLOGNE"},{"$f":"B122","v":3},{"$f":"C122","v":2},{"$f":"D122","v":"DANEMARK"}]
["ROUMANIE",0,3,"POLOGNE","POLOGNE",3,1,"ROUMANIE"]
["ARMÉNIE",1,6,"POLOGNE","POLOGNE",2,1,"ARMÉNIE"]
["KAZAKHSTAN",2,2,"POLOGNE","POLOGNE",3,0,"KAZAKHSTAN"]
["DANEMARK",0,1,"MONTÉNEGRO","MONTÉNEGRO",0,1,"DANEMARK"]
["ROUMANIE",1,1,"MONTÉNEGRO","MONTÉNEGRO",1,0,"ROUMANIE"]
["ARMÉNIE",3,2,"MONTÉNEGRO","MONTÉNEGRO",4,1,"ARMÉNIE"]
["KAZAKHSTAN",0,3,"MONTÉNEGRO","MONTÉNEGRO",5,0,"KAZAKHSTAN"]
["ROUMANIE",0,0,"DANEMARK","DANEMARK",1,1,"ROUMANIE"]
["ARMÉNIE",1,4,"DANEMARK","DANEMARK",1,0,"ARMÉNIE"]
["KAZAKHSTAN",1,3,"DANEMARK","DANEMARK",4,1,"KAZAKHSTAN"]
["ARMÉNIE",0,5,"ROUMANIE","ROUMANIE",1,0,"ARMÉNIE"]
["KAZAKHSTAN",0,0,"ROUMANIE","ROUMANIE",3,1,"KAZAKHSTAN"]
["KAZAKHSTAN",1,1,"ARMÉNIE","ARMÉNIE",2,0,"KAZAKHSTAN"]
[{"$f":"EUROPE!A104","v":"ANGLETERRE"},{"$f":"IF(EUROPE!F104=\"\",\"\",EUROPE!F104)","v":2},{"$f":"IF(EUROPE!G104=\"\",\"\",EUROPE!G104)","v":1},{"$f":"IF(EUROPE!H104=\"\",\"\",EUROPE!H104)","v":"SLOVAQUIE"},{"$f":"EUROPE!M104","v":"SLOVAQUIE"},{"$f":"IF(EUROPE!R104=\"\",\"\",EUROPE!R104)","v":0},{"$f":"IF(EUROPE!S104=\"\",\"\",EUROPE!S104)","v":1},{"$f":"IF(EUROPE!T104=\"\",\"\",EUROPE!T104)","v":"ANGLETERRE"}]
[{"$f":"EUROPE!A105","v":"ANGLETERRE"},{"$f":"IF(EUROPE!F105=\"\",\"\",EUROPE!F105)","v":1},{"$f":"IF(EUROPE!G105=\"\",\"\",EUROPE!G105)","v":0},{"$f":"IF(EUROPE!H105=\"\",\"\",EUROPE!H105)","v":"SLOVÉNIE"},{"$f":"EUROPE!M105","v":"SLOVÉNIE"},{"$f":"IF(EUROPE!R105=\"\",\"\",EUROPE!R105)","v":0},{"$f":"IF(EUROPE!S105=\"\",\"\",EUROPE!S105)","v":0},{"$f":"IF(EUROPE!T105=\"\",\"\",EUROPE!T105)","v":"ANGLETERRE"}]
[{"$f":"EUROPE!A106","v":"ANGLETERRE"},{"$f":"IF(EUROPE!F106=\"\",\"\",EUROPE!F106)","v":3},{"$f":"IF(EUROPE!G106=\"\",\"\",EUROPE!G106)","v":0},{"$f":"IF(EUROPE!H106=\"\",\"\",EUROPE!H106)","v":"ECOSSE"},{"$f":"EUROPE!M106","v":"ECOSSE"},{"$f":"IF(EUROPE!R106=\"\",\"\",EUROPE!R106)","v":2},{"$f":"IF(EUROPE!S106=\"\",\"\",EUROPE!S106)","v":2},{"$f":"IF(EUROPE!T106=\"\",\"\",EUROPE!T106)","v":"ANGLETERRE"}]
[{"$f":"EUROPE!A107","v":"ANGLETERRE"},{"$f":"IF(EUROPE!F107=\"\",\"\",EUROPE!F107)","v":2},{"$f":"IF(EUROPE!G107=\"\",\"\",EUROPE!G107)","v":0},{"$f":"IF(EUROPE!H107=\"\",\"\",EUROPE!H107)","v":"LITUANIE"},{"$f":"EUROPE!M107","v":"LITUANIE"},{"$f":"IF(EUROPE!R107=\"\",\"\",EUROPE!R107)","v":0},{"$f":"IF(EUROPE!S107=\"\",\"\",EUROPE!S107)","v":1},{"$f":"IF(EUROPE!T107=\"\",\"\",EUROPE!T107)","v":"ANGLETERRE"}]
[{"$f":"EUROPE!A108","v":"ANGLETERRE"},{"$f":"IF(EUROPE!F108=\"\",\"\",EUROPE!F108)","v":2},{"$f":"IF(EUROPE!G108=\"\",\"\",EUROPE!G108)","v":0},{"$f":"IF(EUROPE!H108=\"\",\"\",EUROPE!H108)","v":"MALTE"},{"$f":"EUROPE!M108","v":"MALTE"},{"$f":"IF(EUROPE!R108=\"\",\"\",EUROPE!R108)","v":0},{"$f":"IF(EUROPE!S108=\"\",\"\",EUROPE!S108)","v":4},{"$f":"IF(EUROPE!T108=\"\",\"\",EUROPE!T108)","v":"ANGLETERRE"}]
[{"$f":"EUROPE!A109","v":"SLOVAQUIE"},{"$f":"IF(EUROPE!F109=\"\",\"\",EUROPE!F109)","v":1},{"$f":"IF(EUROPE!G109=\"\",\"\",EUROPE!G109)","v":0},{"$f":"IF(EUROPE!H109=\"\",\"\",EUROPE!H109)","v":"SLOVÉNIE"},{"$f":"EUROPE!M109","v":"SLOVÉNIE"},{"$f":"IF(EUROPE!R109=\"\",\"\",EUROPE!R109)","v":1},{"$f":"IF(EUROPE!S109=\"\",\"\",EUROPE!S109)","v":0},{"$f":"IF(EUROPE!T109=\"\",\"\",EUROPE!T109)","v":"SLOVAQUIE"}]
[{"$f":"EUROPE!A110","v":"SLOVAQUIE"},{"$f":"IF(EUROPE!F110=\"\",\"\",EUROPE!F110)","v":3},{"$f":"IF(EUROPE!G110=\"\",\"\",EUROPE!G110)","v":0},{"$f":"IF(EUROPE!H110=\"\",\"\",EUROPE!H110)","v":"ECOSSE"},{"$f":"EUROPE!M110","v":"ECOSSE"},{"$f":"IF(EUROPE!R110=\"\",\"\",EUROPE!R110)","v":1},{"$f":"IF(EUROPE!S110=\"\",\"\",EUROPE!S110)","v":0},{"$f":"IF(EUROPE!T110=\"\",\"\",EUROPE!T110)","v":"SLOVAQUIE"}]
[{"$f":"EUROPE!A111","v":"SLOVAQUIE"},{"$f":"IF(EUROPE!F111=\"\",\"\",EUROPE!F111)","v":4},{"$f":"IF(EUROPE!G111=\"\",\"\",EUROPE!G111)","v":0},{"$f":"IF(EUROPE!H111=\"\",\"\",EUROPE!H111)","v":"LITUANIE"},{"$f":"EUROPE!M111","v":"LITUANIE"},{"$f":"IF(EUROPE!R111=\"\",\"\",EUROPE!R111)","v":1},{"$f":"IF(EUROPE!S111=\"\",\"\",EUROPE!S111)","v":2},{"$f":"IF(EUROPE!T111=\"\",\"\",EUROPE!T111)","v":"SLOVAQUIE"}]
[{"$f":"EUROPE!A112","v":"SLOVAQUIE"},{"$f":"IF(EUROPE!F112=\"\",\"\",EUROPE!F112)","v":3},{"$f":"IF(EUROPE!G112=\"\",\"\",EUROPE!G112)","v":0},{"$f":"IF(EUROPE!H112=\"\",\"\",EUROPE!H112)","v":"MALTE"},{"$f":"EUROPE!M112","v":"MALTE"},{"$f":"IF(EUROPE!R112=\"\",\"\",EUROPE!R112)","v":1},{"$f":"IF(EUROPE!S112=\"\",\"\",EUROPE!S112)","v":3},{"$f":"IF(EUROPE!T112=\"\",\"\",EUROPE!T112)","v":"SLOVAQUIE"}]
[{"$f":"EUROPE!A113","v":"SLOVÉNIE"},{"$f":"IF(EUROPE!F113=\"\",\"\",EUROPE!F113)","v":2},{"$f":"IF(EUROPE!G113=\"\",\"\",EUROPE!G113)","v":2},{"$f":"IF(EUROPE!H113=\"\",\"\",EUROPE!H113)","v":"ECOSSE"},{"$f":"EUROPE!M113","v":"ECOSSE"},{"$f":"IF(EUROPE!R113=\"\",\"\",EUROPE!R113)","v":1},{"$f":"IF(EUROPE!S113=\"\",\"\",EUROPE!S113)","v":0},{"$f":"IF(EUROPE!T113=\"\",\"\",EUROPE!T113)","v":"SLOVÉNIE"}]
[{"$f":"EUROPE!A114","v":"SLOVÉNIE"},{"$f":"IF(EUROPE!F114=\"\",\"\",EUROPE!F114)","v":4},{"$f":"IF(EUROPE!G114=\"\",\"\",EUROPE!G114)","v":0},{"$f":"IF(EUROPE!H114=\"\",\"\",EUROPE!H114)","v":"LITUANIE"},{"$f":"EUROPE!M114","v":"LITUANIE"},{"$f":"IF(EUROPE!R114=\"\",\"\",EUROPE!R114)","v":2},{"$f":"IF(EUROPE!S114=\"\",\"\",EUROPE!S114)","v":2},{"$f":"IF(EUROPE!T114=\"\",\"\",EUROPE!T114)","v":"SLOVÉNIE"}]
[{"$f":"EUROPE!A115","v":"SLOVÉNIE"},{"$f":"IF(EUROPE!F115=\"\",\"\",EUROPE!F115)","v":2},{"$f":"IF(EUROPE!G115=\"\",\"\",EUROPE!G115)","v":0},{"$f":"IF(EUROPE!H115=\"\",\"\",EUROPE!H115)","v":"MALTE"},{"$f":"EUROPE!M115","v":"MALTE"},{"$f":"IF(EUROPE!R115=\"\",\"\",EUROPE!R115)","v":0},{"$f":"IF(EUROPE!S115=\"\",\"\",EUROPE!S115)","v":1},{"$f":"IF(EUROPE!T115=\"\",\"\",EUROPE!T115)","v":"SLOVÉNIE"}]
[{"$f":"EUROPE!A116","v":"ECOSSE"},{"$f":"IF(EUROPE!F116=\"\",\"\",EUROPE!F116)","v":1},{"$f":"IF(EUROPE!G116=\"\",\"\",EUROPE!G116)","v":1},{"$f":"IF(EUROPE!H116=\"\",\"\",EUROPE!H116)","v":"LITUANIE"},{"$f":"EUROPE!M116","v":"LITUANIE"},{"$f":"IF(EUROPE!R116=\"\",\"\",EUROPE!R116)","v":0},{"$f":"IF(EUROPE!S116=\"\",\"\",EUROPE!S116)","v":3},{"$f":"IF(EUROPE!T116=\"\",\"\",EUROPE!T116)","v":"ECOSSE"}]
[{"$f":"EUROPE!A117","v":"ECOSSE"},{"$f":"IF(EUROPE!F117=\"\",\"\",EUROPE!F117)","v":2},{"$f":"IF(EUROPE!G117=\"\",\"\",EUROPE!G117)","v":0},{"$f":"IF(EUROPE!H117=\"\",\"\",EUROPE!H117)","v":"MALTE"},{"$f":"EUROPE!M117","v":"MALTE"},{"$f":"IF(EUROPE!R117=\"\",\"\",EUROPE!R117)","v":1},{"$f":"IF(EUROPE!S117=\"\",\"\",EUROPE!S117)","v":5},{"$f":"IF(EUROPE!T117=\"\",\"\",EUROPE!T117)","v":"ECOSSE"}]
[{"$f":"EUROPE!A118","v":"LITUANIE"},{"$f":"IF(EUROPE!F118=\"\",\"\",EUROPE!F118)","v":2},{"$f":"IF(EUROPE!G118=\"\",\"\",EUROPE!G118)","v":0},{"$f":"IF(EUROPE!H118=\"\",\"\",EUROPE!H118)","v":"MALTE"},{"$f":"EUROPE!M118","v":"MALTE"},{"$f":"IF(EUROPE!R118=\"\",\"\",EUROPE!R118)","v":1},{"$f":"IF(EUROPE!S118=\"\",\"\",EUROPE!S118)","v":1},{"$f":"IF(EUROPE!T118=\"\",\"\",EUROPE!T118)","v":"LITUANIE"}]
[{"$f":"E151","v":"SLOVAQUIE"},{"$f":"F151","v":0},1,"ANGLETERRE",{"$f":"A151","v":"ANGLETERRE"},{"$f":"B151","v":2},1,"SLOVAQUIE"]
[{"$f":"E152","v":"SLOVÉNIE"},{"$f":"F152","v":0},{"$f":"G152","v":0},{"$f":"H152","v":"ANGLETERRE"},{"$f":"A152","v":"ANGLETERRE"},{"$f":"B152","v":1},{"$f":"C152","v":0},{"$f":"D152","v":"SLOVÉNIE"}]
["ECOSSE",2,2,"ANGLETERRE","ANGLETERRE",3,0,"ECOSSE"]
["LITUANIE",0,1,"ANGLETERRE","ANGLETERRE",2,0,"LITUANIE"]
["MALTE",0,4,"ANGLETERRE","ANGLETERRE",2,0,"MALTE"]
["SLOVÉNIE",1,0,"SLOVAQUIE","SLOVAQUIE",1,0,"SLOVÉNIE"]
["ECOSSE",1,0,"SLOVAQUIE","SLOVAQUIE",3,0,"ECOSSE"]
["LITUANIE",1,2,"SLOVAQUIE","SLOVAQUIE",4,0,"LITUANIE"]
["MALTE",1,3,"SLOVAQUIE","SLOVAQUIE",3,0,"MALTE"]
["ECOSSE",1,0,"SLOVÉNIE","SLOVÉNIE",2,2,"ECOSSE"]
["LITUANIE",2,2,"SLOVÉNIE","SLOVÉNIE",4,0,"LITUANIE"]
["MALTE",0,1,"SLOVÉNIE","SLOVÉNIE",2,0,"MALTE"]
["LITUANIE",0,3,"ECOSSE","ECOSSE",1,1,"LITUANIE"]
["MALTE",1,5,"ECOSSE","ECOSSE",2,0,"MALTE"]
["MALTE",1,1,"LITUANIE","LITUANIE",2,0,"MALTE"]
[{"$f":"EUROPE!A124","v":"ESPAGNE"},{"$f":"IF(EUROPE!F124=\"\",\"\",EUROPE!F124)","v":3},{"$f":"IF(EUROPE!G124=\"\",\"\",EUROPE!G124)","v":0},{"$f":"IF(EUROPE!H124=\"\",\"\",EUROPE!H124)","v":"ITALIE"},{"$f":"EUROPE!M124","v":"ITALIE"},{"$f":"IF(EUROPE!R124=\"\",\"\",EUROPE!R124)","v":1},{"$f":"IF(EUROPE!S124=\"\",\"\",EUROPE!S124)","v":1},{"$f":"IF(EUROPE!T124=\"\",\"\",EUROPE!T124)","v":"ESPAGNE"}]
[{"$f":"EUROPE!A125","v":"ESPAGNE"},{"$f":"IF(EUROPE!F125=\"\",\"\",EUROPE!F125)","v":4},{"$f":"IF(EUROPE!G125=\"\",\"\",EUROPE!G125)","v":1},{"$f":"IF(EUROPE!H125=\"\",\"\",EUROPE!H125)","v":"ISRAËL"},{"$f":"EUROPE!M125","v":"ISRAËL"},{"$f":"IF(EUROPE!R125=\"\",\"\",EUROPE!R125)","v":0},{"$f":"IF(EUROPE!S125=\"\",\"\",EUROPE!S125)","v":1},{"$f":"IF(EUROPE!T125=\"\",\"\",EUROPE!T125)","v":"ESPAGNE"}]
[{"$f":"EUROPE!A126","v":"ESPAGNE"},{"$f":"IF(EUROPE!F126=\"\",\"\",EUROPE!F126)","v":3},{"$f":"IF(EUROPE!G126=\"\",\"\",EUROPE!G126)","v":0},{"$f":"IF(EUROPE!H126=\"\",\"\",EUROPE!H126)","v":"ALBANIE"},{"$f":"EUROPE!M126","v":"ALBANIE"},{"$f":"IF(EUROPE!R126=\"\",\"\",EUROPE!R126)","v":0},{"$f":"IF(EUROPE!S126=\"\",\"\",EUROPE!S126)","v":2},{"$f":"IF(EUROPE!T126=\"\",\"\",EUROPE!T126)","v":"ESPAGNE"}]
[{"$f":"EUROPE!A127","v":"ESPAGNE"},{"$f":"IF(EUROPE!F127=\"\",\"\",EUROPE!F127)","v":4},{"$f":"IF(EUROPE!G127=\"\",\"\",EUROPE!G127)","v":0},{"$f":"IF(EUROPE!H127=\"\",\"\",EUROPE!H127)","v":"MACÉDOINE"},{"$f":"EUROPE!M127","v":"MACÉDOINE"},{"$f":"IF(EUROPE!R127=\"\",\"\",EUROPE!R127)","v":1},{"$f":"IF(EUROPE!S127=\"\",\"\",EUROPE!S127)","v":2},{"$f":"IF(EUROPE!T127=\"\",\"\",EUROPE!T127)","v":"ESPAGNE"}]
[{"$f":"EUROPE!A128","v":"ESPAGNE"},{"$f":"IF(EUROPE!F128=\"\",\"\",EUROPE!F128)","v":8},{"$f":"IF(EUROPE!G128=\"\",\"\",EUROPE!G128)","v":0},{"$f":"IF(EUROPE!H128=\"\",\"\",EUROPE!H128)","v":"LIECHTENSTEIN"},{"$f":"EUROPE!M128","v":"LIECHTENSTEIN"},{"$f":"IF(EUROPE!R128=\"\",\"\",EUROPE!R128)","v":0},{"$f":"IF(EUROPE!S128=\"\",\"\",EUROPE!S128)","v":8},{"$f":"IF(EUROPE!T128=\"\",\"\",EUROPE!T128)","v":"ESPAGNE"}]
[{"$f":"EUROPE!A129","v":"ITALIE"},{"$f":"IF(EUROPE!F129=\"\",\"\",EUROPE!F129)","v":1},{"$f":"IF(EUROPE!G129=\"\",\"\",EUROPE!G129)","v":0},{"$f":"IF(EUROPE!H129=\"\",\"\",EUROPE!H129)","v":"ISRAËL"},{"$f":"EUROPE!M129","v":"ISRAËL"},{"$f":"IF(EUROPE!R129=\"\",\"\",EUROPE!R129)","v":1},{"$f":"IF(EUROPE!S129=\"\",\"\",EUROPE!S129)","v":3},{"$f":"IF(EUROPE!T129=\"\",\"\",EUROPE!T129)","v":"ITALIE"}]
[{"$f":"EUROPE!A130","v":"ITALIE"},{"$f":"IF(EUROPE!F130=\"\",\"\",EUROPE!F130)","v":2},{"$f":"IF(EUROPE!G130=\"\",\"\",EUROPE!G130)","v":0},{"$f":"IF(EUROPE!H130=\"\",\"\",EUROPE!H130)","v":"ALBANIE"},{"$f":"EUROPE!M130","v":"ALBANIE"},{"$f":"IF(EUROPE!R130=\"\",\"\",EUROPE!R130)","v":0},{"$f":"IF(EUROPE!S130=\"\",\"\",EUROPE!S130)","v":1},{"$f":"IF(EUROPE!T130=\"\",\"\",EUROPE!T130)","v":"ITALIE"}]
[{"$f":"EUROPE!A131","v":"ITALIE"},{"$f":"IF(EUROPE!F131=\"\",\"\",EUROPE!F131)","v":1},{"$f":"IF(EUROPE!G131=\"\",\"\",EUROPE!G131)","v":1},{"$f":"IF(EUROPE!H131=\"\",\"\",EUROPE!H131)","v":"MACÉDOINE"},{"$f":"EUROPE!M131","v":"MACÉDOINE"},{"$f":"IF(EUROPE!R131=\"\",\"\",EUROPE!R131)","v":2},{"$f":"IF(EUROPE!S131=\"\",\"\",EUROPE!S131)","v":3},{"$f":"IF(EUROPE!T131=\"\",\"\",EUROPE!T131)","v":"ITALIE"}]
[{"$f":"EUROPE!A132","v":"ITALIE"},{"$f":"IF(EUROPE!F132=\"\",\"\",EUROPE!F132)","v":5},{"$f":"IF(EUROPE!G132=\"\",\"\",EUROPE!G132)","v":0},{"$f":"IF(EUROPE!H132=\"\",\"\",EUROPE!H132)","v":"LIECHTENSTEIN"},{"$f":"EUROPE!M132","v":"LIECHTENSTEIN"},{"$f":"IF(EUROPE!R132=\"\",\"\",EUROPE!R132)","v":0},{"$f":"IF(EUROPE!S132=\"\",\"\",EUROPE!S132)","v":4},{"$f":"IF(EUROPE!T132=\"\",\"\",EUROPE!T132)","v":"ITALIE"}]
[{"$f":"EUROPE!A133","v":"ISRAËL"},{"$f":"IF(EUROPE!F133=\"\",\"\",EUROPE!F133)","v":0},{"$f":"IF(EUROPE!G133=\"\",\"\",EUROPE!G133)","v":3},{"$f":"IF(EUROPE!H133=\"\",\"\",EUROPE!H133)","v":"ALBANIE"},{"$f":"EUROPE!M133","v":"ALBANIE"},{"$f":"IF(EUROPE!R133=\"\",\"\",EUROPE!R133)","v":0},{"$f":"IF(EUROPE!S133=\"\",\"\",EUROPE!S133)","v":3},{"$f":"IF(EUROPE!T133=\"\",\"\",EUROPE!T133)","v":"ISRAËL"}]
[{"$f":"EUROPE!A134","v":"ISRAËL"},{"$f":"IF(EUROPE!F134=\"\",\"\",EUROPE!F134)","v":0},{"$f":"IF(EUROPE!G134=\"\",\"\",EUROPE!G134)","v":1},{"$f":"IF(EUROPE!H134=\"\",\"\",EUROPE!H134)","v":"MACÉDOINE"},{"$f":"EUROPE!M134","v":"MACÉDOINE"},{"$f":"IF(EUROPE!R134=\"\",\"\",EUROPE!R134)","v":1},{"$f":"IF(EUROPE!S134=\"\",\"\",EUROPE!S134)","v":2},{"$f":"IF(EUROPE!T134=\"\",\"\",EUROPE!T134)","v":"ISRAËL"}]
[{"$f":"EUROPE!A135","v":"ISRAËL"},{"$f":"IF(EUROPE!F135=\"\",\"\",EUROPE!F135)","v":2},{"$f":"IF(EUROPE!G135=\"\",\"\",EUROPE!G135)","v":1},{"$f":"IF(EUROPE!H135=\"\",\"\",EUROPE!H135)","v":"LIECHTENSTEIN"},{"$f":"EUROPE!M135","v":"LIECHTENSTEIN"},{"$f":"IF(EUROPE!R135=\"\",\"\",EUROPE!R135)","v":0},{"$f":"IF(EUROPE!S135=\"\",\"\",EUROPE!S135)","v":1},{"$f":"IF(EUROPE!T135=\"\",\"\",EUROPE!T135)","v":"ISRAËL"}]
[{"$f":"EUROPE!A136","v":"ALBANIE"},{"$f":"IF(EUROPE!F136=\"\",\"\",EUROPE!F136)","v":2},{"$f":"IF(EUROPE!G136=\"\",\"\",EUROPE!G136)","v":1},{"$f":"IF(EUROPE!H136=\"\",\"\",EUROPE!H136)","v":"MACÉDOINE"},{"$f":"EUROPE!M136","v":"MACÉDOINE"},{"$f":"IF(EUROPE!R136=\"\",\"\",EUROPE!R136)","v":1},{"$f":"IF(EUROPE!S136=\"\",\"\",EUROPE!S136)","v":1},{"$f":"IF(EUROPE!T136=\"\",\"\",EUROPE!T136)","v":"ALBANIE"}]
[{"$f":"EUROPE!A137","v":"ALBANIE"},{"$f":"IF(EUROPE!F137=\"\",\"\",EUROPE!F137)","v":2},{"$f":"IF(EUROPE!G137=\"\",\"\",EUROPE!G137)","v":0},{"$f":"IF(EUROPE!H137=\"\",\"\",EUROPE!H137)","v":"LIECHTENSTEIN"},{"$f":"EUROPE!M137","v":"LIECHTENSTEIN"},{"$f":"IF(EUROPE!R137=\"\",\"\",EUROPE!R137)","v":0},{"$f":"IF(EUROPE!S137=\"\",\"\",EUROPE!S137)","v":2},{"$f":"IF(EUROPE!T137=\"\",\"\",EUROPE!T137)","v":"ALBANIE"}]
[{"$f":"EUROPE!A138","v":"MACÉDOINE"},{"$f":"IF(EUROPE!F138=\"\",\"\",EUROPE!F138)","v":4},{"$f":"IF(EUROPE!G138=\"\",\"\",EUROPE!G138)","v":0},{"$f":"IF(EUROPE!H138=\"\",\"\",EUROPE!H138)","v":"LIECHTENSTEIN"},{"$f":"EUROPE!M138","v":"LIECHTENSTEIN"},{"$f":"IF(EUROPE!R138=\"\",\"\",EUROPE!R138)","v":0},{"$f":"IF(EUROPE!S138=\"\",\"\",EUROPE!S138)","v":3},{"$f":"IF(EUROPE!T138=\"\",\"\",EUROPE!T138)","v":"MACÉDOINE"}]
[{"$f":"E181","v":"ITALIE"},{"$f":"F181","v":1},1,"ESPAGNE",{"$f":"A181","v":"ESPAGNE"},{"$f":"B181","v":3},0,"ITALIE"]
[{"$f":"E182","v":"ISRAËL"},{"$f":"F182","v":0},{"$f":"G182","v":1},{"$f":"H182","v":"ESPAGNE"},{"$f":"A182","v":"ESPAGNE"},{"$f":"B182","v":4},{"$f":"C182","v":1},{"$f":"D182","v":"ISRAËL"}]
["ALBANIE",0,2,"ESPAGNE","ESPAGNE",3,0,"ALBANIE"]
["MACÉDOINE",1,2,"ESPAGNE","ESPAGNE",4,0,"MACÉDOINE"]
["LIECHTENSTEIN",0,8,"ESPAGNE","ESPAGNE",8,0,"LIECHTENSTEIN"]
["ISRAËL",1,3,"ITALIE","ITALIE",1,0,"ISRAËL"]
["ALBANIE",0,1,"ITALIE","ITALIE",2,0,"ALBANIE"]
["MACÉDOINE",2,3,"ITALIE","ITALIE",1,1,"MACÉDOINE"]
["LIECHTENSTEIN",0,4,"ITALIE","ITALIE",5,0,"LIECHTENSTEIN"]
["ALBANIE",0,3,"ISRAËL","ISRAËL",0,3,"ALBANIE"]
["MACÉDOINE",1,2,"ISRAËL","ISRAËL",0,1,"MACÉDOINE"]
["LIECHTENSTEIN",0,1,"ISRAËL","ISRAËL",2,1,"LIECHTENSTEIN"]
["MACÉDOINE",1,1,"ALBANIE","ALBANIE",2,1,"MACÉDOINE"]
["LIECHTENSTEIN",0,2,"ALBANIE","ALBANIE",2,0,"LIECHTENSTEIN"]
["LIECHTENSTEIN",0,3,"MACÉDOINE","MACÉDOINE",4,0,"LIECHTENSTEIN"]
[{"$f":"EUROPE!A144","v":"BELGIQUE"},{"$f":"IF(EUROPE!F144=\"\",\"\",EUROPE!F144)","v":1},{"$f":"IF(EUROPE!G144=\"\",\"\",EUROPE!G144)","v":1},{"$f":"IF(EUROPE!H144=\"\",\"\",EUROPE!H144)","v":"GRÈCE"},{"$f":"EUROPE!M144","v":"GRÈCE"},{"$f":"IF(EUROPE!R144=\"\",\"\",EUROPE!R144)","v":1},{"$f":"IF(EUROPE!S144=\"\",\"\",EUROPE!S144)","v":2},{"$f":"IF(EUROPE!T144=\"\",\"\",EUROPE!T144)","v":"BELGIQUE"}]
[{"$f":"EUROPE!A145","v":"BELGIQUE"},{"$f":"IF(EUROPE!F145=\"\",\"\",EUROPE!F145)","v":4},{"$f":"IF(EUROPE!G145=\"\",\"\",EUROPE!G145)","v":0},{"$f":"IF(EUROPE!H145=\"\",\"\",EUROPE!H145)","v":"BOSNIE"},{"$f":"EUROPE!M145","v":"BOSNIE"},{"$f":"IF(EUROPE!R145=\"\",\"\",EUROPE!R145)","v":3},{"$f":"IF(EUROPE!S145=\"\",\"\",EUROPE!S145)","v":4},{"$f":"IF(EUROPE!T145=\"\",\"\",EUROPE!T145)","v":"BELGIQUE"}]
[{"$f":"EUROPE!A146","v":"BELGIQUE"},{"$f":"IF(EUROPE!F146=\"\",\"\",EUROPE!F146)","v":4},{"$f":"IF(EUROPE!G146=\"\",\"\",EUROPE!G146)","v":0},{"$f":"IF(EUROPE!H146=\"\",\"\",EUROPE!H146)","v":"CHYPRE"},{"$f":"EUROPE!M146","v":"CHYPRE"},{"$f":"IF(EUROPE!R146=\"\",\"\",EUROPE!R146)","v":0},{"$f":"IF(EUROPE!S146=\"\",\"\",EUROPE!S146)","v":3},{"$f":"IF(EUROPE!T146=\"\",\"\",EUROPE!T146)","v":"BELGIQUE"}]
[{"$f":"EUROPE!A147","v":"BELGIQUE"},{"$f":"IF(EUROPE!F147=\"\",\"\",EUROPE!F147)","v":8},{"$f":"IF(EUROPE!G147=\"\",\"\",EUROPE!G147)","v":1},{"$f":"IF(EUROPE!H147=\"\",\"\",EUROPE!H147)","v":"ESTONIE"},{"$f":"EUROPE!M147","v":"ESTONIE"},{"$f":"IF(EUROPE!R147=\"\",\"\",EUROPE!R147)","v":0},{"$f":"IF(EUROPE!S147=\"\",\"\",EUROPE!S147)","v":2},{"$f":"IF(EUROPE!T147=\"\",\"\",EUROPE!T147)","v":"BELGIQUE"}]
[{"$f":"EUROPE!A148","v":"BELGIQUE"},{"$f":"IF(EUROPE!F148=\"\",\"\",EUROPE!F148)","v":9},{"$f":"IF(EUROPE!G148=\"\",\"\",EUROPE!G148)","v":0},{"$f":"IF(EUROPE!H148=\"\",\"\",EUROPE!H148)","v":"GIBRALTAR"},{"$f":"EUROPE!M148","v":"GIBRALTAR"},{"$f":"IF(EUROPE!R148=\"\",\"\",EUROPE!R148)","v":0},{"$f":"IF(EUROPE!S148=\"\",\"\",EUROPE!S148)","v":6},{"$f":"IF(EUROPE!T148=\"\",\"\",EUROPE!T148)","v":"BELGIQUE"}]
[{"$f":"EUROPE!A149","v":"GRÈCE"},{"$f":"IF(EUROPE!F149=\"\",\"\",EUROPE!F149)","v":1},{"$f":"IF(EUROPE!G149=\"\",\"\",EUROPE!G149)","v":1},{"$f":"IF(EUROPE!H149=\"\",\"\",EUROPE!H149)","v":"BOSNIE"},{"$f":"EUROPE!M149","v":"BOSNIE"},{"$f":"IF(EUROPE!R149=\"\",\"\",EUROPE!R149)","v":0},{"$f":"IF(EUROPE!S149=\"\",\"\",EUROPE!S149)","v":0},{"$f":"IF(EUROPE!T149=\"\",\"\",EUROPE!T149)","v":"GRÈCE"}]
[{"$f":"EUROPE!A150","v":"GRÈCE"},{"$f":"IF(EUROPE!F150=\"\",\"\",EUROPE!F150)","v":2},{"$f":"IF(EUROPE!G150=\"\",\"\",EUROPE!G150)","v":0},{"$f":"IF(EUROPE!H150=\"\",\"\",EUROPE!H150)","v":"CHYPRE"},{"$f":"EUROPE!M150","v":"CHYPRE"},{"$f":"IF(EUROPE!R150=\"\",\"\",EUROPE!R150)","v":1},{"$f":"IF(EUROPE!S150=\"\",\"\",EUROPE!S150)","v":2},{"$f":"IF(EUROPE!T150=\"\",\"\",EUROPE!T150)","v":"GRÈCE"}]
[{"$f":"EUROPE!A151","v":"GRÈCE"},{"$f":"IF(EUROPE!F151=\"\",\"\",EUROPE!F151)","v":0},{"$f":"IF(EUROPE!G151=\"\",\"\",EUROPE!G151)","v":0},{"$f":"IF(EUROPE!H151=\"\",\"\",EUROPE!H151)","v":"ESTONIE"},{"$f":"EUROPE!M151","v":"ESTONIE"},{"$f":"IF(EUROPE!R151=\"\",\"\",EUROPE!R151)","v":0},{"$f":"IF(EUROPE!S151=\"\",\"\",EUROPE!S151)","v":2},{"$f":"IF(EUROPE!T151=\"\",\"\",EUROPE!T151)","v":"GRÈCE"}]
[{"$f":"EUROPE!A152","v":"GRÈCE"},{"$f":"IF(EUROPE!F152=\"\",\"\",EUROPE!F152)","v":4},{"$f":"IF(EUROPE!G152=\"\",\"\",EUROPE!G152)","v":0},{"$f":"IF(EUROPE!H152=\"\",\"\",EUROPE!H152)","v":"GIBRALTAR"},{"$f":"EUROPE!M152","v":"GIBRALTAR"},{"$f":"IF(EUROPE!R152=\"\",\"\",EUROPE!R152)","v":1},{"$f":"IF(EUROPE!S152=\"\",\"\",EUROPE!S152)","v":4},{"$f":"IF(EUROPE!T152=\"\",\"\",EUROPE!T152)","v":"GRÈCE"}]
[{"$f":"EUROPE!A153","v":"BOSNIE"},{"$f":"IF(EUROPE!F153=\"\",\"\",EUROPE!F153)","v":2},{"$f":"IF(EUROPE!G153=\"\",\"\",EUROPE!G153)","v":0},{"$f":"IF(EUROPE!H153=\"\",\"\",EUROPE!H153)","v":"CHYPRE"},{"$f":"EUROPE!M153","v":"CHYPRE"},{"$f":"IF(EUROPE!R153=\"\",\"\",EUROPE!R153)","v":3},{"$f":"IF(EUROPE!S153=\"\",\"\",EUROPE!S153)","v":2},{"$f":"IF(EUROPE!T153=\"\",\"\",EUROPE!T153)","v":"BOSNIE"}]
[{"$f":"EUROPE!A154","v":"BOSNIE"},{"$f":"IF(EUROPE!F154=\"\",\"\",EUROPE!F154)","v":5},{"$f":"IF(EUROPE!G154=\"\",\"\",EUROPE!G154)","v":0},{"$f":"IF(EUROPE!H154=\"\",\"\",EUROPE!H154)","v":"ESTONIE"},{"$f":"EUROPE!M154","v":"ESTONIE"},{"$f":"IF(EUROPE!R154=\"\",\"\",EUROPE!R154)","v":1},{"$f":"IF(EUROPE!S154=\"\",\"\",EUROPE!S154)","v":2},{"$f":"IF(EUROPE!T154=\"\",\"\",EUROPE!T154)","v":"BOSNIE"}]
[{"$f":"EUROPE!A155","v":"BOSNIE"},{"$f":"IF(EUROPE!F155=\"\",\"\",EUROPE!F155)","v":5},{"$f":"IF(EUROPE!G155=\"\",\"\",EUROPE!G155)","v":0},{"$f":"IF(EUROPE!H155=\"\",\"\",EUROPE!H155)","v":"GIBRALTAR"},{"$f":"EUROPE!M155","v":"GIBRALTAR"},{"$f":"IF(EUROPE!R155=\"\",\"\",EUROPE!R155)","v":0},{"$f":"IF(EUROPE!S155=\"\",\"\",EUROPE!S155)","v":4},{"$f":"IF(EUROPE!T155=\"\",\"\",EUROPE!T155)","v":"BOSNIE"}]
[{"$f":"EUROPE!A156","v":"CHYPRE"},{"$f":"IF(EUROPE!F156=\"\",\"\",EUROPE!F156)","v":0},{"$f":"IF(EUROPE!G156=\"\",\"\",EUROPE!G156)","v":0},{"$f":"IF(EUROPE!H156=\"\",\"\",EUROPE!H156)","v":"ESTONIE"},{"$f":"EUROPE!M156","v":"ESTONIE"},{"$f":"IF(EUROPE!R156=\"\",\"\",EUROPE!R156)","v":1},{"$f":"IF(EUROPE!S156=\"\",\"\",EUROPE!S156)","v":0},{"$f":"IF(EUROPE!T156=\"\",\"\",EUROPE!T156)","v":"CHYPRE"}]
[{"$f":"EUROPE!A157","v":"CHYPRE"},{"$f":"IF(EUROPE!F157=\"\",\"\",EUROPE!F157)","v":3},{"$f":"IF(EUROPE!G157=\"\",\"\",EUROPE!G157)","v":1},{"$f":"IF(EUROPE!H157=\"\",\"\",EUROPE!H157)","v":"GIBRALTAR"},{"$f":"EUROPE!M157","v":"GIBRALTAR"},{"$f":"IF(EUROPE!R157=\"\",\"\",EUROPE!R157)","v":1},{"$f":"IF(EUROPE!S157=\"\",\"\",EUROPE!S157)","v":2},{"$f":"IF(EUROPE!T157=\"\",\"\",EUROPE!T157)","v":"CHYPRE"}]
[{"$f":"EUROPE!A158","v":"ESTONIE"},{"$f":"IF(EUROPE!F158=\"\",\"\",EUROPE!F158)","v":4},{"$f":"IF(EUROPE!G158=\"\",\"\",EUROPE!G158)","v":0},{"$f":"IF(EUROPE!H158=\"\",\"\",EUROPE!H158)","v":"GIBRALTAR"},{"$f":"EUROPE!M158","v":"GIBRALTAR"},{"$f":"IF(EUROPE!R158=\"\",\"\",EUROPE!R158)","v":0},{"$f":"IF(EUROPE!S158=\"\",\"\",EUROPE!S158)","v":6},{"$f":"IF(EUROPE!T158=\"\",\"\",EUROPE!T158)","v":"ESTONIE"}]
[{"$f":"E211","v":"GRÈCE"},{"$f":"F211","v":1},2,"BELGIQUE",{"$f":"A211","v":"BELGIQUE"},{"$f":"B211","v":1},1,"GRÈCE"]
[{"$f":"E212","v":"BOSNIE"},{"$f":"F212","v":3},{"$f":"G212","v":4},{"$f":"H212","v":"BELGIQUE"},{"$f":"A212","v":"BELGIQUE"},{"$f":"B212","v":4},{"$f":"C212","v":0},{"$f":"D212","v":"BOSNIE"}]
["CHYPRE",0,3,"BELGIQUE","BELGIQUE",4,0,"CHYPRE"]
["ESTONIE",0,2,"BELGIQUE","BELGIQUE",8,1,"ESTONIE"]
["GIBRALTAR",0,6,"BELGIQUE","BELGIQUE",9,0,"GIBRALTAR"]
["BOSNIE",0,0,"GRÈCE","GRÈCE",1,1,"BOSNIE"]
["CHYPRE",1,2,"GRÈCE","GRÈCE",2,0,"CHYPRE"]
["ESTONIE",0,2,"GRÈCE","GRÈCE",0,0,"ESTONIE"]
["GIBRALTAR",1,4,"GRÈCE","GRÈCE",4,0,"GIBRALTAR"]
["CHYPRE",3,2,"BOSNIE","BOSNIE",2,0,"CHYPRE"]
["ESTONIE",1,2,"BOSNIE","BOSNIE",5,0,"ESTONIE"]
["GIBRALTAR",0,4,"BOSNIE","BOSNIE",5,0,"GIBRALTAR"]
["ESTONIE",1,0,"CHYPRE","CHYPRE",0,0,"ESTONIE"]
["GIBRALTAR",1,2,"CHYPRE","CHYPRE",3,1,"GIBRALTAR"]
["GIBRALTAR",0,6,"ESTONIE","ESTONIE",4,0,"GIBRALTAR"]
[{"$f":"EUROPE!A164","v":"CROATIE"},{"$f":"IF(EUROPE!F164=\"\",\"\",EUROPE!F164)","v":2},{"$f":"IF(EUROPE!G164=\"\",\"\",EUROPE!G164)","v":0},{"$f":"IF(EUROPE!H164=\"\",\"\",EUROPE!H164)","v":"ISLANDE"},{"$f":"EUROPE!M164","v":"ISLANDE"},{"$f":"IF(EUROPE!R164=\"\",\"\",EUROPE!R164)","v":1},{"$f":"IF(EUROPE!S164=\"\",\"\",EUROPE!S164)","v":0},{"$f":"IF(EUROPE!T164=\"\",\"\",EUROPE!T164)","v":"CROATIE"}]
[{"$f":"EUROPE!A165","v":"CROATIE"},{"$f":"IF(EUROPE!F165=\"\",\"\",EUROPE!F165)","v":1},{"$f":"IF(EUROPE!G165=\"\",\"\",EUROPE!G165)","v":0},{"$f":"IF(EUROPE!H165=\"\",\"\",EUROPE!H165)","v":"UKRAINE"},{"$f":"EUROPE!M165","v":"UKRAINE"},{"$f":"IF(EUROPE!R165=\"\",\"\",EUROPE!R165)","v":0},{"$f":"IF(EUROPE!S165=\"\",\"\",EUROPE!S165)","v":2},{"$f":"IF(EUROPE!T165=\"\",\"\",EUROPE!T165)","v":"CROATIE"}]
[{"$f":"EUROPE!A166","v":"CROATIE"},{"$f":"IF(EUROPE!F166=\"\",\"\",EUROPE!F166)","v":1},{"$f":"IF(EUROPE!G166=\"\",\"\",EUROPE!G166)","v":1},{"$f":"IF(EUROPE!H166=\"\",\"\",EUROPE!H166)","v":"TURQUIE"},{"$f":"EUROPE!M166","v":"TURQUIE"},{"$f":"IF(EUROPE!R166=\"\",\"\",EUROPE!R166)","v":1},{"$f":"IF(EUROPE!S166=\"\",\"\",EUROPE!S166)","v":0},{"$f":"IF(EUROPE!T166=\"\",\"\",EUROPE!T166)","v":"CROATIE"}]
[{"$f":"EUROPE!A167","v":"CROATIE"},{"$f":"IF(EUROPE!F167=\"\",\"\",EUROPE!F167)","v":1},{"$f":"IF(EUROPE!G167=\"\",\"\",EUROPE!G167)","v":1},{"$f":"IF(EUROPE!H167=\"\",\"\",EUROPE!H167)","v":"FINLANDE"},{"$f":"EUROPE!M167","v":"FINLANDE"},{"$f":"IF(EUROPE!R167=\"\",\"\",EUROPE!R167)","v":0},{"$f":"IF(EUROPE!S167=\"\",\"\",EUROPE!S167)","v":1},{"$f":"IF(EUROPE!T167=\"\",\"\",EUROPE!T167)","v":"CROATIE"}]
[{"$f":"EUROPE!A168","v":"CROATIE"},{"$f":"IF(EUROPE!F168=\"\",\"\",EUROPE!F168)","v":1},{"$f":"IF(EUROPE!G168=\"\",\"\",EUROPE!G168)","v":0},{"$f":"IF(EUROPE!H168=\"\",\"\",EUROPE!H168)","v":"KOSOVO"},{"$f":"EUROPE!M168","v":"KOSOVO"},{"$f":"IF(EUROPE!R168=\"\",\"\",EUROPE!R168)","v":0},{"$f":"IF(EUROPE!S168=\"\",\"\",EUROPE!S168)","v":6},{"$f":"IF(EUROPE!T168=\"\",\"\",EUROPE!T168)","v":"CROATIE"}]
[{"$f":"EUROPE!A169","v":"ISLANDE"},{"$f":"IF(EUROPE!F169=\"\",\"\",EUROPE!F169)","v":2},{"$f":"IF(EUROPE!G169=\"\",\"\",EUROPE!G169)","v":0},{"$f":"IF(EUROPE!H169=\"\",\"\",EUROPE!H169)","v":"UKRAINE"},{"$f":"EUROPE!M169","v":"UKRAINE"},{"$f":"IF(EUROPE!R169=\"\",\"\",EUROPE!R169)","v":1},{"$f":"IF(EUROPE!S169=\"\",\"\",EUROPE!S169)","v":1},{"$f":"IF(EUROPE!T169=\"\",\"\",EUROPE!T169)","v":"ISLANDE"}]
[{"$f":"EUROPE!A170","v":"ISLANDE"},{"$f":"IF(EUROPE!F170=\"\",\"\",EUROPE!F170)","v":2},{"$f":"IF(EUROPE!G170=\"\",\"\",EUROPE!G170)","v":0},{"$f":"IF(EUROPE!H170=\"\",\"\",EUROPE!H170)","v":"TURQUIE"},{"$f":"EUROPE!M170","v":"TURQUIE"},{"$f":"IF(EUROPE!R170=\"\",\"\",EUROPE!R170)","v":0},{"$f":"IF(EUROPE!S170=\"\",\"\",EUROPE!S170)","v":3},{"$f":"IF(EUROPE!T170=\"\",\"\",EUROPE!T170)","v":"ISLANDE"}]
[{"$f":"EUROPE!A171","v":"ISLANDE"},{"$f":"IF(EUROPE!F171=\"\",\"\",EUROPE!F171)","v":3},{"$f":"IF(EUROPE!G171=\"\",\"\",EUROPE!G171)","v":2},{"$f":"IF(EUROPE!H171=\"\",\"\",EUROPE!H171)","v":"FINLANDE"},{"$f":"EUROPE!M171","v":"FINLANDE"},{"$f":"IF(EUROPE!R171=\"\",\"\",EUROPE!R171)","v":1},{"$f":"IF(EUROPE!S171=\"\",\"\",EUROPE!S171)","v":0},{"$f":"IF(EUROPE!T171=\"\",\"\",EUROPE!T171)","v":"ISLANDE"}]
[{"$f":"EUROPE!A172","v":"ISLANDE"},{"$f":"IF(EUROPE!F172=\"\",\"\",EUROPE!F172)","v":2},{"$f":"IF(EUROPE!G172=\"\",\"\",EUROPE!G172)","v":0},{"$f":"IF(EUROPE!H172=\"\",\"\",EUROPE!H172)","v":"KOSOVO"},{"$f":"EUROPE!M172","v":"KOSOVO"},{"$f":"IF(EUROPE!R172=\"\",\"\",EUROPE!R172)","v":1},{"$f":"IF(EUROPE!S172=\"\",\"\",EUROPE!S172)","v":2},{"$f":"IF(EUROPE!T172=\"\",\"\",EUROPE!T172)","v":"ISLANDE"}]
[{"$f":"EUROPE!A173","v":"UKRAINE"},{"$f":"IF(EUROPE!F173=\"\",\"\",EUROPE!F173)","v":2},{"$f":"IF(EUROPE!G173=\"\",\"\",EUROPE!G173)","v":0},{"$f":"IF(EUROPE!H173=\"\",\"\",EUROPE!H173)","v":"TURQUIE"},{"$f":"EUROPE!M173","v":"TURQUIE"},{"$f":"IF(EUROPE!R173=\"\",\"\",EUROPE!R173)","v":2},{"$f":"IF(EUROPE!S173=\"\",\"\",EUROPE!S173)","v":2},{"$f":"IF(EUROPE!T173=\"\",\"\",EUROPE!T173)","v":"UKRAINE"}]
[{"$f":"EUROPE!A174","v":"UKRAINE"},{"$f":"IF(EUROPE!F174=\"\",\"\",EUROPE!F174)","v":1},{"$f":"IF(EUROPE!G174=\"\",\"\",EUROPE!G174)","v":0},{"$f":"IF(EUROPE!H174=\"\",\"\",EUROPE!H174)","v":"FINLANDE"},{"$f":"EUROPE!M174","v":"FINLANDE"},{"$f":"IF(EUROPE!R174=\"\",\"\",EUROPE!R174)","v":1},{"$f":"IF(EUROPE!S174=\"\",\"\",EUROPE!S174)","v":2},{"$f":"IF(EUROPE!T174=\"\",\"\",EUROPE!T174)","v":"UKRAINE"}]
[{"$f":"EUROPE!A175","v":"UKRAINE"},{"$f":"IF(EUROPE!F175=\"\",\"\",EUROPE!F175)","v":3},{"$f":"IF(EUROPE!G175=\"\",\"\",EUROPE!G175)","v":0},{"$f":"IF(EUROPE!H175=\"\",\"\",EUROPE!H175)","v":"KOSOVO"},{"$f":"EUROPE!M175","v":"KOSOVO"},{"$f":"IF(EUROPE!R175=\"\",\"\",EUROPE!R175)","v":0},{"$f":"IF(EUROPE!S175=\"\",\"\",EUROPE!S175)","v":2},{"$f":"IF(EUROPE!T175=\"\",\"\",EUROPE!T175)","v":"UKRAINE"}]
[{"$f":"EUROPE!A176","v":"TURQUIE"},{"$f":"IF(EUROPE!F176=\"\",\"\",EUROPE!F176)","v":2},{"$f":"IF(EUROPE!G176=\"\",\"\",EUROPE!G176)","v":0},{"$f":"IF(EUROPE!H176=\"\",\"\",EUROPE!H176)","v":"FINLANDE"},{"$f":"EUROPE!M176","v":"FINLANDE"},{"$f":"IF(EUROPE!R176=\"\",\"\",EUROPE!R176)","v":2},{"$f":"IF(EUROPE!S176=\"\",\"\",EUROPE!S176)","v":2},{"$f":"IF(EUROPE!T176=\"\",\"\",EUROPE!T176)","v":"TURQUIE"}]
[{"$f":"EUROPE!A177","v":"TURQUIE"},{"$f":"IF(EUROPE!F177=\"\",\"\",EUROPE!F177)","v":2},{"$f":"IF(EUROPE!G177=\"\",\"\",EUROPE!G177)","v":0},{"$f":"IF(EUROPE!H177=\"\",\"\",EUROPE!H177)","v":"KOSOVO"},{"$f":"EUROPE!M177","v":"KOSOVO"},{"$f":"IF(EUROPE!R177=\"\",\"\",EUROPE!R177)","v":1},{"$f":"IF(EUROPE!S177=\"\",\"\",EUROPE!S177)","v":4},{"$f":"IF(EUROPE!T177=\"\",\"\",EUROPE!T177)","v":"TURQUIE"}]
[{"$f":"EUROPE!A178","v":"FINLANDE"},{"$f":"IF(EUROPE!F178=\"\",\"\",EUROPE!F178)","v":1},{"$f":"IF(EUROPE!G178=\"\",\"\",EUROPE!G178)","v":1},{"$f":"IF(EUROPE!H178=\"\",\"\",EUROPE!H178)","v":"KOSOVO"},{"$f":"EUROPE!M178","v":"KOSOVO"},{"$f":"IF(EUROPE!R178=\"\",\"\",EUROPE!R178)","v":0},{"$f":"IF(EUROPE!S178=\"\",\"\",EUROPE!S178)","v":1},{"$f":"IF(EUROPE!T178=\"\",\"\",EUROPE!T178)","v":"FINLANDE"}]
[{"$f":"E241","v":"ISLANDE"},{"$f":"F241","v":1},0,"CROATIE",{"$f":"A241","v":"CROATIE"},{"$f":"B241","v":2},0,"ISLANDE"]
[{"$f":"E242","v":"UKRAINE"},{"$f":"F242","v":0},{"$f":"G242","v":2},{"$f":"H242","v":"CROATIE"},{"$f":"A242","v":"CROATIE"},{"$f":"B242","v":1},{"$f":"C242","v":0},{"$f":"D242","v":"UKRAINE"}]
["TURQUIE",1,0,"CROATIE","CROATIE",1,1,"TURQUIE"]
["FINLANDE",0,1,"CROATIE","CROATIE",1,1,"FINLANDE"]
["KOSOVO",0,6,"CROATIE","CROATIE",1,0,"KOSOVO"]
["UKRAINE",1,1,"ISLANDE","ISLANDE",2,0,"UKRAINE"]
["TURQUIE",0,3,"ISLANDE","ISLANDE",2,0,"TURQUIE"]
["FINLANDE",1,0,"ISLANDE","ISLANDE",3,2,"FINLANDE"]
["KOSOVO",1,2,"ISLANDE","ISLANDE",2,0,"KOSOVO"]
["TURQUIE",2,2,"UKRAINE","UKRAINE",2,0,"TURQUIE"]
["FINLANDE",1,2,"UKRAINE","UKRAINE",1,0,"FINLANDE"]
["KOSOVO",0,2,"UKRAINE","UKRAINE",3,0,"KOSOVO"]
["FINLANDE",2,2,"TURQUIE","TURQUIE",2,0,"FINLANDE"]
["KOSOVO",1,4,"TURQUIE","TURQUIE",2,0,"KOSOVO"]
["KOSOVO",0,1,"FINLANDE","FINLANDE",1,1,"KOSOVO"]
[{"$f":"OCEANIE!A4","v":"NOUVELLE-ZELANDE"},{"$f":"IF(OCEANIE!F4=\"\",\"\",OCEANIE!F4)","v":2},{"$f":"IF(OCEANIE!G4=\"\",\"\",OCEANIE!G4)","v":0},{"$f":"IF(OCEANIE!H4=\"\",\"\",OCEANIE!H4)","v":"NOUVELLE-CALEDONIE"},{"$f":"OCEANIE!M4","v":"NOUVELLE-CALEDONIE"},{"$f":"IF(OCEANIE!R4=\"\",\"\",OCEANIE!R4)","v":0},{"$f":"IF(OCEANIE!S4=\"\",\"\",OCEANIE!S4)","v":0},{"$f":"IF(OCEANIE!T4=\"\",\"\",OCEANIE!T4)","v":"NOUVELLE-ZELANDE"},null,"oceanie"]
[{"$f":"OCEANIE!A5","v":"NOUVELLE-ZELANDE"},{"$f":"IF(OCEANIE!F5=\"\",\"\",OCEANIE!F5)","v":2},{"$f":"IF(OCEANIE!G5=\"\",\"\",OCEANIE!G5)","v":0},{"$f":"IF(OCEANIE!H5=\"\",\"\",OCEANIE!H5)","v":"FIDJI"},{"$f":"OCEANIE!M5","v":"FIDJI"},{"$f":"IF(OCEANIE!R5=\"\",\"\",OCEANIE!R5)","v":0},{"$f":"IF(OCEANIE!S5=\"\",\"\",OCEANIE!S5)","v":2},{"$f":"IF(OCEANIE!T5=\"\",\"\",OCEANIE!T5)","v":"NOUVELLE-ZELANDE"}]
[{"$f":"OCEANIE!A6","v":"NOUVELLE-CALEDONIE"},{"$f":"IF(OCEANIE!F6=\"\",\"\",OCEANIE!F6)","v":2},{"$f":"IF(OCEANIE!G6=\"\",\"\",OCEANIE!G6)","v":1},{"$f":"IF(OCEANIE!H6=\"\",\"\",OCEANIE!H6)","v":"FIDJI"},{"$f":"OCEANIE!M6","v":"FIDJI"},{"$f":"IF(OCEANIE!R6=\"\",\"\",OCEANIE!R6)","v":2},{"$f":"IF(OCEANIE!S6=\"\",\"\",OCEANIE!S6)","v":2},{"$f":"IF(OCEANIE!T6=\"\",\"\",OCEANIE!T6)","v":"NOUVELLE-CALEDONIE"}]
[{"$f":"E271","v":"NOUVELLE-CALEDONIE"},{"$f":"F271","v":0},0,"NOUVELLE-ZELANDE",{"$f":"A271","v":"NOUVELLE-ZELANDE"},{"$f":"B271","v":2},0,"NOUVELLE-CALEDONIE"]
[{"$f":"E272","v":"FIDJI"},{"$f":"F272","v":0},{"$f":"G272","v":2},{"$f":"H272","v":"NOUVELLE-ZELANDE"},{"$f":"A272","v":"NOUVELLE-ZELANDE"},{"$f":"B272","v":2},{"$f":"C272","v":0},{"$f":"D272","v":"FIDJI"}]
["FIDJI",2,2,"NOUVELLE-CALEDONIE","NOUVELLE-CALEDONIE",2,1,"FIDJI"]
[{"$f":"OCEANIE!A17","v":"TAHITI"},{"$f":"IF(OCEANIE!F17=\"\",\"\",OCEANIE!F17)","v":1},{"$f":"IF(OCEANIE!G17=\"\",\"\",OCEANIE!G17)","v":2},{"$f":"IF(OCEANIE!H17=\"\",\"\",OCEANIE!H17)","v":"PAPOUASIE-NG"},{"$f":"OCEANIE!M17","v":"PAPOUASIE-NG"},{"$f":"IF(OCEANIE!R17=\"\",\"\",OCEANIE!R17)","v":1},{"$f":"IF(OCEANIE!S17=\"\",\"\",OCEANIE!S17)","v":3},{"$f":"IF(OCEANIE!T17=\"\",\"\",OCEANIE!T17)","v":"TAHITI"}]
[{"$f":"OCEANIE!A18","v":"TAHITI"},{"$f":"IF(OCEANIE!F18=\"\",\"\",OCEANIE!F18)","v":3},{"$f":"IF(OCEANIE!G18=\"\",\"\",OCEANIE!G18)","v":0},{"$f":"IF(OCEANIE!H18=\"\",\"\",OCEANIE!H18)","v":"ILES SALOMON"},{"$f":"OCEANIE!M18","v":"ILES SALOMON"},{"$f":"IF(OCEANIE!R18=\"\",\"\",OCEANIE!R18)","v":1},{"$f":"IF(OCEANIE!S18=\"\",\"\",OCEANIE!S18)","v":0},{"$f":"IF(OCEANIE!T18=\"\",\"\",OCEANIE!T18)","v":"TAHITI"}]
[{"$f":"OCEANIE!A19","v":"PAPOUASIE-NG"},{"$f":"IF(OCEANIE!F19=\"\",\"\",OCEANIE!F19)","v":1},{"$f":"IF(OCEANIE!G19=\"\",\"\",OCEANIE!G19)","v":2},{"$f":"IF(OCEANIE!H19=\"\",\"\",OCEANIE!H19)","v":"ILES SALOMON"},{"$f":"OCEANIE!M19","v":"ILES SALOMON"},{"$f":"IF(OCEANIE!R19=\"\",\"\",OCEANIE!R19)","v":3},{"$f":"IF(OCEANIE!S19=\"\",\"\",OCEANIE!S19)","v":2},{"$f":"IF(OCEANIE!T19=\"\",\"\",OCEANIE!T19)","v":"PAPOUASIE-NG"}]
[{"$f":"E277","v":"PAPOUASIE-NG"},{"$f":"F277","v":1},3,"TAHITI",{"$f":"A277","v":"TAHITI"},{"$f":"B277","v":1},2,"PAPOUASIE-NG"]
[{"$f":"E278","v":"ILES SALOMON"},{"$f":"F278","v":1},{"$f":"G278","v":0},{"$f":"H278","v":"TAHITI"},{"$f":"A278","v":"TAHITI"},{"$f":"B278","v":3},{"$f":"C278","v":0},{"$f":"D278","v":"ILES SALOMON"}]
["ILES SALOMON",3,2,"PAPOUASIE-NG","PAPOUASIE-NG",1,2,"ILES SALOMON"]
[{"$f":"AFRIQUE!A4","v":"RD CONGO"},{"$f":"IF(AFRIQUE!F4=\"\",\"\",AFRIQUE!F4)","v":2},{"$f":"IF(AFRIQUE!G4=\"\",\"\",AFRIQUE!G4)","v":2},{"$f":"IF(AFRIQUE!H4=\"\",\"\",AFRIQUE!H4)","v":"TUNISIE"},{"$f":"AFRIQUE!M4","v":"TUNISIE"},{"$f":"IF(AFRIQUE!R4=\"\",\"\",AFRIQUE!R4)","v":2},{"$f":"IF(AFRIQUE!S4=\"\",\"\",AFRIQUE!S4)","v":1},{"$f":"IF(AFRIQUE!T4=\"\",\"\",AFRIQUE!T4)","v":"RD CONGO"},null,"AFRIQUE"]
[{"$f":"AFRIQUE!A5","v":"RD CONGO"},{"$f":"IF(AFRIQUE!F5=\"\",\"\",AFRIQUE!F5)","v":3},{"$f":"IF(AFRIQUE!G5=\"\",\"\",AFRIQUE!G5)","v":1},{"$f":"IF(AFRIQUE!H5=\"\",\"\",AFRIQUE!H5)","v":"GUINÉE"},{"$f":"AFRIQUE!M5","v":"GUINÉE"},{"$f":"IF(AFRIQUE!R5=\"\",\"\",AFRIQUE!R5)","v":1},{"$f":"IF(AFRIQUE!S5=\"\",\"\",AFRIQUE!S5)","v":2},{"$f":"IF(AFRIQUE!T5=\"\",\"\",AFRIQUE!T5)","v":"RD CONGO"}]
[{"$f":"AFRIQUE!A6","v":"RD CONGO"},{"$f":"IF(AFRIQUE!F6=\"\",\"\",AFRIQUE!F6)","v":4},{"$f":"IF(AFRIQUE!G6=\"\",\"\",AFRIQUE!G6)","v":0},{"$f":"IF(AFRIQUE!H6=\"\",\"\",AFRIQUE!H6)","v":"LIBYE"},{"$f":"AFRIQUE!M6","v":"LIBYE"},{"$f":"IF(AFRIQUE!R6=\"\",\"\",AFRIQUE!R6)","v":1},{"$f":"IF(AFRIQUE!S6=\"\",\"\",AFRIQUE!S6)","v":2},{"$f":"IF(AFRIQUE!T6=\"\",\"\",AFRIQUE!T6)","v":"RD CONGO"}]
[{"$f":"AFRIQUE!A7","v":"TUNISIE"},{"$f":"IF(AFRIQUE!F7=\"\",\"\",AFRIQUE!F7)","v":2},{"$f":"IF(AFRIQUE!G7=\"\",\"\",AFRIQUE!G7)","v":0},{"$f":"IF(AFRIQUE!H7=\"\",\"\",AFRIQUE!H7)","v":"GUINÉE"},{"$f":"AFRIQUE!M7","v":"GUINÉE"},{"$f":"IF(AFRIQUE!R7=\"\",\"\",AFRIQUE!R7)","v":1},{"$f":"IF(AFRIQUE!S7=\"\",\"\",AFRIQUE!S7)","v":4},{"$f":"IF(AFRIQUE!T7=\"\",\"\",AFRIQUE!T7)","v":"TUNISIE"}]
[{"$f":"AFRIQUE!A8","v":"TUNISIE"},{"$f":"IF(AFRIQUE!F8=\"\",\"\",AFRIQUE!F8)","v":0},{"$f":"IF(AFRIQUE!G8=\"\",\"\",AFRIQUE!G8)","v":0},{"$f":"IF(AFRIQUE!H8=\"\",\"\",AFRIQUE!H8)","v":"LIBYE"},{"$f":"AFRIQUE!M8","v":"LIBYE"},{"$f":"IF(AFRIQUE!R8=\"\",\"\",AFRIQUE!R8)","v":0},{"$f":"IF(AFRIQUE!S8=\"\",\"\",AFRIQUE!S8)","v":1},{"$f":"IF(AFRIQUE!T8=\"\",\"\",AFRIQUE!T8)","v":"TUNISIE"}]
[{"$f":"AFRIQUE!A9","v":"GUINÉE"},{"$f":"IF(AFRIQUE!F9=\"\",\"\",AFRIQUE!F9)","v":3},{"$f":"IF(AFRIQUE!G9=\"\",\"\",AFRIQUE!G9)","v":2},{"$f":"IF(AFRIQUE!H9=\"\",\"\",AFRIQUE!H9)","v":"LIBYE"},{"$f":"AFRIQUE!M9","v":"LIBYE"},{"$f":"IF(AFRIQUE!R9=\"\",\"\",AFRIQUE!R9)","v":1},{"$f":"IF(AFRIQUE!S9=\"\",\"\",AFRIQUE!S9)","v":0},{"$f":"IF(AFRIQUE!T9=\"\",\"\",AFRIQUE!T9)","v":"GUINÉE"}]
[{"$f":"E283","v":"TUNISIE"},null,null,null,{"$f":"A283","v":"RD CONGO"},{"$f":"B283","v":2},2,"TUNISIE"]
[{"$f":"E284","v":"GUINÉE"},null,null,null,{"$f":"A284","v":"RD CONGO"},{"$f":"B284","v":3},{"$f":"C284","v":1},{"$f":"D284","v":"GUINÉE"}]
["LIBYE",null,null,null,"RD CONGO",4,0,"LIBYE"]
["GUINÉE",null,null,null,"TUNISIE",2,0,"GUINÉE"]
["LIBYE",null,null,null,"TUNISIE",0,0,"LIBYE"]
["LIBYE",null,null,null,"GUINÉE",3,2,"LIBYE"]
[{"$f":"AFRIQUE!A20","v":"NIGERIA"},{"$f":"IF(AFRIQUE!F20=\"\",\"\",AFRIQUE!F20)","v":4},{"$f":"IF(AFRIQUE!G20=\"\",\"\",AFRIQUE!G20)","v":0},{"$f":"IF(AFRIQUE!H20=\"\",\"\",AFRIQUE!H20)","v":"CAMEROUN"},{"$f":"AFRIQUE!M20","v":"CAMEROUN"},{"$f":"IF(AFRIQUE!R20=\"\",\"\",AFRIQUE!R20)","v":1},{"$f":"IF(AFRIQUE!S20=\"\",\"\",AFRIQUE!S20)","v":1},{"$f":"IF(AFRIQUE!T20=\"\",\"\",AFRIQUE!T20)","v":"NIGERIA"}]
[{"$f":"AFRIQUE!A21","v":"NIGERIA"},{"$f":"IF(AFRIQUE!F21=\"\",\"\",AFRIQUE!F21)","v":1},{"$f":"IF(AFRIQUE!G21=\"\",\"\",AFRIQUE!G21)","v":0},{"$f":"IF(AFRIQUE!H21=\"\",\"\",AFRIQUE!H21)","v":"ZAMBIE"},{"$f":"AFRIQUE!M21","v":"ZAMBIE"},{"$f":"IF(AFRIQUE!R21=\"\",\"\",AFRIQUE!R21)","v":1},{"$f":"IF(AFRIQUE!S21=\"\",\"\",AFRIQUE!S21)","v":2},{"$f":"IF(AFRIQUE!T21=\"\",\"\",AFRIQUE!T21)","v":"NIGERIA"}]
[{"$f":"AFRIQUE!A22","v":"NIGERIA"},{"$f":"IF(AFRIQUE!F22=\"\",\"\",AFRIQUE!F22)","v":3},{"$f":"IF(AFRIQUE!G22=\"\",\"\",AFRIQUE!G22)","v":1},{"$f":"IF(AFRIQUE!H22=\"\",\"\",AFRIQUE!H22)","v":"ALGÉRIE"},{"$f":"AFRIQUE!M22","v":"ALGÉRIE"},{"$f":"IF(AFRIQUE!R22=\"\",\"\",AFRIQUE!R22)","v":1},{"$f":"IF(AFRIQUE!S22=\"\",\"\",AFRIQUE!S22)","v":1},{"$f":"IF(AFRIQUE!T22=\"\",\"\",AFRIQUE!T22)","v":"NIGERIA"}]
[{"$f":"AFRIQUE!A23","v":"CAMEROUN"},{"$f":"IF(AFRIQUE!F23=\"\",\"\",AFRIQUE!F23)","v":1},{"$f":"IF(AFRIQUE!G23=\"\",\"\",AFRIQUE!G23)","v":1},{"$f":"IF(AFRIQUE!H23=\"\",\"\",AFRIQUE!H23)","v":"ZAMBIE"},{"$f":"AFRIQUE!M23","v":"ZAMBIE"},{"$f":"IF(AFRIQUE!R23=\"\",\"\",AFRIQUE!R23)","v":2},{"$f":"IF(AFRIQUE!S23=\"\",\"\",AFRIQUE!S23)","v":2},{"$f":"IF(AFRIQUE!T23=\"\",\"\",AFRIQUE!T23)","v":"CAMEROUN"}]
[{"$f":"AFRIQUE!A24","v":"CAMEROUN"},{"$f":"IF(AFRIQUE!F24=\"\",\"\",AFRIQUE!F24)","v":2},{"$f":"IF(AFRIQUE!G24=\"\",\"\",AFRIQUE!G24)","v":0},{"$f":"IF(AFRIQUE!H24=\"\",\"\",AFRIQUE!H24)","v":"ALGÉRIE"},{"$f":"AFRIQUE!M24","v":"ALGÉRIE"},{"$f":"IF(AFRIQUE!R24=\"\",\"\",AFRIQUE!R24)","v":1},{"$f":"IF(AFRIQUE!S24=\"\",\"\",AFRIQUE!S24)","v":1},{"$f":"IF(AFRIQUE!T24=\"\",\"\",AFRIQUE!T24)","v":"CAMEROUN"}]
[{"$f":"AFRIQUE!A25","v":"ZAMBIE"},{"$f":"IF(AFRIQUE!F25=\"\",\"\",AFRIQUE!F25)","v":3},{"$f":"IF(AFRIQUE!G25=\"\",\"\",AFRIQUE!G25)","v":1},{"$f":"IF(AFRIQUE!H25=\"\",\"\",AFRIQUE!H25)","v":"ALGÉRIE"},{"$f":"AFRIQUE!M25","v":"ALGÉRIE"},{"$f":"IF(AFRIQUE!R25=\"\",\"\",AFRIQUE!R25)","v":0},{"$f":"IF(AFRIQUE!S25=\"\",\"\",AFRIQUE!S25)","v":1},{"$f":"IF(AFRIQUE!T25=\"\",\"\",AFRIQUE!T25)","v":"ZAMBIE"}]
[{"$f":"E295","v":"CAMEROUN"},{"$f":"F295","v":1},1,"NIGERIA",{"$f":"A295","v":"NIGERIA"},{"$f":"B295","v":4},0,"CAMEROUN"]
[{"$f":"E296","v":"ZAMBIE"},{"$f":"F296","v":1},{"$f":"G296","v":2},{"$f":"H296","v":"NIGERIA"},{"$f":"A296","v":"NIGERIA"},{"$f":"B296","v":1},{"$f":"C296","v":0},{"$f":"D296","v":"ZAMBIE"}]
["ALGÉRIE",1,1,"NIGERIA","NIGERIA",3,1,"ALGÉRIE"]
["ZAMBIE",2,2,"CAMEROUN","CAMEROUN",1,1,"ZAMBIE"]
["ALGÉRIE",1,1,"CAMEROUN","CAMEROUN",2,0,"ALGÉRIE"]
["ALGÉRIE",0,1,"ZAMBIE","ZAMBIE",3,1,"ALGÉRIE"]
[{"$f":"AFRIQUE!A36","v":"CÔTE D'IVOIRE"},{"$f":"IF(AFRIQUE!F36=\"\",\"\",AFRIQUE!F36)","v":0},{"$f":"IF(AFRIQUE!G36=\"\",\"\",AFRIQUE!G36)","v":2},{"$f":"IF(AFRIQUE!H36=\"\",\"\",AFRIQUE!H36)","v":"MAROC"},{"$f":"AFRIQUE!M36","v":"MAROC"},{"$f":"IF(AFRIQUE!R36=\"\",\"\",AFRIQUE!R36)","v":0},{"$f":"IF(AFRIQUE!S36=\"\",\"\",AFRIQUE!S36)","v":0},{"$f":"IF(AFRIQUE!T36=\"\",\"\",AFRIQUE!T36)","v":"CÔTE D'IVOIRE"}]
[{"$f":"AFRIQUE!A37","v":"CÔTE D'IVOIRE"},{"$f":"IF(AFRIQUE!F37=\"\",\"\",AFRIQUE!F37)","v":1},{"$f":"IF(AFRIQUE!G37=\"\",\"\",AFRIQUE!G37)","v":2},{"$f":"IF(AFRIQUE!H37=\"\",\"\",AFRIQUE!H37)","v":"GABON"},{"$f":"AFRIQUE!M37","v":"GABON"},{"$f":"IF(AFRIQUE!R37=\"\",\"\",AFRIQUE!R37)","v":0},{"$f":"IF(AFRIQUE!S37=\"\",\"\",AFRIQUE!S37)","v":3},{"$f":"IF(AFRIQUE!T37=\"\",\"\",AFRIQUE!T37)","v":"CÔTE D'IVOIRE"}]
[{"$f":"AFRIQUE!A38","v":"CÔTE D'IVOIRE"},{"$f":"IF(AFRIQUE!F38=\"\",\"\",AFRIQUE!F38)","v":3},{"$f":"IF(AFRIQUE!G38=\"\",\"\",AFRIQUE!G38)","v":1},{"$f":"IF(AFRIQUE!H38=\"\",\"\",AFRIQUE!H38)","v":"MALI"},{"$f":"AFRIQUE!M38","v":"MALI"},{"$f":"IF(AFRIQUE!R38=\"\",\"\",AFRIQUE!R38)","v":0},{"$f":"IF(AFRIQUE!S38=\"\",\"\",AFRIQUE!S38)","v":0},{"$f":"IF(AFRIQUE!T38=\"\",\"\",AFRIQUE!T38)","v":"CÔTE D'IVOIRE"}]
[{"$f":"AFRIQUE!A39","v":"MAROC"},{"$f":"IF(AFRIQUE!F39=\"\",\"\",AFRIQUE!F39)","v":3},{"$f":"IF(AFRIQUE!G39=\"\",\"\",AFRIQUE!G39)","v":0},{"$f":"IF(AFRIQUE!H39=\"\",\"\",AFRIQUE!H39)","v":"GABON"},{"$f":"AFRIQUE!M39","v":"GABON"},{"$f":"IF(AFRIQUE!R39=\"\",\"\",AFRIQUE!R39)","v":0},{"$f":"IF(AFRIQUE!S39=\"\",\"\",AFRIQUE!S39)","v":0},{"$f":"IF(AFRIQUE!T39=\"\",\"\",AFRIQUE!T39)","v":"MAROC"}]
[{"$f":"AFRIQUE!A40","v":"MAROC"},{"$f":"IF(AFRIQUE!F40=\"\",\"\",AFRIQUE!F40)","v":6},{"$f":"IF(AFRIQUE!G40=\"\",\"\",AFRIQUE!G40)","v":0},{"$f":"IF(AFRIQUE!H40=\"\",\"\",AFRIQUE!H40)","v":"MALI"},{"$f":"AFRIQUE!M40","v":"MALI"},{"$f":"IF(AFRIQUE!R40=\"\",\"\",AFRIQUE!R40)","v":0},{"$f":"IF(AFRIQUE!S40=\"\",\"\",AFRIQUE!S40)","v":0},{"$f":"IF(AFRIQUE!T40=\"\",\"\",AFRIQUE!T40)","v":"MAROC"}]
[{"$f":"AFRIQUE!A41","v":"GABON"},{"$f":"IF(AFRIQUE!F41=\"\",\"\",AFRIQUE!F41)","v":""},{"$f":"IF(AFRIQUE!G41=\"\",\"\",AFRIQUE!G41)","v":""},{"$f":"IF(AFRIQUE!H41=\"\",\"\",AFRIQUE!H41)","v":"MALI"},{"$f":"AFRIQUE!M41","v":"MALI"},{"$f":"IF(AFRIQUE!R41=\"\",\"\",AFRIQUE!R41)","v":0},{"$f":"IF(AFRIQUE!S41=\"\",\"\",AFRIQUE!S41)","v":0},{"$f":"IF(AFRIQUE!T41=\"\",\"\",AFRIQUE!T41)","v":"GABON"}]
[{"$f":"E307","v":"MAROC"},{"$f":"F307","v":0},0,"CÔTE D'IVOIRE",{"$f":"A307","v":"CÔTE D'IVOIRE"},{"$f":"B307","v":0},2,"MAROC"]
[{"$f":"E308","v":"GABON"},{"$f":"F308","v":0},{"$f":"G308","v":3},{"$f":"H308","v":"CÔTE D'IVOIRE"},{"$f":"A308","v":"CÔTE D'IVOIRE"},{"$f":"B308","v":1},{"$f":"C308","v":2},{"$f":"D308","v":"GABON"}]
["MALI",0,0,"CÔTE D'IVOIRE","CÔTE D'IVOIRE",3,1,"MALI"]
["GABON",0,0,"MAROC","MAROC",3,0,"GABON"]
["MALI",0,0,"MAROC","MAROC",6,0,"MALI"]
["MALI",0,0,"GABON","GABON","","","MALI"]
[{"$f":"AFRIQUE!A52","v":"BURKINA FASO"},{"$f":"IF(AFRIQUE!F52=\"\",\"\",AFRIQUE!F52)","v":1},{"$f":"IF(AFRIQUE!G52=\"\",\"\",AFRIQUE!G52)","v":1},{"$f":"IF(AFRIQUE!H52=\"\",\"\",AFRIQUE!H52)","v":"AFRIQUE DU SUD"},{"$f":"AFRIQUE!M52","v":"AFRIQUE DU SUD"},{"$f":"IF(AFRIQUE!R52=\"\",\"\",AFRIQUE!R52)","v":3},{"$f":"IF(AFRIQUE!S52=\"\",\"\",AFRIQUE!S52)","v":1},{"$f":"IF(AFRIQUE!T52=\"\",\"\",AFRIQUE!T52)","v":"BURKINA FASO"}]
[{"$f":"AFRIQUE!A53","v":"BURKINA FASO"},{"$f":"IF(AFRIQUE!F53=\"\",\"\",AFRIQUE!F53)","v":2},{"$f":"IF(AFRIQUE!G53=\"\",\"\",AFRIQUE!G53)","v":2},{"$f":"IF(AFRIQUE!H53=\"\",\"\",AFRIQUE!H53)","v":"SÉNÉGAL"},{"$f":"AFRIQUE!M53","v":"SÉNÉGAL"},{"$f":"IF(AFRIQUE!R53=\"\",\"\",AFRIQUE!R53)","v":0},{"$f":"IF(AFRIQUE!S53=\"\",\"\",AFRIQUE!S53)","v":0},{"$f":"IF(AFRIQUE!T53=\"\",\"\",AFRIQUE!T53)","v":"BURKINA FASO"}]
[{"$f":"AFRIQUE!A54","v":"BURKINA FASO"},{"$f":"IF(AFRIQUE!F54=\"\",\"\",AFRIQUE!F54)","v":4},{"$f":"IF(AFRIQUE!G54=\"\",\"\",AFRIQUE!G54)","v":0},{"$f":"IF(AFRIQUE!H54=\"\",\"\",AFRIQUE!H54)","v":"CAP VERT"},{"$f":"AFRIQUE!M54","v":"CAP VERT"},{"$f":"IF(AFRIQUE!R54=\"\",\"\",AFRIQUE!R54)","v":0},{"$f":"IF(AFRIQUE!S54=\"\",\"\",AFRIQUE!S54)","v":2},{"$f":"IF(AFRIQUE!T54=\"\",\"\",AFRIQUE!T54)","v":"BURKINA FASO"}]
[{"$f":"AFRIQUE!A55","v":"AFRIQUE DU SUD"},{"$f":"IF(AFRIQUE!F55=\"\",\"\",AFRIQUE!F55)","v":2},{"$f":"IF(AFRIQUE!G55=\"\",\"\",AFRIQUE!G55)","v":1},{"$f":"IF(AFRIQUE!H55=\"\",\"\",AFRIQUE!H55)","v":"SÉNÉGAL"},{"$f":"AFRIQUE!M55","v":"SÉNÉGAL"},{"$f":"IF(AFRIQUE!R55=\"\",\"\",AFRIQUE!R55)","v":2},{"$f":"IF(AFRIQUE!S55=\"\",\"\",AFRIQUE!S55)","v":1},{"$f":"IF(AFRIQUE!T55=\"\",\"\",AFRIQUE!T55)","v":"AFRIQUE DU SUD"}]
[{"$f":"AFRIQUE!A56","v":"AFRIQUE DU SUD"},{"$f":"IF(AFRIQUE!F56=\"\",\"\",AFRIQUE!F56)","v":1},{"$f":"IF(AFRIQUE!G56=\"\",\"\",AFRIQUE!G56)","v":2},{"$f":"IF(AFRIQUE!H56=\"\",\"\",AFRIQUE!H56)","v":"CAP VERT"},{"$f":"AFRIQUE!M56","v":"CAP VERT"},{"$f":"IF(AFRIQUE!R56=\"\",\"\",AFRIQUE!R56)","v":2},{"$f":"IF(AFRIQUE!S56=\"\",\"\",AFRIQUE!S56)","v":1},{"$f":"IF(AFRIQUE!T56=\"\",\"\",AFRIQUE!T56)","v":"AFRIQUE DU SUD"}]
[{"$f":"AFRIQUE!A57","v":"SÉNÉGAL"},{"$f":"IF(AFRIQUE!F57=\"\",\"\",AFRIQUE!F57)","v":2},{"$f":"IF(AFRIQUE!G57=\"\",\"\",AFRIQUE!G57)","v":0},{"$f":"IF(AFRIQUE!H57=\"\",\"\",AFRIQUE!H57)","v":"CAP VERT"},{"$f":"AFRIQUE!M57","v":"CAP VERT"},{"$f":"IF(AFRIQUE!R57=\"\",\"\",AFRIQUE!R57)","v":0},{"$f":"IF(AFRIQUE!S57=\"\",\"\",AFRIQUE!S57)","v":2},{"$f":"IF(AFRIQUE!T57=\"\",\"\",AFRIQUE!T57)","v":"SÉNÉGAL"}]
[{"$f":"E319","v":"AFRIQUE DU SUD"},{"$f":"F319","v":3},1,"BURKINA FASO",{"$f":"A319","v":"BURKINA FASO"},{"$f":"B319","v":1},1,"AFRIQUE DU SUD"]
[{"$f":"E320","v":"SÉNÉGAL"},{"$f":"F320","v":0},{"$f":"G320","v":0},{"$f":"H320","v":"BURKINA FASO"},{"$f":"A320","v":"BURKINA FASO"},{"$f":"B320","v":2},{"$f":"C320","v":2},{"$f":"D320","v":"SÉNÉGAL"}]
["CAP VERT",0,2,"BURKINA FASO","BURKINA FASO",4,0,"CAP VERT"]
["SÉNÉGAL",2,1,"AFRIQUE DU SUD","AFRIQUE DU SUD",2,1,"SÉNÉGAL"]
["CAP VERT",2,1,"AFRIQUE DU SUD","AFRIQUE DU SUD",1,2,"CAP VERT"]
["CAP VERT",0,2,"SÉNÉGAL","SÉNÉGAL",2,0,"CAP VERT"]
[{"$f":"AFRIQUE!A68","v":"ÉGYPTE"},{"$f":"IF(AFRIQUE!F68=\"\",\"\",AFRIQUE!F68)","v":1},{"$f":"IF(AFRIQUE!G68=\"\",\"\",AFRIQUE!G68)","v":0},{"$f":"IF(AFRIQUE!H68=\"\",\"\",AFRIQUE!H68)","v":"OUGANDA"},{"$f":"AFRIQUE!M68","v":"OUGANDA"},{"$f":"IF(AFRIQUE!R68=\"\",\"\",AFRIQUE!R68)","v":1},{"$f":"IF(AFRIQUE!S68=\"\",\"\",AFRIQUE!S68)","v":0},{"$f":"IF(AFRIQUE!T68=\"\",\"\",AFRIQUE!T68)","v":"ÉGYPTE"}]
[{"$f":"AFRIQUE!A69","v":"ÉGYPTE"},{"$f":"IF(AFRIQUE!F69=\"\",\"\",AFRIQUE!F69)","v":2},{"$f":"IF(AFRIQUE!G69=\"\",\"\",AFRIQUE!G69)","v":0},{"$f":"IF(AFRIQUE!H69=\"\",\"\",AFRIQUE!H69)","v":"GHANA"},{"$f":"AFRIQUE!M69","v":"GHANA"},{"$f":"IF(AFRIQUE!R69=\"\",\"\",AFRIQUE!R69)","v":1},{"$f":"IF(AFRIQUE!S69=\"\",\"\",AFRIQUE!S69)","v":1},{"$f":"IF(AFRIQUE!T69=\"\",\"\",AFRIQUE!T69)","v":"ÉGYPTE"}]
[{"$f":"AFRIQUE!A70","v":"ÉGYPTE"},{"$f":"IF(AFRIQUE!F70=\"\",\"\",AFRIQUE!F70)","v":2},{"$f":"IF(AFRIQUE!G70=\"\",\"\",AFRIQUE!G70)","v":1},{"$f":"IF(AFRIQUE!H70=\"\",\"\",AFRIQUE!H70)","v":"CONGO"},{"$f":"AFRIQUE!M70","v":"CONGO"},{"$f":"IF(AFRIQUE!R70=\"\",\"\",AFRIQUE!R70)","v":1},{"$f":"IF(AFRIQUE!S70=\"\",\"\",AFRIQUE!S70)","v":2},{"$f":"IF(AFRIQUE!T70=\"\",\"\",AFRIQUE!T70)","v":"ÉGYPTE"}]
[{"$f":"AFRIQUE!A71","v":"OUGANDA"},{"$f":"IF(AFRIQUE!F71=\"\",\"\",AFRIQUE!F71)","v":0},{"$f":"IF(AFRIQUE!G71=\"\",\"\",AFRIQUE!G71)","v":0},{"$f":"IF(AFRIQUE!H71=\"\",\"\",AFRIQUE!H71)","v":"GHANA"},{"$f":"AFRIQUE!M71","v":"GHANA"},{"$f":"IF(AFRIQUE!R71=\"\",\"\",AFRIQUE!R71)","v":0},{"$f":"IF(AFRIQUE!S71=\"\",\"\",AFRIQUE!S71)","v":0},{"$f":"IF(AFRIQUE!T71=\"\",\"\",AFRIQUE!T71)","v":"OUGANDA"}]
[{"$f":"AFRIQUE!A72","v":"OUGANDA"},{"$f":"IF(AFRIQUE!F72=\"\",\"\",AFRIQUE!F72)","v":1},{"$f":"IF(AFRIQUE!G72=\"\",\"\",AFRIQUE!G72)","v":0},{"$f":"IF(AFRIQUE!H72=\"\",\"\",AFRIQUE!H72)","v":"CONGO"},{"$f":"AFRIQUE!M72","v":"CONGO"},{"$f":"IF(AFRIQUE!R72=\"\",\"\",AFRIQUE!R72)","v":1},{"$f":"IF(AFRIQUE!S72=\"\",\"\",AFRIQUE!S72)","v":1},{"$f":"IF(AFRIQUE!T72=\"\",\"\",AFRIQUE!T72)","v":"OUGANDA"}]
[{"$f":"AFRIQUE!A73","v":"GHANA"},{"$f":"IF(AFRIQUE!F73=\"\",\"\",AFRIQUE!F73)","v":1},{"$f":"IF(AFRIQUE!G73=\"\",\"\",AFRIQUE!G73)","v":1},{"$f":"IF(AFRIQUE!H73=\"\",\"\",AFRIQUE!H73)","v":"CONGO"},{"$f":"AFRIQUE!M73","v":"CONGO"},{"$f":"IF(AFRIQUE!R73=\"\",\"\",AFRIQUE!R73)","v":1},{"$f":"IF(AFRIQUE!S73=\"\",\"\",AFRIQUE!S73)","v":5},{"$f":"IF(AFRIQUE!T73=\"\",\"\",AFRIQUE!T73)","v":"GHANA"}]
[{"$f":"E331","v":"OUGANDA"},{"$f":"F331","v":1},0,"ÉGYPTE",{"$f":"A331","v":"ÉGYPTE"},{"$f":"B331","v":1},0,"OUGANDA"]
[{"$f":"E332","v":"GHANA"},{"$f":"F332","v":1},{"$f":"G332","v":1},{"$f":"H332","v":"ÉGYPTE"},{"$f":"A332","v":"ÉGYPTE"},{"$f":"B332","v":2},{"$f":"C332","v":0},{"$f":"D332","v":"GHANA"}]
["CONGO",1,2,"ÉGYPTE","ÉGYPTE",2,1,"CONGO"]
["GHANA",0,0,"OUGANDA","OUGANDA",0,0,"GHANA"]
["CONGO",1,1,"OUGANDA","OUGANDA",1,0,"CONGO"]
["CONGO",1,5,"GHANA","GHANA",1,1,"CONGO"]
[{"$f":"'AMERIQUE DU NORD'!A4","v":"MEXIQUE"},{"$f":"IF('AMERIQUE DU NORD'!F4=\"\",\"\",'AMERIQUE DU NORD'!F4)","v":2},{"$f":"IF('AMERIQUE DU NORD'!G4=\"\",\"\",'AMERIQUE DU NORD'!G4)","v":0},{"$f":"IF('AMERIQUE DU NORD'!H4=\"\",\"\",'AMERIQUE DU NORD'!H4)","v":"COSTA RICA"},{"$f":"'AMERIQUE DU NORD'!M4","v":"COSTA RICA"},{"$f":"IF('AMERIQUE DU NORD'!R4=\"\",\"\",'AMERIQUE DU NORD'!R4)","v":1},{"$f":"IF('AMERIQUE DU NORD'!S4=\"\",\"\",'AMERIQUE DU NORD'!S4)","v":1},{"$f":"IF('AMERIQUE DU NORD'!T4=\"\",\"\",'AMERIQUE DU NORD'!T4)","v":"MEXIQUE"},null,"AFRIQUE DU NORD"]
[{"$f":"'AMERIQUE DU NORD'!A5","v":"MEXIQUE"},{"$f":"IF('AMERIQUE DU NORD'!F5=\"\",\"\",'AMERIQUE DU NORD'!F5)","v":1},{"$f":"IF('AMERIQUE DU NORD'!G5=\"\",\"\",'AMERIQUE DU NORD'!G5)","v":0},{"$f":"IF('AMERIQUE DU NORD'!H5=\"\",\"\",'AMERIQUE DU NORD'!H5)","v":"PANAMA"},{"$f":"'AMERIQUE DU NORD'!M5","v":"PANAMA"},{"$f":"IF('AMERIQUE DU NORD'!R5=\"\",\"\",'AMERIQUE DU NORD'!R5)","v":0},{"$f":"IF('AMERIQUE DU NORD'!S5=\"\",\"\",'AMERIQUE DU NORD'!S5)","v":0},{"$f":"IF('AMERIQUE DU NORD'!T5=\"\",\"\",'AMERIQUE DU NORD'!T5)","v":"MEXIQUE"}]
[{"$f":"'AMERIQUE DU NORD'!A6","v":"MEXIQUE"},{"$f":"IF('AMERIQUE DU NORD'!F6=\"\",\"\",'AMERIQUE DU NORD'!F6)","v":1},{"$f":"IF('AMERIQUE DU NORD'!G6=\"\",\"\",'AMERIQUE DU NORD'!G6)","v":1},{"$f":"IF('AMERIQUE DU NORD'!H6=\"\",\"\",'AMERIQUE DU NORD'!H6)","v":"ÉTATS-UNIS"},{"$f":"'AMERIQUE DU NORD'!M6","v":"ÉTATS-UNIS"},{"$f":"IF('AMERIQUE DU NORD'!R6=\"\",\"\",'AMERIQUE DU NORD'!R6)","v":1},{"$f":"IF('AMERIQUE DU NORD'!S6=\"\",\"\",'AMERIQUE DU NORD'!S6)","v":2},{"$f":"IF('AMERIQUE DU NORD'!T6=\"\",\"\",'AMERIQUE DU NORD'!T6)","v":"MEXIQUE"}]
[{"$f":"'AMERIQUE DU NORD'!A7","v":"MEXIQUE"},{"$f":"IF('AMERIQUE DU NORD'!F7=\"\",\"\",'AMERIQUE DU NORD'!F7)","v":3},{"$f":"IF('AMERIQUE DU NORD'!G7=\"\",\"\",'AMERIQUE DU NORD'!G7)","v":0},{"$f":"IF('AMERIQUE DU NORD'!H7=\"\",\"\",'AMERIQUE DU NORD'!H7)","v":"HONDURAS"},{"$f":"'AMERIQUE DU NORD'!M7","v":"HONDURAS"},{"$f":"IF('AMERIQUE DU NORD'!R7=\"\",\"\",'AMERIQUE DU NORD'!R7)","v":3},{"$f":"IF('AMERIQUE DU NORD'!S7=\"\",\"\",'AMERIQUE DU NORD'!S7)","v":2},{"$f":"IF('AMERIQUE DU NORD'!T7=\"\",\"\",'AMERIQUE DU NORD'!T7)","v":"MEXIQUE"}]
[{"$f":"'AMERIQUE DU NORD'!A8","v":"MEXIQUE"},{"$f":"IF('AMERIQUE DU NORD'!F8=\"\",\"\",'AMERIQUE DU NORD'!F8)","v":3},{"$f":"IF('AMERIQUE DU NORD'!G8=\"\",\"\",'AMERIQUE DU NORD'!G8)","v":1},{"$f":"IF('AMERIQUE DU NORD'!H8=\"\",\"\",'AMERIQUE DU NORD'!H8)","v":"TRINITÉ ET TOBAGO"},{"$f":"'AMERIQUE DU NORD'!M8","v":"TRINITÉ ET TOBAGO"},{"$f":"IF('AMERIQUE DU NORD'!R8=\"\",\"\",'AMERIQUE DU NORD'!R8)","v":0},{"$f":"IF('AMERIQUE DU NORD'!S8=\"\",\"\",'AMERIQUE DU NORD'!S8)","v":1},{"$f":"IF('AMERIQUE DU NORD'!T8=\"\",\"\",'AMERIQUE DU NORD'!T8)","v":"MEXIQUE"}]
[{"$f":"'AMERIQUE DU NORD'!A9","v":"COSTA RICA"},{"$f":"IF('AMERIQUE DU NORD'!F9=\"\",\"\",'AMERIQUE DU NORD'!F9)","v":0},{"$f":"IF('AMERIQUE DU NORD'!G9=\"\",\"\",'AMERIQUE DU NORD'!G9)","v":0},{"$f":"IF('AMERIQUE DU NORD'!H9=\"\",\"\",'AMERIQUE DU NORD'!H9)","v":"PANAMA"},{"$f":"'AMERIQUE DU NORD'!M9","v":"PANAMA"},{"$f":"IF('AMERIQUE DU NORD'!R9=\"\",\"\",'AMERIQUE DU NORD'!R9)","v":2},{"$f":"IF('AMERIQUE DU NORD'!S9=\"\",\"\",'AMERIQUE DU NORD'!S9)","v":1},{"$f":"IF('AMERIQUE DU NORD'!T9=\"\",\"\",'AMERIQUE DU NORD'!T9)","v":"COSTA RICA"}]
[{"$f":"'AMERIQUE DU NORD'!A10","v":"COSTA RICA"},{"$f":"IF('AMERIQUE DU NORD'!F10=\"\",\"\",'AMERIQUE DU NORD'!F10)","v":4},{"$f":"IF('AMERIQUE DU NORD'!G10=\"\",\"\",'AMERIQUE DU NORD'!G10)","v":0},{"$f":"IF('AMERIQUE DU NORD'!H10=\"\",\"\",'AMERIQUE DU NORD'!H10)","v":"ÉTATS-UNIS"},{"$f":"'AMERIQUE DU NORD'!M10","v":"ÉTATS-UNIS"},{"$f":"IF('AMERIQUE DU NORD'!R10=\"\",\"\",'AMERIQUE DU NORD'!R10)","v":0},{"$f":"IF('AMERIQUE DU NORD'!S10=\"\",\"\",'AMERIQUE DU NORD'!S10)","v":2},{"$f":"IF('AMERIQUE DU NORD'!T10=\"\",\"\",'AMERIQUE DU NORD'!T10)","v":"COSTA RICA"}]
[{"$f":"'AMERIQUE DU NORD'!A11","v":"COSTA RICA"},{"$f":"IF('AMERIQUE DU NORD'!F11=\"\",\"\",'AMERIQUE DU NORD'!F11)","v":1},{"$f":"IF('AMERIQUE DU NORD'!G11=\"\",\"\",'AMERIQUE DU NORD'!G11)","v":1},{"$f":"IF('AMERIQUE DU NORD'!H11=\"\",\"\",'AMERIQUE DU NORD'!H11)","v":"HONDURAS"},{"$f":"'AMERIQUE DU NORD'!M11","v":"HONDURAS"},{"$f":"IF('AMERIQUE DU NORD'!R11=\"\",\"\",'AMERIQUE DU NORD'!R11)","v":1},{"$f":"IF('AMERIQUE DU NORD'!S11=\"\",\"\",'AMERIQUE DU NORD'!S11)","v":1},{"$f":"IF('AMERIQUE DU NORD'!T11=\"\",\"\",'AMERIQUE DU NORD'!T11)","v":"COSTA RICA"}]
[{"$f":"'AMERIQUE DU NORD'!A12","v":"COSTA RICA"},{"$f":"IF('AMERIQUE DU NORD'!F12=\"\",\"\",'AMERIQUE DU NORD'!F12)","v":2},{"$f":"IF('AMERIQUE DU NORD'!G12=\"\",\"\",'AMERIQUE DU NORD'!G12)","v":1},{"$f":"IF('AMERIQUE DU NORD'!H12=\"\",\"\",'AMERIQUE DU NORD'!H12)","v":"TRINITÉ ET TOBAGO"},{"$f":"'AMERIQUE DU NORD'!M12","v":"TRINITÉ ET TOBAGO"},{"$f":"IF('AMERIQUE DU NORD'!R12=\"\",\"\",'AMERIQUE DU NORD'!R12)","v":0},{"$f":"IF('AMERIQUE DU NORD'!S12=\"\",\"\",'AMERIQUE DU NORD'!S12)","v":2},{"$f":"IF('AMERIQUE DU NORD'!T12=\"\",\"\",'AMERIQUE DU NORD'!T12)","v":"COSTA RICA"}]
[{"$f":"'AMERIQUE DU NORD'!A13","v":"PANAMA"},{"$f":"IF('AMERIQUE DU NORD'!F13=\"\",\"\",'AMERIQUE DU NORD'!F13)","v":1},{"$f":"IF('AMERIQUE DU NORD'!G13=\"\",\"\",'AMERIQUE DU NORD'!G13)","v":1},{"$f":"IF('AMERIQUE DU NORD'!H13=\"\",\"\",'AMERIQUE DU NORD'!H13)","v":"ÉTATS-UNIS"},{"$f":"'AMERIQUE DU NORD'!M13","v":"ÉTATS-UNIS"},{"$f":"IF('AMERIQUE DU NORD'!R13=\"\",\"\",'AMERIQUE DU NORD'!R13)","v":4},{"$f":"IF('AMERIQUE DU NORD'!S13=\"\",\"\",'AMERIQUE DU NORD'!S13)","v":0},{"$f":"IF('AMERIQUE DU NORD'!T13=\"\",\"\",'AMERIQUE DU NORD'!T13)","v":"PANAMA"}]
[{"$f":"'AMERIQUE DU NORD'!A14","v":"PANAMA"},{"$f":"IF('AMERIQUE DU NORD'!F14=\"\",\"\",'AMERIQUE DU NORD'!F14)","v":2},{"$f":"IF('AMERIQUE DU NORD'!G14=\"\",\"\",'AMERIQUE DU NORD'!G14)","v":2},{"$f":"IF('AMERIQUE DU NORD'!H14=\"\",\"\",'AMERIQUE DU NORD'!H14)","v":"HONDURAS"},{"$f":"'AMERIQUE DU NORD'!M14","v":"HONDURAS"},{"$f":"IF('AMERIQUE DU NORD'!R14=\"\",\"\",'AMERIQUE DU NORD'!R14)","v":0},{"$f":"IF('AMERIQUE DU NORD'!S14=\"\",\"\",'AMERIQUE DU NORD'!S14)","v":1},{"$f":"IF('AMERIQUE DU NORD'!T14=\"\",\"\",'AMERIQUE DU NORD'!T14)","v":"PANAMA"}]
[{"$f":"'AMERIQUE DU NORD'!A15","v":"PANAMA"},{"$f":"IF('AMERIQUE DU NORD'!F15=\"\",\"\",'AMERIQUE DU NORD'!F15)","v":3},{"$f":"IF('AMERIQUE DU NORD'!G15=\"\",\"\",'AMERIQUE DU NORD'!G15)","v":0},{"$f":"IF('AMERIQUE DU NORD'!H15=\"\",\"\",'AMERIQUE DU NORD'!H15)","v":"TRINITÉ ET TOBAGO"},{"$f":"'AMERIQUE DU NORD'!M15","v":"TRINITÉ ET TOBAGO"},{"$f":"IF('AMERIQUE DU NORD'!R15=\"\",\"\",'AMERIQUE DU NORD'!R15)","v":1},{"$f":"IF('AMERIQUE DU NORD'!S15=\"\",\"\",'AMERIQUE DU NORD'!S15)","v":0},{"$f":"IF('AMERIQUE DU NORD'!T15=\"\",\"\",'AMERIQUE DU NORD'!T15)","v":"PANAMA"}]
[{"$f":"'AMERIQUE DU NORD'!A16","v":"ÉTATS-UNIS"},{"$f":"IF('AMERIQUE DU NORD'!F16=\"\",\"\",'AMERIQUE DU NORD'!F16)","v":6},{"$f":"IF('AMERIQUE DU NORD'!G16=\"\",\"\",'AMERIQUE DU NORD'!G16)","v":0},{"$f":"IF('AMERIQUE DU NORD'!H16=\"\",\"\",'AMERIQUE DU NORD'!H16)","v":"HONDURAS"},{"$f":"'AMERIQUE DU NORD'!M16","v":"HONDURAS"},{"$f":"IF('AMERIQUE DU NORD'!R16=\"\",\"\",'AMERIQUE DU NORD'!R16)","v":1},{"$f":"IF('AMERIQUE DU NORD'!S16=\"\",\"\",'AMERIQUE DU NORD'!S16)","v":1},{"$f":"IF('AMERIQUE DU NORD'!T16=\"\",\"\",'AMERIQUE DU NORD'!T16)","v":"ÉTATS-UNIS"}]
[{"$f":"'AMERIQUE DU NORD'!A17","v":"ÉTATS-UNIS"},{"$f":"IF('AMERIQUE DU NORD'!F17=\"\",\"\",'AMERIQUE DU NORD'!F17)","v":2},{"$f":"IF('AMERIQUE DU NORD'!G17=\"\",\"\",'AMERIQUE DU NORD'!G17)","v":0},{"$f":"IF('AMERIQUE DU NORD'!H17=\"\",\"\",'AMERIQUE DU NORD'!H17)","v":"TRINITÉ ET TOBAGO"},{"$f":"'AMERIQUE DU NORD'!M17","v":"TRINITÉ ET TOBAGO"},{"$f":"IF('AMERIQUE DU NORD'!R17=\"\",\"\",'AMERIQUE DU NORD'!R17)","v":2},{"$f":"IF('AMERIQUE DU NORD'!S17=\"\",\"\",'AMERIQUE DU NORD'!S17)","v":1},{"$f":"IF('AMERIQUE DU NORD'!T17=\"\",\"\",'AMERIQUE DU NORD'!T17)","v":"ÉTATS-UNIS"}]
[{"$f":"'AMERIQUE DU NORD'!A18","v":"HONDURAS"},{"$f":"IF('AMERIQUE DU NORD'!F18=\"\",\"\",'AMERIQUE DU NORD'!F18)","v":3},{"$f":"IF('AMERIQUE DU NORD'!G18=\"\",\"\",'AMERIQUE DU NORD'!G18)","v":1},{"$f":"IF('AMERIQUE DU NORD'!H18=\"\",\"\",'AMERIQUE DU NORD'!H18)","v":"TRINITÉ ET TOBAGO"},{"$f":"'AMERIQUE DU NORD'!M18","v":"TRINITÉ ET TOBAGO"},{"$f":"IF('AMERIQUE DU NORD'!R18=\"\",\"\",'AMERIQUE DU NORD'!R18)","v":1},{"$f":"IF('AMERIQUE DU NORD'!S18=\"\",\"\",'AMERIQUE DU NORD'!S18)","v":2},{"$f":"IF('AMERIQUE DU NORD'!T18=\"\",\"\",'AMERIQUE DU NORD'!T18)","v":"HONDURAS"}]
[{"$f":"E343","v":"COSTA RICA"},{"$f":"F343","v":1},1,"MEXIQUE",{"$f":"A343","v":"MEXIQUE"},{"$f":"B343","v":2},0,"COSTA RICA"]
[{"$f":"E344","v":"PANAMA"},{"$f":"F344","v":0},{"$f":"G344","v":0},{"$f":"H344","v":"MEXIQUE"},{"$f":"A344","v":"MEXIQUE"},{"$f":"B344","v":1},{"$f":"C344","v":0},{"$f":"D344","v":"PANAMA"}]
["ÉTATS-UNIS",1,2,"MEXIQUE","MEXIQUE",1,1,"ÉTATS-UNIS"]
["HONDURAS",3,2,"MEXIQUE","MEXIQUE",3,0,"HONDURAS"]
["TRINITÉ ET TOBAGO",0,1,"MEXIQUE","MEXIQUE",3,1,"TRINITÉ ET TOBAGO"]
["PANAMA",2,1,"COSTA RICA","COSTA RICA",0,0,"PANAMA"]
["ÉTATS-UNIS",0,2,"COSTA RICA","COSTA RICA",4,0,"ÉTATS-UNIS"]
["HONDURAS",1,1,"COSTA RICA","COSTA RICA",1,1,"HONDURAS"]
["TRINITÉ ET TOBAGO",0,2,"COSTA RICA","COSTA RICA",2,1,"TRINITÉ ET TOBAGO"]
["ÉTATS-UNIS",4,0,"PANAMA","PANAMA",1,1,"ÉTATS-UNIS"]
["HONDURAS",0,1,"PANAMA","PANAMA",2,2,"HONDURAS"]
["TRINITÉ ET TOBAGO",1,0,"PANAMA","PANAMA",3,0,"TRINITÉ ET TOBAGO"]
["HONDURAS",1,1,"ÉTATS-UNIS","ÉTATS-UNIS",6,0,"HONDURAS"]
["TRINITÉ ET TOBAGO",2,1,"ÉTATS-UNIS","ÉTATS-UNIS",2,0,"TRINITÉ ET TOBAGO"]
["TRINITÉ ET TOBAGO",1,2,"HONDURAS","HONDURAS",3,1,"TRINITÉ ET TOBAGO"]
[{"$f":"ASIE!A4","v":"IRAN"},{"$f":"IF(ASIE!F4=\"\",\"\",ASIE!F4)","v":1},{"$f":"IF(ASIE!G4=\"\",\"\",ASIE!G4)","v":0},{"$f":"IF(ASIE!H4=\"\",\"\",ASIE!H4)","v":"RÉPUBLIQUE DE CORÉE"},{"$f":"ASIE!M4","v":"RÉPUBLIQUE DE CORÉE"},{"$f":"IF(ASIE!R4=\"\",\"\",ASIE!R4)","v":0},{"$f":"IF(ASIE!S4=\"\",\"\",ASIE!S4)","v":0},{"$f":"IF(ASIE!T4=\"\",\"\",ASIE!T4)","v":"IRAN"},null," ASIE - ASIE"]
[{"$f":"ASIE!A5","v":"IRAN"},{"$f":"IF(ASIE!F5=\"\",\"\",ASIE!F5)","v":2},{"$f":"IF(ASIE!G5=\"\",\"\",ASIE!G5)","v":0},{"$f":"IF(ASIE!H5=\"\",\"\",ASIE!H5)","v":"OUZBÉKISTAN"},{"$f":"ASIE!M5","v":"OUZBÉKISTAN"},{"$f":"IF(ASIE!R5=\"\",\"\",ASIE!R5)","v":0},{"$f":"IF(ASIE!S5=\"\",\"\",ASIE!S5)","v":1},{"$f":"IF(ASIE!T5=\"\",\"\",ASIE!T5)","v":"IRAN"}]
[{"$f":"ASIE!A6","v":"IRAN"},{"$f":"IF(ASIE!F6=\"\",\"\",ASIE!F6)","v":2},{"$f":"IF(ASIE!G6=\"\",\"\",ASIE!G6)","v":2},{"$f":"IF(ASIE!H6=\"\",\"\",ASIE!H6)","v":"SYRIE"},{"$f":"ASIE!M6","v":"SYRIE"},{"$f":"IF(ASIE!R6=\"\",\"\",ASIE!R6)","v":0},{"$f":"IF(ASIE!S6=\"\",\"\",ASIE!S6)","v":0},{"$f":"IF(ASIE!T6=\"\",\"\",ASIE!T6)","v":"IRAN"}]
[{"$f":"ASIE!A7","v":"IRAN"},{"$f":"IF(ASIE!F7=\"\",\"\",ASIE!F7)","v":1},{"$f":"IF(ASIE!G7=\"\",\"\",ASIE!G7)","v":0},{"$f":"IF(ASIE!H7=\"\",\"\",ASIE!H7)","v":"RÉPUBLIQUE DE CHINE"},{"$f":"ASIE!M7","v":"RÉPUBLIQUE DE CHINE"},{"$f":"IF(ASIE!R7=\"\",\"\",ASIE!R7)","v":0},{"$f":"IF(ASIE!S7=\"\",\"\",ASIE!S7)","v":0},{"$f":"IF(ASIE!T7=\"\",\"\",ASIE!T7)","v":"IRAN"}]
[{"$f":"ASIE!A8","v":"IRAN"},{"$f":"IF(ASIE!F8=\"\",\"\",ASIE!F8)","v":2},{"$f":"IF(ASIE!G8=\"\",\"\",ASIE!G8)","v":0},{"$f":"IF(ASIE!H8=\"\",\"\",ASIE!H8)","v":"QATAR"},{"$f":"ASIE!M8","v":"QATAR"},{"$f":"IF(ASIE!R8=\"\",\"\",ASIE!R8)","v":0},{"$f":"IF(ASIE!S8=\"\",\"\",ASIE!S8)","v":1},{"$f":"IF(ASIE!T8=\"\",\"\",ASIE!T8)","v":"IRAN"}]
[{"$f":"ASIE!A9","v":"RÉPUBLIQUE DE CORÉE"},{"$f":"IF(ASIE!F9=\"\",\"\",ASIE!F9)","v":2},{"$f":"IF(ASIE!G9=\"\",\"\",ASIE!G9)","v":1},{"$f":"IF(ASIE!H9=\"\",\"\",ASIE!H9)","v":"OUZBÉKISTAN"},{"$f":"ASIE!M9","v":"OUZBÉKISTAN"},{"$f":"IF(ASIE!R9=\"\",\"\",ASIE!R9)","v":0},{"$f":"IF(ASIE!S9=\"\",\"\",ASIE!S9)","v":0},{"$f":"IF(ASIE!T9=\"\",\"\",ASIE!T9)","v":"RÉPUBLIQUE DE CORÉE"}]
[{"$f":"ASIE!A10","v":"RÉPUBLIQUE DE CORÉE"},{"$f":"IF(ASIE!F10=\"\",\"\",ASIE!F10)","v":1},{"$f":"IF(ASIE!G10=\"\",\"\",ASIE!G10)","v":0},{"$f":"IF(ASIE!H10=\"\",\"\",ASIE!H10)","v":"SYRIE"},{"$f":"ASIE!M10","v":"SYRIE"},{"$f":"IF(ASIE!R10=\"\",\"\",ASIE!R10)","v":0},{"$f":"IF(ASIE!S10=\"\",\"\",ASIE!S10)","v":0},{"$f":"IF(ASIE!T10=\"\",\"\",ASIE!T10)","v":"RÉPUBLIQUE DE CORÉE"}]
[{"$f":"ASIE!A11","v":"RÉPUBLIQUE DE CORÉE"},{"$f":"IF(ASIE!F11=\"\",\"\",ASIE!F11)","v":3},{"$f":"IF(ASIE!G11=\"\",\"\",ASIE!G11)","v":2},{"$f":"IF(ASIE!H11=\"\",\"\",ASIE!H11)","v":"RÉPUBLIQUE DE CHINE"},{"$f":"ASIE!M11","v":"RÉPUBLIQUE DE CHINE"},{"$f":"IF(ASIE!R11=\"\",\"\",ASIE!R11)","v":1},{"$f":"IF(ASIE!S11=\"\",\"\",ASIE!S11)","v":0},{"$f":"IF(ASIE!T11=\"\",\"\",ASIE!T11)","v":"RÉPUBLIQUE DE CORÉE"}]
[{"$f":"ASIE!A12","v":"RÉPUBLIQUE DE CORÉE"},{"$f":"IF(ASIE!F12=\"\",\"\",ASIE!F12)","v":3},{"$f":"IF(ASIE!G12=\"\",\"\",ASIE!G12)","v":2},{"$f":"IF(ASIE!H12=\"\",\"\",ASIE!H12)","v":"QATAR"},{"$f":"ASIE!M12","v":"QATAR"},{"$f":"IF(ASIE!R12=\"\",\"\",ASIE!R12)","v":3},{"$f":"IF(ASIE!S12=\"\",\"\",ASIE!S12)","v":2},{"$f":"IF(ASIE!T12=\"\",\"\",ASIE!T12)","v":"RÉPUBLIQUE DE CORÉE"}]
[{"$f":"ASIE!A13","v":"OUZBÉKISTAN"},{"$f":"IF(ASIE!F13=\"\",\"\",ASIE!F13)","v":1},{"$f":"IF(ASIE!G13=\"\",\"\",ASIE!G13)","v":0},{"$f":"IF(ASIE!H13=\"\",\"\",ASIE!H13)","v":"SYRIE"},{"$f":"ASIE!M13","v":"SYRIE"},{"$f":"IF(ASIE!R13=\"\",\"\",ASIE!R13)","v":1},{"$f":"IF(ASIE!S13=\"\",\"\",ASIE!S13)","v":0},{"$f":"IF(ASIE!T13=\"\",\"\",ASIE!T13)","v":"OUZBÉKISTAN"}]
[{"$f":"ASIE!A14","v":"OUZBÉKISTAN"},{"$f":"IF(ASIE!F14=\"\",\"\",ASIE!F14)","v":2},{"$f":"IF(ASIE!G14=\"\",\"\",ASIE!G14)","v":0},{"$f":"IF(ASIE!H14=\"\",\"\",ASIE!H14)","v":"RÉPUBLIQUE DE CHINE"},{"$f":"ASIE!M14","v":"RÉPUBLIQUE DE CHINE"},{"$f":"IF(ASIE!R14=\"\",\"\",ASIE!R14)","v":1},{"$f":"IF(ASIE!S14=\"\",\"\",ASIE!S14)","v":0},{"$f":"IF(ASIE!T14=\"\",\"\",ASIE!T14)","v":"OUZBÉKISTAN"}]
[{"$f":"ASIE!A15","v":"OUZBÉKISTAN"},{"$f":"IF(ASIE!F15=\"\",\"\",ASIE!F15)","v":1},{"$f":"IF(ASIE!G15=\"\",\"\",ASIE!G15)","v":0},{"$f":"IF(ASIE!H15=\"\",\"\",ASIE!H15)","v":"QATAR"},{"$f":"ASIE!M15","v":"QATAR"},{"$f":"IF(ASIE!R15=\"\",\"\",ASIE!R15)","v":0},{"$f":"IF(ASIE!S15=\"\",\"\",ASIE!S15)","v":1},{"$f":"IF(ASIE!T15=\"\",\"\",ASIE!T15)","v":"OUZBÉKISTAN"}]
[{"$f":"ASIE!A16","v":"SYRIE"},{"$f":"IF(ASIE!F16=\"\",\"\",ASIE!F16)","v":2},{"$f":"IF(ASIE!G16=\"\",\"\",ASIE!G16)","v":2},{"$f":"IF(ASIE!H16=\"\",\"\",ASIE!H16)","v":"RÉPUBLIQUE DE CHINE"},{"$f":"ASIE!M16","v":"RÉPUBLIQUE DE CHINE"},{"$f":"IF(ASIE!R16=\"\",\"\",ASIE!R16)","v":0},{"$f":"IF(ASIE!S16=\"\",\"\",ASIE!S16)","v":1},{"$f":"IF(ASIE!T16=\"\",\"\",ASIE!T16)","v":"SYRIE"}]
[{"$f":"ASIE!A17","v":"SYRIE"},{"$f":"IF(ASIE!F17=\"\",\"\",ASIE!F17)","v":3},{"$f":"IF(ASIE!G17=\"\",\"\",ASIE!G17)","v":1},{"$f":"IF(ASIE!H17=\"\",\"\",ASIE!H17)","v":"QATAR"},{"$f":"ASIE!M17","v":"QATAR"},{"$f":"IF(ASIE!R17=\"\",\"\",ASIE!R17)","v":1},{"$f":"IF(ASIE!S17=\"\",\"\",ASIE!S17)","v":0},{"$f":"IF(ASIE!T17=\"\",\"\",ASIE!T17)","v":"SYRIE"}]
[{"$f":"ASIE!A18","v":"RÉPUBLIQUE DE CHINE"},{"$f":"IF(ASIE!F18=\"\",\"\",ASIE!F18)","v":0},{"$f":"IF(ASIE!G18=\"\",\"\",ASIE!G18)","v":0},{"$f":"IF(ASIE!H18=\"\",\"\",ASIE!H18)","v":"QATAR"},{"$f":"ASIE!M18","v":"QATAR"},{"$f":"IF(ASIE!R18=\"\",\"\",ASIE!R18)","v":1},{"$f":"IF(ASIE!S18=\"\",\"\",ASIE!S18)","v":2},{"$f":"IF(ASIE!T18=\"\",\"\",ASIE!T18)","v":"RÉPUBLIQUE DE CHINE"}]
[{"$f":"E373","v":"RÉPUBLIQUE DE CORÉE"},{"$f":"F373","v":0},0,"IRAN",{"$f":"A373","v":"IRAN"},{"$f":"B373","v":1},0,"RÉPUBLIQUE DE CORÉE"]
[{"$f":"E374","v":"OUZBÉKISTAN"},{"$f":"F374","v":0},{"$f":"G374","v":1},{"$f":"H374","v":"IRAN"},{"$f":"A374","v":"IRAN"},{"$f":"B374","v":2},{"$f":"C374","v":0},{"$f":"D374","v":"OUZBÉKISTAN"}]
["SYRIE",0,0,"IRAN","IRAN",2,2,"SYRIE"]
["RÉPUBLIQUE DE CHINE",0,0,"IRAN","IRAN",1,0,"RÉPUBLIQUE DE CHINE"]
["QATAR",0,1,"IRAN","IRAN",2,0,"QATAR"]
["OUZBÉKISTAN",0,0,"RÉPUBLIQUE DE CORÉE","RÉPUBLIQUE DE CORÉE",2,1,"OUZBÉKISTAN"]
["SYRIE",0,0,"RÉPUBLIQUE DE CORÉE","RÉPUBLIQUE DE CORÉE",1,0,"SYRIE"]
["RÉPUBLIQUE DE CHINE",1,0,"RÉPUBLIQUE DE CORÉE","RÉPUBLIQUE DE CORÉE",3,2,"RÉPUBLIQUE DE CHINE"]
["QATAR",3,2,"RÉPUBLIQUE DE CORÉE","RÉPUBLIQUE DE CORÉE",3,2,"QATAR"]
["SYRIE",1,0,"OUZBÉKISTAN","OUZBÉKISTAN",1,0,"SYRIE"]
["RÉPUBLIQUE DE CHINE",1,0,"OUZBÉKISTAN","OUZBÉKISTAN",2,0,"RÉPUBLIQUE DE CHINE"]
["QATAR",0,1,"OUZBÉKISTAN","OUZBÉKISTAN",1,0,"QATAR"]
["RÉPUBLIQUE DE CHINE",0,1,"SYRIE","SYRIE",2,2,"RÉPUBLIQUE DE CHINE"]
["QATAR",1,0,"SYRIE","SYRIE",3,1,"QATAR"]
["QATAR",1,2,"RÉPUBLIQUE DE CHINE","RÉPUBLIQUE DE CHINE",0,0,"QATAR"]
[{"$f":"ASIE!A24","v":"JAPON"},{"$f":"IF(ASIE!F24=\"\",\"\",ASIE!F24)","v":2},{"$f":"IF(ASIE!G24=\"\",\"\",ASIE!G24)","v":1},{"$f":"IF(ASIE!H24=\"\",\"\",ASIE!H24)","v":"ARABIE SAOUDITE"},{"$f":"ASIE!M24","v":"ARABIE SAOUDITE"},{"$f":"IF(ASIE!R24=\"\",\"\",ASIE!R24)","v":1},{"$f":"IF(ASIE!S24=\"\",\"\",ASIE!S24)","v":0},{"$f":"IF(ASIE!T24=\"\",\"\",ASIE!T24)","v":"JAPON"}]
[{"$f":"ASIE!A25","v":"JAPON"},{"$f":"IF(ASIE!F25=\"\",\"\",ASIE!F25)","v":2},{"$f":"IF(ASIE!G25=\"\",\"\",ASIE!G25)","v":0},{"$f":"IF(ASIE!H25=\"\",\"\",ASIE!H25)","v":"AUSTRALIE"},{"$f":"ASIE!M25","v":"AUSTRALIE"},{"$f":"IF(ASIE!R25=\"\",\"\",ASIE!R25)","v":1},{"$f":"IF(ASIE!S25=\"\",\"\",ASIE!S25)","v":1},{"$f":"IF(ASIE!T25=\"\",\"\",ASIE!T25)","v":"JAPON"}]
[{"$f":"ASIE!A26","v":"JAPON"},{"$f":"IF(ASIE!F26=\"\",\"\",ASIE!F26)","v":1},{"$f":"IF(ASIE!G26=\"\",\"\",ASIE!G26)","v":2},{"$f":"IF(ASIE!H26=\"\",\"\",ASIE!H26)","v":"EMIRATS ARABES UNIS"},{"$f":"ASIE!M26","v":"EMIRATS ARABES UNIS"},{"$f":"IF(ASIE!R26=\"\",\"\",ASIE!R26)","v":0},{"$f":"IF(ASIE!S26=\"\",\"\",ASIE!S26)","v":2},{"$f":"IF(ASIE!T26=\"\",\"\",ASIE!T26)","v":"JAPON"}]
[{"$f":"ASIE!A27","v":"JAPON"},{"$f":"IF(ASIE!F27=\"\",\"\",ASIE!F27)","v":2},{"$f":"IF(ASIE!G27=\"\",\"\",ASIE!G27)","v":1},{"$f":"IF(ASIE!H27=\"\",\"\",ASIE!H27)","v":"IRAK"},{"$f":"ASIE!M27","v":"IRAK"},{"$f":"IF(ASIE!R27=\"\",\"\",ASIE!R27)","v":1},{"$f":"IF(ASIE!S27=\"\",\"\",ASIE!S27)","v":1},{"$f":"IF(ASIE!T27=\"\",\"\",ASIE!T27)","v":"JAPON"}]
[{"$f":"ASIE!A28","v":"JAPON"},{"$f":"IF(ASIE!F28=\"\",\"\",ASIE!F28)","v":4},{"$f":"IF(ASIE!G28=\"\",\"\",ASIE!G28)","v":0},{"$f":"IF(ASIE!H28=\"\",\"\",ASIE!H28)","v":"THAÏLANDE"},{"$f":"ASIE!M28","v":"THAÏLANDE"},{"$f":"IF(ASIE!R28=\"\",\"\",ASIE!R28)","v":0},{"$f":"IF(ASIE!S28=\"\",\"\",ASIE!S28)","v":2},{"$f":"IF(ASIE!T28=\"\",\"\",ASIE!T28)","v":"JAPON"}]
[{"$f":"ASIE!A29","v":"ARABIE SAOUDITE"},{"$f":"IF(ASIE!F29=\"\",\"\",ASIE!F29)","v":2},{"$f":"IF(ASIE!G29=\"\",\"\",ASIE!G29)","v":2},{"$f":"IF(ASIE!H29=\"\",\"\",ASIE!H29)","v":"AUSTRALIE"},{"$f":"ASIE!M29","v":"AUSTRALIE"},{"$f":"IF(ASIE!R29=\"\",\"\",ASIE!R29)","v":3},{"$f":"IF(ASIE!S29=\"\",\"\",ASIE!S29)","v":2},{"$f":"IF(ASIE!T29=\"\",\"\",ASIE!T29)","v":"ARABIE SAOUDITE"}]
[{"$f":"ASIE!A30","v":"ARABIE SAOUDITE"},{"$f":"IF(ASIE!F30=\"\",\"\",ASIE!F30)","v":3},{"$f":"IF(ASIE!G30=\"\",\"\",ASIE!G30)","v":0},{"$f":"IF(ASIE!H30=\"\",\"\",ASIE!H30)","v":"EMIRATS ARABES UNIS"},{"$f":"ASIE!M30","v":"EMIRATS ARABES UNIS"},{"$f":"IF(ASIE!R30=\"\",\"\",ASIE!R30)","v":2},{"$f":"IF(ASIE!S30=\"\",\"\",ASIE!S30)","v":1},{"$f":"IF(ASIE!T30=\"\",\"\",ASIE!T30)","v":"ARABIE SAOUDITE"}]
[{"$f":"ASIE!A31","v":"ARABIE SAOUDITE"},{"$f":"IF(ASIE!F31=\"\",\"\",ASIE!F31)","v":1},{"$f":"IF(ASIE!G31=\"\",\"\",ASIE!G31)","v":0},{"$f":"IF(ASIE!H31=\"\",\"\",ASIE!H31)","v":"IRAK"},{"$f":"ASIE!M31","v":"IRAK"},{"$f":"IF(ASIE!R31=\"\",\"\",ASIE!R31)","v":1},{"$f":"IF(ASIE!S31=\"\",\"\",ASIE!S31)","v":2},{"$f":"IF(ASIE!T31=\"\",\"\",ASIE!T31)","v":"ARABIE SAOUDITE"}]
[{"$f":"ASIE!A32","v":"ARABIE SAOUDITE"},{"$f":"IF(ASIE!F32=\"\",\"\",ASIE!F32)","v":1},{"$f":"IF(ASIE!G32=\"\",\"\",ASIE!G32)","v":0},{"$f":"IF(ASIE!H32=\"\",\"\",ASIE!H32)","v":"THAÏLANDE"},{"$f":"ASIE!M32","v":"THAÏLANDE"},{"$f":"IF(ASIE!R32=\"\",\"\",ASIE!R32)","v":0},{"$f":"IF(ASIE!S32=\"\",\"\",ASIE!S32)","v":3},{"$f":"IF(ASIE!T32=\"\",\"\",ASIE!T32)","v":"ARABIE SAOUDITE"}]
[{"$f":"ASIE!A33","v":"AUSTRALIE"},{"$f":"IF(ASIE!F33=\"\",\"\",ASIE!F33)","v":2},{"$f":"IF(ASIE!G33=\"\",\"\",ASIE!G33)","v":0},{"$f":"IF(ASIE!H33=\"\",\"\",ASIE!H33)","v":"EMIRATS ARABES UNIS"},{"$f":"ASIE!M33","v":"EMIRATS ARABES UNIS"},{"$f":"IF(ASIE!R33=\"\",\"\",ASIE!R33)","v":0},{"$f":"IF(ASIE!S33=\"\",\"\",ASIE!S33)","v":1},{"$f":"IF(ASIE!T33=\"\",\"\",ASIE!T33)","v":"AUSTRALIE"}]
[{"$f":"ASIE!A34","v":"AUSTRALIE"},{"$f":"IF(ASIE!F34=\"\",\"\",ASIE!F34)","v":2},{"$f":"IF(ASIE!G34=\"\",\"\",ASIE!G34)","v":0},{"$f":"IF(ASIE!H34=\"\",\"\",ASIE!H34)","v":"IRAK"},{"$f":"ASIE!M34","v":"IRAK"},{"$f":"IF(ASIE!R34=\"\",\"\",ASIE!R34)","v":1},{"$f":"IF(ASIE!S34=\"\",\"\",ASIE!S34)","v":1},{"$f":"IF(ASIE!T34=\"\",\"\",ASIE!T34)","v":"AUSTRALIE"}]
[{"$f":"ASIE!A35","v":"AUSTRALIE"},{"$f":"IF(ASIE!F35=\"\",\"\",ASIE!F35)","v":2},{"$f":"IF(ASIE!G35=\"\",\"\",ASIE!G35)","v":1},{"$f":"IF(ASIE!H35=\"\",\"\",ASIE!H35)","v":"THAÏLANDE"},{"$f":"ASIE!M35","v":"THAÏLANDE"},{"$f":"IF(ASIE!R35=\"\",\"\",ASIE!R35)","v":2},{"$f":"IF(ASIE!S35=\"\",\"\",ASIE!S35)","v":2},{"$f":"IF(ASIE!T35=\"\",\"\",ASIE!T35)","v":"AUSTRALIE"}]
[{"$f":"ASIE!A36","v":"EMIRATS ARABES UNIS"},{"$f":"IF(ASIE!F36=\"\",\"\",ASIE!F36)","v":2},{"$f":"IF(ASIE!G36=\"\",\"\",ASIE!G36)","v":0},{"$f":"IF(ASIE!H36=\"\",\"\",ASIE!H36)","v":"IRAK"},{"$f":"ASIE!M36","v":"IRAK"},{"$f":"IF(ASIE!R36=\"\",\"\",ASIE!R36)","v":1},{"$f":"IF(ASIE!S36=\"\",\"\",ASIE!S36)","v":0},{"$f":"IF(ASIE!T36=\"\",\"\",ASIE!T36)","v":"EMIRATS ARABES UNIS"}]
[{"$f":"ASIE!A37","v":"EMIRATS ARABES UNIS"},{"$f":"IF(ASIE!F37=\"\",\"\",ASIE!F37)","v":3},{"$f":"IF(ASIE!G37=\"\",\"\",ASIE!G37)","v":1},{"$f":"IF(ASIE!H37=\"\",\"\",ASIE!H37)","v":"THAÏLANDE"},{"$f":"ASIE!M37","v":"THAÏLANDE"},{"$f":"IF(ASIE!R37=\"\",\"\",ASIE!R37)","v":1},{"$f":"IF(ASIE!S37=\"\",\"\",ASIE!S37)","v":1},{"$f":"IF(ASIE!T37=\"\",\"\",ASIE!T37)","v":"EMIRATS ARABES UNIS"}]
[{"$f":"ASIE!A38","v":"IRAK"},{"$f":"IF(ASIE!F38=\"\",\"\",ASIE!F38)","v":4},{"$f":"IF(ASIE!G38=\"\",\"\",ASIE!G38)","v":0},{"$f":"IF(ASIE!H38=\"\",\"\",ASIE!H38)","v":"THAÏLANDE"},{"$f":"ASIE!M38","v":"THAÏLANDE"},{"$f":"IF(ASIE!R38=\"\",\"\",ASIE!R38)","v":1},{"$f":"IF(ASIE!S38=\"\",\"\",ASIE!S38)","v":2},{"$f":"IF(ASIE!T38=\"\",\"\",ASIE!T38)","v":"IRAK"}]
[{"$f":"E403","v":"ARABIE SAOUDITE"},{"$f":"F403","v":1},0,"JAPON",{"$f":"A403","v":"JAPON"},{"$f":"B403","v":2},1,"ARABIE SAOUDITE"]
[{"$f":"E404","v":"AUSTRALIE"},{"$f":"F404","v":1},{"$f":"G404","v":1},{"$f":"H404","v":"JAPON"},{"$f":"A404","v":"JAPON"},{"$f":"B404","v":2},{"$f":"C404","v":0},{"$f":"D404","v":"AUSTRALIE"}]
["EMIRATS ARABES UNIS",0,2,"JAPON","JAPON",1,2,"EMIRATS ARABES UNIS"]
["IRAK",1,1,"JAPON","JAPON",2,1,"IRAK"]
["THAÏLANDE",0,2,"JAPON","JAPON",4,0,"THAÏLANDE"]
["AUSTRALIE",3,2,"ARABIE SAOUDITE","ARABIE SAOUDITE",2,2,"AUSTRALIE"]
["EMIRATS ARABES UNIS",2,1,"ARABIE SAOUDITE","ARABIE SAOUDITE",3,0,"EMIRATS ARABES UNIS"]
["IRAK",1,2,"ARABIE SAOUDITE","ARABIE SAOUDITE",1,0,"IRAK"]
["THAÏLANDE",0,3,"ARABIE SAOUDITE","ARABIE SAOUDITE",1,0,"THAÏLANDE"]
["EMIRATS ARABES UNIS",0,1,"AUSTRALIE","AUSTRALIE",2,0,"EMIRATS ARABES UNIS"]
["IRAK",1,1,"AUSTRALIE","AUSTRALIE",2,0,"IRAK"]
["THAÏLANDE",2,2,"AUSTRALIE","AUSTRALIE",2,1,"THAÏLANDE"]
["IRAK",1,0,"EMIRATS ARABES UNIS","EMIRATS ARABES UNIS",2,0,"IRAK"]
["THAÏLANDE",1,1,"EMIRATS ARABES UNIS","EMIRATS ARABES UNIS",3,1,"THAÏLANDE"]
["THAÏLANDE",1,2,"IRAK","IRAK",4,0,"THAÏLANDE"]
[{"$f":"'AMERIQUE DU SUD'!A4:E4","v":"BRESIL"},{"$f":"IF('AMERIQUE DU SUD'!F4=\"\",\"\",'AMERIQUE DU SUD'!F4)","v":2},{"$f":"IF('AMERIQUE DU SUD'!G4=\"\",\"\",'AMERIQUE DU SUD'!G4)","v":1},{"$f":"IF('AMERIQUE DU SUD'!H4=\"\",\"\",'AMERIQUE DU SUD'!H4)","v":"COLOMBIE"},{"$f":"'AMERIQUE DU SUD'!M4:Q4","v":"COLOMBIE"},{"$f":"IF('AMERIQUE DU SUD'!R4=\"\",\"\",'AMERIQUE DU SUD'!R4)","v":1},{"$f":"IF('AMERIQUE DU SUD'!S4=\"\",\"\",'AMERIQUE DU SUD'!S4)","v":1},{"$f":"IF('AMERIQUE DU SUD'!T4=\"\",\"\",'AMERIQUE DU SUD'!T4)","v":"BRESIL"},null,"AFRIQUE DU SUD"]
[{"$f":"'AMERIQUE DU SUD'!A5:E5","v":"BRESIL"},{"$f":"IF('AMERIQUE DU SUD'!F5=\"\",\"\",'AMERIQUE DU SUD'!F5)","v":2},{"$f":"IF('AMERIQUE DU SUD'!G5=\"\",\"\",'AMERIQUE DU SUD'!G5)","v":2},{"$f":"IF('AMERIQUE DU SUD'!H5=\"\",\"\",'AMERIQUE DU SUD'!H5)","v":"URUGUAY"},{"$f":"'AMERIQUE DU SUD'!M5:Q5","v":"URUGUAY"},{"$f":"IF('AMERIQUE DU SUD'!R5=\"\",\"\",'AMERIQUE DU SUD'!R5)","v":1},{"$f":"IF('AMERIQUE DU SUD'!S5=\"\",\"\",'AMERIQUE DU SUD'!S5)","v":4},{"$f":"IF('AMERIQUE DU SUD'!T5=\"\",\"\",'AMERIQUE DU SUD'!T5)","v":"BRESIL"}]
[{"$f":"'AMERIQUE DU SUD'!A6:E6","v":"BRESIL"},{"$f":"IF('AMERIQUE DU SUD'!F6=\"\",\"\",'AMERIQUE DU SUD'!F6)","v":3},{"$f":"IF('AMERIQUE DU SUD'!G6=\"\",\"\",'AMERIQUE DU SUD'!G6)","v":0},{"$f":"IF('AMERIQUE DU SUD'!H6=\"\",\"\",'AMERIQUE DU SUD'!H6)","v":"CHILI"},{"$f":"'AMERIQUE DU SUD'!M6:Q6","v":"CHILI"},{"$f":"IF('AMERIQUE DU SUD'!R6=\"\",\"\",'AMERIQUE DU SUD'!R6)","v":2},{"$f":"IF('AMERIQUE DU SUD'!S6=\"\",\"\",'AMERIQUE DU SUD'!S6)","v":0},{"$f":"IF('AMERIQUE DU SUD'!T6=\"\",\"\",'AMERIQUE DU SUD'!T6)","v":"BRESIL"}]
[{"$f":"'AMERIQUE DU SUD'!A7:E7","v":"BRESIL"},{"$f":"IF('AMERIQUE DU SUD'!F7=\"\",\"\",'AMERIQUE DU SUD'!F7)","v":3},{"$f":"IF('AMERIQUE DU SUD'!G7=\"\",\"\",'AMERIQUE DU SUD'!G7)","v":0},{"$f":"IF('AMERIQUE DU SUD'!H7=\"\",\"\",'AMERIQUE DU SUD'!H7)","v":"ARGENTINE"},{"$f":"'AMERIQUE DU SUD'!M7:Q7","v":"ARGENTINE"},{"$f":"IF('AMERIQUE DU SUD'!R7=\"\",\"\",'AMERIQUE DU SUD'!R7)","v":1},{"$f":"IF('AMERIQUE DU SUD'!S7=\"\",\"\",'AMERIQUE DU SUD'!S7)","v":1},{"$f":"IF('AMERIQUE DU SUD'!T7=\"\",\"\",'AMERIQUE DU SUD'!T7)","v":"BRESIL"}]
[{"$f":"'AMERIQUE DU SUD'!A8:E8","v":"BRESIL"},{"$f":"IF('AMERIQUE DU SUD'!F8=\"\",\"\",'AMERIQUE DU SUD'!F8)","v":2},{"$f":"IF('AMERIQUE DU SUD'!G8=\"\",\"\",'AMERIQUE DU SUD'!G8)","v":0},{"$f":"IF('AMERIQUE DU SUD'!H8=\"\",\"\",'AMERIQUE DU SUD'!H8)","v":"EQUATEUR"},{"$f":"'AMERIQUE DU SUD'!M8:Q8","v":"EQUATEUR"},{"$f":"IF('AMERIQUE DU SUD'!R8=\"\",\"\",'AMERIQUE DU SUD'!R8)","v":0},{"$f":"IF('AMERIQUE DU SUD'!S8=\"\",\"\",'AMERIQUE DU SUD'!S8)","v":3},{"$f":"IF('AMERIQUE DU SUD'!T8=\"\",\"\",'AMERIQUE DU SUD'!T8)","v":"BRESIL"}]
[{"$f":"'AMERIQUE DU SUD'!A9:E9","v":"BRESIL"},{"$f":"IF('AMERIQUE DU SUD'!F9=\"\",\"\",'AMERIQUE DU SUD'!F9)","v":3},{"$f":"IF('AMERIQUE DU SUD'!G9=\"\",\"\",'AMERIQUE DU SUD'!G9)","v":0},{"$f":"IF('AMERIQUE DU SUD'!H9=\"\",\"\",'AMERIQUE DU SUD'!H9)","v":"PÉROU"},{"$f":"'AMERIQUE DU SUD'!M9:Q9","v":"PÉROU"},{"$f":"IF('AMERIQUE DU SUD'!R9=\"\",\"\",'AMERIQUE DU SUD'!R9)","v":0},{"$f":"IF('AMERIQUE DU SUD'!S9=\"\",\"\",'AMERIQUE DU SUD'!S9)","v":2},{"$f":"IF('AMERIQUE DU SUD'!T9=\"\",\"\",'AMERIQUE DU SUD'!T9)","v":"BRESIL"}]
[{"$f":"'AMERIQUE DU SUD'!A10:E10","v":"BRESIL"},{"$f":"IF('AMERIQUE DU SUD'!F10=\"\",\"\",'AMERIQUE DU SUD'!F10)","v":3},{"$f":"IF('AMERIQUE DU SUD'!G10=\"\",\"\",'AMERIQUE DU SUD'!G10)","v":0},{"$f":"IF('AMERIQUE DU SUD'!H10=\"\",\"\",'AMERIQUE DU SUD'!H10)","v":"PARAGUAY"},{"$f":"'AMERIQUE DU SUD'!M10:Q10","v":"PARAGUAY"},{"$f":"IF('AMERIQUE DU SUD'!R10=\"\",\"\",'AMERIQUE DU SUD'!R10)","v":2},{"$f":"IF('AMERIQUE DU SUD'!S10=\"\",\"\",'AMERIQUE DU SUD'!S10)","v":2},{"$f":"IF('AMERIQUE DU SUD'!T10=\"\",\"\",'AMERIQUE DU SUD'!T10)","v":"BRESIL"}]
[{"$f":"'AMERIQUE DU SUD'!A11:E11","v":"BRESIL"},{"$f":"IF('AMERIQUE DU SUD'!F11=\"\",\"\",'AMERIQUE DU SUD'!F11)","v":5},{"$f":"IF('AMERIQUE DU SUD'!G11=\"\",\"\",'AMERIQUE DU SUD'!G11)","v":0},{"$f":"IF('AMERIQUE DU SUD'!H11=\"\",\"\",'AMERIQUE DU SUD'!H11)","v":"BOLIVIE"},{"$f":"'AMERIQUE DU SUD'!M11:Q11","v":"BOLIVIE"},{"$f":"IF('AMERIQUE DU SUD'!R11=\"\",\"\",'AMERIQUE DU SUD'!R11)","v":0},{"$f":"IF('AMERIQUE DU SUD'!S11=\"\",\"\",'AMERIQUE DU SUD'!S11)","v":0},{"$f":"IF('AMERIQUE DU SUD'!T11=\"\",\"\",'AMERIQUE DU SUD'!T11)","v":"BRESIL"}]
[{"$f":"'AMERIQUE DU SUD'!A12:E12","v":"BRESIL"},{"$f":"IF('AMERIQUE DU SUD'!F12=\"\",\"\",'AMERIQUE DU SUD'!F12)","v":3},{"$f":"IF('AMERIQUE DU SUD'!G12=\"\",\"\",'AMERIQUE DU SUD'!G12)","v":1},{"$f":"IF('AMERIQUE DU SUD'!H12=\"\",\"\",'AMERIQUE DU SUD'!H12)","v":"VENEZUELA"},{"$f":"'AMERIQUE DU SUD'!M12:Q12","v":"VENEZUELA"},{"$f":"IF('AMERIQUE DU SUD'!R12=\"\",\"\",'AMERIQUE DU SUD'!R12)","v":0},{"$f":"IF('AMERIQUE DU SUD'!S12=\"\",\"\",'AMERIQUE DU SUD'!S12)","v":2},{"$f":"IF('AMERIQUE DU SUD'!T12=\"\",\"\",'AMERIQUE DU SUD'!T12)","v":"BRESIL"}]
[{"$f":"'AMERIQUE DU SUD'!A13:E13","v":"COLOMBIE"},{"$f":"IF('AMERIQUE DU SUD'!F13=\"\",\"\",'AMERIQUE DU SUD'!F13)","v":2},{"$f":"IF('AMERIQUE DU SUD'!G13=\"\",\"\",'AMERIQUE DU SUD'!G13)","v":2},{"$f":"IF('AMERIQUE DU SUD'!H13=\"\",\"\",'AMERIQUE DU SUD'!H13)","v":"URUGUAY"},{"$f":"'AMERIQUE DU SUD'!M13:Q13","v":"URUGUAY"},{"$f":"IF('AMERIQUE DU SUD'!R13=\"\",\"\",'AMERIQUE DU SUD'!R13)","v":3},{"$f":"IF('AMERIQUE DU SUD'!S13=\"\",\"\",'AMERIQUE DU SUD'!S13)","v":0},{"$f":"IF('AMERIQUE DU SUD'!T13=\"\",\"\",'AMERIQUE DU SUD'!T13)","v":"COLOMBIE"}]
[{"$f":"'AMERIQUE DU SUD'!A14:E14","v":"COLOMBIE"},{"$f":"IF('AMERIQUE DU SUD'!F14=\"\",\"\",'AMERIQUE DU SUD'!F14)","v":0},{"$f":"IF('AMERIQUE DU SUD'!G14=\"\",\"\",'AMERIQUE DU SUD'!G14)","v":0},{"$f":"IF('AMERIQUE DU SUD'!H14=\"\",\"\",'AMERIQUE DU SUD'!H14)","v":"CHILI"},{"$f":"'AMERIQUE DU SUD'!M14:Q14","v":"CHILI"},{"$f":"IF('AMERIQUE DU SUD'!R14=\"\",\"\",'AMERIQUE DU SUD'!R14)","v":1},{"$f":"IF('AMERIQUE DU SUD'!S14=\"\",\"\",'AMERIQUE DU SUD'!S14)","v":1},{"$f":"IF('AMERIQUE DU SUD'!T14=\"\",\"\",'AMERIQUE DU SUD'!T14)","v":"COLOMBIE"}]
[{"$f":"'AMERIQUE DU SUD'!A15:E15","v":"COLOMBIE"},{"$f":"IF('AMERIQUE DU SUD'!F15=\"\",\"\",'AMERIQUE DU SUD'!F15)","v":0},{"$f":"IF('AMERIQUE DU SUD'!G15=\"\",\"\",'AMERIQUE DU SUD'!G15)","v":1},{"$f":"IF('AMERIQUE DU SUD'!H15=\"\",\"\",'AMERIQUE DU SUD'!H15)","v":"ARGENTINE"},{"$f":"'AMERIQUE DU SUD'!M15:Q15","v":"ARGENTINE"},{"$f":"IF('AMERIQUE DU SUD'!R15=\"\",\"\",'AMERIQUE DU SUD'!R15)","v":3},{"$f":"IF('AMERIQUE DU SUD'!S15=\"\",\"\",'AMERIQUE DU SUD'!S15)","v":0},{"$f":"IF('AMERIQUE DU SUD'!T15=\"\",\"\",'AMERIQUE DU SUD'!T15)","v":"COLOMBIE"}]
[{"$f":"'AMERIQUE DU SUD'!A16:E16","v":"COLOMBIE"},{"$f":"IF('AMERIQUE DU SUD'!F16=\"\",\"\",'AMERIQUE DU SUD'!F16)","v":3},{"$f":"IF('AMERIQUE DU SUD'!G16=\"\",\"\",'AMERIQUE DU SUD'!G16)","v":1},{"$f":"IF('AMERIQUE DU SUD'!H16=\"\",\"\",'AMERIQUE DU SUD'!H16)","v":"EQUATEUR"},{"$f":"'AMERIQUE DU SUD'!M16:Q16","v":"EQUATEUR"},{"$f":"IF('AMERIQUE DU SUD'!R16=\"\",\"\",'AMERIQUE DU SUD'!R16)","v":0},{"$f":"IF('AMERIQUE DU SUD'!S16=\"\",\"\",'AMERIQUE DU SUD'!S16)","v":2},{"$f":"IF('AMERIQUE DU SUD'!T16=\"\",\"\",'AMERIQUE DU SUD'!T16)","v":"COLOMBIE"}]
[{"$f":"'AMERIQUE DU SUD'!A17:E17","v":"COLOMBIE"},{"$f":"IF('AMERIQUE DU SUD'!F17=\"\",\"\",'AMERIQUE DU SUD'!F17)","v":2},{"$f":"IF('AMERIQUE DU SUD'!G17=\"\",\"\",'AMERIQUE DU SUD'!G17)","v":0},{"$f":"IF('AMERIQUE DU SUD'!H17=\"\",\"\",'AMERIQUE DU SUD'!H17)","v":"PÉROU"},{"$f":"'AMERIQUE DU SUD'!M17:Q17","v":"PÉROU"},{"$f":"IF('AMERIQUE DU SUD'!R17=\"\",\"\",'AMERIQUE DU SUD'!R17)","v":1},{"$f":"IF('AMERIQUE DU SUD'!S17=\"\",\"\",'AMERIQUE DU SUD'!S17)","v":1},{"$f":"IF('AMERIQUE DU SUD'!T17=\"\",\"\",'AMERIQUE DU SUD'!T17)","v":"COLOMBIE"}]
[{"$f":"'AMERIQUE DU SUD'!A18:E18","v":"COLOMBIE"},{"$f":"IF('AMERIQUE DU SUD'!F18=\"\",\"\",'AMERIQUE DU SUD'!F18)","v":1},{"$f":"IF('AMERIQUE DU SUD'!G18=\"\",\"\",'AMERIQUE DU SUD'!G18)","v":2},{"$f":"IF('AMERIQUE DU SUD'!H18=\"\",\"\",'AMERIQUE DU SUD'!H18)","v":"PARAGUAY"},{"$f":"'AMERIQUE DU SUD'!M18:Q18","v":"PARAGUAY"},{"$f":"IF('AMERIQUE DU SUD'!R18=\"\",\"\",'AMERIQUE DU SUD'!R18)","v":0},{"$f":"IF('AMERIQUE DU SUD'!S18=\"\",\"\",'AMERIQUE DU SUD'!S18)","v":1},{"$f":"IF('AMERIQUE DU SUD'!T18=\"\",\"\",'AMERIQUE DU SUD'!T18)","v":"COLOMBIE"}]
[{"$f":"'AMERIQUE DU SUD'!A19:E19","v":"COLOMBIE"},{"$f":"IF('AMERIQUE DU SUD'!F19=\"\",\"\",'AMERIQUE DU SUD'!F19)","v":1},{"$f":"IF('AMERIQUE DU SUD'!G19=\"\",\"\",'AMERIQUE DU SUD'!G19)","v":0},{"$f":"IF('AMERIQUE DU SUD'!H19=\"\",\"\",'AMERIQUE DU SUD'!H19)","v":"BOLIVIE"},{"$f":"'AMERIQUE DU SUD'!M19:Q19","v":"BOLIVIE"},{"$f":"IF('AMERIQUE DU SUD'!R19=\"\",\"\",'AMERIQUE DU SUD'!R19)","v":2},{"$f":"IF('AMERIQUE DU SUD'!S19=\"\",\"\",'AMERIQUE DU SUD'!S19)","v":3},{"$f":"IF('AMERIQUE DU SUD'!T19=\"\",\"\",'AMERIQUE DU SUD'!T19)","v":"COLOMBIE"}]
[{"$f":"'AMERIQUE DU SUD'!A20:E20","v":"COLOMBIE"},{"$f":"IF('AMERIQUE DU SUD'!F20=\"\",\"\",'AMERIQUE DU SUD'!F20)","v":2},{"$f":"IF('AMERIQUE DU SUD'!G20=\"\",\"\",'AMERIQUE DU SUD'!G20)","v":0},{"$f":"IF('AMERIQUE DU SUD'!H20=\"\",\"\",'AMERIQUE DU SUD'!H20)","v":"VENEZUELA"},{"$f":"'AMERIQUE DU SUD'!M20:Q20","v":"VENEZUELA"},{"$f":"IF('AMERIQUE DU SUD'!R20=\"\",\"\",'AMERIQUE DU SUD'!R20)","v":0},{"$f":"IF('AMERIQUE DU SUD'!S20=\"\",\"\",'AMERIQUE DU SUD'!S20)","v":0},{"$f":"IF('AMERIQUE DU SUD'!T20=\"\",\"\",'AMERIQUE DU SUD'!T20)","v":"COLOMBIE"}]
[{"$f":"'AMERIQUE DU SUD'!A21:E21","v":"URUGUAY"},{"$f":"IF('AMERIQUE DU SUD'!F21=\"\",\"\",'AMERIQUE DU SUD'!F21)","v":3},{"$f":"IF('AMERIQUE DU SUD'!G21=\"\",\"\",'AMERIQUE DU SUD'!G21)","v":0},{"$f":"IF('AMERIQUE DU SUD'!H21=\"\",\"\",'AMERIQUE DU SUD'!H21)","v":"CHILI"},{"$f":"'AMERIQUE DU SUD'!M21:Q21","v":"CHILI"},{"$f":"IF('AMERIQUE DU SUD'!R21=\"\",\"\",'AMERIQUE DU SUD'!R21)","v":3},{"$f":"IF('AMERIQUE DU SUD'!S21=\"\",\"\",'AMERIQUE DU SUD'!S21)","v":1},{"$f":"IF('AMERIQUE DU SUD'!T21=\"\",\"\",'AMERIQUE DU SUD'!T21)","v":"URUGUAY"}]
[{"$f":"'AMERIQUE DU SUD'!A22:E22","v":"URUGUAY"},{"$f":"IF('AMERIQUE DU SUD'!F22=\"\",\"\",'AMERIQUE DU SUD'!F22)","v":0},{"$f":"IF('AMERIQUE DU SUD'!G22=\"\",\"\",'AMERIQUE DU SUD'!G22)","v":0},{"$f":"IF('AMERIQUE DU SUD'!H22=\"\",\"\",'AMERIQUE DU SUD'!H22)","v":"ARGENTINE"},{"$f":"'AMERIQUE DU SUD'!M22:Q22","v":"ARGENTINE"},{"$f":"IF('AMERIQUE DU SUD'!R22=\"\",\"\",'AMERIQUE DU SUD'!R22)","v":1},{"$f":"IF('AMERIQUE DU SUD'!S22=\"\",\"\",'AMERIQUE DU SUD'!S22)","v":0},{"$f":"IF('AMERIQUE DU SUD'!T22=\"\",\"\",'AMERIQUE DU SUD'!T22)","v":"URUGUAY"}]
[{"$f":"'AMERIQUE DU SUD'!A23:E23","v":"URUGUAY"},{"$f":"IF('AMERIQUE DU SUD'!F23=\"\",\"\",'AMERIQUE DU SUD'!F23)","v":2},{"$f":"IF('AMERIQUE DU SUD'!G23=\"\",\"\",'AMERIQUE DU SUD'!G23)","v":1},{"$f":"IF('AMERIQUE DU SUD'!H23=\"\",\"\",'AMERIQUE DU SUD'!H23)","v":"EQUATEUR"},{"$f":"'AMERIQUE DU SUD'!M23:Q23","v":"EQUATEUR"},{"$f":"IF('AMERIQUE DU SUD'!R23=\"\",\"\",'AMERIQUE DU SUD'!R23)","v":2},{"$f":"IF('AMERIQUE DU SUD'!S23=\"\",\"\",'AMERIQUE DU SUD'!S23)","v":1},{"$f":"IF('AMERIQUE DU SUD'!T23=\"\",\"\",'AMERIQUE DU SUD'!T23)","v":"URUGUAY"}]
[{"$f":"'AMERIQUE DU SUD'!A24:E24","v":"URUGUAY"},{"$f":"IF('AMERIQUE DU SUD'!F24=\"\",\"\",'AMERIQUE DU SUD'!F24)","v":1},{"$f":"IF('AMERIQUE DU SUD'!G24=\"\",\"\",'AMERIQUE DU SUD'!G24)","v":0},{"$f":"IF('AMERIQUE DU SUD'!H24=\"\",\"\",'AMERIQUE DU SUD'!H24)","v":"PÉROU"},{"$f":"'AMERIQUE DU SUD'!M24:Q24","v":"PÉROU"},{"$f":"IF('AMERIQUE DU SUD'!R24=\"\",\"\",'AMERIQUE DU SUD'!R24)","v":2},{"$f":"IF('AMERIQUE DU SUD'!S24=\"\",\"\",'AMERIQUE DU SUD'!S24)","v":1},{"$f":"IF('AMERIQUE DU SUD'!T24=\"\",\"\",'AMERIQUE DU SUD'!T24)","v":"URUGUAY"}]
[{"$f":"'AMERIQUE DU SUD'!A25:E25","v":"URUGUAY"},{"$f":"IF('AMERIQUE DU SUD'!F25=\"\",\"\",'AMERIQUE DU SUD'!F25)","v":4},{"$f":"IF('AMERIQUE DU SUD'!G25=\"\",\"\",'AMERIQUE DU SUD'!G25)","v":0},{"$f":"IF('AMERIQUE DU SUD'!H25=\"\",\"\",'AMERIQUE DU SUD'!H25)","v":"PARAGUAY"},{"$f":"'AMERIQUE DU SUD'!M25:Q25","v":"PARAGUAY"},{"$f":"IF('AMERIQUE DU SUD'!R25=\"\",\"\",'AMERIQUE DU SUD'!R25)","v":1},{"$f":"IF('AMERIQUE DU SUD'!S25=\"\",\"\",'AMERIQUE DU SUD'!S25)","v":2},{"$f":"IF('AMERIQUE DU SUD'!T25=\"\",\"\",'AMERIQUE DU SUD'!T25)","v":"URUGUAY"}]
[{"$f":"'AMERIQUE DU SUD'!A26:E26","v":"URUGUAY"},{"$f":"IF('AMERIQUE DU SUD'!F26=\"\",\"\",'AMERIQUE DU SUD'!F26)","v":4},{"$f":"IF('AMERIQUE DU SUD'!G26=\"\",\"\",'AMERIQUE DU SUD'!G26)","v":2},{"$f":"IF('AMERIQUE DU SUD'!H26=\"\",\"\",'AMERIQUE DU SUD'!H26)","v":"BOLIVIE"},{"$f":"'AMERIQUE DU SUD'!M26:Q26","v":"BOLIVIE"},{"$f":"IF('AMERIQUE DU SUD'!R26=\"\",\"\",'AMERIQUE DU SUD'!R26)","v":0},{"$f":"IF('AMERIQUE DU SUD'!S26=\"\",\"\",'AMERIQUE DU SUD'!S26)","v":2},{"$f":"IF('AMERIQUE DU SUD'!T26=\"\",\"\",'AMERIQUE DU SUD'!T26)","v":"URUGUAY"}]
[{"$f":"'AMERIQUE DU SUD'!A27:E27","v":"URUGUAY"},{"$f":"IF('AMERIQUE DU SUD'!F27=\"\",\"\",'AMERIQUE DU SUD'!F27)","v":3},{"$f":"IF('AMERIQUE DU SUD'!G27=\"\",\"\",'AMERIQUE DU SUD'!G27)","v":0},{"$f":"IF('AMERIQUE DU SUD'!H27=\"\",\"\",'AMERIQUE DU SUD'!H27)","v":"VENEZUELA"},{"$f":"'AMERIQUE DU SUD'!M27:Q27","v":"VENEZUELA"},{"$f":"IF('AMERIQUE DU SUD'!R27=\"\",\"\",'AMERIQUE DU SUD'!R27)","v":0},{"$f":"IF('AMERIQUE DU SUD'!S27=\"\",\"\",'AMERIQUE DU SUD'!S27)","v":0},{"$f":"IF('AMERIQUE DU SUD'!T27=\"\",\"\",'AMERIQUE DU SUD'!T27)","v":"URUGUAY"}]
[{"$f":"'AMERIQUE DU SUD'!A28:E28","v":"CHILI"},{"$f":"IF('AMERIQUE DU SUD'!F28=\"\",\"\",'AMERIQUE DU SUD'!F28)","v":1},{"$f":"IF('AMERIQUE DU SUD'!G28=\"\",\"\",'AMERIQUE DU SUD'!G28)","v":2},{"$f":"IF('AMERIQUE DU SUD'!H28=\"\",\"\",'AMERIQUE DU SUD'!H28)","v":"ARGENTINE"},{"$f":"'AMERIQUE DU SUD'!M28:Q28","v":"ARGENTINE"},{"$f":"IF('AMERIQUE DU SUD'!R28=\"\",\"\",'AMERIQUE DU SUD'!R28)","v":1},{"$f":"IF('AMERIQUE DU SUD'!S28=\"\",\"\",'AMERIQUE DU SUD'!S28)","v":0},{"$f":"IF('AMERIQUE DU SUD'!T28=\"\",\"\",'AMERIQUE DU SUD'!T28)","v":"CHILI"}]
[{"$f":"'AMERIQUE DU SUD'!A29:E29","v":"CHILI"},{"$f":"IF('AMERIQUE DU SUD'!F29=\"\",\"\",'AMERIQUE DU SUD'!F29)","v":2},{"$f":"IF('AMERIQUE DU SUD'!G29=\"\",\"\",'AMERIQUE DU SUD'!G29)","v":1},{"$f":"IF('AMERIQUE DU SUD'!H29=\"\",\"\",'AMERIQUE DU SUD'!H29)","v":"EQUATEUR"},{"$f":"'AMERIQUE DU SUD'!M29:Q29","v":"EQUATEUR"},{"$f":"IF('AMERIQUE DU SUD'!R29=\"\",\"\",'AMERIQUE DU SUD'!R29)","v":3},{"$f":"IF('AMERIQUE DU SUD'!S29=\"\",\"\",'AMERIQUE DU SUD'!S29)","v":0},{"$f":"IF('AMERIQUE DU SUD'!T29=\"\",\"\",'AMERIQUE DU SUD'!T29)","v":"CHILI"}]
[{"$f":"'AMERIQUE DU SUD'!A30:E30","v":"CHILI"},{"$f":"IF('AMERIQUE DU SUD'!F30=\"\",\"\",'AMERIQUE DU SUD'!F30)","v":2},{"$f":"IF('AMERIQUE DU SUD'!G30=\"\",\"\",'AMERIQUE DU SUD'!G30)","v":1},{"$f":"IF('AMERIQUE DU SUD'!H30=\"\",\"\",'AMERIQUE DU SUD'!H30)","v":"PÉROU"},{"$f":"'AMERIQUE DU SUD'!M30:Q30","v":"PÉROU"},{"$f":"IF('AMERIQUE DU SUD'!R30=\"\",\"\",'AMERIQUE DU SUD'!R30)","v":3},{"$f":"IF('AMERIQUE DU SUD'!S30=\"\",\"\",'AMERIQUE DU SUD'!S30)","v":4},{"$f":"IF('AMERIQUE DU SUD'!T30=\"\",\"\",'AMERIQUE DU SUD'!T30)","v":"CHILI"}]
[{"$f":"'AMERIQUE DU SUD'!A31:E31","v":"CHILI"},{"$f":"IF('AMERIQUE DU SUD'!F31=\"\",\"\",'AMERIQUE DU SUD'!F31)","v":0},{"$f":"IF('AMERIQUE DU SUD'!G31=\"\",\"\",'AMERIQUE DU SUD'!G31)","v":3},{"$f":"IF('AMERIQUE DU SUD'!H31=\"\",\"\",'AMERIQUE DU SUD'!H31)","v":"PARAGUAY"},{"$f":"'AMERIQUE DU SUD'!M31:Q31","v":"PARAGUAY"},{"$f":"IF('AMERIQUE DU SUD'!R31=\"\",\"\",'AMERIQUE DU SUD'!R31)","v":2},{"$f":"IF('AMERIQUE DU SUD'!S31=\"\",\"\",'AMERIQUE DU SUD'!S31)","v":1},{"$f":"IF('AMERIQUE DU SUD'!T31=\"\",\"\",'AMERIQUE DU SUD'!T31)","v":"CHILI"}]
[{"$f":"'AMERIQUE DU SUD'!A32:E32","v":"CHILI"},{"$f":"IF('AMERIQUE DU SUD'!F32=\"\",\"\",'AMERIQUE DU SUD'!F32)","v":3},{"$f":"IF('AMERIQUE DU SUD'!G32=\"\",\"\",'AMERIQUE DU SUD'!G32)","v":0},{"$f":"IF('AMERIQUE DU SUD'!H32=\"\",\"\",'AMERIQUE DU SUD'!H32)","v":"BOLIVIE"},{"$f":"'AMERIQUE DU SUD'!M32:Q32","v":"BOLIVIE"},{"$f":"IF('AMERIQUE DU SUD'!R32=\"\",\"\",'AMERIQUE DU SUD'!R32)","v":1},{"$f":"IF('AMERIQUE DU SUD'!S32=\"\",\"\",'AMERIQUE DU SUD'!S32)","v":0},{"$f":"IF('AMERIQUE DU SUD'!T32=\"\",\"\",'AMERIQUE DU SUD'!T32)","v":"CHILI"}]
[{"$f":"'AMERIQUE DU SUD'!A33:E33","v":"CHILI"},{"$f":"IF('AMERIQUE DU SUD'!F33=\"\",\"\",'AMERIQUE DU SUD'!F33)","v":3},{"$f":"IF('AMERIQUE DU SUD'!G33=\"\",\"\",'AMERIQUE DU SUD'!G33)","v":1},{"$f":"IF('AMERIQUE DU SUD'!H33=\"\",\"\",'AMERIQUE DU SUD'!H33)","v":"VENEZUELA"},{"$f":"'AMERIQUE DU SUD'!M33:Q33","v":"VENEZUELA"},{"$f":"IF('AMERIQUE DU SUD'!R33=\"\",\"\",'AMERIQUE DU SUD'!R33)","v":1},{"$f":"IF('AMERIQUE DU SUD'!S33=\"\",\"\",'AMERIQUE DU SUD'!S33)","v":4},{"$f":"IF('AMERIQUE DU SUD'!T33=\"\",\"\",'AMERIQUE DU SUD'!T33)","v":"CHILI"}]
[{"$f":"'AMERIQUE DU SUD'!A34:E34","v":"ARGENTINE"},{"$f":"IF('AMERIQUE DU SUD'!F34=\"\",\"\",'AMERIQUE DU SUD'!F34)","v":0},{"$f":"IF('AMERIQUE DU SUD'!G34=\"\",\"\",'AMERIQUE DU SUD'!G34)","v":2},{"$f":"IF('AMERIQUE DU SUD'!H34=\"\",\"\",'AMERIQUE DU SUD'!H34)","v":"EQUATEUR"},{"$f":"'AMERIQUE DU SUD'!M34:Q34","v":"EQUATEUR"},{"$f":"IF('AMERIQUE DU SUD'!R34=\"\",\"\",'AMERIQUE DU SUD'!R34)","v":1},{"$f":"IF('AMERIQUE DU SUD'!S34=\"\",\"\",'AMERIQUE DU SUD'!S34)","v":3},{"$f":"IF('AMERIQUE DU SUD'!T34=\"\",\"\",'AMERIQUE DU SUD'!T34)","v":"ARGENTINE"}]
[{"$f":"'AMERIQUE DU SUD'!A35:E35","v":"ARGENTINE"},{"$f":"IF('AMERIQUE DU SUD'!F35=\"\",\"\",'AMERIQUE DU SUD'!F35)","v":0},{"$f":"IF('AMERIQUE DU SUD'!G35=\"\",\"\",'AMERIQUE DU SUD'!G35)","v":0},{"$f":"IF('AMERIQUE DU SUD'!H35=\"\",\"\",'AMERIQUE DU SUD'!H35)","v":"PÉROU"},{"$f":"'AMERIQUE DU SUD'!M35:Q35","v":"PÉROU"},{"$f":"IF('AMERIQUE DU SUD'!R35=\"\",\"\",'AMERIQUE DU SUD'!R35)","v":2},{"$f":"IF('AMERIQUE DU SUD'!S35=\"\",\"\",'AMERIQUE DU SUD'!S35)","v":2},{"$f":"IF('AMERIQUE DU SUD'!T35=\"\",\"\",'AMERIQUE DU SUD'!T35)","v":"ARGENTINE"}]
[{"$f":"'AMERIQUE DU SUD'!A36:E36","v":"ARGENTINE"},{"$f":"IF('AMERIQUE DU SUD'!F36=\"\",\"\",'AMERIQUE DU SUD'!F36)","v":0},{"$f":"IF('AMERIQUE DU SUD'!G36=\"\",\"\",'AMERIQUE DU SUD'!G36)","v":1},{"$f":"IF('AMERIQUE DU SUD'!H36=\"\",\"\",'AMERIQUE DU SUD'!H36)","v":"PARAGUAY"},{"$f":"'AMERIQUE DU SUD'!M36:Q36","v":"PARAGUAY"},{"$f":"IF('AMERIQUE DU SUD'!R36=\"\",\"\",'AMERIQUE DU SUD'!R36)","v":0},{"$f":"IF('AMERIQUE DU SUD'!S36=\"\",\"\",'AMERIQUE DU SUD'!S36)","v":0},{"$f":"IF('AMERIQUE DU SUD'!T36=\"\",\"\",'AMERIQUE DU SUD'!T36)","v":"ARGENTINE"}]
[{"$f":"'AMERIQUE DU SUD'!A37:E37","v":"ARGENTINE"},{"$f":"IF('AMERIQUE DU SUD'!F37=\"\",\"\",'AMERIQUE DU SUD'!F37)","v":2},{"$f":"IF('AMERIQUE DU SUD'!G37=\"\",\"\",'AMERIQUE DU SUD'!G37)","v":0},{"$f":"IF('AMERIQUE DU SUD'!H37=\"\",\"\",'AMERIQUE DU SUD'!H37)","v":"BOLIVIE"},{"$f":"'AMERIQUE DU SUD'!M37:Q37","v":"BOLIVIE"},{"$f":"IF('AMERIQUE DU SUD'!R37=\"\",\"\",'AMERIQUE DU SUD'!R37)","v":2},{"$f":"IF('AMERIQUE DU SUD'!S37=\"\",\"\",'AMERIQUE DU SUD'!S37)","v":0},{"$f":"IF('AMERIQUE DU SUD'!T37=\"\",\"\",'AMERIQUE DU SUD'!T37)","v":"ARGENTINE"}]
[{"$f":"'AMERIQUE DU SUD'!A38:E38","v":"ARGENTINE"},{"$f":"IF('AMERIQUE DU SUD'!F38=\"\",\"\",'AMERIQUE DU SUD'!F38)","v":1},{"$f":"IF('AMERIQUE DU SUD'!G38=\"\",\"\",'AMERIQUE DU SUD'!G38)","v":1},{"$f":"IF('AMERIQUE DU SUD'!H38=\"\",\"\",'AMERIQUE DU SUD'!H38)","v":"VENEZUELA"},{"$f":"'AMERIQUE DU SUD'!M38:Q38","v":"VENEZUELA"},{"$f":"IF('AMERIQUE DU SUD'!R38=\"\",\"\",'AMERIQUE DU SUD'!R38)","v":2},{"$f":"IF('AMERIQUE DU SUD'!S38=\"\",\"\",'AMERIQUE DU SUD'!S38)","v":2},{"$f":"IF('AMERIQUE DU SUD'!T38=\"\",\"\",'AMERIQUE DU SUD'!T38)","v":"ARGENTINE"}]
[{"$f":"'AMERIQUE DU SUD'!A39:E39","v":"EQUATEUR"},{"$f":"IF('AMERIQUE DU SUD'!F39=\"\",\"\",'AMERIQUE DU SUD'!F39)","v":1},{"$f":"IF('AMERIQUE DU SUD'!G39=\"\",\"\",'AMERIQUE DU SUD'!G39)","v":2},{"$f":"IF('AMERIQUE DU SUD'!H39=\"\",\"\",'AMERIQUE DU SUD'!H39)","v":"PÉROU"},{"$f":"'AMERIQUE DU SUD'!M39:Q39","v":"PÉROU"},{"$f":"IF('AMERIQUE DU SUD'!R39=\"\",\"\",'AMERIQUE DU SUD'!R39)","v":2},{"$f":"IF('AMERIQUE DU SUD'!S39=\"\",\"\",'AMERIQUE DU SUD'!S39)","v":1},{"$f":"IF('AMERIQUE DU SUD'!T39=\"\",\"\",'AMERIQUE DU SUD'!T39)","v":"EQUATEUR"}]
[{"$f":"'AMERIQUE DU SUD'!A40:E40","v":"EQUATEUR"},{"$f":"IF('AMERIQUE DU SUD'!F40=\"\",\"\",'AMERIQUE DU SUD'!F40)","v":2},{"$f":"IF('AMERIQUE DU SUD'!G40=\"\",\"\",'AMERIQUE DU SUD'!G40)","v":2},{"$f":"IF('AMERIQUE DU SUD'!H40=\"\",\"\",'AMERIQUE DU SUD'!H40)","v":"PARAGUAY"},{"$f":"'AMERIQUE DU SUD'!M40:Q40","v":"PARAGUAY"},{"$f":"IF('AMERIQUE DU SUD'!R40=\"\",\"\",'AMERIQUE DU SUD'!R40)","v":2},{"$f":"IF('AMERIQUE DU SUD'!S40=\"\",\"\",'AMERIQUE DU SUD'!S40)","v":1},{"$f":"IF('AMERIQUE DU SUD'!T40=\"\",\"\",'AMERIQUE DU SUD'!T40)","v":"EQUATEUR"}]
[{"$f":"'AMERIQUE DU SUD'!A41:E41","v":"EQUATEUR"},{"$f":"IF('AMERIQUE DU SUD'!F41=\"\",\"\",'AMERIQUE DU SUD'!F41)","v":2},{"$f":"IF('AMERIQUE DU SUD'!G41=\"\",\"\",'AMERIQUE DU SUD'!G41)","v":0},{"$f":"IF('AMERIQUE DU SUD'!H41=\"\",\"\",'AMERIQUE DU SUD'!H41)","v":"BOLIVIE"},{"$f":"'AMERIQUE DU SUD'!M41:Q41","v":"BOLIVIE"},{"$f":"IF('AMERIQUE DU SUD'!R41=\"\",\"\",'AMERIQUE DU SUD'!R41)","v":2},{"$f":"IF('AMERIQUE DU SUD'!S41=\"\",\"\",'AMERIQUE DU SUD'!S41)","v":2},{"$f":"IF('AMERIQUE DU SUD'!T41=\"\",\"\",'AMERIQUE DU SUD'!T41)","v":"EQUATEUR"}]
[{"$f":"'AMERIQUE DU SUD'!A42:E42","v":"EQUATEUR"},{"$f":"IF('AMERIQUE DU SUD'!F42=\"\",\"\",'AMERIQUE DU SUD'!F42)","v":3},{"$f":"IF('AMERIQUE DU SUD'!G42=\"\",\"\",'AMERIQUE DU SUD'!G42)","v":0},{"$f":"IF('AMERIQUE DU SUD'!H42=\"\",\"\",'AMERIQUE DU SUD'!H42)","v":"VENEZUELA"},{"$f":"'AMERIQUE DU SUD'!M42:Q42","v":"VENEZUELA"},{"$f":"IF('AMERIQUE DU SUD'!R42=\"\",\"\",'AMERIQUE DU SUD'!R42)","v":1},{"$f":"IF('AMERIQUE DU SUD'!S42=\"\",\"\",'AMERIQUE DU SUD'!S42)","v":3},{"$f":"IF('AMERIQUE DU SUD'!T42=\"\",\"\",'AMERIQUE DU SUD'!T42)","v":"EQUATEUR"}]
[{"$f":"'AMERIQUE DU SUD'!A43:E43","v":"PÉROU"},{"$f":"IF('AMERIQUE DU SUD'!F43=\"\",\"\",'AMERIQUE DU SUD'!F43)","v":1},{"$f":"IF('AMERIQUE DU SUD'!G43=\"\",\"\",'AMERIQUE DU SUD'!G43)","v":0},{"$f":"IF('AMERIQUE DU SUD'!H43=\"\",\"\",'AMERIQUE DU SUD'!H43)","v":"PARAGUAY"},{"$f":"'AMERIQUE DU SUD'!M43:Q43","v":"PARAGUAY"},{"$f":"IF('AMERIQUE DU SUD'!R43=\"\",\"\",'AMERIQUE DU SUD'!R43)","v":1},{"$f":"IF('AMERIQUE DU SUD'!S43=\"\",\"\",'AMERIQUE DU SUD'!S43)","v":4},{"$f":"IF('AMERIQUE DU SUD'!T43=\"\",\"\",'AMERIQUE DU SUD'!T43)","v":"PÉROU"}]
[{"$f":"'AMERIQUE DU SUD'!A44:E44","v":"PÉROU"},{"$f":"IF('AMERIQUE DU SUD'!F44=\"\",\"\",'AMERIQUE DU SUD'!F44)","v":2},{"$f":"IF('AMERIQUE DU SUD'!G44=\"\",\"\",'AMERIQUE DU SUD'!G44)","v":1},{"$f":"IF('AMERIQUE DU SUD'!H44=\"\",\"\",'AMERIQUE DU SUD'!H44)","v":"BOLIVIE"},{"$f":"'AMERIQUE DU SUD'!M44:Q44","v":"BOLIVIE"},{"$f":"IF('AMERIQUE DU SUD'!R44=\"\",\"\",'AMERIQUE DU SUD'!R44)","v":0},{"$f":"IF('AMERIQUE DU SUD'!S44=\"\",\"\",'AMERIQUE DU SUD'!S44)","v":3},{"$f":"IF('AMERIQUE DU SUD'!T44=\"\",\"\",'AMERIQUE DU SUD'!T44)","v":"PÉROU"}]
[{"$f":"'AMERIQUE DU SUD'!A45:E45","v":"PÉROU"},{"$f":"IF('AMERIQUE DU SUD'!F45=\"\",\"\",'AMERIQUE DU SUD'!F45)","v":2},{"$f":"IF('AMERIQUE DU SUD'!G45=\"\",\"\",'AMERIQUE DU SUD'!G45)","v":2},{"$f":"IF('AMERIQUE DU SUD'!H45=\"\",\"\",'AMERIQUE DU SUD'!H45)","v":"VENEZUELA"},{"$f":"'AMERIQUE DU SUD'!M45:Q45","v":"VENEZUELA"},{"$f":"IF('AMERIQUE DU SUD'!R45=\"\",\"\",'AMERIQUE DU SUD'!R45)","v":2},{"$f":"IF('AMERIQUE DU SUD'!S45=\"\",\"\",'AMERIQUE DU SUD'!S45)","v":2},{"$f":"IF('AMERIQUE DU SUD'!T45=\"\",\"\",'AMERIQUE DU SUD'!T45)","v":"PÉROU"}]
[{"$f":"'AMERIQUE DU SUD'!A46:E46","v":"PARAGUAY"},{"$f":"IF('AMERIQUE DU SUD'!F46=\"\",\"\",'AMERIQUE DU SUD'!F46)","v":2},{"$f":"IF('AMERIQUE DU SUD'!G46=\"\",\"\",'AMERIQUE DU SUD'!G46)","v":1},{"$f":"IF('AMERIQUE DU SUD'!H46=\"\",\"\",'AMERIQUE DU SUD'!H46)","v":"BOLIVIE"},{"$f":"'AMERIQUE DU SUD'!M46:Q46","v":"BOLIVIE"},{"$f":"IF('AMERIQUE DU SUD'!R46=\"\",\"\",'AMERIQUE DU SUD'!R46)","v":1},{"$f":"IF('AMERIQUE DU SUD'!S46=\"\",\"\",'AMERIQUE DU SUD'!S46)","v":0},{"$f":"IF('AMERIQUE DU SUD'!T46=\"\",\"\",'AMERIQUE DU SUD'!T46)","v":"PARAGUAY"}]
[{"$f":"'AMERIQUE DU SUD'!A47:E47","v":"PARAGUAY"},{"$f":"IF('AMERIQUE DU SUD'!F47=\"\",\"\",'AMERIQUE DU SUD'!F47)","v":0},{"$f":"IF('AMERIQUE DU SUD'!G47=\"\",\"\",'AMERIQUE DU SUD'!G47)","v":1},{"$f":"IF('AMERIQUE DU SUD'!H47=\"\",\"\",'AMERIQUE DU SUD'!H47)","v":"VENEZUELA"},{"$f":"'AMERIQUE DU SUD'!M47:Q47","v":"VENEZUELA"},{"$f":"IF('AMERIQUE DU SUD'!R47=\"\",\"\",'AMERIQUE DU SUD'!R47)","v":0},{"$f":"IF('AMERIQUE DU SUD'!S47=\"\",\"\",'AMERIQUE DU SUD'!S47)","v":1},{"$f":"IF('AMERIQUE DU SUD'!T47=\"\",\"\",'AMERIQUE DU SUD'!T47)","v":"PARAGUAY"}]
[{"$f":"'AMERIQUE DU SUD'!A48:E48","v":"BOLIVIE"},{"$f":"IF('AMERIQUE DU SUD'!F48=\"\",\"\",'AMERIQUE DU SUD'!F48)","v":4},{"$f":"IF('AMERIQUE DU SUD'!G48=\"\",\"\",'AMERIQUE DU SUD'!G48)","v":2},{"$f":"IF('AMERIQUE DU SUD'!H48=\"\",\"\",'AMERIQUE DU SUD'!H48)","v":"VENEZUELA"},{"$f":"'AMERIQUE DU SUD'!M48:Q48","v":"VENEZUELA"},{"$f":"IF('AMERIQUE DU SUD'!R48=\"\",\"\",'AMERIQUE DU SUD'!R48)","v":5},{"$f":"IF('AMERIQUE DU SUD'!S48=\"\",\"\",'AMERIQUE DU SUD'!S48)","v":0},{"$f":"IF('AMERIQUE DU SUD'!T48=\"\",\"\",'AMERIQUE DU SUD'!T48)","v":"BOLIVIE"}]
[{"$f":"E433","v":"COLOMBIE"},{"$f":"F433","v":1},1,"BRESIL",{"$f":"A433","v":"BRESIL"},{"$f":"B433","v":2},1,"COLOMBIE"]
[{"$f":"E434","v":"URUGUAY"},{"$f":"F434","v":1},{"$f":"G434","v":4},{"$f":"H434","v":"BRESIL"},{"$f":"A434","v":"BRESIL"},{"$f":"B434","v":2},{"$f":"C434","v":2},{"$f":"D434","v":"URUGUAY"}]
["CHILI",2,0,"BRESIL","BRESIL",3,0,"CHILI"]
["ARGENTINE",1,1,"BRESIL","BRESIL",3,0,"ARGENTINE"]
["EQUATEUR",0,3,"BRESIL","BRESIL",2,0,"EQUATEUR"]
["PÉROU",0,2,"BRESIL","BRESIL",3,0,"PÉROU"]
["PARAGUAY",2,2,"BRESIL","BRESIL",3,0,"PARAGUAY"]
["BOLIVIE",0,0,"BRESIL","BRESIL",5,0,"BOLIVIE"]
["VENEZUELA",0,2,"BRESIL","BRESIL",3,1,"VENEZUELA"]
["URUGUAY",3,0,"COLOMBIE","COLOMBIE",2,2,"URUGUAY"]
["CHILI",1,1,"COLOMBIE","COLOMBIE",0,0,"CHILI"]
["ARGENTINE",3,0,"COLOMBIE","COLOMBIE",0,1,"ARGENTINE"]
["EQUATEUR",0,2,"COLOMBIE","COLOMBIE",3,1,"EQUATEUR"]
["PÉROU",1,1,"COLOMBIE","COLOMBIE",2,0,"PÉROU"]
["PARAGUAY",0,1,"COLOMBIE","COLOMBIE",1,2,"PARAGUAY"]
["BOLIVIE",2,3,"COLOMBIE","COLOMBIE",1,0,"BOLIVIE"]
["VENEZUELA",0,0,"COLOMBIE","COLOMBIE",2,0,"VENEZUELA"]
["CHILI",3,1,"URUGUAY","URUGUAY",3,0,"CHILI"]
["ARGENTINE",1,0,"URUGUAY","URUGUAY",0,0,"ARGENTINE"]
["EQUATEUR",2,1,"URUGUAY","URUGUAY",2,1,"EQUATEUR"]
["PÉROU",2,1,"URUGUAY","URUGUAY",1,0,"PÉROU"]
["PARAGUAY",1,2,"URUGUAY","URUGUAY",4,0,"PARAGUAY"]
["BOLIVIE",0,2,"URUGUAY","URUGUAY",4,2,"BOLIVIE"]
["VENEZUELA",0,0,"URUGUAY","URUGUAY",3,0,"VENEZUELA"]
["ARGENTINE",1,0,"CHILI","CHILI",1,2,"ARGENTINE"]
["EQUATEUR",3,0,"CHILI","CHILI",2,1,"EQUATEUR"]
["PÉROU",3,4,"CHILI","CHILI",2,1,"PÉROU"]
["PARAGUAY",2,1,"CHILI","CHILI",0,3,"PARAGUAY"]
["BOLIVIE",1,0,"CHILI","CHILI",3,0,"BOLIVIE"]
["VENEZUELA",1,4,"CHILI","CHILI",3,1,"VENEZUELA"]
["EQUATEUR",1,3,"ARGENTINE","ARGENTINE",0,2,"EQUATEUR"]
["PÉROU",2,2,"ARGENTINE","ARGENTINE",0,0,"PÉROU"]
["PARAGUAY",0,0,"ARGENTINE","ARGENTINE",0,1,"PARAGUAY"]
["BOLIVIE",2,0,"ARGENTINE","ARGENTINE",2,0,"BOLIVIE"]
["VENEZUELA",2,2,"ARGENTINE","ARGENTINE",1,1,"VENEZUELA"]
["PÉROU",2,1,"EQUATEUR","EQUATEUR",1,2,"PÉROU"]
["PARAGUAY",2,1,"EQUATEUR","EQUATEUR",2,2,"PARAGUAY"]
["BOLIVIE",2,2,"EQUATEUR","EQUATEUR",2,0,"BOLIVIE"]
["VENEZUELA",1,3,"EQUATEUR","EQUATEUR",3,0,"VENEZUELA"]
["PARAGUAY",1,4,"PÉROU","PÉROU",1,0,"PARAGUAY"]
["BOLIVIE",0,3,"PÉROU","PÉROU",2,1,"BOLIVIE"]
["VENEZUELA",2,2,"PÉROU","PÉROU",2,2,"VENEZUELA"]
["BOLIVIE",1,0,"PARAGUAY","PARAGUAY",2,1,"BOLIVIE"]
["VENEZUELA",0,1,"PARAGUAY","PARAGUAY",0,1,"VENEZUELA"]
["VENEZUELA",5,0,"BOLIVIE","BOLIVIE",4,2,"VENEZUELA"]
[null,null,null,null,null,null,null,null,null,"AMERIQUE DU SUD"]

{"sheet":"AMERIQUE DU SUD","index":6,"n_rows":48,"n_cols":95,"rows_kept":48,"cut":false,"hidden":false,"merged":[[31,25,33,28],[31,29,33,38],[12,25,12,29],[0,24,12,24],[9,41,9,45],[45,12,45,16],[45,19,45,23],[46,12,46,16],[46,19,46,23],[36,12,36,16],[36,19,36,23],[37,12,37,16],[37,19,37,23],[38,12,38,16],[38,19,38,23],[33,12,33,16],[33,19,33,23],[34,12,34,16],[34,19,34,23],[35,12,35,16],[35,19,35,23],[30,12,30,16],[30,19,30,23],[31,12,31,16],[47,12,47,16],[47,19,47,23],[42,12,42,16],[42,19,42,23],[43,12,43,16],[43,19,43,23],[44,12,44,16],[44,19,44,23],[39,12,39,16],[39,19,39,23],[40,12,40,16],[40,19,40,23],[41,12,41,16],[41,19,41,23],[31,19,31,23],[32,12,32,16],[32,19,32,23],[27,12,27,16],[27,19,27,23],[28,12,28,16],[28,19,28,23],[29,12,29,16],[29,19,29,23],[24,12,24,16],[24,19,24,23],[25,12,25,16],[25,19,25,23],[26,12,26,16],[26,19,26,23],[21,12,21,16],[21,19,21,23],[22,12,22,16],[22,19,22,23],[23,12,23,16],[23,19,23,23],[18,12,18,16],[18,19,18,23],[19,12,19,16],[19,19,19,23],[20,12,20,16],[20,19,20,23],[42,7,42,11],[43,7,43,11],[44,7,44,11],[30,7,30,11],[31,7,31,11],[32,7,32,11],[33,7,33,11],[34,7,34,11],[35,7,35,11],[24,7,24,11],[25,7,25,11],[26,7,26,11],[27,7,27,11],[28,7,28,11],[29,7,29,11],[18,7,18,11],[19,7,19,11],[20,7,20,11],[45,7,45,11],[46,7,46,11],[47,7,47,11],[36,7,36,11],[37,7,37,11],[38,7,38,11],[39,7,39,11],[40,7,40,11],[41,7,41,11],[21,7,21,11],[22,7,22,11],[23,7,23,11],[42,0,42,4],[43,0,43,4],[44,0,44,4],[45,0,45,4],[46,0,46,4],[47,0,47,4],[36,0,36,4],[37,0,37,4],[38,0,38,4],[39,0,39,4],[40,0,40,4],[41,0,41,4],[30,0,30,4],[31,0,31,4],[32,0,32,4],[33,0,33,4],[34,0,34,4],[35,0,35,4],[24,0,24,4],[25,0,25,4],[26,0,26,4],[27,0,27,4],[28,0,28,4],[29,0,29,4],[18,0,18,4],[19,0,19,4],[20,0,20,4],[21,0,21,4],[22,0,22,4],[23,0,23,4],[12,12,12,16],[12,19,12,23],[16,0,16,4],[16,7,16,11],[16,12,16,16],[16,19,16,23],[17,0,17,4],[17,7,17,11],[17,12,17,16],[17,19,17,23],[15,0,15,4],[15,7,15,11],[15,12,15,16],[15,19,15,23],[14,0,14,4],[14,7,14,11],[14,12,14,16],[14,19,14,23],[12,41,12,45],[13,0,13,4],[13,7,13,11],[13,12,13,16],[13,19,13,23],[12,0,12,4],[9,25,9,29],[9,0,9,4],[9,7,9,11],[9,12,9,16],[9,19,9,23],[10,25,10,29],[11,25,11,29],[10,41,10,45],[11,0,11,4],[11,7,11,11],[11,12,11,16],[11,19,11,23],[11,41,11,45],[10,0,10,4],[10,7,10,11],[10,12,10,16],[10,19,10,23],[12,7,12,11],[8,0,8,4],[8,7,8,11],[8,12,8,16],[8,19,8,23],[8,25,8,29],[4,41,4,45],[8,41,8,45],[7,0,7,4],[7,7,7,11],[7,12,7,16],[7,19,7,23],[7,25,7,29],[7,41,7,45],[6,0,6,4],[6,7,6,11],[6,12,6,16],[6,19,6,23],[6,25,6,29],[6,41,6,45],[0,0,1,8],[0,9,1,14],[0,15,1,23],[0,25,1,38],[0,41,1,54],[2,0,2,4],[2,7,2,11],[2,12,2,16],[2,19,2,23],[2,25,2,29],[2,41,2,45],[3,0,3,4],[3,7,3,11],[3,12,3,16],[3,19,3,23],[3,25,3,29],[3,41,3,45],[5,0,5,4],[5,7,5,11],[5,12,5,16],[5,19,5,23],[5,25,5,29],[5,41,5,45],[4,0,4,4],[4,7,4,11],[4,12,4,16],[4,19,4,23],[4,25,4,29],[28,25,30,28],[19,29,21,38],[22,29,24,38],[25,29,27,38],[28,29,30,38],[13,35,18,38],[19,25,21,28],[22,25,24,28],[25,25,27,28],[13,25,15,26],[13,27,15,28],[13,29,15,30],[13,31,15,32],[13,33,15,34],[16,25,18,26],[16,27,18,28],[16,29,18,30],[16,31,18,32],[16,33,18,34]]}
["MATCHS  ALLER",null,null,null,null,null,null,null,null,"GROUPE  A",null,null,null,null,null,"MATCHS  RETOUR",null,null,null,null,null,null,null,null,null,"CLASSEMENT",null,null,null,null,null,null,null,null,null,null,null,null,null,null,null,"CLASSEMENT"]
[]
["Équipes",null,null,null,null,"Bts","Bts","Équipes",null,null,null,null,"Équipes",null,null,null,null,"Bts","Bts","Équipes",null,null,null,null,null,"Équipes",null,null,null,null,"R","Pts","J","G","N","P","B +","B -","Diff",null,null,"Équipes",null,null,null,null,"R","Pts","J","G","N","P","B +","B -","Diff",null,null,"pts","pts","pts","pts","t pts","t pts","j","j","j","j","g","g","g","g","n","n","n","n","p","p","p","p","b+","b+","b+","b+","b+","b+","b-","b-","b-","b-","b-","b-",null,{"$f":"VLOOKUP(AN4,$AO$4:$AT$13,2,0)","v":"BRESIL"},{"$f":"VLOOKUP(CO3,$AP$4:$BD$13,15,0)","v":41003.422000000006},{"$f":"RANK(CP3,$CP$3:$CP$12)","v":1}]
[{"$f":"AP4","v":"BRESIL"},null,null,null,null,2,1,{"$f":"AP5","v":"COLOMBIE"},null,null,null,null,{"$f":"H4","v":"COLOMBIE"},null,null,null,null,1,1,{"$f":"A4","v":"BRESIL"},null,null,null,null,null,{"$f":"VLOOKUP(AN4,$AO$4:$AT$13,2,0)","v":"BRESIL"},null,null,null,null,1,{"$f":"VLOOKUP(Z4,$AP$4:$BC$13,7,0)","v":41},{"$f":"VLOOKUP(Z4,$AP$4:$BC$13,8,0)","v":18},{"$f":"VLOOKUP(Z4,$AP$4:$BC$13,9,0)","v":12},{"$f":"VLOOKUP(Z4,$AP$4:$BC$13,10,0)","v":5},{"$f":"VLOOKUP(Z4,$AP$4:$BC$13,11,0)","v":1},{"$f":"VLOOKUP(Z4,$AP$4:$BC$13,12,0)","v":41},{"$f":"VLOOKUP(Z4,$AP$4:$BC$13,13,0)","v":11},{"$f":"VLOOKUP(Z4,$AP$4:$BC$13,14,0)","v":30},1,{"$f":"AU4","v":1},"BRESIL",null,null,null,null,{"$f":"RANK(BE4,$BE$4:$BE$13)","v":1},{"$f":"SUMPRODUCT(($A$4:$E$48=AP4)*($BF$4:$BF$48))+SUMPRODUCT(($H$4:$L$48=AP4)*($BG$4:$BG$48))+SUMPRODUCT(($M$4:$Q$48=AP4)*($BH$4:$BH$48))+SUMPRODUCT(($T$4:$X$48=AP4)*($BI$4:$BI$48))","v":41},{"$f":"SUMPRODUCT(($A$4:$E$48=AP4)*($BL$4:$BL$48))+SUMPRODUCT(($H$4:$L$48=AP4)*($BM$4:$BM$48))+SUMPRODUCT(($M$4:$Q$48=AP4)*($BN$4:$BN$48))+SUMPRODUCT(($T$4:$X$48=AP4)*($BO$4:$BO$48))","v":18},{"$f":"SUMPRODUCT(($A$4:$E$48=AP4)*($BP$4:$BP$48))+SUMPRODUCT(($H$4:$L$48=AP4)*($BQ$4:$BQ$48))+SUMPRODUCT(($M$4:$Q$48=AP4)*($BR$4:$BR$48))+SUMPRODUCT(($T$4:$X$48=AP4)*($BS$4:$BS$48))","v":12},{"$f":"SUMPRODUCT(($A$4:$E$48=AP4)*($BT$4:$BT$48))+SUMPRODUCT(($H$4:$L$48=AP4)*($BU$4:$BU$48))+SUMPRODUCT(($M$4:$Q$48=AP4)*($BV$4:$BV$48))+SUMPRODUCT(($T$4:$X$48=AP4)*($BW$4:$BW$48))","v":5},{"$f":"SUMPRODUCT(($A$4:$E$48=AP4)*($BX$4:$BX$48))+SUMPRODUCT(($H$4:$L$48=AP4)*($BY$4:$BY$48))+SUMPRODUCT(($M$4:$Q$48=AP4)*($BZ$4:$BZ$48))+SUMPRODUCT(($T$4:$X$48=AP4)*($CA$4:$CA$48))","v":1},{"$f":"SUMPRODUCT(($A$4:$E$48=AP4)*($CB$4:$CB$48))+SUMPRODUCT(($H$4:$L$48=AP4)*($CC$4:$CC$48))+SUMPRODUCT(($M$4:$Q$48=AP4)*($CD$4:$CD$48))+SUMPRODUCT(($T$4:$X$48=AP4)*($CE$4:$CE$48))","v":41},{"$f":"SUMPRODUCT(($A$4:$E$48=AP4)*($CH$4:$CH$48))+SUMPRODUCT(($H$4:$L$48=AP4)*($CI$4:$CI$48))+SUMPRODUCT(($M$4:$Q$48=AP4)*($CJ$4:$CJ$48))+SUMPRODUCT(($T$4:$X$48=AP4)*($CK$4:$CK$48))","v":11},{"$f":"BA4-BB4","v":30},{"$f":"SUM(AV4*1000+(BC4)/10+(BA4)/100+(AX4)/1000)","v":41003.422000000006},{"$f":"BD4+0.000000001","v":41003.422000001003},{"$f":"IF(F4=\"\",0,IF(F4>G4,3,IF(F4=G4,1,IF(F4<G4,0))))","v":3},{"$f":"IF(G4=\"\",0,IF(G4>F4,3,IF(G4=F4,1,IF(G4<F4,0))))","v":0},{"$f":"IF(R4=\"\",0,IF(R4>S4,3,IF(R4=S4,1,IF(R4<S4,0))))","v":1},{"$f":"IF(S4=\"\",0,IF(S4>R4,3,IF(S4=R4,1,IF(S4<R4,0))))","v":1},{"$f":"BF4+BI4","v":4},{"$f":"BG4+BH4","v":1},{"$f":"IF(F4=\"\",0,1)","v":1},{"$f":"IF(G4=\"\",0,1)","v":1},{"$f":"IF(R4=\"\",0,1)","v":1},{"$f":"IF(S4=\"\",0,1)","v":1},{"$f":"IF(F4<>\"\",IF(F4>G4,1))","v":1},{"$f":"IF(G4<>\"\",IF(G4>F4,1))","v":false},{"$f":"IF(R4<>\"\",IF(R4>S4,1))","v":false},{"$f":"IF(S4<>\"\",IF(S4>R4,1))","v":false},{"$f":"IF(F4<>\"\",IF(F4=G4,1))","v":false},{"$f":"IF(G4<>\"\",IF(G4=F4,1))","v":false},{"$f":"IF(R4<>\"\",IF(R4=S4,1))","v":1},{"$f":"IF(S4<>\"\",IF(S4=R4,1))","v":1},{"$f":"IF(F4<>\"\",IF(F4<G4,1))","v":false},{"$f":"IF(G4<>\"\",IF(G4<F4,1))","v":1},{"$f":"IF(R4<>\"\",IF(R4<S4,1))","v":false},{"$f":"IF(S4<>\"\",IF(S4<R4,1))","v":false},{"$f":"F4","v":2},{"$f":"G4","v":1},{"$f":"R4","v":1},{"$f":"S4","v":1},{"$f":"CB4+CE4","v":3},{"$f":"CC4+CD4","v":2},{"$f":"G4","v":1},{"$f":"F4","v":2},{"$f":"S4","v":1},{"$f":"R4","v":1},{"$f":"CH4+CK4","v":2},{"$f":"CI4+CJ4","v":3},null,{"$f":"VLOOKUP(AN5,$AO$4:$AT$13,2,0)","v":"URUGUAY"},{"$f":"VLOOKUP(CO4,$AP$4:$BD$13,15,0)","v":31001.528999999999},{"$f":"RANK(CP4,$CP$3:$CP$12)","v":2}]
[{"$f":"AP4","v":"BRESIL"},null,null,null,null,2,2,"URUGUAY",null,null,null,null,{"$f":"H5","v":"URUGUAY"},null,null,null,null,1,4,{"$f":"A5","v":"BRESIL"},null,null,null,null,null,{"$f":"VLOOKUP(AN5,$AO$4:$AT$13,2,0)","v":"URUGUAY"},null,null,null,null,{"$f":"IF(CP4=CP3,CQ3,CQ4)","v":2},{"$f":"VLOOKUP(Z5,$AP$4:$BC$13,7,0)","v":31},{"$f":"VLOOKUP(Z5,$AP$4:$BC$13,8,0)","v":18},{"$f":"VLOOKUP(Z5,$AP$4:$BC$13,9,0)","v":9},{"$f":"VLOOKUP(Z5,$AP$4:$BC$13,10,0)","v":4},{"$f":"VLOOKUP(Z5,$AP$4:$BC$13,11,0)","v":5},{"$f":"VLOOKUP(Z5,$AP$4:$BC$13,12,0)","v":32},{"$f":"VLOOKUP(Z5,$AP$4:$BC$13,13,0)","v":20},{"$f":"VLOOKUP(Z5,$AP$4:$BC$13,14,0)","v":12},2,{"$f":"AU5","v":4},"COLOMBIE",null,null,null,null,{"$f":"RANK(BE5,$BE$4:$BE$13)","v":4},{"$f":"SUMPRODUCT(($A$4:$E$48=AP5)*($BF$4:$BF$48))+SUMPRODUCT(($H$4:$L$48=AP5)*($BG$4:$BG$48))+SUMPRODUCT(($M$4:$Q$48=AP5)*($BH$4:$BH$48))+SUMPRODUCT(($T$4:$X$48=AP5)*($BI$4:$BI$48))","v":27},{"$f":"SUMPRODUCT(($A$4:$E$48=AP5)*($BL$4:$BL$48))+SUMPRODUCT(($H$4:$L$48=AP5)*($BM$4:$BM$48))+SUMPRODUCT(($M$4:$Q$48=AP5)*($BN$4:$BN$48))+SUMPRODUCT(($T$4:$X$48=AP5)*($BO$4:$BO$48))","v":18},{"$f":"SUMPRODUCT(($A$4:$E$48=AP5)*($BP$4:$BP$48))+SUMPRODUCT(($H$4:$L$48=AP5)*($BQ$4:$BQ$48))+SUMPRODUCT(($M$4:$Q$48=AP5)*($BR$4:$BR$48))+SUMPRODUCT(($T$4:$X$48=AP5)*($BS$4:$BS$48))","v":7},{"$f":"SUMPRODUCT(($A$4:$E$48=AP5)*($BT$4:$BT$48))+SUMPRODUCT(($H$4:$L$48=AP5)*($BU$4:$BU$48))+SUMPRODUCT(($M$4:$Q$48=AP5)*($BV$4:$BV$48))+SUMPRODUCT(($T$4:$X$48=AP5)*($BW$4:$BW$48))","v":6},{"$f":"SUMPRODUCT(($A$4:$E$48=AP5)*($BX$4:$BX$48))+SUMPRODUCT(($H$4:$L$48=AP5)*($BY$4:$BY$48))+SUMPRODUCT(($M$4:$Q$48=AP5)*($BZ$4:$BZ$48))+SUMPRODUCT(($T$4:$X$48=AP5)*($CA$4:$CA$48))","v":5},{"$f":"SUMPRODUCT(($A$4:$E$48=AP5)*($CB$4:$CB$48))+SUMPRODUCT(($H$4:$L$48=AP5)*($CC$4:$CC$48))+SUMPRODUCT(($M$4:$Q$48=AP5)*($CD$4:$CD$48))+SUMPRODUCT(($T$4:$X$48=AP5)*($CE$4:$CE$48))","v":21},{"$f":"SUMPRODUCT(($A$4:$E$48=AP5)*($CH$4:$CH$48))+SUMPRODUCT(($H$4:$L$48=AP5)*($CI$4:$CI$48))+SUMPRODUCT(($M$4:$Q$48=AP5)*($CJ$4:$CJ$48))+SUMPRODUCT(($T$4:$X$48=AP5)*($CK$4:$CK$48))","v":19},{"$f":"BA5-BB5","v":2},{"$f":"SUM(AV5*1000+(BC5)/10+(BA5)/100+(AX5)/1000)","v":27000.417000000001},{"$f":"BD5+0.00000009","v":27000.417000090001},{"$f":"IF(F5=\"\",0,IF(F5>G5,3,IF(F5=G5,1,IF(F5<G5,0))))","v":1},{"$f":"IF(G5=\"\",0,IF(G5>F5,3,IF(G5=F5,1,IF(G5<F5,0))))","v":1},{"$f":"IF(R5=\"\",0,IF(R5>S5,3,IF(R5=S5,1,IF(R5<S5,0))))","v":0},{"$f":"IF(S5=\"\",0,IF(S5>R5,3,IF(S5=R5,1,IF(S5<R5,0))))","v":3},{"$f":"BF5+BI5","v":4},{"$f":"BG5+BH5","v":1},{"$f":"IF(F5=\"\",0,1)","v":1},{"$f":"IF(G5=\"\",0,1)","v":1},{"$f":"IF(R5=\"\",0,1)","v":1},{"$f":"IF(S5=\"\",0,1)","v":1},{"$f":"IF(F5<>\"\",IF(F5>G5,1))","v":false},{"$f":"IF(G5<>\"\",IF(G5>F5,1))","v":false},{"$f":"IF(R5<>\"\",IF(R5>S5,1))","v":false},{"$f":"IF(S5<>\"\",IF(S5>R5,1))","v":1},{"$f":"IF(F5<>\"\",IF(F5=G5,1))","v":1},{"$f":"IF(G5<>\"\",IF(G5=F5,1))","v":1},{"$f":"IF(R5<>\"\",IF(R5=S5,1))","v":false},{"$f":"IF(S5<>\"\",IF(S5=R5,1))","v":false},{"$f":"IF(F5<>\"\",IF(F5<G5,1))","v":false},{"$f":"IF(G5<>\"\",IF(G5<F5,1))","v":false},{"$f":"IF(R5<>\"\",IF(R5<S5,1))","v":1},{"$f":"IF(S5<>\"\",IF(S5<R5,1))","v":false},{"$f":"F5","v":2},{"$f":"G5","v":2},{"$f":"R5","v":1},{"$f":"S5","v":4},{"$f":"CB5+CE5","v":6},{"$f":"CC5+CD5","v":3},{"$f":"G5","v":2},{"$f":"F5","v":2},{"$f":"S5","v":4},{"$f":"R5","v":1},{"$f":"CH5+CK5","v":3},{"$f":"CI5+CJ5","v":6},null,"ARGENTINE",28000.496999999999,3]
[{"$f":"AP4","v":"BRESIL"},null,null,null,null,3,0,"CHILI",null,null,null,null,"CHILI",null,null,null,null,2,0,"BRESIL",null,null,null,null,null,"ARGENTINE",null,null,null,null,{"$f":"IF(CP5=CP4,CQ4,CQ5)","v":3},28,18,7,7,4,19,16,3,3,2,"URUGUAY",null,null,null,null,2,31,18,9,4,5,32,20,12,31001.528999999999,{"$f":"BD6+0.00000008","v":31001.529000079998},3,0,3,0,3,3,1,1,1,1,1,false,1,false,false,false,false,false,false,1,false,1,3,0,2,0,3,2,0,3,0,2,2,3,null,"COLOMBIE",27000.417000000001,4]
[{"$f":"AP4","v":"BRESIL"},null,null,null,null,3,0,"ARGENTINE",null,null,null,null,"ARGENTINE",null,null,null,null,1,1,"BRESIL",null,null,null,null,null,"COLOMBIE",null,null,null,null,4,27,18,7,6,5,21,19,2,4,6,"CHILI",null,null,null,null,6,26,18,8,2,8,26,27,-1,26000.168000000001,{"$f":"BD7+0.00000007","v":26000.16800007},3,0,1,1,4,1,1,1,1,1,1,false,false,false,false,false,1,1,false,1,false,false,3,0,1,1,4,1,0,3,1,1,1,4,null,"PÉROU",26000.377,5]
[{"$f":"AP4","v":"BRESIL"},null,null,null,null,2,0,"EQUATEUR",null,null,null,null,"EQUATEUR",null,null,null,null,0,3,"BRESIL",null,null,null,null,null,"PÉROU",null,null,null,null,5,26,18,7,5,6,27,26,1,5,3,"ARGENTINE",null,null,null,null,3,28,18,7,7,4,19,16,3,28000.496999999999,{"$f":"BD8+0.00000006","v":28000.497000060001},3,0,0,3,6,0,1,1,1,1,1,false,false,1,false,false,false,false,false,1,1,false,2,0,0,3,5,0,0,2,3,0,0,5,null,"CHILI",26000.168000000001,6]
[{"$f":"AP4","v":"BRESIL"},null,null,null,null,3,0,"PÉROU",null,null,null,null,"PÉROU",null,null,null,null,0,2,"BRESIL",null,null,null,null,null,"CHILI",null,null,null,null,6,26,18,8,2,8,26,27,-1,6,8,"EQUATEUR",null,null,null,null,8,20,18,6,2,10,26,29,-3,19999.966,{"$f":"BD9+0.00000005","v":19999.966000050001},3,0,0,3,6,0,1,1,1,1,1,false,false,1,false,false,false,false,false,1,1,false,3,0,0,2,5,0,0,3,2,0,0,5,null,"PARAGUAY",23999.597000000002,7]
[{"$f":"AP4","v":"BRESIL"},null,null,null,null,3,0,"PARAGUAY",null,null,null,null,"PARAGUAY",null,null,null,null,2,2,"BRESIL",null,null,null,null,null,"PARAGUAY",null,null,null,null,7,24,18,7,3,8,19,25,-6,7,5,"PÉROU",null,null,null,null,5,26,18,7,5,6,27,26,1,26000.377,{"$f":"BD10+0.00000004","v":26000.37700004},3,0,1,1,4,1,1,1,1,1,1,false,false,false,false,false,1,1,false,1,false,false,3,0,2,2,5,2,0,3,2,2,2,5,null,"EQUATEUR",19999.966,8]
[{"$f":"AP4","v":"BRESIL"},null,null,null,null,5,0,"BOLIVIE",null,null,null,null,"BOLIVIE",null,null,null,null,0,0,"BRESIL",null,null,null,null,null,"EQUATEUR",null,null,null,null,8,20,18,6,2,10,26,29,-3,8,7,"PARAGUAY",null,null,null,null,7,24,18,7,3,8,19,25,-6,23999.597000000002,{"$f":"BD11+0.00000003","v":23999.59700003},3,0,1,1,4,1,1,1,1,1,1,false,false,false,false,false,1,1,false,1,false,false,5,0,0,0,5,0,0,5,0,0,0,5,null,"BOLIVIE",13997.964,9]
[{"$f":"AP4","v":"BRESIL"},null,null,null,null,3,1,"VENEZUELA",null,null,null,null,"VENEZUELA",null,null,null,null,0,2,"BRESIL",null,null,null,null,null,"BOLIVIE",null,null,null,null,9,14,18,4,2,12,16,38,-22,9,9,"BOLIVIE",null,null,null,null,9,14,18,4,2,12,16,38,-22,13997.964,{"$f":"BD12+0.00000002","v":13997.96400002},3,0,0,3,6,0,1,1,1,1,1,false,false,1,false,false,false,false,false,1,1,false,3,1,0,2,5,1,1,3,2,0,1,5,null,"VENEZUELA",11998.592000000001,10]
[{"$f":"AP5","v":"COLOMBIE"},null,null,null,null,2,2,{"$f":"AP6","v":"URUGUAY"},null,null,null,null,"URUGUAY",null,null,null,null,3,0,"COLOMBIE",null,null,null,null,null,"VENEZUELA",null,null,null,null,10,12,18,2,6,10,19,35,-16,10,10,"VENEZUELA",null,null,null,null,10,12,18,2,6,10,19,35,-16,11998.592000000001,{"$f":"BD13+0.00000001","v":11998.592000010001},1,1,3,0,1,4,1,1,1,1,false,false,1,false,1,1,false,false,false,false,false,1,2,2,3,0,2,5,2,2,0,3,5,2]
[{"$f":"AP5","v":"COLOMBIE"},null,null,null,null,0,0,"CHILI",null,null,null,null,"CHILI",null,null,null,null,1,1,"COLOMBIE",null,null,null,null,null,null,null,null,null,null,null,null,null,null,null,null,null,null,null,null,null,null,null,null,null,null,null,null,null,null,null,null,null,null,null,null,null,1,1,1,1,2,2,1,1,1,1,false,false,false,false,1,1,1,1,false,false,false,false,0,0,1,1,1,1,0,0,1,1,1,1]
[{"$f":"AP5","v":"COLOMBIE"},null,null,null,null,0,1,"ARGENTINE",null,null,null,null,"ARGENTINE",null,null,null,null,3,0,"COLOMBIE",null,null,null,null,null,null,null,null,null,null,null,null,null,null,null,null,null,null,null,null,null,null,null,null,null,null,null,null,null,null,null,null,null,null,null,null,null,0,3,3,0,0,6,1,1,1,1,false,1,1,false,false,false,false,false,1,false,false,1,0,1,3,0,0,4,1,0,0,3,4,0]
[{"$f":"AP5","v":"COLOMBIE"},null,null,null,null,3,1,"EQUATEUR",null,null,null,null,"EQUATEUR",null,null,null,null,0,2,"COLOMBIE",null,null,null,null,null,null,null,null,null,null,null,null,null,null,null,null,null,null,null,null,null,null,null,null,null,null,null,null,null,null,null,null,null,null,null,null,null,3,0,0,3,6,0,1,1,1,1,1,false,false,1,false,false,false,false,false,1,1,false,3,1,0,2,5,1,1,3,2,0,1,5]
[{"$f":"AP5","v":"COLOMBIE"},null,null,null,null,2,0,"PÉROU",null,null,null,null,"PÉROU",null,null,null,null,1,1,"COLOMBIE",null,null,null,null,null,null,null,null,null,null,null,null,null,null,null,null,null,null,null,null,null,null,null,null,null,null,null,null,null,null,null,null,null,null,null,null,null,3,0,1,1,4,1,1,1,1,1,1,false,false,false,false,false,1,1,false,1,false,false,2,0,1,1,3,1,0,2,1,1,1,3]
[{"$f":"AP5","v":"COLOMBIE"},null,null,null,null,1,2,"PARAGUAY",null,null,null,null,"PARAGUAY",null,null,null,null,0,1,"COLOMBIE",null,null,null,null,null,null,null,null,null,null,null,null,null,null,null,null,null,null,null,null,null,null,null,null,null,null,null,null,null,null,null,null,null,null,null,null,null,0,3,0,3,3,3,1,1,1,1,false,1,false,1,false,false,false,false,1,false,1,false,1,2,0,1,2,2,2,1,1,0,2,2]
[{"$f":"AP5","v":"COLOMBIE"},null,null,null,null,1,0,"BOLIVIE",null,null,null,null,"BOLIVIE",null,null,null,null,2,3,"COLOMBIE",null,null,null,null,null,null,null,null,null,null,null,null,null,null,null,null,null,null,null,null,null,null,null,null,null,null,null,null,null,null,null,null,null,null,null,null,null,3,0,0,3,6,0,1,1,1,1,1,false,false,1,false,false,false,false,false,1,1,false,1,0,2,3,4,2,0,1,3,2,2,4]
[{"$f":"AP5","v":"COLOMBIE"},null,null,null,null,2,0,"VENEZUELA",null,null,null,null,"VENEZUELA",null,null,null,null,0,0,"COLOMBIE",null,null,null,null,null,"ÉQUIPE QUALIFIÉE",null,null,null,{"$f":"Z4","v":"BRESIL"},null,null,null,null,null,null,null,null,null,null,null,null,null,null,null,null,null,null,null,null,null,null,null,null,null,null,null,3,0,1,1,4,1,1,1,1,1,1,false,false,false,false,false,1,1,false,1,false,false,2,0,0,0,2,0,0,2,0,0,0,2]
[{"$f":"AP6","v":"URUGUAY"},null,null,null,null,3,0,{"$f":"AP7","v":"CHILI"},null,null,null,null,"CHILI",null,null,null,null,3,1,"URUGUAY",null,null,null,null,null,null,null,null,null,null,null,null,null,null,null,null,null,null,null,null,null,null,null,null,null,null,null,null,null,null,null,null,null,null,null,null,null,3,0,3,0,3,3,1,1,1,1,1,false,1,false,false,false,false,false,false,1,false,1,3,0,3,1,4,3,0,3,1,3,3,4]
[{"$f":"AP6","v":"URUGUAY"},null,null,null,null,0,0,"ARGENTINE",null,null,null,null,"ARGENTINE",null,null,null,null,1,0,"URUGUAY",null,null,null,null,null,null,null,null,null,null,null,null,null,null,null,null,null,null,null,null,null,null,null,null,null,null,null,null,null,null,null,null,null,null,null,null,null,1,1,3,0,1,4,1,1,1,1,false,false,1,false,1,1,false,false,false,false,false,1,0,0,1,0,0,1,0,0,0,1,1,0]
[{"$f":"AP6","v":"URUGUAY"},null,null,null,null,2,1,"EQUATEUR",null,null,null,null,"EQUATEUR",null,null,null,null,2,1,"URUGUAY",null,null,null,null,null,"ÉQUIPE QUALIFIÉE",null,null,null,{"$f":"Z5","v":"URUGUAY"},null,null,null,null,null,null,null,null,null,null,null,null,null,null,null,null,null,null,null,null,null,null,null,null,null,null,null,3,0,3,0,3,3,1,1,1,1,1,false,1,false,false,false,false,false,false,1,false,1,2,1,2,1,3,3,1,2,1,2,3,3]
[{"$f":"AP6","v":"URUGUAY"},null,null,null,null,1,0,"PÉROU",null,null,null,null,"PÉROU",null,null,null,null,2,1,"URUGUAY",null,null,null,null,null,null,null,null,null,null,null,null,null,null,null,null,null,null,null,null,null,null,null,null,null,null,null,null,null,null,null,null,null,null,null,null,null,3,0,3,0,3,3,1,1,1,1,1,false,1,false,false,false,false,false,false,1,false,1,1,0,2,1,2,2,0,1,1,2,2,2]
[{"$f":"AP6","v":"URUGUAY"},null,null,null,null,4,0,"PARAGUAY",null,null,null,null,"PARAGUAY",null,null,null,null,1,2,"URUGUAY",null,null,null,null,null,null,null,null,null,null,null,null,null,null,null,null,null,null,null,null,null,null,null,null,null,null,null,null,null,null,null,null,null,null,null,null,null,3,0,0,3,6,0,1,1,1,1,1,false,false,1,false,false,false,false,false,1,1,false,4,0,1,2,6,1,0,4,2,1,1,6]
[{"$f":"AP6","v":"URUGUAY"},null,null,null,null,4,2,"BOLIVIE",null,null,null,null,"BOLIVIE",null,null,null,null,0,2,"URUGUAY",null,null,null,null,null,"ÉQUIPE QUALIFIÉE",null,null,null,{"$f":"Z6","v":"ARGENTINE"},null,null,null,null,null,null,null,null,null,null,null,null,null,null,null,null,null,null,null,null,null,null,null,null,null,null,null,3,0,0,3,6,0,1,1,1,1,1,false,false,1,false,false,false,false,false,1,1,false,4,2,0,2,6,2,2,4,2,0,2,6]
[{"$f":"AP6","v":"URUGUAY"},null,null,null,null,3,0,"VENEZUELA",null,null,null,null,"VENEZUELA",null,null,null,null,0,0,"URUGUAY",null,null,null,null,null,null,null,null,null,null,null,null,null,null,null,null,null,null,null,null,null,null,null,null,null,null,null,null,null,null,null,null,null,null,null,null,null,3,0,1,1,4,1,1,1,1,1,1,false,false,false,false,false,1,1,false,1,false,false,3,0,0,0,3,0,0,3,0,0,0,3]
[{"$f":"AP7","v":"CHILI"},null,null,null,null,1,2,{"$f":"AP8","v":"ARGENTINE"},null,null,null,null,"ARGENTINE",null,null,null,null,1,0,"CHILI",null,null,null,null,null,null,null,null,null,null,null,null,null,null,null,null,null,null,null,null,null,null,null,null,null,null,null,null,null,null,null,null,null,null,null,null,null,0,3,3,0,0,6,1,1,1,1,false,1,1,false,false,false,false,false,1,false,false,1,1,2,1,0,1,3,2,1,0,1,3,1]
[{"$f":"AP7","v":"CHILI"},null,null,null,null,2,1,"EQUATEUR",null,null,null,null,"EQUATEUR",null,null,null,null,3,0,"CHILI",null,null,null,null,null,"ÉQUIPE QUALIFIÉE",null,null,null,{"$f":"Z7","v":"COLOMBIE"},null,null,null,null,null,null,null,null,null,null,null,null,null,null,null,null,null,null,null,null,null,null,null,null,null,null,null,3,0,3,0,3,3,1,1,1,1,1,false,1,false,false,false,false,false,false,1,false,1,2,1,3,0,2,4,1,2,0,3,4,2]
[{"$f":"AP7","v":"CHILI"},null,null,null,null,2,1,"PÉROU",null,null,null,null,"PÉROU",null,null,null,null,3,4,"CHILI",null,null,null,null,null,null,null,null,null,null,null,null,null,null,null,null,null,null,null,null,null,null,null,null,null,null,null,null,null,null,null,null,null,null,null,null,null,3,0,0,3,6,0,1,1,1,1,1,false,false,1,false,false,false,false,false,1,1,false,2,1,3,4,6,4,1,2,4,3,4,6]
[{"$f":"AP7","v":"CHILI"},null,null,null,null,0,3,"PARAGUAY",null,null,null,null,"PARAGUAY",null,null,null,null,2,1,"CHILI",null,null,null,null,null,null,null,null,null,null,null,null,null,null,null,null,null,null,null,null,null,null,null,null,null,null,null,null,null,null,null,null,null,null,null,null,null,0,3,3,0,0,6,1,1,1,1,false,1,1,false,false,false,false,false,1,false,false,1,0,3,2,1,1,5,3,0,1,2,5,1]
[{"$f":"AP7","v":"CHILI"},null,null,null,null,3,0,"BOLIVIE",null,null,null,null,"BOLIVIE",null,null,null,null,1,0,"CHILI",null,null,null,null,null,"BARRAGE",null,null,null,{"$f":"Z8","v":"PÉROU"},null,null,null,null,null,null,null,null,null,null,null,null,null,null,null,null,null,null,null,null,null,null,null,null,null,null,null,3,0,3,0,3,3,1,1,1,1,1,false,1,false,false,false,false,false,false,1,false,1,3,0,1,0,3,1,0,3,0,1,1,3]
[{"$f":"AP7","v":"CHILI"},null,null,null,null,3,1,"VENEZUELA",null,null,null,null,"VENEZUELA",null,null,null,null,1,4,"CHILI",null,null,null,null,null,null,null,null,null,null,null,null,null,null,null,null,null,null,null,null,null,null,null,null,null,null,null,null,null,null,null,null,null,null,null,null,null,3,0,0,3,6,0,1,1,1,1,1,false,false,1,false,false,false,false,false,1,1,false,3,1,1,4,7,2,1,3,4,1,2,7]
[{"$f":"AP8","v":"ARGENTINE"},null,null,null,null,0,2,{"$f":"AP9","v":"EQUATEUR"},null,null,null,null,"EQUATEUR",null,null,null,null,1,3,"ARGENTINE",null,null,null,null,null,null,null,null,null,null,null,null,null,null,null,null,null,null,null,null,null,null,null,null,null,null,null,null,null,null,null,null,null,null,null,null,null,0,3,0,3,3,3,1,1,1,1,false,1,false,1,false,false,false,false,1,false,1,false,0,2,1,3,3,3,2,0,3,1,3,3]
[{"$f":"AP8","v":"ARGENTINE"},null,null,null,null,0,0,{"$f":"AP10","v":"PÉROU"},null,null,null,null,"PÉROU",null,null,null,null,2,2,"ARGENTINE",null,null,null,null,null,null,null,null,null,null,null,null,null,null,null,null,null,null,null,null,null,null,null,null,null,null,null,null,null,null,null,null,null,null,null,null,null,1,1,1,1,2,2,1,1,1,1,false,false,false,false,1,1,1,1,false,false,false,false,0,0,2,2,2,2,0,0,2,2,2,2]
[{"$f":"AP8","v":"ARGENTINE"},null,null,null,null,0,1,{"$f":"AP11","v":"PARAGUAY"},null,null,null,null,"PARAGUAY",null,null,null,null,0,0,"ARGENTINE",null,null,null,null,null,null,null,null,null,null,null,null,null,null,null,null,null,null,null,null,null,null,null,null,null,null,null,null,null,null,null,null,null,null,null,null,null,0,3,1,1,1,4,1,1,1,1,false,1,false,false,false,false,1,1,1,false,false,false,0,1,0,0,0,1,1,0,0,0,1,0]
[{"$f":"AP8","v":"ARGENTINE"},null,null,null,null,2,0,{"$f":"AP12","v":"BOLIVIE"},null,null,null,null,"BOLIVIE",null,null,null,null,2,0,"ARGENTINE",null,null,null,null,null,null,null,null,null,null,null,null,null,null,null,null,null,null,null,null,null,null,null,null,null,null,null,null,null,null,null,null,null,null,null,null,null,3,0,3,0,3,3,1,1,1,1,1,false,1,false,false,false,false,false,false,1,false,1,2,0,2,0,2,2,0,2,0,2,2,2]
[{"$f":"AP8","v":"ARGENTINE"},null,null,null,null,1,1,{"$f":"AP13","v":"VENEZUELA"},null,null,null,null,"VENEZUELA",null,null,null,null,2,2,"ARGENTINE",null,null,null,null,null,null,null,null,null,null,null,null,null,null,null,null,null,null,null,null,null,null,null,null,null,null,null,null,null,null,null,null,null,null,null,null,null,1,1,1,1,2,2,1,1,1,1,false,false,false,false,1,1,1,1,false,false,false,false,1,1,2,2,3,3,1,1,2,2,3,3]
[{"$f":"AP9","v":"EQUATEUR"},null,null,null,null,1,2,{"$f":"AP10","v":"PÉROU"},null,null,null,null,"PÉROU",null,null,null,null,2,1,"EQUATEUR",null,null,null,null,null,null,null,null,null,null,null,null,null,null,null,null,null,null,null,null,null,null,null,null,null,null,null,null,null,null,null,null,null,null,null,null,null,0,3,3,0,0,6,1,1,1,1,false,1,1,false,false,false,false,false,1,false,false,1,1,2,2,1,2,4,2,1,1,2,4,2]
[{"$f":"AP9","v":"EQUATEUR"},null,null,null,null,2,2,{"$f":"AP11","v":"PARAGUAY"},null,null,null,null,"PARAGUAY",null,null,null,null,2,1,"EQUATEUR",null,null,null,null,null,null,null,null,null,null,null,null,null,null,null,null,null,null,null,null,null,null,null,null,null,null,null,null,null,null,null,null,null,null,null,null,null,1,1,3,0,1,4,1,1,1,1,false,false,1,false,1,1,false,false,false,false,false,1,2,2,2,1,3,4,2,2,1,2,4,3]
[{"$f":"AP9","v":"EQUATEUR"},null,null,null,null,2,0,{"$f":"AP12","v":"BOLIVIE"},null,null,null,null,"BOLIVIE",null,null,null,null,2,2,"EQUATEUR",null,null,null,null,null,null,null,null,null,null,null,null,null,null,null,null,null,null,null,null,null,null,null,null,null,null,null,null,null,null,null,null,null,null,null,null,null,3,0,1,1,4,1,1,1,1,1,1,false,false,false,false,false,1,1,false,1,false,false,2,0,2,2,4,2,0,2,2,2,2,4]
[{"$f":"AP9","v":"EQUATEUR"},null,null,null,null,3,0,{"$f":"AP13","v":"VENEZUELA"},null,null,null,null,"VENEZUELA",null,null,null,null,1,3,"EQUATEUR",null,null,null,null,null,null,null,null,null,null,null,null,null,null,null,null,null,null,null,null,null,null,null,null,null,null,null,null,null,null,null,null,null,null,null,null,null,3,0,0,3,6,0,1,1,1,1,1,false,false,1,false,false,false,false,false,1,1,false,3,0,1,3,6,1,0,3,3,1,1,6]
[{"$f":"AP10","v":"PÉROU"},null,null,null,null,1,0,{"$f":"AP11","v":"PARAGUAY"},null,null,null,null,"PARAGUAY",null,null,null,null,1,4,"PÉROU",null,null,null,null,null,null,null,null,null,null,null,null,null,null,null,null,null,null,null,null,null,null,null,null,null,null,null,null,null,null,null,null,null,null,null,null,null,3,0,0,3,6,0,1,1,1,1,1,false,false,1,false,false,false,false,false,1,1,false,1,0,1,4,5,1,0,1,4,1,1,5]
[{"$f":"AP10","v":"PÉROU"},null,null,null,null,2,1,{"$f":"AP12","v":"BOLIVIE"},null,null,null,null,"BOLIVIE",null,null,null,null,0,3,"PÉROU",null,null,null,null,null,null,null,null,null,null,null,null,null,null,null,null,null,null,null,null,null,null,null,null,null,null,null,null,null,null,null,null,null,null,null,null,null,3,0,0,3,6,0,1,1,1,1,1,false,false,1,false,false,false,false,false,1,1,false,2,1,0,3,5,1,1,2,3,0,1,5]
[{"$f":"AP10","v":"PÉROU"},null,null,null,null,2,2,{"$f":"AP13","v":"VENEZUELA"},null,null,null,null,"VENEZUELA",null,null,null,null,2,2,"PÉROU",null,null,null,null,null,null,null,null,null,null,null,null,null,null,null,null,null,null,null,null,null,null,null,null,null,null,null,null,null,null,null,null,null,null,null,null,null,1,1,1,1,2,2,1,1,1,1,false,false,false,false,1,1,1,1,false,false,false,false,2,2,2,2,4,4,2,2,2,2,4,4]
[{"$f":"AP11","v":"PARAGUAY"},null,null,null,null,2,1,{"$f":"AP12","v":"BOLIVIE"},null,null,null,null,"BOLIVIE",null,null,null,null,1,0,"PARAGUAY",null,null,null,null,null,null,null,null,null,null,null,null,null,null,null,null,null,null,null,null,null,null,null,null,null,null,null,null,null,null,null,null,null,null,null,null,null,3,0,3,0,3,3,1,1,1,1,1,false,1,false,false,false,false,false,false,1,false,1,2,1,1,0,2,2,1,2,0,1,2,2]
[{"$f":"AP11","v":"PARAGUAY"},null,null,null,null,0,1,{"$f":"AP13","v":"VENEZUELA"},null,null,null,null,"VENEZUELA",null,null,null,null,0,1,"PARAGUAY",null,null,null,null,null,null,null,null,null,null,null,null,null,null,null,null,null,null,null,null,null,null,null,null,null,null,null,null,null,null,null,null,null,null,null,null,null,0,3,0,3,3,3,1,1,1,1,false,1,false,1,false,false,false,false,1,false,1,false,0,1,0,1,1,1,1,0,1,0,1,1]
[{"$f":"AP12","v":"BOLIVIE"},null,null,null,null,4,2,{"$f":"AP13","v":"VENEZUELA"},null,null,null,null,"VENEZUELA",null,null,null,null,5,0,"BOLIVIE",null,null,null,null,null,null,null,null,null,null,null,null,null,null,null,null,null,null,null,null,null,null,null,null,null,null,null,null,null,null,null,null,null,null,null,null,null,3,0,3,0,3,3,1,1,1,1,1,false,1,false,false,false,false,false,false,1,false,1,4,2,5,0,4,7,2,4,0,5,7,4]

{"sheet":"BARRAGES","index":7,"n_rows":37,"n_cols":41,"rows_kept":37,"cut":false,"hidden":false,"merged":[[33,14,33,19],[33,28,36,37],[34,1,35,6],[34,7,35,8],[34,10,35,11],[34,12,35,13],[34,14,35,19],[34,21,34,26],[36,7,37,8],[36,10,37,11],[36,12,37,13],[36,14,37,19],[22,12,23,13],[22,14,23,19],[1,28,22,37],[20,1,21,6],[20,7,21,8],[20,10,21,11],[20,12,21,13],[20,14,21,19],[20,21,20,26],[21,21,22,26],[22,1,23,6],[22,7,23,8],[22,10,23,11],[16,12,17,13],[16,14,17,19],[19,1,19,6],[19,7,19,8],[19,10,19,11],[19,12,19,13],[19,14,19,19],[14,1,15,6],[14,7,15,8],[14,10,15,11],[14,12,15,13],[14,14,15,19],[13,1,13,6],[13,7,13,8],[13,10,13,11],[13,12,13,13],[13,14,13,19],[14,21,14,26],[15,21,16,26],[16,1,17,6],[16,7,17,8],[16,10,17,11],[8,21,8,26],[9,21,10,26],[10,1,11,6],[10,7,11,8],[10,10,11,11],[8,1,9,6],[8,7,9,8],[8,10,9,11],[8,12,9,13],[8,14,9,19],[10,12,11,13],[10,14,11,19],[4,14,5,19],[1,1,1,6],[1,7,1,8],[1,10,1,11],[1,12,1,13],[1,14,1,19],[2,21,2,26],[7,1,7,6],[7,7,7,8],[7,10,7,11],[7,12,7,13],[7,14,7,19],[3,21,4,26],[2,12,3,13],[4,12,5,13],[2,1,3,6],[2,7,3,8],[4,1,5,6],[4,7,5,8],[2,10,3,11],[4,10,5,11],[2,14,3,19],[26,28,29,37],[35,21,36,26],[36,1,37,6],[27,21,27,26],[28,21,29,26],[29,1,30,6],[29,7,30,8],[29,10,30,11],[29,12,30,13],[29,14,30,19],[26,1,26,6],[26,7,26,8],[26,10,26,11],[26,12,26,13],[26,14,26,19],[27,1,28,6],[27,7,28,8],[27,10,28,11],[27,12,28,13],[27,14,28,19],[33,1,33,6],[33,7,33,8],[33,10,33,11],[33,12,33,13]]}
[]
[null,"ÉQUIPES",null,null,null,null,null,"BUTS",null,null,"PÉNALTIES",null,"BUTS",null,"ÉQUIPES",null,null,null,null,null,null,null,null,null,null,null,null,null,"BARRAGES\nEUROPE"]
[null,{"$f":"EUROPE!AD56","v":"IRLANDE DU NORD"},null,null,null,null,null,0,null,null,null,null,0,null,{"$f":"B5","v":"SUISSE"},null,null,null,null,null,null,"QUALIFIÉ",null,null,null,null,null,null,null,null,null,null,null,null,null,null,null,null,null,null,{"$f":"SUM(H3*100+(M5*100)*2+K5)","v":0}]
[null,null,null,null,null,null,null,null,null,null,null,null,null,null,null,null,null,null,null,null,null,{"$f":"IF(H3=\"\",\"\",IF(AO3>AO5,B3,B5))","v":"SUISSE"}]
[null,{"$f":"EUROPE!AD36","v":"SUISSE"},null,null,null,null,null,1,null,null,null,null,0,null,{"$f":"B3","v":"IRLANDE DU NORD"},null,null,null,null,null,null,null,null,null,null,null,null,null,null,null,null,null,null,null,null,null,null,null,null,null,{"$f":"SUM(M3*100+(H5*100)*2+K3)","v":200}]
[]
[]
[null,"ÉQUIPES",null,null,null,null,null,"BUTS",null,null,"PÉNALTIES",null,"BUTS",null,"ÉQUIPES"]
[null,{"$f":"EUROPE!AD176","v":"CROATIE"},null,null,null,null,null,4,null,null,null,null,0,null,{"$f":"B11","v":"GRÈCE"},null,null,null,null,null,null,"QUALIFIÉ",null,null,null,null,null,null,null,null,null,null,null,null,null,null,null,null,null,null,{"$f":"SUM(H9*100+(M11*100)*2+K11)","v":400}]
[null,null,null,null,null,null,null,null,null,null,null,null,null,null,null,null,null,null,null,null,null,{"$f":"IF(H9=\"\",\"\",IF(AO9>AO11,B9,B11))","v":"CROATIE"}]
[null,{"$f":"EUROPE!AD156","v":"GRÈCE"},null,null,null,null,null,1,null,null,null,null,0,null,{"$f":"B9","v":"CROATIE"},null,null,null,null,null,null,null,null,null,null,null,null,null,null,null,null,null,null,null,null,null,null,null,null,null,{"$f":"SUM(M9*100+(H11*100)*2+K9)","v":200}]
[]
[]
[null,"ÉQUIPES",null,null,null,null,null,"BUTS",null,null,"PÉNALTIES",null,"BUTS",null,"ÉQUIPES"]
[null,{"$f":"EUROPE!AD96","v":"DANEMARK"},null,null,null,null,null,5,null,null,null,null,0,null,{"$f":"B17","v":"IRLANDE"},null,null,null,null,null,null,"QUALIFIÉ",null,null,null,null,null,null,null,null,null,null,null,null,null,null,null,null,null,null,{"$f":"SUM(H15*100+(M17*100)*2+K17)","v":500}]
[null,null,null,null,null,null,null,null,null,null,null,null,null,null,null,null,null,null,null,null,null,{"$f":"IF(H15=\"\",\"\",IF(AO15>AO17,B15,B17))","v":"DANEMARK"}]
[null,{"$f":"EUROPE!AD76","v":"IRLANDE"},null,null,null,null,null,1,null,null,null,null,0,null,{"$f":"B15","v":"DANEMARK"},null,null,null,null,null,null,null,null,null,null,null,null,null,null,null,null,null,null,null,null,null,null,null,null,null,{"$f":"SUM(M15*100+(H17*100)*2+K15)","v":200}]
[]
[]
[null,"ÉQUIPES",null,null,null,null,null,"BUTS",null,null,"PÉNALTIES",null,"BUTS",null,"ÉQUIPES"]
[null,{"$f":"EUROPE!AD16","v":"SUÈDE"},null,null,null,null,null,1,null,null,null,null,0,null,{"$f":"B23","v":"ITALIE"},null,null,null,null,null,null,"QUALIFIÉ",null,null,null,null,null,null,null,null,null,null,null,null,null,null,null,null,null,null,{"$f":"SUM(H21*100+(M23*100)*2+K23)","v":100}]
[null,null,null,null,null,null,null,null,null,null,null,null,null,null,null,null,null,null,null,null,null,{"$f":"IF(H21=\"\",\"\",IF(AO21>AO23,B21,B23))","v":"SUÈDE"}]
[null,{"$f":"EUROPE!AD136","v":"ITALIE"},null,null,null,null,null,0,null,null,null,null,0,null,{"$f":"B21","v":"SUÈDE"},null,null,null,null,null,null,null,null,null,null,null,null,null,null,null,null,null,null,null,null,null,null,null,null,null,{"$f":"SUM(M21*100+(H23*100)*2+K21)","v":0}]
[]
[]
[]
[null,"ÉQUIPES",null,null,null,null,null,"BUTS",null,null,"PÉNALTIES",null,"BUTS",null,"ÉQUIPES",null,null,null,null,null,null,null,null,null,null,null,null,null,"BARRAGES AMÉRIQUE DU NORD\n+\nASIE"]
[null,{"$f":"'AMERIQUE DU NORD'!AD19:AM20","v":"HONDURAS"},null,null,null,null,null,0,null,null,null,null,3,null,{"$f":"B30","v":"AUSTRALIE"},null,null,null,null,null,null,"QUALIFIÉ",null,null,null,null,null,null,null,null,null,null,null,null,null,null,null,null,null,null,{"$f":"SUM(H28*100+(M30*100)*2+K30)","v":200}]
[null,null,null,null,null,null,null,null,null,null,null,null,null,null,null,null,null,null,null,null,null,{"$f":"IF(H28=\"\",\"\",IF(AO28>AO30,B28,B30))","v":"AUSTRALIE"}]
[null,{"$f":"ASIE!W43","v":"AUSTRALIE"},null,null,null,null,null,0,null,null,null,null,1,null,{"$f":"B28","v":"HONDURAS"},null,null,null,null,null,null,null,null,null,null,null,null,null,null,null,null,null,null,null,null,null,null,null,null,null,{"$f":"SUM(M28*100+(H30*100)*2+K28)","v":300}]
[]
[]
[]
[null,"ÉQUIPES",null,null,null,null,null,"BUTS",null,null,"PÉNALTIES",null,"BUTS",null,"ÉQUIPES",null,null,null,null,null,null,null,null,null,null,null,null,null,"BARRAGES OCÉANIE\n+\nAMÉRIQUE DU SUD"]
[null,{"$f":"OCEANIE!W27","v":"NOUVELLE-ZELANDE"},null,null,null,null,null,0,null,null,null,null,2,null,{"$f":"B37","v":"PÉROU"},null,null,null,null,null,null,"QUALIFIÉ",null,null,null,null,null,null,null,null,null,null,null,null,null,null,null,null,null,null,{"$f":"SUM(H35*100+(M37*100)*2+K37)","v":0}]
[null,null,null,null,null,null,null,null,null,null,null,null,null,null,null,null,null,null,null,null,null,{"$f":"IF(H35=\"\",\"\",IF(AO35>AO37,B35,B37))","v":"PÉROU"}]
[null,{"$f":"'AMERIQUE DU SUD'!AD32:AM34","v":"PÉROU"},null,null,null,null,null,0,null,null,null,null,0,null,{"$f":"B35","v":"NOUVELLE-ZELANDE"},null,null,null,null,null,null,null,null,null,null,null,null,null,null,null,null,null,null,null,null,null,null,null,null,null,{"$f":"SUM(M35*100+(H37*100)*2+K35)","v":200}]

{"sheet":"EQUIPES QUALIFIEES","index":8,"n_rows":33,"n_cols":32,"rows_kept":33,"cut":false,"hidden":false,"merged":[[10,31,10,37],[7,25,10,30],[11,31,11,37],[1,31,1,37],[1,25,1,30],[2,31,2,37],[3,31,3,37],[4,31,4,37],[5,31,5,37],[6,31,6,37],[2,25,6,30],[7,31,7,37],[8,31,8,37],[9,31,9,37],[19,31,19,37],[11,25,19,30],[20,31,20,37],[21,31,21,37],[12,31,12,37],[13,31,13,37],[14,31,14,37],[15,31,15,37],[16,31,16,37],[17,31,17,37],[1,7,2,11],[27,25,32,30],[27,31,27,37],[28,31,28,37],[29,31,29,37],[30,31,30,37],[31,31,31,37],[32,31,32,37],[22,31,22,37],[20,25,22,30],[23,31,23,37],[24,31,24,37],[25,31,25,37],[26,31,26,37],[23,25,26,30],[18,31,18,37],[1,1,2,5],[3,1,4,5],[5,1,6,5],[7,1,8,5],[9,1,10,5],[1,13,2,17],[3,13,4,17],[5,13,6,17],[7,13,8,17],[9,13,10,17],[13,1,14,5],[13,7,14,11],[13,13,14,17],[13,19,14,23],[3,7,4,11],[5,7,6,11],[7,7,8,11],[9,7,10,11],[1,19,2,23],[3,19,4,23],[5,19,6,23],[7,19,8,23],[9,19,10,23],[15,1,16,5],[15,7,16,11],[15,13,16,17],[15,19,16,23],[17,1,18,5],[17,7,18,11],[17,13,18,17],[17,19,18,23],[19,1,20,5],[19,7,20,11],[19,13,20,17],[19,19,20,23],[21,1,22,5],[21,7,22,11],[21,13,22,17],[21,19,22,23]]}
[]
[null,"GROUPE  A ",null,null,null,null,null,"GROUPE  B ",null,null,null,null,null,"GROUPE  C ",null,null,null,null,null,"GROUPE  D ",null,null,null,null,null,"PAYS ORGANISATEUR",null,null,null,null,null,"RUSSIE"]
[null,null,null,null,null,null,null,null,null,null,null,null,null,null,null,null,null,null,null,null,null,null,null,null,null,"ZONE AFRIQUE",null,null,null,null,null,{"$f":"AFRIQUE!G10","v":"TUNISIE"}]
[null,{"$f":"AF2","v":"RUSSIE"},null,null,null,null,null,{"$f":"AF5","v":"MAROC"},null,null,null,null,null,{"$f":"AF12","v":"FRANCE"},null,null,null,null,null,{"$f":"AF26","v":"ARGENTINE"},null,null,null,null,null,null,null,null,null,null,null,{"$f":"AFRIQUE!G26","v":"NIGERIA"}]
[null,null,null,null,null,null,null,null,null,null,null,null,null,null,null,null,null,null,null,null,null,null,null,null,null,null,null,null,null,null,null,{"$f":"AFRIQUE!G42","v":"MAROC"}]
[null,{"$f":"AF11","v":"ARABIE SAOUDITE"},null,null,null,null,null,{"$f":"AF8","v":"IRAN"},null,null,null,null,null,{"$f":"AF32","v":"AUSTRALIE"},null,null,null,null,null,{"$f":"AF20","v":"ISLANDE"},null,null,null,null,null,null,null,null,null,null,null,{"$f":"AFRIQUE!G58","v":"SÉNÉGAL"}]
[null,null,null,null,null,null,null,null,null,null,null,null,null,null,null,null,null,null,null,null,null,null,null,null,null,null,null,null,null,null,null,{"$f":"AFRIQUE!G74","v":"ÉGYPTE"}]
[null,{"$f":"AF7","v":"ÉGYPTE"},null,null,null,null,null,{"$f":"AF13","v":"PORTUGAL"},null,null,null,null,null,{"$f":"AF33","v":"PÉROU"},null,null,null,null,null,{"$f":"AF29","v":"CROATIE"},null,null,null,null,null,"ZONE ASIE",null,null,null,null,null,{"$f":"ASIE!AD13","v":"IRAN"}]
[null,null,null,null,null,null,null,null,null,null,null,null,null,null,null,null,null,null,null,null,null,null,null,null,null,null,null,null,null,null,null,{"$f":"ASIE!AD15","v":"RÉPUBLIQUE DE CORÉE"}]
[null,{"$f":"AF25","v":"URUGUAY"},null,null,null,null,null,{"$f":"AF18","v":"ESPAGNE"},null,null,null,null,null,{"$f":"AF30","v":"DANEMARK"},null,null,null,null,null,{"$f":"AF4","v":"NIGERIA"},null,null,null,null,null,null,null,null,null,null,null,{"$f":"ASIE!AD33","v":"JAPON"}]
[null,null,null,null,null,null,null,null,null,null,null,null,null,null,null,null,null,null,null,null,null,null,null,null,null,null,null,null,null,null,null,{"$f":"ASIE!AD35","v":"ARABIE SAOUDITE"}]
[null,null,null,null,null,null,null,null,null,null,null,null,null,null,null,null,null,null,null,null,null,null,null,null,null,"ZONE EUROPE",null,null,null,null,null,{"$f":"EUROPE!AD13","v":"FRANCE"}]
[null,null,null,null,null,null,null,null,null,null,null,null,null,null,null,null,null,null,null,null,null,null,null,null,null,null,null,null,null,null,null,{"$f":"EUROPE!AD33","v":"PORTUGAL"}]
[null,"GROUPE  E ",null,null,null,null,null,"GROUPE  F ",null,null,null,null,null,"GROUPE  G ",null,null,null,null,null,"GROUPE  H ",null,null,null,null,null,null,null,null,null,null,null,{"$f":"EUROPE!AD53","v":"ALLEMAGNE"}]
[null,null,null,null,null,null,null,null,null,null,null,null,null,null,null,null,null,null,null,null,null,null,null,null,null,null,null,null,null,null,null,{"$f":"EUROPE!AD73","v":"SERBIE"}]
[null,{"$f":"AF22","v":"COSTA RICA"},null,null,null,null,null,{"$f":"AF14","v":"ALLEMAGNE"},null,null,null,null,null,{"$f":"AF19","v":"BELGIQUE"},null,null,null,null,null,{"$f":"AF27","v":"COLOMBIE"},null,null,null,null,null,null,null,null,null,null,null,{"$f":"EUROPE!AD93","v":"POLOGNE"}]
[null,null,null,null,null,null,null,null,null,null,null,null,null,null,null,null,null,null,null,null,null,null,null,null,null,null,null,null,null,null,null,{"$f":"EUROPE!AD113","v":"ANGLETERRE"}]
[null,{"$f":"AF15","v":"SERBIE"},null,null,null,null,null,{"$f":"AF21","v":"MEXIQUE"},null,null,null,null,null,{"$f":"AF23","v":"PANAMA"},null,null,null,null,null,{"$f":"AF10","v":"JAPON"},null,null,null,null,null,null,null,null,null,null,null,{"$f":"EUROPE!AD133","v":"ESPAGNE"}]
[null,null,null,null,null,null,null,null,null,null,null,null,null,null,null,null,null,null,null,null,null,null,null,null,null,null,null,null,null,null,null,{"$f":"EUROPE!AD153","v":"BELGIQUE"}]
[null,{"$f":"AF24","v":"BRESIL"},null,null,null,null,null,{"$f":"AF31","v":"SUÈDE"},null,null,null,null,null,{"$f":"AF3","v":"TUNISIE"},null,null,null,null,null,{"$f":"AF16","v":"POLOGNE"},null,null,null,null,null,null,null,null,null,null,null,{"$f":"EUROPE!AD173","v":"ISLANDE"}]
[null,null,null,null,null,null,null,null,null,null,null,null,null,null,null,null,null,null,null,null,null,null,null,null,null,"ZONE AMÉRIQUE DU NORD",null,null,null,null,null,{"$f":"'AMERIQUE DU NORD'!AD13:AM14","v":"MEXIQUE"}]
[null,{"$f":"AF28","v":"SUISSE"},null,null,null,null,null,{"$f":"AF9","v":"RÉPUBLIQUE DE CORÉE"},null,null,null,null,null,{"$f":"AF17","v":"ANGLETERRE"},null,null,null,null,null,{"$f":"AF6","v":"SÉNÉGAL"},null,null,null,null,null,null,null,null,null,null,null,{"$f":"'AMERIQUE DU NORD'!AD15:AM16","v":"COSTA RICA"}]
[null,null,null,null,null,null,null,null,null,null,null,null,null,null,null,null,null,null,null,null,null,null,null,null,null,null,null,null,null,null,null,{"$f":"'AMERIQUE DU NORD'!AD17:AM18","v":"PANAMA"}]
[null,null,null,null,null,null,null,null,null,null,null,null,null,null,null,null,null,null,null,null,null,null,null,null,null,"ZONE AMERIQUE DU SUD",null,null,null,null,null,{"$f":"'AMERIQUE DU SUD'!AD20:AM22","v":"BRESIL"}]
[null,null,null,null,null,null,null,null,null,null,null,null,null,null,null,null,null,null,null,null,null,null,null,null,null,null,null,null,null,null,null,{"$f":"'AMERIQUE DU SUD'!AD23:AM25","v":"URUGUAY"}]
[null,null,null,null,null,null,null,null,null,null,null,null,null,null,null,null,null,null,null,null,null,null,null,null,null,null,null,null,null,null,null,{"$f":"'AMERIQUE DU SUD'!AD26:AM28","v":"ARGENTINE"}]
[null,null,null,null,null,null,null,null,null,null,null,null,null,null,null,null,null,null,null,null,null,null,null,null,null,null,null,null,null,null,null,{"$f":"'AMERIQUE DU SUD'!AD29:AM31","v":"COLOMBIE"}]
[null,null,null,null,null,null,null,null,null,null,null,null,null,null,null,null,null,null,null,null,null,null,null,null,null,"ZONE BARRAGES",null,null,null,null,null,{"$f":"BARRAGES!V4","v":"SUISSE"}]
[null,null,null,null,null,null,null,null,null,null,null,null,null,null,null,null,null,null,null,null,null,null,null,null,null,null,null,null,null,null,null,{"$f":"BARRAGES!V10","v":"CROATIE"}]
[null,null,null,null,null,null,null,null,null,null,null,null,null,null,null,null,null,null,null,null,null,null,null,null,null,null,null,null,null,null,null,{"$f":"BARRAGES!V16","v":"DANEMARK"}]
[null,null,null,null,null,null,null,null,null,null,null,null,null,null,null,null,null,null,null,null,null,null,null,null,null,null,null,null,null,null,null,{"$f":"BARRAGES!V22","v":"SUÈDE"}]
[null,null,null,null,null,null,null,null,null,null,null,null,null,null,null,null,null,null,null,null,null,null,null,null,null,null,null,null,null,null,null,{"$f":"BARRAGES!V29","v":"AUSTRALIE"}]
[null,null,null,null,null,null,null,null,null,null,null,null,null,null,null,null,null,null,null,null,null,null,null,null,null,null,null,null,null,null,null,{"$f":"BARRAGES!V36","v":"PÉROU"}]

{"sheet":"CMD 2018","index":9,"n_rows":96,"n_cols":92,"rows_kept":96,"cut":false,"hidden":false,"merged":[[91,23,94,24],[91,25,91,32],[92,0,92,6],[92,9,92,15],[92,25,93,32],[93,0,95,12],[93,13,95,15],[94,25,95,32],[95,17,95,18],[95,19,95,20],[95,21,95,22],[95,23,95,24],[91,0,91,6],[91,9,91,15],[91,17,94,18],[91,19,94,20],[91,21,94,22],[93,16,95,16],[89,0,89,6],[89,9,89,15],[89,18,89,24],[89,36,89,42],[90,0,90,6],[90,9,90,15],[90,18,90,24],[90,36,90,42],[84,0,85,15],[84,17,85,32],[84,35,85,50],[86,0,86,6],[86,9,86,15],[86,18,86,24],[86,36,86,42],[87,0,87,6],[87,9,87,15],[87,18,87,24],[87,36,87,42],[88,0,88,6],[88,9,88,15],[88,18,88,24],[88,36,88,42],[84,16,86,16],[79,23,82,24],[79,25,79,32],[80,0,80,6],[80,9,80,15],[80,25,81,32],[81,0,83,12],[81,13,83,15],[82,25,83,32],[83,17,83,18],[83,19,83,20],[83,21,83,22],[83,23,83,24],[79,0,79,6],[79,9,79,15],[79,17,82,18],[79,19,82,20],[79,21,82,22],[81,16,83,16],[77,0,77,6],[77,9,77,15],[77,18,77,24],[77,36,77,42],[78,0,78,6],[78,9,78,15],[78,18,78,24],[78,36,78,42],[72,0,73,15],[72,17,73,32],[72,35,73,50],[74,0,74,6],[74,9,74,15],[74,18,74,24],[74,36,74,42],[75,0,75,6],[75,9,75,15],[75,18,75,24],[75,36,75,42],[76,0,76,6],[76,9,76,15],[76,18,76,24],[76,36,76,42],[72,16,74,16],[67,23,70,24],[67,25,67,32],[68,0,68,6],[68,9,68,15],[68,25,69,32],[69,0,71,12],[69,13,71,15],[70,25,71,32],[71,17,71,18],[71,19,71,20],[71,21,71,22],[71,23,71,24],[67,0,67,6],[67,9,67,15],[67,17,70,18],[67,19,70,20],[67,21,70,22],[69,16,71,16],[65,0,65,6],[65,9,65,15],[65,18,65,24],[65,36,65,42],[66,0,66,6],[66,9,66,15],[66,18,66,24],[66,36,66,42],[60,0,61,15],[60,17,61,32],[60,35,61,50],[62,0,62,6],[62,9,62,15],[62,18,62,24],[62,36,62,42],[63,0,63,6],[63,9,63,15],[63,18,63,24],[63,36,63,42],[64,0,64,6],[64,9,64,15],[64,18,64,24],[64,36,64,42],[60,16,62,16],[55,23,58,24],[55,25,55,32],[56,0,56,6],[56,9,56,15],[56,25,57,32],[57,0,59,12],[57,13,59,15],[58,25,59,32],[59,17,59,18],[59,19,59,20],[59,21,59,22],[59,23,59,24],[55,0,55,6],[55,9,55,15],[55,17,58,18],[55,19,58,20],[55,21,58,22],[57,16,59,16],[53,0,53,6],[53,9,53,15],[53,18,53,24],[53,36,53,42],[54,0,54,6],[54,9,54,15],[54,18,54,24],[54,36,54,42],[48,0,49,15],[48,17,49,32],[48,35,49,50],[50,0,50,6],[50,9,50,15],[50,18,50,24],[50,36,50,42],[51,0,51,6],[51,9,51,15],[51,18,51,24],[51,36,51,42],[52,0,52,6],[52,9,52,15],[52,18,52,24],[52,36,52,42],[48,16,50,16],[43,23,46,24],[43,25,43,32],[44,0,44,6],[44,9,44,15],[44,25,45,32],[45,0,47,12],[45,13,47,15],[46,25,47,32],[47,17,47,18],[47,19,47,20],[47,21,47,22],[47,23,47,24],[43,0,43,6],[43,9,43,15],[43,17,46,18],[43,19,46,20],[43,21,46,22],[45,16,47,16],[41,0,41,6],[41,9,41,15],[41,18,41,24],[41,36,41,42],[42,0,42,6],[42,9,42,15],[42,18,42,24],[42,36,42,42],[36,0,37,15],[36,17,37,32],[36,35,37,50],[38,0,38,6],[38,9,38,15],[38,18,38,24],[38,36,38,42],[39,0,39,6],[39,9,39,15],[39,18,39,24],[39,36,39,42],[40,0,40,6],[40,9,40,15],[40,18,40,24],[40,36,40,42],[36,16,38,16],[31,23,34,24],[31,25,31,32],[32,0,32,6],[32,9,32,15],[32,25,33,32],[33,0,35,12],[33,13,35,15],[34,25,35,32],[35,17,35,18],[35,19,35,20],[35,21,35,22],[35,23,35,24],[31,0,31,6],[31,9,31,15],[31,17,34,18],[31,19,34,20],[31,21,34,22],[33,16,35,16],[29,0,29,6],[29,9,29,15],[29,18,29,24],[29,36,29,42],[30,0,30,6],[30,9,30,15],[30,18,30,24],[30,36,30,42],[24,0,25,15],[24,17,25,32],[24,35,25,50],[26,0,26,6],[26,9,26,15],[26,18,26,24],[26,36,26,42],[27,0,27,6],[27,9,27,15],[27,18,27,24],[27,36,27,42],[28,0,28,6],[28,9,28,15],[28,18,28,24],[28,36,28,42],[24,16,26,16],[20,25,21,32],[21,0,23,12],[21,13,23,15],[22,25,23,32],[23,17,23,18],[23,19,23,20],[23,21,23,22],[23,23,23,24],[19,0,19,6],[19,9,19,15],[19,17,22,18],[19,19,22,20],[19,21,22,22],[19,23,22,24],[19,25,19,32],[20,0,20,6],[20,9,20,15],[21,16,23,16],[18,0,18,6],[18,9,18,15],[18,18,18,24],[18,36,18,42],[12,0,13,15],[12,17,13,32],[12,35,13,50],[14,0,14,6],[14,9,14,15],[14,18,14,24],[14,36,14,42],[15,0,15,6],[15,9,15,15],[15,18,15,24],[15,36,15,42],[16,0,16,6],[16,9,16,15],[16,18,16,24],[16,36,16,42],[17,0,17,6],[17,9,17,15],[17,18,17,24],[17,36,17,42],[12,16,14,16],[7,23,10,24],[11,17,11,18],[11,19,11,20],[11,21,11,22],[11,23,11,24],[0,17,1,32],[0,0,1,15],[9,0,11,12],[9,13,11,15],[7,17,10,18],[7,19,10,20],[8,0,8,6],[3,9,3,15],[7,25,7,32],[7,9,7,15],[8,9,8,15],[7,0,7,6],[7,21,10,22],[8,25,9,32],[10,25,11,32],[9,16,11,16],[0,35,1,50],[2,36,2,42],[3,36,3,42],[4,36,4,42],[5,36,5,42],[6,36,6,42],[2,0,2,6],[2,9,2,15],[2,18,2,24],[3,0,3,6],[4,0,4,6],[3,18,3,24],[4,18,4,24],[4,9,4,15],[5,9,5,15],[6,9,6,15],[0,16,2,16],[5,0,5,6],[6,0,6,6],[5,18,5,24],[6,18,6,24]]}
["CDM  2018  RUSSIE",null,null,null,null,null,null,null,null,null,null,null,null,null,null,null,null,"CLASSEMENT",null,null,null,null,null,null,null,null,null,null,null,null,null,null,null,null,null,"CLASSEMENT",null,null,null,null,null,null,null,null,null,null,null,null,null,null,null,null,null,null,null,null,null,null,null,null,null,null,null,null,null,null,{"$f":"AK4","v":"RUSSIE"},{"$f":"AK5","v":"ARABIE SAOUDITE"},{"$f":"AK6","v":"ÉGYPTE"},{"$f":"AK7","v":"URUGUAY"},{"$f":"BO1","v":"RUSSIE"},{"$f":"BP1","v":"ARABIE SAOUDITE"},"ÉGYPTE","URUGUAY",{"$f":"AK4","v":"RUSSIE"},{"$f":"BP1","v":"ARABIE SAOUDITE"},{"$f":"BQ1","v":"ÉGYPTE"},{"$f":"BR1","v":"URUGUAY"},{"$f":"BO1","v":"RUSSIE"},{"$f":"BP1","v":"ARABIE SAOUDITE"},{"$f":"BQ1","v":"ÉGYPTE"},{"$f":"BR1","v":"URUGUAY"}]
[null,null,null,null,null,null,null,null,null,null,null,null,null,null,null,null,null,null,null,null,null,null,null,null,null,null,null,null,null,null,null,null,null,null,null,null,null,null,null,null,null,null,null,null,null,null,null,null,null,null,null,null,null,null,null,null,null,null,null,null,null,null,null,null,null,null,{"$f":"IF(AJ4=1,1000000)","v":1000000},{"$f":"IF(AJ5=1,1000000)","v":false},{"$f":"IF(AJ6=1,1000000)","v":false},{"$f":"IF(AJ7=1,1000000)","v":1000000},{"$f":"IF(AJ4=2,800000)","v":false},{"$f":"IF(AJ5=2,800000)","v":false},{"$f":"IF(AJ6=2,800000)","v":false},{"$f":"IF(AJ7=2,800000)","v":false},{"$f":"IF(AJ4=3,600000)","v":false},{"$f":"IF(AJ5=3,600000)","v":600000},{"$f":"IF(AJ6=3,600000)","v":600000},{"$f":"IF(AJ7=3,600000)","v":false},{"$f":"IF(AJ4=4,400000)","v":false},{"$f":"IF(AJ5=4,400000)","v":false},{"$f":"IF(AJ6=4,400000)","v":false},{"$f":"IF(AJ7=4,400000)","v":false},1,{"$f":"CJ2","v":1},{"$f":"AK4","v":"RUSSIE"},{"$f":"SUM(BO6,BS6,BW6,CA6)","v":1006000.78},{"$f":"CH2+0.00000004","v":1006000.7800000401},{"$f":"RANK(CI2,CI2:CI5)","v":1},null,{"$f":"VLOOKUP(CE2,CF2:CG5,2,0)","v":"RUSSIE"},{"$f":"VLOOKUP(CL2,CG2:CH5,2,0)","v":1006000.78},{"$f":"RANK(CM2,CM2:CM5)","v":1}]
["ÉQUIPES",null,null,null,null,null,null,"Bts","Bts","ÉQUIPES",null,null,null,null,null,null,null,"R","ÉQUIPES",null,null,null,null,null,null,"Pts","J","G","N","P","Bts +","Bts -","Diff",null,null,"R","ÉQUIPES",null,null,null,null,null,null,"Pts","J","G","N","P","Bts +","Bts -","Diff","PTS","PTS","J","J","G","G","N","N","P","P","BTS+","BTS+","BTS-","BTS-",null,{"$f":"IF(AJ4=1,IF(AJ5=1,SUM(AR4*1000+(AY4)/10+(AW4)/100+(AZ4)/1000+(H4-I4)/10000+(H4)/100000)))","v":false},{"$f":"IF(AJ5=1,IF(AJ4=1,SUM(AR5*1000+(AY5)/10+(AW5)/100+(BA4)/1000+(I4-H4)/10000+(I4)/100000)))","v":false},{"$f":"IF(AJ6=1,IF(AJ4=1,SUM(AR6*1000+(AY6)/10+(AW6)/100+(BA6)/1000+(I6-H6)/10000+(I6)/100000)))","v":false},{"$f":"IF(AJ7=1,IF(AJ4=1,SUM(AR7*1000+(AY7)/10+(AW7)/100+(AZ8)/1000+(H8-I8)/10000+(H8)/1000000)))","v":6000.22},{"$f":"IF(AJ4=2,IF(AJ5=2,SUM(AR4*1000+(AY4)/10+(AW4)/100+(AZ4)/1000+(H4-I4)/10000+(H4)/100000)))","v":false},{"$f":"IF(AJ5=2,IF(AJ4=2,SUM(AR5*1000+(AY5)/10+(AW5)/100+(BA4)/1000+(I4-H4)/10000+(I4)/100000)))","v":false},{"$f":"IF(AJ6=2,IF(AJ4=2,SUM(AR6*1000+(AY6)/10+(AW6)/100+(BA6)/1000+(I6-H6)/10000+(I6)/100000)))","v":false},{"$f":"IF(AJ7=2,IF(AJ4=2,SUM(AR7*1000+(AY7)/10+(AW7)/100+(AZ8)/1000+(H8-I8)/10000+(H8)/1000000)))","v":false},{"$f":"IF(AJ4=3,IF(AJ5=3,SUM(AR4*1000+(AY4)/10+(AW4)/100+(AZ4)/1000+(H4-I4)/10000+(H4)/100000)))","v":false},{"$f":"IF(AJ5=3,IF(AJ4=3,SUM(AR5*1000+(AY5)/10+(AW5)/100+(BA4)/1000+(I4-H4)/10000+(I4)/100000)))","v":false},{"$f":"IF(AJ6=3,IF(AJ4=3,SUM(AR6*1000+(AY6)/10+(AW6)/100+(BA6)/1000+(I6-H6)/10000+(I6)/100000)))","v":false},{"$f":"IF(AJ7=3,IF(AJ4=3,SUM(AR7*1000+(AY7)/10+(AW7)/100+(AZ8)/1000+(H8-I8)/10000+(H8)/1000000)))","v":false},{"$f":"IF(AJ4=4,IF(AJ5=4,SUM(AR4*1000+(AY4)/10+(AW4)/100+(AZ4)/1000+(H4-I4)/10000+(H4)/100000)))","v":false},{"$f":"IF(AJ5=4,IF(AJ4=4,SUM(AR5*1000+(AY5)/10+(AW5)/100+(BA4)/1000+(I4-H4)/10000+(I4)/100000)))","v":false},{"$f":"IF(AJ6=4,IF(AJ4=4,SUM(AR6*1000+(AY6)/10+(AW6)/100+(BA6)/1000+(I6-H6)/10000+(I6)/100000)))","v":false},{"$f":"IF(AJ7=4,IF(AJ4=4,SUM(AR7*1000+(AY7)/10+(AW7)/100+(AZ8)/1000+(H8-I8)/10000+(H8)/1000000)))","v":false},2,{"$f":"CJ3","v":4},{"$f":"AK5","v":"ARABIE SAOUDITE"},{"$f":"SUM(BP6,BT6,BX6,CB6)","v":599999.4},{"$f":"CH3+0.00000003","v":599999.40000003006},{"$f":"RANK(CI3,CI2:CI5)","v":4},null,{"$f":"VLOOKUP(CE3,CF2:CG5,2,0)","v":"URUGUAY"},{"$f":"VLOOKUP(CL3,CG2:CH5,2,0)","v":1006000.22},{"$f":"RANK(CM3,CM2:CM5)","v":2}]
[{"$f":"IF(AK4=\"\",\"\",AK4)","v":"RUSSIE"},null,null,null,null,null,null,5,0,{"$f":"IF(AK5=\"\",\"\",AK5)","v":"ARABIE SAOUDITE"},null,null,null,null,null,null,"14/06 - 17h00",1,{"$f":"VLOOKUP(CE2,CF2:CG5,2,0)","v":"RUSSIE"},null,null,null,null,null,null,{"$f":"VLOOKUP(S4,AK4:AY7,8,0)","v":6},{"$f":"VLOOKUP(S4,AK4:AY7,9,0)","v":2},{"$f":"VLOOKUP(S4,AK4:AY7,10,0)","v":2},{"$f":"VLOOKUP(S4,AK4:AY7,11,0)","v":0},{"$f":"VLOOKUP(S4,AK4:AY7,12,0)","v":0},{"$f":"VLOOKUP(S4,AK4:AY7,13,0)","v":8},{"$f":"VLOOKUP(S4,AK4:AY7,14,0)","v":1},{"$f":"VLOOKUP(S4,AK4:AY7,15,0)","v":7},null,null,{"$f":"RANK(AR4,AR4:AR7)","v":1},{"$f":"'EQUIPES QUALIFIEES'!B4:F5","v":"RUSSIE"},null,null,null,null,null,null,{"$f":"SUMPRODUCT((A4:G9=AK4)*(AZ4:AZ9))+SUMPRODUCT((J4:P9=AK4)*(BA4:BA9))","v":6},{"$f":"SUMPRODUCT((A4:G9=AK4)*(BB4:BB9))+SUMPRODUCT((J4:P9=AK4)*(BC4:BC9))","v":2},{"$f":"SUMPRODUCT((A4:G9=AK4)*(BD4:BD9))+SUMPRODUCT((J4:P9=AK4)*(BE4:BE9))","v":2},{"$f":"SUMPRODUCT((A4:G9=AK4)*(BF4:BF9))+SUMPRODUCT((J4:P9=AK4)*(BG4:BG9))","v":0},{"$f":"SUMPRODUCT((A4:G9=AK4)*(BH4:BH9))+SUMPRODUCT((J4:P9=AK4)*(BI4:BI9))","v":0},{"$f":"SUMPRODUCT((A4:G9=AK4)*(BJ4:BJ9))+SUMPRODUCT((J4:P9=AK4)*(BK4:BK9))","v":8},{"$f":"SUMPRODUCT((A4:G9=AK4)*(BL4:BL9))+SUMPRODUCT((J4:P9=AK4)*(BM4:BM9))","v":1},{"$f":"AW4-AX4","v":7},{"$f":"IF(H4=\"\",0,IF(H4>I4,3,IF(H4=I4,1,IF(H4<I4,0))))","v":3},{"$f":"IF(I4=\"\",0,IF(I4>H4,3,IF(I4=H4,1,IF(I4<H4,0))))","v":0},{"$f":"IF(H4=\"\",0,1)","v":1},{"$f":"IF(H4=\"\",0,1)","v":1},{"$f":"IF(H4<>\"\",IF(H4>I4,1))","v":1},{"$f":"IF(I4<>\"\",IF(I4>H4,1))","v":false},{"$f":"IF(H4<>\"\",IF(H4=I4,1))","v":false},{"$f":"IF(I4<>\"\",IF(I4=H4,1))","v":false},{"$f":"IF(H4<>\"\",IF(H4<I4,1))","v":false},{"$f":"IF(I4<>\"\",IF(I4<H4,1))","v":1},{"$f":"H4","v":5},{"$f":"I4","v":0},{"$f":"I4","v":0},{"$f":"H4","v":5},null,{"$f":"IF(AJ4=1,IF(AJ6=1,SUM(AR4*1000+(AY4)/10+(AW4)/100+(AZ6)/1000+(H6-I6)/10000+(H6)/100000)))","v":false},{"$f":"IF(AJ5=1,IF(AJ6=1,SUM(AR5*1000+(AY5)/10+(AW5)/100+(AZ9)/1000+(H9-I9)/10000+(H9)/100000)))","v":false},{"$f":"IF(AJ6=1,IF(AJ5=1,SUM(AR6*1000+(AY6)/10+(AW6)/100+(BA9)/1000+(I9-H9)/10000+(I9)/100000)))","v":false},{"$f":"IF(AJ7=1,IF(AJ5=1,SUM(AR7*1000+(AY7)/10+(AW7)/100+(AZ7)/1000+(H7-I7)/10000+(H7)/1000000)))","v":false},{"$f":"IF(AJ4=2,IF(AJ6=2,SUM(AR4*1000+(AY4)/10+(AW4)/100+(AZ6)/1000+(H6-I6)/10000+(H6)/100000)))","v":false},{"$f":"IF(AJ5=2,IF(AJ6=2,SUM(AR5*1000+(AY5)/10+(AW5)/100+(AZ9)/1000+(H9-I9)/10000+(H9)/100000)))","v":false},{"$f":"IF(AJ6=2,IF(AJ5=2,SUM(AR6*1000+(AY6)/10+(AW6)/100+(BA9)/1000+(I9-H9)/10000+(I9)/100000)))","v":false},{"$f":"IF(AJ7=2,IF(AJ5=2,SUM(AR7*1000+(AY7)/10+(AW7)/100+(AZ7)/1000+(H7-I7)/10000+(H7)/1000000)))","v":false},{"$f":"IF(AJ4=3,IF(AJ6=3,SUM(AR4*1000+(AY4)/10+(AW4)/100+(AZ6)/1000+(H6-I6)/10000+(H6)/100000)))","v":false},{"$f":"IF(AJ5=3,IF(AJ6=3,SUM(AR5*1000+(AY5)/10+(AW5)/100+(AZ9)/1000+(H9-I9)/10000+(H9)/100000)))","v":-0.6},{"$f":"IF(AJ6=3,IF(AJ5=3,SUM(AR6*1000+(AY6)/10+(AW6)/100+(BA9)/1000+(I9-H9)/10000+(I9)/100000)))","v":-0.28999999999999998},{"$f":"IF(AJ7=3,IF(AJ5=3,SUM(AR7*1000+(AY7)/10+(AW7)/100+(AZ7)/1000+(H7-I7)/10000+(H7)/1000000)))","v":false},{"$f":"IF(AJ4=4,IF(AJ6=4,SUM(AR4*1000+(AY4)/10+(AW4)/100+(AZ6)/1000+(H6-I6)/10000+(H6)/100000)))","v":false},{"$f":"IF(AJ5=4,IF(AJ6=4,SUM(AR5*1000+(AY5)/10+(AW5)/100+(AZ9)/1000+(H9-I9)/10000+(H9)/100000)))","v":false},{"$f":"IF(AJ6=4,IF(AJ5=4,SUM(AR6*1000+(AY6)/10+(AW6)/100+(BA9)/1000+(I9-H9)/10000+(I9)/100000)))","v":false},{"$f":"IF(AJ7=4,IF(AJ5=4,SUM(AR7*1000+(AY7)/10+(AW7)/100+(AZ7)/1000+(H7-I7)/10000+(H7)/1000000)))","v":false},3,3,"ÉGYPTE",{"$f":"SUM(BQ6,BU6,BY6,CC6)","v":599999.71},{"$f":"CH4+0.00000002","v":599999.71000001999},{"$f":"RANK(CI4,CI2:CI5)","v":3},null,{"$f":"VLOOKUP(CE4,CF2:CG5,2,0)","v":"ÉGYPTE"},{"$f":"VLOOKUP(CL4,CG2:CH5,2,0)","v":599999.71},{"$f":"RANK(CM4,CM2:CM5)","v":3}]
[{"$f":"IF(AK6=\"\",\"\",AK6)","v":"ÉGYPTE"},null,null,null,null,null,null,0,1,{"$f":"IF(AK7=\"\",\"\",AK7)","v":"URUGUAY"},null,null,null,null,null,null,"15/06 - 14h00",{"$f":"IF(CM3=CM2,CN2,CN3)","v":2},{"$f":"VLOOKUP(CE3,CF2:CG5,2,0)","v":"URUGUAY"},null,null,null,null,null,null,{"$f":"VLOOKUP(S5,AK4:AY7,8,0)","v":6},{"$f":"VLOOKUP(S5,AK4:AY7,9,0)","v":2},{"$f":"VLOOKUP(S5,AK4:AY7,10,0)","v":2},{"$f":"VLOOKUP(S5,AK4:AY7,11,0)","v":0},{"$f":"VLOOKUP(S5,AK4:AY7,12,0)","v":0},{"$f":"VLOOKUP(S5,AK4:AY7,13,0)","v":2},{"$f":"VLOOKUP(S5,AK4:AY7,14,0)","v":0},{"$f":"VLOOKUP(S5,AK4:AY7,15,0)","v":2},null,null,{"$f":"RANK(AR5,AR4:AR7)","v":3},{"$f":"'EQUIPES QUALIFIEES'!B6:F7","v":"ARABIE SAOUDITE"},null,null,null,null,null,null,{"$f":"SUMPRODUCT((A4:G9=AK5)*(AZ4:AZ9))+SUMPRODUCT((J4:P9=AK5)*(BA4:BA9))","v":0},{"$f":"SUMPRODUCT((A4:G9=AK5)*(BB4:BB9))+SUMPRODUCT((J4:P9=AK5)*(BC4:BC9))","v":2},{"$f":"SUMPRODUCT((A4:G9=AK5)*(BD4:BD9))+SUMPRODUCT((J4:P9=AK5)*(BE4:BE9))","v":0},{"$f":"SUMPRODUCT((A4:G9=AK5)*(BF4:BF9))+SUMPRODUCT((J4:P9=AK5)*(BG4:BG9))","v":0},{"$f":"SUMPRODUCT((A4:G9=AK5)*(BH4:BH9))+SUMPRODUCT((J4:P9=AK5)*(BI4:BI9))","v":2},{"$f":"SUMPRODUCT((A4:G9=AK5)*(BJ4:BJ9))+SUMPRODUCT((J4:P9=AK5)*(BK4:BK9))","v":0},{"$f":"SUMPRODUCT((A4:G9=AK5)*(BL4:BL9))+SUMPRODUCT((J4:P9=AK5)*(BM4:BM9))","v":6},{"$f":"AW5-AX5","v":-6},{"$f":"IF(H5=\"\",0,IF(H5>I5,3,IF(H5=I5,1,IF(H5<I5,0))))","v":0},{"$f":"IF(I5=\"\",0,IF(I5>H5,3,IF(I5=H5,1,IF(I5<H5,0))))","v":3},{"$f":"IF(H5=\"\",0,1)","v":1},{"$f":"IF(H5=\"\",0,1)","v":1},{"$f":"IF(H5<>\"\",IF(H5>I5,1))","v":false},{"$f":"IF(I5<>\"\",IF(I5>H5,1))","v":1},{"$f":"IF(H5<>\"\",IF(H5=I5,1))","v":false},{"$f":"IF(I5<>\"\",IF(I5=H5,1))","v":false},{"$f":"IF(H5<>\"\",IF(H5<I5,1))","v":1},{"$f":"IF(I5<>\"\",IF(I5<H5,1))","v":false},{"$f":"H5","v":0},{"$f":"I5","v":1},{"$f":"I5","v":1},{"$f":"H5","v":0},null,{"$f":"IF(AJ4=1,IF(AJ7=1,SUM(AR4*1000+(AY4)/10+(AW4)/100+(BA8)/1000+(I8-H8)/10000+(I8)/100000)))","v":6000.78},{"$f":"IF(AJ5=1,IF(AJ7=1,SUM(AR5*1000+(AY5)/10+(AW5)/100+(BA7)/1000+(I7-H7)/10000+(I7)/100000)))","v":false},{"$f":"IF(AJ6=1,IF(AJ7=1,SUM(AR6*1000+(AY6)/10+(AW6)/100+(AZ5)/1000+(H5-I5)/10000+(H5)/100000)))","v":false},{"$f":"IF(AJ7=1,IF(AJ6=1,SUM(AR7*1000+(AY7)/10+(AW7)/100+(BA5)/1000+(I5-H5)/10000+(I5)/100000)))","v":false},{"$f":"IF(AJ4=2,IF(AJ7=2,SUM(AR4*1000+(AY4)/10+(AW4)/100+(BA8)/1000+(I8-H8)/10000+(I8)/100000)))","v":false},{"$f":"IF(AJ5=2,IF(AJ7=2,SUM(AR5*1000+(AY5)/10+(AW5)/100+(BA7)/1000+(I7-H7)/10000+(I7)/100000)))","v":false},{"$f":"IF(AJ6=2,IF(AJ7=2,SUM(AR6*1000+(AY6)/10+(AW6)/100+(AZ5)/1000+(H5-I5)/10000+(H5)/100000)))","v":false},{"$f":"IF(AJ7=2,IF(AJ6=2,SUM(AR7*1000+(AY7)/10+(AW7)/100+(BA5)/1000+(I5-H5)/10000+(I5)/100000)))","v":false},{"$f":"IF(AJ4=3,IF(AJ7=3,SUM(AR4*1000+(AY4)/10+(AW4)/100+(BA8)/1000+(I8-H8)/10000+(I8)/100000)))","v":false},{"$f":"IF(AJ5=3,IF(AJ7=3,SUM(AR5*1000+(AY5)/10+(AW5)/100+(BA7)/1000+(I7-H7)/10000+(I7)/100000)))","v":false},{"$f":"IF(AJ6=3,IF(AJ7=3,SUM(AR6*1000+(AY6)/10+(AW6)/100+(AZ5)/1000+(H5-I5)/10000+(H5)/100000)))","v":false},{"$f":"IF(AJ7=3,IF(AJ6=3,SUM(AR7*1000+(AY7)/10+(AW7)/100+(BA5)/1000+(I5-H5)/10000+(I5)/100000)))","v":false},{"$f":"IF(AJ4=4,IF(AJ7=4,SUM(AR4*1000+(AY4)/10+(AW4)/100+(BA8)/1000+(I8-H8)/10000+(I8)/100000)))","v":false},{"$f":"IF(AJ5=4,IF(AJ7=4,SUM(AR5*1000+(AY5)/10+(AW5)/100+(BA7)/1000+(I7-H7)/10000+(I7)/100000)))","v":false},{"$f":"IF(AJ6=4,IF(AJ7=4,SUM(AR6*1000+(AY6)/10+(AW6)/100+(AZ5)/1000+(H5-I5)/10000+(H5)/100000)))","v":false},{"$f":"IF(AJ7=4,IF(AJ6=4,SUM(AR7*1000+(AY7)/10+(AW7)/100+(BA5)/1000+(I5-H5)/10000+(I5)/100000)))","v":false},4,2,"URUGUAY",{"$f":"SUM(BR6,BV6,BZ6,CD6)","v":1006000.22},{"$f":"CH5+0.00000001","v":1006000.22000001},{"$f":"RANK(CI5,CI2:CI5)","v":2},null,{"$f":"VLOOKUP(CE5,CF2:CG5,2,0)","v":"ARABIE SAOUDITE"},{"$f":"VLOOKUP(CL5,CG2:CH5,2,0)","v":599999.4},{"$f":"RANK(CM5,CM2:CM5)","v":4}]
[{"$f":"IF(AK4=\"\",\"\",AK4)","v":"RUSSIE"},null,null,null,null,null,null,3,1,{"$f":"IF(AK6=\"\",\"\",AK6)","v":"ÉGYPTE"},null,null,null,null,null,null,"19/06 - 20h00",{"$f":"IF(CM4=CM3,CN3,CN4)","v":3},{"$f":"VLOOKUP(CE4,CF2:CG5,2,0)","v":"ÉGYPTE"},null,null,null,null,null,null,{"$f":"VLOOKUP(S6,AK4:AY7,8,0)","v":0},{"$f":"VLOOKUP(S6,AK4:AY7,9,0)","v":2},{"$f":"VLOOKUP(S6,AK4:AY7,10,0)","v":0},{"$f":"VLOOKUP(S6,AK4:AY7,11,0)","v":0},{"$f":"VLOOKUP(S6,AK4:AY7,12,0)","v":2},{"$f":"VLOOKUP(S6,AK4:AY7,13,0)","v":1},{"$f":"VLOOKUP(S6,AK4:AY7,14,0)","v":4},{"$f":"VLOOKUP(S6,AK4:AY7,15,0)","v":-3},null,null,{"$f":"RANK(AR6,AR4:AR7)","v":3},{"$f":"'EQUIPES QUALIFIEES'!B8:F9","v":"ÉGYPTE"},null,null,null,null,null,null,{"$f":"SUMPRODUCT((A4:G9=AK6)*(AZ4:AZ9))+SUMPRODUCT((J4:P9=AK6)*(BA4:BA9))","v":0},{"$f":"SUMPRODUCT((A4:G9=AK6)*(BB4:BB9))+SUMPRODUCT((J4:P9=AK6)*(BC4:BC9))","v":2},{"$f":"SUMPRODUCT((A4:G9=AK6)*(BD4:BD9))+SUMPRODUCT((J4:P9=AK6)*(BE4:BE9))","v":0},{"$f":"SUMPRODUCT((A4:G9=AK6)*(BF4:BF9))+SUMPRODUCT((J4:P9=AK6)*(BG4:BG9))","v":0},{"$f":"SUMPRODUCT((A4:G9=AK6)*(BH4:BH9))+SUMPRODUCT((J4:P9=AK6)*(BI4:BI9))","v":2},{"$f":"SUMPRODUCT((A4:G9=AK6)*(BJ4:BJ9))+SUMPRODUCT((J4:P9=AK6)*(BK4:BK9))","v":1},{"$f":"SUMPRODUCT((A4:G9=AK6)*(BL4:BL9))+SUMPRODUCT((J4:P9=AK6)*(BM4:BM9))","v":4},-3,3,0,1,1,1,false,false,false,false,1,3,1,1,3,null,{"$f":"SUM(BO2:BO5)","v":1006000.78},{"$f":"SUM(BP2:BP5)","v":0},{"$f":"SUM(BQ2:BQ5)","v":0},{"$f":"SUM(BR2:BR5)","v":1006000.22},{"$f":"SUM(BS2:BS5)","v":0},{"$f":"SUM(BT2:BT5)","v":0},0,0,{"$f":"SUM(BW2:BW5)","v":0},{"$f":"SUM(BX2:BX5)","v":599999.4},599999.71,0,{"$f":"SUM(CA2:CA5)","v":0},{"$f":"SUM(CB2:CB5)","v":0},0,0]
[{"$f":"IF(AK7=\"\",\"\",AK7)","v":"URUGUAY"},null,null,null,null,null,null,1,0,{"$f":"IF(AK5=\"\",\"\",AK5)","v":"ARABIE SAOUDITE"},null,null,null,null,null,null,"20/06 - 17h00",4,{"$f":"VLOOKUP(CE5,CF2:CG5,2,0)","v":"ARABIE SAOUDITE"},null,null,null,null,null,null,{"$f":"VLOOKUP(S7,AK4:AY7,8,0)","v":0},{"$f":"VLOOKUP(S7,AK4:AY7,9,0)","v":2},{"$f":"VLOOKUP(S7,AK4:AY7,10,0)","v":0},{"$f":"VLOOKUP(S7,AK4:AY7,11,0)","v":0},{"$f":"VLOOKUP(S7,AK4:AY7,12,0)","v":2},{"$f":"VLOOKUP(S7,AK4:AY7,13,0)","v":0},{"$f":"VLOOKUP(S7,AK4:AY7,14,0)","v":6},{"$f":"VLOOKUP(S7,AK4:AY7,15,0)","v":-6},null,null,{"$f":"RANK(AR7,AR4:AR7)","v":1},{"$f":"'EQUIPES QUALIFIEES'!B10:F11","v":"URUGUAY"},null,null,null,null,null,null,{"$f":"SUMPRODUCT((A4:G9=AK7)*(AZ4:AZ9))+SUMPRODUCT((J4:P9=AK7)*(BA4:BA9))","v":6},{"$f":"SUMPRODUCT((A4:G9=AK7)*(BB4:BB9))+SUMPRODUCT((J4:P9=AK7)*(BC4:BC9))","v":2},{"$f":"SUMPRODUCT((A4:G9=AK7)*(BD4:BD9))+SUMPRODUCT((J4:P9=AK7)*(BE4:BE9))","v":2},{"$f":"SUMPRODUCT((A4:G9=AK7)*(BF4:BF9))+SUMPRODUCT((J4:P9=AK7)*(BG4:BG9))","v":0},{"$f":"SUMPRODUCT((A4:G9=AK7)*(BH4:BH9))+SUMPRODUCT((J4:P9=AK7)*(BI4:BI9))","v":0},{"$f":"SUMPRODUCT((A4:G9=AK7)*(BJ4:BJ9))+SUMPRODUCT((J4:P9=AK7)*(BK4:BK9))","v":2},{"$f":"SUMPRODUCT((A4:G9=AK7)*(BL4:BL9))+SUMPRODUCT((J4:P9=AK7)*(BM4:BM9))","v":0},2,3,0,1,1,1,false,false,false,false,1,1,0,0,1]
[{"$f":"IF(AK7=\"\",\"\",AK7)","v":"URUGUAY"},null,null,null,null,null,null,null,null,{"$f":"IF(AK4=\"\",\"\",AK4)","v":"RUSSIE"},null,null,null,null,null,null,"25/06 - 16h00",null,null,null,null,null,null,null,null,"ÉQUIPES QUALIFIÉES",null,null,null,null,null,null,null,null,null,null,null,null,null,null,null,null,null,null,null,null,null,null,null,null,null,0,0,0,0,false,false,false,false,false,false,0,0,0,0]
[{"$f":"IF(AK5=\"\",\"\",AK5)","v":"ARABIE SAOUDITE"},null,null,null,null,null,null,null,null,{"$f":"IF(AK6=\"\",\"\",AK6)","v":"ÉGYPTE"},null,null,null,null,null,null,"25/06 - 16h00",null,null,null,null,null,null,null,null,{"$f":"S4","v":"RUSSIE"},null,null,null,null,null,null,null,null,null,null,null,null,null,null,null,null,null,null,null,null,null,null,null,null,null,0,0,0,0,false,false,false,false,false,false,0,0,0,0]
["GROUPE  A"]
[null,null,null,null,null,null,null,null,null,null,null,null,null,null,null,null,null,null,null,null,null,null,null,null,null,{"$f":"S5","v":"URUGUAY"}]
[null,null,null,null,null,null,null,null,null,null,null,null,null,null,null,null,null,"RUS",null,"KSA",null,"EGY",null,"URU"]
["CDM  2018  RUSSIE",null,null,null,null,null,null,null,null,null,null,null,null,null,null,null,null,"CLASSEMENT",null,null,null,null,null,null,null,null,null,null,null,null,null,null,null,null,null,"CLASSEMENT",null,null,null,null,null,null,null,null,null,null,null,null,null,null,null,null,null,null,null,null,null,null,null,null,null,null,null,null,null,null,{"$f":"AK16","v":"MAROC"},{"$f":"AK17","v":"IRAN"},{"$f":"AK18","v":"PORTUGAL"},{"$f":"AK19","v":"ESPAGNE"},{"$f":"BO13","v":"MAROC"},{"$f":"BP13","v":"IRAN"},{"$f":"BQ13","v":"PORTUGAL"},{"$f":"BR13","v":"ESPAGNE"},{"$f":"AK16","v":"MAROC"},{"$f":"BP13","v":"IRAN"},{"$f":"BQ13","v":"PORTUGAL"},{"$f":"BR13","v":"ESPAGNE"},{"$f":"BO13","v":"MAROC"},{"$f":"BP13","v":"IRAN"},{"$f":"BQ13","v":"PORTUGAL"},{"$f":"BR13","v":"ESPAGNE"}]
[null,null,null,null,null,null,null,null,null,null,null,null,null,null,null,null,null,null,null,null,null,null,null,null,null,null,null,null,null,null,null,null,null,null,null,null,null,null,null,null,null,null,null,null,null,null,null,null,null,null,null,null,null,null,null,null,null,null,null,null,null,null,null,null,null,null,{"$f":"IF(AJ16=1,1000000)","v":false},{"$f":"IF(AJ17=1,1000000)","v":false},{"$f":"IF(AJ18=1,1000000)","v":1000000},{"$f":"IF(AJ19=1,1000000)","v":1000000},{"$f":"IF(AJ16=2,800000)","v":false},{"$f":"IF(AJ17=2,800000)","v":false},{"$f":"IF(AJ18=2,800000)","v":false},{"$f":"IF(AJ19=2,800000)","v":false},{"$f":"IF(AJ16=3,600000)","v":false},{"$f":"IF(AJ17=3,600000)","v":600000},{"$f":"IF(AJ18=3,600000)","v":false},{"$f":"IF(AJ19=3,600000)","v":false},{"$f":"IF(AJ16=4,400000)","v":400000},{"$f":"IF(AJ17=4,400000)","v":false},{"$f":"IF(AJ18=4,400000)","v":false},{"$f":"IF(AJ19=4,400000)","v":false},1,{"$f":"CJ14","v":4},{"$f":"AK16","v":"MAROC"},{"$f":"SUM(BO18,BS18,BW18,CA18)","v":400000},{"$f":"CH14+0.00000004","v":400000.00000003999},{"$f":"RANK(CI14,CI14:CI17)","v":4},null,{"$f":"VLOOKUP(CE14,CF14:CG17,2,0)","v":"PORTUGAL"},{"$f":"VLOOKUP(CL14,CG14:CH17,2,0)","v":1004000.1410300001},{"$f":"RANK(CM14,CM14:CM17)","v":1}]
["ÉQUIPES",null,null,null,null,null,null,"Bts","Bts","ÉQUIPES",null,null,null,null,null,null,null,"R","ÉQUIPES",null,null,null,null,null,null,"Pts","J","G","N","P","Bts +","Bts -","Diff",null,null,"R","ÉQUIPES",null,null,null,null,null,null,"Pts","J","G","N","P","Bts +","Bts -","Diff","PTS","PTS","J","J","G","G","N","N","P","P","BTS+","BTS+","BTS-","BTS-",null,{"$f":"IF(AJ16=1,IF(AJ17=1,SUM(AR16*1000+(AY16)/10+(AW16)/100+(AZ16)/1000+(H16-I16)/10000+(H16)/100000)))","v":false},{"$f":"IF(AJ17=1,IF(AJ16=1,SUM(AR17*1000+(AY17)/10+(AW17)/100+(BA16)/1000+(I16-H16)/10000+(I16)/100000)))","v":false},{"$f":"IF(AJ18=1,IF(AJ16=1,SUM(AR18*1000+(AY18)/10+(AW18)/100+(BA18)/1000+(I18-H18)/10000+(I18)/100000)))","v":false},{"$f":"IF(AJ19=1,IF(AJ16=1,SUM(AR19*1000+(AY19)/10+(AW19)/100+(AZ20)/1000+(H20-I20)/10000+(H20)/1000000)))","v":false},{"$f":"IF(AJ16=2,IF(AJ17=2,SUM(AR16*1000+(AY16)/10+(AW16)/100+(AZ16)/1000+(H16-I16)/10000+(H16)/100000)))","v":false},{"$f":"IF(AJ17=2,IF(AJ16=2,SUM(AR17*1000+(AY17)/10+(AW17)/100+(BA16)/1000+(I16-H16)/10000+(I16)/100000)))","v":false},{"$f":"IF(AJ18=2,IF(AJ16=2,SUM(AR18*1000+(AY18)/10+(AW18)/100+(BA18)/1000+(I18-H18)/10000+(I18)/100000)))","v":false},{"$f":"IF(AJ19=2,IF(AJ16=2,SUM(AR19*1000+(AY19)/10+(AW19)/100+(AZ20)/1000+(H20-I20)/10000+(H20)/1000000)))","v":false},{"$f":"IF(AJ16=3,IF(AJ17=3,SUM(AR16*1000+(AY16)/10+(AW16)/100+(AZ16)/1000+(H16-I16)/10000+(H16)/100000)))","v":false},{"$f":"IF(AJ17=3,IF(AJ16=3,SUM(AR17*1000+(AY17)/10+(AW17)/100+(BA16)/1000+(I16-H16)/10000+(I16)/100000)))","v":false},{"$f":"IF(AJ18=3,IF(AJ16=3,SUM(AR18*1000+(AY18)/10+(AW18)/100+(BA18)/1000+(I18-H18)/10000+(I18)/100000)))","v":false},{"$f":"IF(AJ19=3,IF(AJ16=3,SUM(AR19*1000+(AY19)/10+(AW19)/100+(AZ20)/1000+(H20-I20)/10000+(H20)/1000000)))","v":false},{"$f":"IF(AJ16=4,IF(AJ17=4,SUM(AR16*1000+(AY16)/10+(AW16)/100+(AZ16)/1000+(H16-I16)/10000+(H16)/100000)))","v":false},{"$f":"IF(AJ17=4,IF(AJ16=4,SUM(AR17*1000+(AY17)/10+(AW17)/100+(BA16)/1000+(I16-H16)/10000+(I16)/100000)))","v":false},{"$f":"IF(AJ18=4,IF(AJ16=4,SUM(AR18*1000+(AY18)/10+(AW18)/100+(BA18)/1000+(I18-H18)/10000+(I18)/100000)))","v":false},{"$f":"IF(AJ19=4,IF(AJ16=4,SUM(AR19*1000+(AY19)/10+(AW19)/100+(AZ20)/1000+(H20-I20)/10000+(H20)/1000000)))","v":false},2,{"$f":"CJ15","v":3},{"$f":"AK17","v":"IRAN"},{"$f":"SUM(BP18,BT18,BX18,CB18)","v":600000},{"$f":"CH15+0.00000003","v":600000.00000003004},{"$f":"RANK(CI15,CI14:CI17)","v":3},null,{"$f":"VLOOKUP(CE15,CF14:CG17,2,0)","v":"ESPAGNE"},{"$f":"VLOOKUP(CL15,CG14:CH17,2,0)","v":1004000.1410300001},{"$f":"RANK(CM15,CM14:CM17)","v":1}]
[{"$f":"IF(AK16=\"\",\"\",AK16)","v":"MAROC"},null,null,null,null,null,null,0,1,{"$f":"IF(AK17=\"\",\"\",AK17)","v":"IRAN"},null,null,null,null,null,null,"15/06 - 17h00",1,{"$f":"VLOOKUP(CE14,CF14:CG17,2,0)","v":"PORTUGAL"},null,null,null,null,null,null,{"$f":"VLOOKUP(S16,AK16:AY19,8,0)","v":4},{"$f":"VLOOKUP(S16,AK16:AY19,9,0)","v":2},{"$f":"VLOOKUP(S16,AK16:AY19,10,0)","v":1},{"$f":"VLOOKUP(S16,AK16:AY19,11,0)","v":1},{"$f":"VLOOKUP(S16,AK16:AY19,12,0)","v":0},{"$f":"VLOOKUP(S16,AK16:AY19,13,0)","v":4},{"$f":"VLOOKUP(S16,AK16:AY19,14,0)","v":3},{"$f":"VLOOKUP(S16,AK16:AY19,15,0)","v":1},null,null,{"$f":"RANK(AR16,AR16:AR19)","v":4},{"$f":"'EQUIPES QUALIFIEES'!H4:L5","v":"MAROC"},null,null,null,null,null,null,{"$f":"SUMPRODUCT((A16:G21=AK16)*(AZ16:AZ21))+SUMPRODUCT((J16:P21=AK16)*(BA16:BA21))","v":0},{"$f":"SUMPRODUCT((A16:G21=AK16)*(BB16:BB21))+SUMPRODUCT((J16:P21=AK16)*(BC16:BC21))","v":2},{"$f":"SUMPRODUCT((A16:G21=AK16)*(BD16:BD21))+SUMPRODUCT((J16:P21=AK16)*(BE16:BE21))","v":0},{"$f":"SUMPRODUCT((A16:G21=AK16)*(BF16:BF21))+SUMPRODUCT((J16:P21=AK16)*(BG16:BG21))","v":0},{"$f":"SUMPRODUCT((A16:G21=AK16)*(BH16:BH21))+SUMPRODUCT((J16:P21=AK16)*(BI16:BI21))","v":2},{"$f":"SUMPRODUCT((A16:G21=AK16)*(BJ16:BJ21))+SUMPRODUCT((J16:P21=AK16)*(BK16:BK21))","v":0},{"$f":"SUMPRODUCT((A16:G21=AK16)*(BL16:BL21))+SUMPRODUCT((J16:P21=AK16)*(BM16:BM21))","v":2},{"$f":"AW16-AX16","v":-2},{"$f":"IF(H16=\"\",0,IF(H16>I16,3,IF(H16=I16,1,IF(H16<I16,0))))","v":0},{"$f":"IF(I16=\"\",0,IF(I16>H16,3,IF(I16=H16,1,IF(I16<H16,0))))","v":3},{"$f":"IF(H16=\"\",0,1)","v":1},{"$f":"IF(H16=\"\",0,1)","v":1},{"$f":"IF(H16<>\"\",IF(H16>I16,1))","v":false},{"$f":"IF(I16<>\"\",IF(I16>H16,1))","v":1},{"$f":"IF(H16<>\"\",IF(H16=I16,1))","v":false},{"$f":"IF(I16<>\"\",IF(I16=H16,1))","v":false},{"$f":"IF(H16<>\"\",IF(H16<I16,1))","v":1},{"$f":"IF(I16<>\"\",IF(I16<H16,1))","v":false},{"$f":"H16","v":0},{"$f":"I16","v":1},{"$f":"I16","v":1},{"$f":"H16","v":0},null,{"$f":"IF(AJ16=1,IF(AJ18=1,SUM(AR16*1000+(AY16)/10+(AW16)/100+(AZ18)/1000+(H18-I18)/10000+(H18)/100000)))","v":false},{"$f":"IF(AJ17=1,IF(AJ18=1,SUM(AR17*1000+(AY17)/10+(AW17)/100+(AZ21)/1000+(H21-I21)/10000+(H21)/100000)))","v":false},{"$f":"IF(AJ18=1,IF(AJ17=1,SUM(AR18*1000+(AY18)/10+(AW18)/100+(BA21)/1000+(I21-H21)/10000+(I21)/100000)))","v":false},{"$f":"IF(AJ19=1,IF(AJ17=1,SUM(AR19*1000+(AY19)/10+(AW19)/100+(AZ19)/1000+(H19-I19)/10000+(H19)/1000000)))","v":false},{"$f":"IF(AJ16=2,IF(AJ18=2,SUM(AR16*1000+(AY16)/10+(AW16)/100+(AZ18)/1000+(H18-I18)/10000+(H18)/100000)))","v":false},{"$f":"IF(AJ17=2,IF(AJ18=2,SUM(AR17*1000+(AY17)/10+(AW17)/100+(AZ21)/1000+(H21-I21)/10000+(H21)/100000)))","v":false},{"$f":"IF(AJ18=2,IF(AJ17=2,SUM(AR18*1000+(AY18)/10+(AW18)/100+(BA21)/1000+(I21-H21)/10000+(I21)/100000)))","v":false},{"$f":"IF(AJ19=2,IF(AJ17=2,SUM(AR19*1000+(AY19)/10+(AW19)/100+(AZ19)/1000+(H19-I19)/10000+(H19)/1000000)))","v":false},{"$f":"IF(AJ16=3,IF(AJ18=3,SUM(AR16*1000+(AY16)/10+(AW16)/100+(AZ18)/1000+(H18-I18)/10000+(H18)/100000)))","v":false},{"$f":"IF(AJ17=3,IF(AJ18=3,SUM(AR17*1000+(AY17)/10+(AW17)/100+(AZ21)/1000+(H21-I21)/10000+(H21)/100000)))","v":false},{"$f":"IF(AJ18=3,IF(AJ17=3,SUM(AR18*1000+(AY18)/10+(AW18)/100+(BA21)/1000+(I21-H21)/10000+(I21)/100000)))","v":false},{"$f":"IF(AJ19=3,IF(AJ17=3,SUM(AR19*1000+(AY19)/10+(AW19)/100+(AZ19)/1000+(H19-I19)/10000+(H19)/1000000)))","v":false},{"$f":"IF(AJ16=4,IF(AJ18=4,SUM(AR16*1000+(AY16)/10+(AW16)/100+(AZ18)/1000+(H18-I18)/10000+(H18)/100000)))","v":false},{"$f":"IF(AJ17=4,IF(AJ18=4,SUM(AR17*1000+(AY17)/10+(AW17)/100+(AZ21)/1000+(H21-I21)/10000+(H21)/100000)))","v":false},{"$f":"IF(AJ18=4,IF(AJ17=4,SUM(AR18*1000+(AY18)/10+(AW18)/100+(BA21)/1000+(I21-H21)/10000+(I21)/100000)))","v":false},{"$f":"IF(AJ19=4,IF(AJ17=4,SUM(AR19*1000+(AY19)/10+(AW19)/100+(AZ19)/1000+(H19-I19)/10000+(H19)/1000000)))","v":false},3,1,"PORTUGAL",{"$f":"SUM(BQ18,BU18,BY18,CC18)","v":1004000.1410300001},{"$f":"CH16+0.00000002","v":1004000.1410300201},{"$f":"RANK(CI16,CI14:CI17)","v":1},null,{"$f":"VLOOKUP(CE16,CF14:CG17,2,0)","v":"IRAN"},{"$f":"VLOOKUP(CL16,CG14:CH17,2,0)","v":600000},{"$f":"RANK(CM16,CM14:CM17)","v":3}]
[{"$f":"IF(AK18=\"\",\"\",AK18)","v":"PORTUGAL"},null,null,null,null,null,null,3,3,{"$f":"IF(AK19=\"\",\"\",AK19)","v":"ESPAGNE"},null,null,null,null,null,null,"15/06 - 20h00",{"$f":"IF(CM15=CM14,CN14,CN15)","v":1},{"$f":"VLOOKUP(CE15,CF14:CG17,2,0)","v":"ESPAGNE"},null,null,null,null,null,null,{"$f":"VLOOKUP(S17,AK16:AY19,8,0)","v":4},{"$f":"VLOOKUP(S17,AK16:AY19,9,0)","v":2},{"$f":"VLOOKUP(S17,AK16:AY19,10,0)","v":1},{"$f":"VLOOKUP(S17,AK16:AY19,11,0)","v":1},{"$f":"VLOOKUP(S17,AK16:AY19,12,0)","v":0},{"$f":"VLOOKUP(S17,AK16:AY19,13,0)","v":4},{"$f":"VLOOKUP(S17,AK16:AY19,14,0)","v":3},{"$f":"VLOOKUP(S17,AK16:AY19,15,0)","v":1},null,null,{"$f":"RANK(AR17,AR16:AR19)","v":3},{"$f":"'EQUIPES QUALIFIEES'!H6:L7","v":"IRAN"},null,null,null,null,null,null,{"$f":"SUMPRODUCT((A16:G21=AK17)*(AZ16:AZ21))+SUMPRODUCT((J16:P21=AK17)*(BA16:BA21))","v":3},{"$f":"SUMPRODUCT((A16:G21=AK17)*(BB16:BB21))+SUMPRODUCT((J16:P21=AK17)*(BC16:BC21))","v":2},{"$f":"SUMPRODUCT((A16:G21=AK17)*(BD16:BD21))+SUMPRODUCT((J16:P21=AK17)*(BE16:BE21))","v":1},{"$f":"SUMPRODUCT((A16:G21=AK17)*(BF16:BF21))+SUMPRODUCT((J16:P21=AK17)*(BG16:BG21))","v":0},{"$f":"SUMPRODUCT((A16:G21=AK17)*(BH16:BH21))+SUMPRODUCT((J16:P21=AK17)*(BI16:BI21))","v":1},{"$f":"SUMPRODUCT((A16:G21=AK17)*(BJ16:BJ21))+SUMPRODUCT((J16:P21=AK17)*(BK16:BK21))","v":1},{"$f":"SUMPRODUCT((A16:G21=AK17)*(BL16:BL21))+SUMPRODUCT((J16:P21=AK17)*(BM16:BM21))","v":1},{"$f":"AW17-AX17","v":0},{"$f":"IF(H17=\"\",0,IF(H17>I17,3,IF(H17=I17,1,IF(H17<I17,0))))","v":1},{"$f":"IF(I17=\"\",0,IF(I17>H17,3,IF(I17=H17,1,IF(I17<H17,0))))","v":1},{"$f":"IF(H17=\"\",0,1)","v":1},{"$f":"IF(H17=\"\",0,1)","v":1},{"$f":"IF(H17<>\"\",IF(H17>I17,1))","v":false},{"$f":"IF(I17<>\"\",IF(I17>H17,1))","v":false},{"$f":"IF(H17<>\"\",IF(H17=I17,1))","v":1},{"$f":"IF(I17<>\"\",IF(I17=H17,1))","v":1},{"$f":"IF(H17<>\"\",IF(H17<I17,1))","v":false},{"$f":"IF(I17<>\"\",IF(I17<H17,1))","v":false},{"$f":"H17","v":3},{"$f":"I17","v":3},{"$f":"I17","v":3},{"$f":"H17","v":3},null,{"$f":"IF(AJ16=1,IF(AJ19=1,SUM(AR16*1000+(AY16)/10+(AW16)/100+(BA20)/1000+(I20-H20)/10000+(I20)/100000)))","v":false},{"$f":"IF(AJ17=1,IF(AJ19=1,SUM(AR17*1000+(AY17)/10+(AW17)/100+(BA19)/1000+(I19-H19)/10000+(I19)/100000)))","v":false},{"$f":"IF(AJ18=1,IF(AJ19=1,SUM(AR18*1000+(AY18)/10+(AW18)/100+(AZ17)/1000+(H17-I17)/10000+(H17)/100000)))","v":4000.1410300000002},{"$f":"IF(AJ19=1,IF(AJ18=1,SUM(AR19*1000+(AY19)/10+(AW19)/100+(BA17)/1000+(I17-H17)/10000+(I17)/100000)))","v":4000.1410300000002},{"$f":"IF(AJ16=2,IF(AJ19=2,SUM(AR16*1000+(AY16)/10+(AW16)/100+(BA20)/1000+(I20-H20)/10000+(I20)/100000)))","v":false},{"$f":"IF(AJ17=2,IF(AJ19=2,SUM(AR17*1000+(AY17)/10+(AW17)/100+(BA19)/1000+(I19-H19)/10000+(I19)/100000)))","v":false},{"$f":"IF(AJ18=2,IF(AJ19=2,SUM(AR18*1000+(AY18)/10+(AW18)/100+(AZ17)/1000+(H17-I17)/10000+(H17)/100000)))","v":false},{"$f":"IF(AJ19=2,IF(AJ18=2,SUM(AR19*1000+(AY19)/10+(AW19)/100+(BA17)/1000+(I17-H17)/10000+(I17)/100000)))","v":false},{"$f":"IF(AJ16=3,IF(AJ19=3,SUM(AR16*1000+(AY16)/10+(AW16)/100+(BA20)/1000+(I20-H20)/10000+(I20)/100000)))","v":false},{"$f":"IF(AJ17=3,IF(AJ19=3,SUM(AR17*1000+(AY17)/10+(AW17)/100+(BA19)/1000+(I19-H19)/10000+(I19)/100000)))","v":false},{"$f":"IF(AJ18=3,IF(AJ19=3,SUM(AR18*1000+(AY18)/10+(AW18)/100+(AZ17)/1000+(H17-I17)/10000+(H17)/100000)))","v":false},{"$f":"IF(AJ19=3,IF(AJ18=3,SUM(AR19*1000+(AY19)/10+(AW19)/100+(BA17)/1000+(I17-H17)/10000+(I17)/100000)))","v":false},{"$f":"IF(AJ16=4,IF(AJ19=4,SUM(AR16*1000+(AY16)/10+(AW16)/100+(BA20)/1000+(I20-H20)/10000+(I20)/100000)))","v":false},{"$f":"IF(AJ17=4,IF(AJ19=4,SUM(AR17*1000+(AY17)/10+(AW17)/100+(BA19)/1000+(I19-H19)/10000+(I19)/100000)))","v":false},{"$f":"IF(AJ18=4,IF(AJ19=4,SUM(AR18*1000+(AY18)/10+(AW18)/100+(AZ17)/1000+(H17-I17)/10000+(H17)/100000)))","v":false},{"$f":"IF(AJ19=4,IF(AJ18=4,SUM(AR19*1000+(AY19)/10+(AW19)/100+(BA17)/1000+(I17-H17)/10000+(I17)/100000)))","v":false},4,2,"ESPAGNE",{"$f":"SUM(BR18,BV18,BZ18,CD18)","v":1004000.1410300001},{"$f":"CH17+0.00000001","v":1004000.1410300101},{"$f":"RANK(CI17,CI14:CI17)","v":2},null,{"$f":"VLOOKUP(CE17,CF14:CG17,2,0)","v":"MAROC"},{"$f":"VLOOKUP(CL17,CG14:CH17,2,0)","v":400000},{"$f":"RANK(CM17,CM14:CM17)","v":4}]
[{"$f":"IF(AK16=\"\",\"\",AK16)","v":"MAROC"},null,null,null,null,null,null,0,1,{"$f":"IF(AK18=\"\",\"\",AK18)","v":"PORTUGAL"},null,null,null,null,null,null,"20/06 - 14h00",{"$f":"IF(CM16=CM15,CN15,CN16)","v":3},{"$f":"VLOOKUP(CE16,CF14:CG17,2,0)","v":"IRAN"},null,null,null,null,null,null,{"$f":"VLOOKUP(S18,AK16:AY19,8,0)","v":3},{"$f":"VLOOKUP(S18,AK16:AY19,9,0)","v":2},{"$f":"VLOOKUP(S18,AK16:AY19,10,0)","v":1},{"$f":"VLOOKUP(S18,AK16:AY19,11,0)","v":0},{"$f":"VLOOKUP(S18,AK16:AY19,12,0)","v":1},{"$f":"VLOOKUP(S18,AK16:AY19,13,0)","v":1},{"$f":"VLOOKUP(S18,AK16:AY19,14,0)","v":1},{"$f":"VLOOKUP(S18,AK16:AY19,15,0)","v":0},null,null,{"$f":"RANK(AR18,AR16:AR19)","v":1},{"$f":"'EQUIPES QUALIFIEES'!H8:L9","v":"PORTUGAL"},null,null,null,null,null,null,{"$f":"SUMPRODUCT((A16:G21=AK18)*(AZ16:AZ21))+SUMPRODUCT((J16:P21=AK18)*(BA16:BA21))","v":4},{"$f":"SUMPRODUCT((A16:G21=AK18)*(BB16:BB21))+SUMPRODUCT((J16:P21=AK18)*(BC16:BC21))","v":2},{"$f":"SUMPRODUCT((A16:G21=AK18)*(BD16:BD21))+SUMPRODUCT((J16:P21=AK18)*(BE16:BE21))","v":1},{"$f":"SUMPRODUCT((A16:G21=AK18)*(BF16:BF21))+SUMPRODUCT((J16:P21=AK18)*(BG16:BG21))","v":1},{"$f":"SUMPRODUCT((A16:G21=AK18)*(BH16:BH21))+SUMPRODUCT((J16:P21=AK18)*(BI16:BI21))","v":0},{"$f":"SUMPRODUCT((A16:G21=AK18)*(BJ16:BJ21))+SUMPRODUCT((J16:P21=AK18)*(BK16:BK21))","v":4},{"$f":"SUMPRODUCT((A16:G21=AK18)*(BL16:BL21))+SUMPRODUCT((J16:P21=AK18)*(BM16:BM21))","v":3},1,0,3,1,1,false,1,false,false,1,false,0,1,1,0,null,{"$f":"SUM(BO14:BO17)","v":0},{"$f":"SUM(BP14:BP17)","v":0},{"$f":"SUM(BQ14:BQ17)","v":1004000.1410300001},{"$f":"SUM(BR14:BR17)","v":1004000.1410300001},{"$f":"SUM(BS14:BS17)","v":0},{"$f":"SUM(BT14:BT17)","v":0},0,0,{"$f":"SUM(BW14:BW17)","v":0},{"$f":"SUM(BX14:BX17)","v":600000},0,0,{"$f":"SUM(CA14:CA17)","v":400000},{"$f":"SUM(CB14:CB17)","v":0},0,0]
[{"$f":"IF(AK19=\"\",\"\",AK19)","v":"ESPAGNE"},null,null,null,null,null,null,1,0,{"$f":"IF(AK17=\"\",\"\",AK17)","v":"IRAN"},null,null,null,null,null,null,"20/06 - 20h00",4,{"$f":"VLOOKUP(CE17,CF14:CG17,2,0)","v":"MAROC"},null,null,null,null,null,null,{"$f":"VLOOKUP(S19,AK16:AY19,8,0)","v":0},{"$f":"VLOOKUP(S19,AK16:AY19,9,0)","v":2},{"$f":"VLOOKUP(S19,AK16:AY19,10,0)","v":0},{"$f":"VLOOKUP(S19,AK16:AY19,11,0)","v":0},{"$f":"VLOOKUP(S19,AK16:AY19,12,0)","v":2},{"$f":"VLOOKUP(S19,AK16:AY19,13,0)","v":0},{"$f":"VLOOKUP(S19,AK16:AY19,14,0)","v":2},{"$f":"VLOOKUP(S19,AK16:AY19,15,0)","v":-2},null,null,{"$f":"RANK(AR19,AR16:AR19)","v":1},{"$f":"'EQUIPES QUALIFIEES'!H10:L11","v":"ESPAGNE"},null,null,null,null,null,null,{"$f":"SUMPRODUCT((A16:G21=AK19)*(AZ16:AZ21))+SUMPRODUCT((J16:P21=AK19)*(BA16:BA21))","v":4},{"$f":"SUMPRODUCT((A16:G21=AK19)*(BB16:BB21))+SUMPRODUCT((J16:P21=AK19)*(BC16:BC21))","v":2},{"$f":"SUMPRODUCT((A16:G21=AK19)*(BD16:BD21))+SUMPRODUCT((J16:P21=AK19)*(BE16:BE21))","v":1},{"$f":"SUMPRODUCT((A16:G21=AK19)*(BF16:BF21))+SUMPRODUCT((J16:P21=AK19)*(BG16:BG21))","v":1},{"$f":"SUMPRODUCT((A16:G21=AK19)*(BH16:BH21))+SUMPRODUCT((J16:P21=AK19)*(BI16:BI21))","v":0},{"$f":"SUMPRODUCT((A16:G21=AK19)*(BJ16:BJ21))+SUMPRODUCT((J16:P21=AK19)*(BK16:BK21))","v":4},{"$f":"SUMPRODUCT((A16:G21=AK19)*(BL16:BL21))+SUMPRODUCT((J16:P21=AK19)*(BM16:BM21))","v":3},1,3,0,1,1,1,false,false,false,false,1,1,0,0,1]
[{"$f":"IF(AK19=\"\",\"\",AK19)","v":"ESPAGNE"},null,null,null,null,null,null,null,null,{"$f":"IF(AK16=\"\",\"\",AK16)","v":"MAROC"},null,null,null,null,null,null,"25/06 - 20h00",null,null,null,null,null,null,null,null,"ÉQUIPES QUALIFIÉES",null,null,null,null,null,null,null,null,null,null,null,null,null,null,null,null,null,null,null,null,null,null,null,null,null,0,0,0,0,false,false,false,false,false,false,0,0,0,0]
[{"$f":"IF(AK17=\"\",\"\",AK17)","v":"IRAN"},null,null,null,null,null,null,null,null,{"$f":"IF(AK18=\"\",\"\",AK18)","v":"PORTUGAL"},null,null,null,null,null,null,"25/06 - 20h00",null,null,null,null,null,null,null,null,{"$f":"S16","v":"PORTUGAL"},null,null,null,null,null,null,null,null,null,null,null,null,null,null,null,null,null,null,null,null,null,null,null,null,null,0,0,0,0,false,false,false,false,false,false,0,0,0,0]
["GROUPE  B"]
[null,null,null,null,null,null,null,null,null,null,null,null,null,null,null,null,null,null,null,null,null,null,null,null,null,{"$f":"S17","v":"ESPAGNE"}]
[null,null,null,null,null,null,null,null,null,null,null,null,null,null,null,null,null,"MAR",null,"IRI",null,"POR",null,"ESP"]
["CDM  2018  RUSSIE",null,null,null,null,null,null,null,null,null,null,null,null,null,null,null,null,"CLASSEMENT",null,null,null,null,null,null,null,null,null,null,null,null,null,null,null,null,null,"CLASSEMENT",null,null,null,null,null,null,null,null,null,null,null,null,null,null,null,null,null,null,null,null,null,null,null,null,null,null,null,null,null,null,{"$f":"AK28","v":"FRANCE"},{"$f":"AK29","v":"AUSTRALIE"},{"$f":"AK30","v":"PÉROU"},{"$f":"AK31","v":"DANEMARK"},{"$f":"BO25","v":"FRANCE"},{"$f":"BP25","v":"AUSTRALIE"},{"$f":"BQ25","v":"PÉROU"},{"$f":"BR25","v":"DANEMARK"},{"$f":"AK28","v":"FRANCE"},{"$f":"BP25","v":"AUSTRALIE"},{"$f":"BQ25","v":"PÉROU"},{"$f":"BR25","v":"DANEMARK"},{"$f":"BO25","v":"FRANCE"},{"$f":"BP25","v":"AUSTRALIE"},{"$f":"BQ25","v":"PÉROU"},{"$f":"BR25","v":"DANEMARK"}]
[null,null,null,null,null,null,null,null,null,null,null,null,null,null,null,null,null,null,null,null,null,null,null,null,null,null,null,null,null,null,null,null,null,null,null,null,null,null,null,null,null,null,null,null,null,null,null,null,null,null,null,null,null,null,null,null,null,null,null,null,null,null,null,null,null,null,{"$f":"IF(AJ28=1,1000000)","v":false},{"$f":"IF(AJ29=1,1000000)","v":false},{"$f":"IF(AJ30=1,1000000)","v":false},{"$f":"IF(AJ31=1,1000000)","v":1000000},{"$f":"IF(AJ28=2,800000)","v":800000},{"$f":"IF(AJ29=2,800000)","v":false},{"$f":"IF(AJ30=2,800000)","v":false},{"$f":"IF(AJ31=2,800000)","v":false},{"$f":"IF(AJ28=3,600000)","v":false},{"$f":"IF(AJ29=3,600000)","v":600000},{"$f":"IF(AJ30=3,600000)","v":false},{"$f":"IF(AJ31=3,600000)","v":false},{"$f":"IF(AJ28=4,400000)","v":false},{"$f":"IF(AJ29=4,400000)","v":false},{"$f":"IF(AJ30=4,400000)","v":400000},{"$f":"IF(AJ31=4,400000)","v":false},1,{"$f":"CJ26","v":2},{"$f":"AK28","v":"FRANCE"},{"$f":"SUM(BO30,BS30,BW30,CA30)","v":800000},{"$f":"CH26+0.00000004","v":800000.00000004005},{"$f":"RANK(CI26,CI26:CI29)","v":2},null,{"$f":"VLOOKUP(CE26,CF26:CG29,2,0)","v":"DANEMARK"},{"$f":"VLOOKUP(CL26,CG26:CH29,2,0)","v":1000000},{"$f":"RANK(CM26,CM26:CM29)","v":1}]
["ÉQUIPES",null,null,null,null,null,null,"Bts","Bts","ÉQUIPES",null,null,null,null,null,null,null,"R","ÉQUIPES",null,null,null,null,null,null,"Pts","J","G","N","P","Bts +","Bts -","Diff",null,null,"R","ÉQUIPES",null,null,null,null,null,null,"Pts","J","G","N","P","Bts +","Bts -","Diff","PTS","PTS","J","J","G","G","N","N","P","P","BTS+","BTS+","BTS-","BTS-",null,{"$f":"IF(AJ28=1,IF(AJ29=1,SUM(AR28*1000+(AY28)/10+(AW28)/100+(AZ28)/1000+(H28-I28)/10000+(H28)/100000)))","v":false},{"$f":"IF(AJ29=1,IF(AJ28=1,SUM(AR29*1000+(AY29)/10+(AW29)/100+(BA28)/1000+(I28-H28)/10000+(I28)/100000)))","v":false},{"$f":"IF(AJ30=1,IF(AJ28=1,SUM(AR30*1000+(AY30)/10+(AW30)/100+(BA30)/1000+(I30-H30)/10000+(I30)/100000)))","v":false},{"$f":"IF(AJ31=1,IF(AJ28=1,SUM(AR31*1000+(AY31)/10+(AW31)/100+(AZ32)/1000+(H32-I32)/10000+(H32)/1000000)))","v":false},{"$f":"IF(AJ28=2,IF(AJ29=2,SUM(AR28*1000+(AY28)/10+(AW28)/100+(AZ28)/1000+(H28-I28)/10000+(H28)/100000)))","v":false},{"$f":"IF(AJ29=2,IF(AJ28=2,SUM(AR29*1000+(AY29)/10+(AW29)/100+(BA28)/1000+(I28-H28)/10000+(I28)/100000)))","v":false},{"$f":"IF(AJ30=2,IF(AJ28=2,SUM(AR30*1000+(AY30)/10+(AW30)/100+(BA30)/1000+(I30-H30)/10000+(I30)/100000)))","v":false},{"$f":"IF(AJ31=2,IF(AJ28=2,SUM(AR31*1000+(AY31)/10+(AW31)/100+(AZ32)/1000+(H32-I32)/10000+(H32)/1000000)))","v":false},{"$f":"IF(AJ28=3,IF(AJ29=3,SUM(AR28*1000+(AY28)/10+(AW28)/100+(AZ28)/1000+(H28-I28)/10000+(H28)/100000)))","v":false},{"$f":"IF(AJ29=3,IF(AJ28=3,SUM(AR29*1000+(AY29)/10+(AW29)/100+(BA28)/1000+(I28-H28)/10000+(I28)/100000)))","v":false},{"$f":"IF(AJ30=3,IF(AJ28=3,SUM(AR30*1000+(AY30)/10+(AW30)/100+(BA30)/1000+(I30-H30)/10000+(I30)/100000)))","v":false},{"$f":"IF(AJ31=3,IF(AJ28=3,SUM(AR31*1000+(AY31)/10+(AW31)/100+(AZ32)/1000+(H32-I32)/10000+(H32)/1000000)))","v":false},{"$f":"IF(AJ28=4,IF(AJ29=4,SUM(AR28*1000+(AY28)/10+(AW28)/100+(AZ28)/1000+(H28-I28)/10000+(H28)/100000)))","v":false},{"$f":"IF(AJ29=4,IF(AJ28=4,SUM(AR29*1000+(AY29)/10+(AW29)/100+(BA28)/1000+(I28-H28)/10000+(I28)/100000)))","v":false},{"$f":"IF(AJ30=4,IF(AJ28=4,SUM(AR30*1000+(AY30)/10+(AW30)/100+(BA30)/1000+(I30-H30)/10000+(I30)/100000)))","v":false},{"$f":"IF(AJ31=4,IF(AJ28=4,SUM(AR31*1000+(AY31)/10+(AW31)/100+(AZ32)/1000+(H32-I32)/10000+(H32)/1000000)))","v":false},2,{"$f":"CJ27","v":3},{"$f":"AK29","v":"AUSTRALIE"},{"$f":"SUM(BP30,BT30,BX30,CB30)","v":600000},{"$f":"CH27+0.00000003","v":600000.00000003004},{"$f":"RANK(CI27,CI26:CI29)","v":3},null,{"$f":"VLOOKUP(CE27,CF26:CG29,2,0)","v":"FRANCE"},{"$f":"VLOOKUP(CL27,CG26:CH29,2,0)","v":800000},{"$f":"RANK(CM27,CM26:CM29)","v":2}]
[{"$f":"IF(AK28=\"\",\"\",AK28)","v":"FRANCE"},null,null,null,null,null,null,2,1,{"$f":"IF(AK29=\"\",\"\",AK29)","v":"AUSTRALIE"},null,null,null,null,null,null,"16/06 - 12h00",1,{"$f":"VLOOKUP(CE26,CF26:CG29,2,0)","v":"DANEMARK"},null,null,null,null,null,null,{"$f":"VLOOKUP(S28,AK28:AY31,8,0)","v":4},{"$f":"VLOOKUP(S28,AK28:AY31,9,0)","v":2},{"$f":"VLOOKUP(S28,AK28:AY31,10,0)","v":1},{"$f":"VLOOKUP(S28,AK28:AY31,11,0)","v":1},{"$f":"VLOOKUP(S28,AK28:AY31,12,0)","v":0},{"$f":"VLOOKUP(S28,AK28:AY31,13,0)","v":2},{"$f":"VLOOKUP(S28,AK28:AY31,14,0)","v":1},{"$f":"VLOOKUP(S28,AK28:AY31,15,0)","v":1},null,null,{"$f":"RANK(AR28,AR28:AR31)","v":2},{"$f":"'EQUIPES QUALIFIEES'!N4:R5","v":"FRANCE"},null,null,null,null,null,null,{"$f":"SUMPRODUCT((A28:G33=AK28)*(AZ28:AZ33))+SUMPRODUCT((J28:P33=AK28)*(BA28:BA33))","v":3},{"$f":"SUMPRODUCT((A28:G33=AK28)*(BB28:BB33))+SUMPRODUCT((J28:P33=AK28)*(BC28:BC33))","v":1},{"$f":"SUMPRODUCT((A28:G33=AK28)*(BD28:BD33))+SUMPRODUCT((J28:P33=AK28)*(BE28:BE33))","v":1},{"$f":"SUMPRODUCT((A28:G33=AK28)*(BF28:BF33))+SUMPRODUCT((J28:P33=AK28)*(BG28:BG33))","v":0},{"$f":"SUMPRODUCT((A28:G33=AK28)*(BH28:BH33))+SUMPRODUCT((J28:P33=AK28)*(BI28:BI33))","v":0},{"$f":"SUMPRODUCT((A28:G33=AK28)*(BJ28:BJ33))+SUMPRODUCT((J28:P33=AK28)*(BK28:BK33))","v":2},{"$f":"SUMPRODUCT((A28:G33=AK28)*(BL28:BL33))+SUMPRODUCT((J28:P33=AK28)*(BM28:BM33))","v":1},{"$f":"AW28-AX28","v":1},{"$f":"IF(H28=\"\",0,IF(H28>I28,3,IF(H28=I28,1,IF(H28<I28,0))))","v":3},{"$f":"IF(I28=\"\",0,IF(I28>H28,3,IF(I28=H28,1,IF(I28<H28,0))))","v":0},{"$f":"IF(H28=\"\",0,1)","v":1},{"$f":"IF(H28=\"\",0,1)","v":1},{"$f":"IF(H28<>\"\",IF(H28>I28,1))","v":1},{"$f":"IF(I28<>\"\",IF(I28>H28,1))","v":false},{"$f":"IF(H28<>\"\",IF(H28=I28,1))","v":false},{"$f":"IF(I28<>\"\",IF(I28=H28,1))","v":false},{"$f":"IF(H28<>\"\",IF(H28<I28,1))","v":false},{"$f":"IF(I28<>\"\",IF(I28<H28,1))","v":1},{"$f":"H28","v":2},{"$f":"I28","v":1},{"$f":"I28","v":1},{"$f":"H28","v":2},null,{"$f":"IF(AJ28=1,IF(AJ30=1,SUM(AR28*1000+(AY28)/10+(AW28)/100+(AZ30)/1000+(H30-I30)/10000+(H30)/100000)))","v":false},{"$f":"IF(AJ29=1,IF(AJ30=1,SUM(AR29*1000+(AY29)/10+(AW29)/100+(AZ33)/1000+(H33-I33)/10000+(H33)/100000)))","v":false},{"$f":"IF(AJ30=1,IF(AJ29=1,SUM(AR30*1000+(AY30)/10+(AW30)/100+(BA33)/1000+(I33-H33)/10000+(I33)/100000)))","v":false},{"$f":"IF(AJ31=1,IF(AJ29=1,SUM(AR31*1000+(AY31)/10+(AW31)/100+(AZ31)/1000+(H31-I31)/10000+(H31)/1000000)))","v":false},{"$f":"IF(AJ28=2,IF(AJ30=2,SUM(AR28*1000+(AY28)/10+(AW28)/100+(AZ30)/1000+(H30-I30)/10000+(H30)/100000)))","v":false},{"$f":"IF(AJ29=2,IF(AJ30=2,SUM(AR29*1000+(AY29)/10+(AW29)/100+(AZ33)/1000+(H33-I33)/10000+(H33)/100000)))","v":false},{"$f":"IF(AJ30=2,IF(AJ29=2,SUM(AR30*1000+(AY30)/10+(AW30)/100+(BA33)/1000+(I33-H33)/10000+(I33)/100000)))","v":false},{"$f":"IF(AJ31=2,IF(AJ29=2,SUM(AR31*1000+(AY31)/10+(AW31)/100+(AZ31)/1000+(H31-I31)/10000+(H31)/1000000)))","v":false},{"$f":"IF(AJ28=3,IF(AJ30=3,SUM(AR28*1000+(AY28)/10+(AW28)/100+(AZ30)/1000+(H30-I30)/10000+(H30)/100000)))","v":false},{"$f":"IF(AJ29=3,IF(AJ30=3,SUM(AR29*1000+(AY29)/10+(AW29)/100+(AZ33)/1000+(H33-I33)/10000+(H33)/100000)))","v":false},{"$f":"IF(AJ30=3,IF(AJ29=3,SUM(AR30*1000+(AY30)/10+(AW30)/100+(BA33)/1000+(I33-H33)/10000+(I33)/100000)))","v":false},{"$f":"IF(AJ31=3,IF(AJ29=3,SUM(AR31*1000+(AY31)/10+(AW31)/100+(AZ31)/1000+(H31-I31)/10000+(H31)/1000000)))","v":false},{"$f":"IF(AJ28=4,IF(AJ30=4,SUM(AR28*1000+(AY28)/10+(AW28)/100+(AZ30)/1000+(H30-I30)/10000+(H30)/100000)))","v":false},{"$f":"IF(AJ29=4,IF(AJ30=4,SUM(AR29*1000+(AY29)/10+(AW29)/100+(AZ33)/1000+(H33-I33)/10000+(H33)/100000)))","v":false},{"$f":"IF(AJ30=4,IF(AJ29=4,SUM(AR30*1000+(AY30)/10+(AW30)/100+(BA33)/1000+(I33-H33)/10000+(I33)/100000)))","v":false},{"$f":"IF(AJ31=4,IF(AJ29=4,SUM(AR31*1000+(AY31)/10+(AW31)/100+(AZ31)/1000+(H31-I31)/10000+(H31)/1000000)))","v":false},3,4,"PÉROU",{"$f":"SUM(BQ30,BU30,BY30,CC30)","v":400000},{"$f":"CH28+0.00000002","v":400000.00000002002},{"$f":"RANK(CI28,CI26:CI29)","v":4},null,{"$f":"VLOOKUP(CE28,CF26:CG29,2,0)","v":"AUSTRALIE"},{"$f":"VLOOKUP(CL28,CG26:CH29,2,0)","v":600000},{"$f":"RANK(CM28,CM26:CM29)","v":3}]
[{"$f":"IF(AK30=\"\",\"\",AK30)","v":"PÉROU"},null,null,null,null,null,null,0,1,{"$f":"IF(AK31=\"\",\"\",AK31)","v":"DANEMARK"},null,null,null,null,null,null,"16/06 - 18h00",{"$f":"IF(CM27=CM26,CN26,CN27)","v":2},{"$f":"VLOOKUP(CE27,CF26:CG29,2,0)","v":"FRANCE"},null,null,null,null,null,null,{"$f":"VLOOKUP(S29,AK28:AY31,8,0)","v":3},{"$f":"VLOOKUP(S29,AK28:AY31,9,0)","v":1},{"$f":"VLOOKUP(S29,AK28:AY31,10,0)","v":1},{"$f":"VLOOKUP(S29,AK28:AY31,11,0)","v":0},{"$f":"VLOOKUP(S29,AK28:AY31,12,0)","v":0},{"$f":"VLOOKUP(S29,AK28:AY31,13,0)","v":2},{"$f":"VLOOKUP(S29,AK28:AY31,14,0)","v":1},{"$f":"VLOOKUP(S29,AK28:AY31,15,0)","v":1},null,null,{"$f":"RANK(AR29,AR28:AR31)","v":3},{"$f":"'EQUIPES QUALIFIEES'!N6:R7","v":"AUSTRALIE"},null,null,null,null,null,null,{"$f":"SUMPRODUCT((A28:G33=AK29)*(AZ28:AZ33))+SUMPRODUCT((J28:P33=AK29)*(BA28:BA33))","v":1},{"$f":"SUMPRODUCT((A28:G33=AK29)*(BB28:BB33))+SUMPRODUCT((J28:P33=AK29)*(BC28:BC33))","v":2},{"$f":"SUMPRODUCT((A28:G33=AK29)*(BD28:BD33))+SUMPRODUCT((J28:P33=AK29)*(BE28:BE33))","v":0},{"$f":"SUMPRODUCT((A28:G33=AK29)*(BF28:BF33))+SUMPRODUCT((J28:P33=AK29)*(BG28:BG33))","v":1},{"$f":"SUMPRODUCT((A28:G33=AK29)*(BH28:BH33))+SUMPRODUCT((J28:P33=AK29)*(BI28:BI33))","v":1},{"$f":"SUMPRODUCT((A28:G33=AK29)*(BJ28:BJ33))+SUMPRODUCT((J28:P33=AK29)*(BK28:BK33))","v":2},{"$f":"SUMPRODUCT((A28:G33=AK29)*(BL28:BL33))+SUMPRODUCT((J28:P33=AK29)*(BM28:BM33))","v":3},{"$f":"AW29-AX29","v":-1},{"$f":"IF(H29=\"\",0,IF(H29>I29,3,IF(H29=I29,1,IF(H29<I29,0))))","v":0},{"$f":"IF(I29=\"\",0,IF(I29>H29,3,IF(I29=H29,1,IF(I29<H29,0))))","v":3},{"$f":"IF(H29=\"\",0,1)","v":1},{"$f":"IF(H29=\"\",0,1)","v":1},{"$f":"IF(H29<>\"\",IF(H29>I29,1))","v":false},{"$f":"IF(I29<>\"\",IF(I29>H29,1))","v":1},{"$f":"IF(H29<>\"\",IF(H29=I29,1))","v":false},{"$f":"IF(I29<>\"\",IF(I29=H29,1))","v":false},{"$f":"IF(H29<>\"\",IF(H29<I29,1))","v":1},{"$f":"IF(I29<>\"\",IF(I29<H29,1))","v":false},{"$f":"H29","v":0},{"$f":"I29","v":1},{"$f":"I29","v":1},{"$f":"H29","v":0},null,{"$f":"IF(AJ28=1,IF(AJ31=1,SUM(AR28*1000+(AY28)/10+(AW28)/100+(BA32)/1000+(I32-H32)/10000+(I32)/100000)))","v":false},{"$f":"IF(AJ29=1,IF(AJ31=1,SUM(AR29*1000+(AY29)/10+(AW29)/100+(BA31)/1000+(I31-H31)/10000+(I31)/100000)))","v":false},{"$f":"IF(AJ30=1,IF(AJ31=1,SUM(AR30*1000+(AY30)/10+(AW30)/100+(AZ29)/1000+(H29-I29)/10000+(H29)/100000)))","v":false},{"$f":"IF(AJ31=1,IF(AJ30=1,SUM(AR31*1000+(AY31)/10+(AW31)/100+(BA29)/1000+(I29-H29)/10000+(I29)/100000)))","v":false},{"$f":"IF(AJ28=2,IF(AJ31=2,SUM(AR28*1000+(AY28)/10+(AW28)/100+(BA32)/1000+(I32-H32)/10000+(I32)/100000)))","v":false},{"$f":"IF(AJ29=2,IF(AJ31=2,SUM(AR29*1000+(AY29)/10+(AW29)/100+(BA31)/1000+(I31-H31)/10000+(I31)/100000)))","v":false},{"$f":"IF(AJ30=2,IF(AJ31=2,SUM(AR30*1000+(AY30)/10+(AW30)/100+(AZ29)/1000+(H29-I29)/10000+(H29)/100000)))","v":false},{"$f":"IF(AJ31=2,IF(AJ30=2,SUM(AR31*1000+(AY31)/10+(AW31)/100+(BA29)/1000+(I29-H29)/10000+(I29)/100000)))","v":false},{"$f":"IF(AJ28=3,IF(AJ31=3,SUM(AR28*1000+(AY28)/10+(AW28)/100+(BA32)/1000+(I32-H32)/10000+(I32)/100000)))","v":false},{"$f":"IF(AJ29=3,IF(AJ31=3,SUM(AR29*1000+(AY29)/10+(AW29)/100+(BA31)/1000+(I31-H31)/10000+(I31)/100000)))","v":false},{"$f":"IF(AJ30=3,IF(AJ31=3,SUM(AR30*1000+(AY30)/10+(AW30)/100+(AZ29)/1000+(H29-I29)/10000+(H29)/100000)))","v":false},{"$f":"IF(AJ31=3,IF(AJ30=3,SUM(AR31*1000+(AY31)/10+(AW31)/100+(BA29)/1000+(I29-H29)/10000+(I29)/100000)))","v":false},{"$f":"IF(AJ28=4,IF(AJ31=4,SUM(AR28*1000+(AY28)/10+(AW28)/100+(BA32)/1000+(I32-H32)/10000+(I32)/100000)))","v":false},{"$f":"IF(AJ29=4,IF(AJ31=4,SUM(AR29*1000+(AY29)/10+(AW29)/100+(BA31)/1000+(I31-H31)/10000+(I31)/100000)))","v":false},{"$f":"IF(AJ30=4,IF(AJ31=4,SUM(AR30*1000+(AY30)/10+(AW30)/100+(AZ29)/1000+(H29-I29)/10000+(H29)/100000)))","v":false},{"$f":"IF(AJ31=4,IF(AJ30=4,SUM(AR31*1000+(AY31)/10+(AW31)/100+(BA29)/1000+(I29-H29)/10000+(I29)/100000)))","v":false},4,1,"DANEMARK",{"$f":"SUM(BR30,BV30,BZ30,CD30)","v":1000000},{"$f":"CH29+0.00000001","v":1000000.00000001},{"$f":"RANK(CI29,CI26:CI29)","v":1},null,{"$f":"VLOOKUP(CE29,CF26:CG29,2,0)","v":"PÉROU"},{"$f":"VLOOKUP(CL29,CG26:CH29,2,0)","v":400000},{"$f":"RANK(CM29,CM26:CM29)","v":4}]
[{"$f":"IF(AK28=\"\",\"\",AK28)","v":"FRANCE"},null,null,null,null,null,null,null,null,{"$f":"IF(AK30=\"\",\"\",AK30)","v":"PÉROU"},null,null,null,null,null,null,"21/06 - 17h00",{"$f":"IF(CM28=CM27,CN27,CN28)","v":3},{"$f":"VLOOKUP(CE28,CF26:CG29,2,0)","v":"AUSTRALIE"},null,null,null,null,null,null,{"$f":"VLOOKUP(S30,AK28:AY31,8,0)","v":1},{"$f":"VLOOKUP(S30,AK28:AY31,9,0)","v":2},{"$f":"VLOOKUP(S30,AK28:AY31,10,0)","v":0},{"$f":"VLOOKUP(S30,AK28:AY31,11,0)","v":1},{"$f":"VLOOKUP(S30,AK28:AY31,12,0)","v":1},{"$f":"VLOOKUP(S30,AK28:AY31,13,0)","v":2},{"$f":"VLOOKUP(S30,AK28:AY31,14,0)","v":3},{"$f":"VLOOKUP(S30,AK28:AY31,15,0)","v":-1},null,null,{"$f":"RANK(AR30,AR28:AR31)","v":4},{"$f":"'EQUIPES QUALIFIEES'!N8:R9","v":"PÉROU"},null,null,null,null,null,null,{"$f":"SUMPRODUCT((A28:G33=AK30)*(AZ28:AZ33))+SUMPRODUCT((J28:P33=AK30)*(BA28:BA33))","v":0},{"$f":"SUMPRODUCT((A28:G33=AK30)*(BB28:BB33))+SUMPRODUCT((J28:P33=AK30)*(BC28:BC33))","v":1},{"$f":"SUMPRODUCT((A28:G33=AK30)*(BD28:BD33))+SUMPRODUCT((J28:P33=AK30)*(BE28:BE33))","v":0},{"$f":"SUMPRODUCT((A28:G33=AK30)*(BF28:BF33))+SUMPRODUCT((J28:P33=AK30)*(BG28:BG33))","v":0},{"$f":"SUMPRODUCT((A28:G33=AK30)*(BH28:BH33))+SUMPRODUCT((J28:P33=AK30)*(BI28:BI33))","v":1},{"$f":"SUMPRODUCT((A28:G33=AK30)*(BJ28:BJ33))+SUMPRODUCT((J28:P33=AK30)*(BK28:BK33))","v":0},{"$f":"SUMPRODUCT((A28:G33=AK30)*(BL28:BL33))+SUMPRODUCT((J28:P33=AK30)*(BM28:BM33))","v":1},-1,0,0,0,0,false,false,false,false,false,false,0,0,0,0,null,{"$f":"SUM(BO26:BO29)","v":0},{"$f":"SUM(BP26:BP29)","v":0},{"$f":"SUM(BQ26:BQ29)","v":0},{"$f":"SUM(BR26:BR29)","v":1000000},{"$f":"SUM(BS26:BS29)","v":800000},{"$f":"SUM(BT26:BT29)","v":0},0,0,{"$f":"SUM(BW26:BW29)","v":0},{"$f":"SUM(BX26:BX29)","v":600000},0,0,{"$f":"SUM(CA26:CA29)","v":0},{"$f":"SUM(CB26:CB29)","v":0},400000,0]
[{"$f":"IF(AK31=\"\",\"\",AK31)","v":"DANEMARK"},null,null,null,null,null,null,1,1,{"$f":"IF(AK29=\"\",\"\",AK29)","v":"AUSTRALIE"},null,null,null,null,null,null,"21/06 - 14h00",4,{"$f":"VLOOKUP(CE29,CF26:CG29,2,0)","v":"PÉROU"},null,null,null,null,null,null,{"$f":"VLOOKUP(S31,AK28:AY31,8,0)","v":0},{"$f":"VLOOKUP(S31,AK28:AY31,9,0)","v":1},{"$f":"VLOOKUP(S31,AK28:AY31,10,0)","v":0},{"$f":"VLOOKUP(S31,AK28:AY31,11,0)","v":0},{"$f":"VLOOKUP(S31,AK28:AY31,12,0)","v":1},{"$f":"VLOOKUP(S31,AK28:AY31,13,0)","v":0},{"$f":"VLOOKUP(S31,AK28:AY31,14,0)","v":1},{"$f":"VLOOKUP(S31,AK28:AY31,15,0)","v":-1},null,null,{"$f":"RANK(AR31,AR28:AR31)","v":1},{"$f":"'EQUIPES QUALIFIEES'!N10:R11","v":"DANEMARK"},null,null,null,null,null,null,{"$f":"SUMPRODUCT((A28:G33=AK31)*(AZ28:AZ33))+SUMPRODUCT((J28:P33=AK31)*(BA28:BA33))","v":4},{"$f":"SUMPRODUCT((A28:G33=AK31)*(BB28:BB33))+SUMPRODUCT((J28:P33=AK31)*(BC28:BC33))","v":2},{"$f":"SUMPRODUCT((A28:G33=AK31)*(BD28:BD33))+SUMPRODUCT((J28:P33=AK31)*(BE28:BE33))","v":1},{"$f":"SUMPRODUCT((A28:G33=AK31)*(BF28:BF33))+SUMPRODUCT((J28:P33=AK31)*(BG28:BG33))","v":1},{"$f":"SUMPRODUCT((A28:G33=AK31)*(BH28:BH33))+SUMPRODUCT((J28:P33=AK31)*(BI28:BI33))","v":0},{"$f":"SUMPRODUCT((A28:G33=AK31)*(BJ28:BJ33))+SUMPRODUCT((J28:P33=AK31)*(BK28:BK33))","v":2},{"$f":"SUMPRODUCT((A28:G33=AK31)*(BL28:BL33))+SUMPRODUCT((J28:P33=AK31)*(BM28:BM33))","v":1},1,1,1,1,1,false,false,1,1,false,false,1,1,1,1]
[{"$f":"IF(AK31=\"\",\"\",AK31)","v":"DANEMARK"},null,null,null,null,null,null,null,null,{"$f":"IF(AK28=\"\",\"\",AK28)","v":"FRANCE"},null,null,null,null,null,null,"26/06 - 16h00",null,null,null,null,null,null,null,null,"ÉQUIPES QUALIFIÉES",null,null,null,null,null,null,null,null,null,null,null,null,null,null,null,null,null,null,null,null,null,null,null,null,null,0,0,0,0,false,false,false,false,false,false,0,0,0,0]
[{"$f":"IF(AK29=\"\",\"\",AK29)","v":"AUSTRALIE"},null,null,null,null,null,null,null,null,{"$f":"IF(AK30=\"\",\"\",AK30)","v":"PÉROU"},null,null,null,null,null,null,"26/06 - 16h00",null,null,null,null,null,null,null,null,{"$f":"S28","v":"DANEMARK"},null,null,null,null,null,null,null,null,null,null,null,null,null,null,null,null,null,null,null,null,null,null,null,null,null,0,0,0,0,false,false,false,false,false,false,0,0,0,0]
["GROUPE  C"]
[null,null,null,null,null,null,null,null,null,null,null,null,null,null,null,null,null,null,null,null,null,null,null,null,null,{"$f":"S29","v":"FRANCE"}]
[null,null,null,null,null,null,null,null,null,null,null,null,null,null,null,null,null,"FRA",null,"AUS",null,"PER",null,"DEN"]
["CDM  2018  RUSSIE",null,null,null,null,null,null,null,null,null,null,null,null,null,null,null,null,"CLASSEMENT",null,null,null,null,null,null,null,null,null,null,null,null,null,null,null,null,null,"CLASSEMENT",null,null,null,null,null,null,null,null,null,null,null,null,null,null,null,null,null,null,null,null,null,null,null,null,null,null,null,null,null,null,{"$f":"AK40","v":"ARGENTINE"},{"$f":"AK41","v":"ISLANDE"},{"$f":"AK42","v":"CROATIE"},{"$f":"AK43","v":"NIGERIA"},{"$f":"BO37","v":"ARGENTINE"},{"$f":"BP37","v":"ISLANDE"},{"$f":"BQ37","v":"CROATIE"},{"$f":"BR37","v":"NIGERIA"},{"$f":"AK40","v":"ARGENTINE"},{"$f":"BP37","v":"ISLANDE"},{"$f":"BQ37","v":"CROATIE"},{"$f":"BR37","v":"NIGERIA"},{"$f":"BO37","v":"ARGENTINE"},{"$f":"BP37","v":"ISLANDE"},{"$f":"BQ37","v":"CROATIE"},{"$f":"BR37","v":"NIGERIA"}]
[null,null,null,null,null,null,null,null,null,null,null,null,null,null,null,null,null,null,null,null,null,null,null,null,null,null,null,null,null,null,null,null,null,null,null,null,null,null,null,null,null,null,null,null,null,null,null,null,null,null,null,null,null,null,null,null,null,null,null,null,null,null,null,null,null,null,{"$f":"IF(AJ40=1,1000000)","v":false},{"$f":"IF(AJ41=1,1000000)","v":false},{"$f":"IF(AJ42=1,1000000)","v":1000000},{"$f":"IF(AJ43=1,1000000)","v":false},{"$f":"IF(AJ40=2,800000)","v":800000},{"$f":"IF(AJ41=2,800000)","v":800000},{"$f":"IF(AJ42=2,800000)","v":false},{"$f":"IF(AJ43=2,800000)","v":false},{"$f":"IF(AJ40=3,600000)","v":false},{"$f":"IF(AJ41=3,600000)","v":false},{"$f":"IF(AJ42=3,600000)","v":false},{"$f":"IF(AJ43=3,600000)","v":false},{"$f":"IF(AJ40=4,400000)","v":false},{"$f":"IF(AJ41=4,400000)","v":false},{"$f":"IF(AJ42=4,400000)","v":false},{"$f":"IF(AJ43=4,400000)","v":400000},1,{"$f":"CJ38","v":2},{"$f":"AK40","v":"ARGENTINE"},{"$f":"SUM(BO42,BS42,BW42,CA42)","v":801000.01101000002},{"$f":"CH38+0.00000004","v":801000.01101004006},{"$f":"RANK(CI38,CI38:CI41)","v":2},null,{"$f":"VLOOKUP(CE38,CF38:CG41,2,0)","v":"CROATIE"},{"$f":"VLOOKUP(CL38,CG38:CH41,2,0)","v":1000000},{"$f":"RANK(CM38,CM38:CM41)","v":1}]
["ÉQUIPES",null,null,null,null,null,null,"Bts","Bts","ÉQUIPES",null,null,null,null,null,null,null,"R","ÉQUIPES",null,null,null,null,null,null,"Pts","J","G","N","P","Bts +","Bts -","Diff",null,null,"R","ÉQUIPES",null,null,null,null,null,null,"Pts","J","G","N","P","Bts +","Bts -","Diff","PTS","PTS","J","J","G","G","N","N","P","P","BTS+","BTS+","BTS-","BTS-",null,{"$f":"IF(AJ40=1,IF(AJ41=1,SUM(AR40*1000+(AY40)/10+(AW40)/100+(AZ40)/1000+(H40-I40)/10000+(H40)/100000)))","v":false},{"$f":"IF(AJ41=1,IF(AJ40=1,SUM(AR41*1000+(AY41)/10+(AW41)/100+(BA40)/1000+(I40-H40)/10000+(I40)/100000)))","v":false},{"$f":"IF(AJ42=1,IF(AJ40=1,SUM(AR42*1000+(AY42)/10+(AW42)/100+(BA42)/1000+(I42-H42)/10000+(I42)/100000)))","v":false},{"$f":"IF(AJ43=1,IF(AJ40=1,SUM(AR43*1000+(AY43)/10+(AW43)/100+(AZ44)/1000+(H44-I44)/10000+(H44)/1000000)))","v":false},{"$f":"IF(AJ40=2,IF(AJ41=2,SUM(AR40*1000+(AY40)/10+(AW40)/100+(AZ40)/1000+(H40-I40)/10000+(H40)/100000)))","v":1000.0110099999999},{"$f":"IF(AJ41=2,IF(AJ40=2,SUM(AR41*1000+(AY41)/10+(AW41)/100+(BA40)/1000+(I40-H40)/10000+(I40)/100000)))","v":1000.0110099999999},{"$f":"IF(AJ42=2,IF(AJ40=2,SUM(AR42*1000+(AY42)/10+(AW42)/100+(BA42)/1000+(I42-H42)/10000+(I42)/100000)))","v":false},{"$f":"IF(AJ43=2,IF(AJ40=2,SUM(AR43*1000+(AY43)/10+(AW43)/100+(AZ44)/1000+(H44-I44)/10000+(H44)/1000000)))","v":false},{"$f":"IF(AJ40=3,IF(AJ41=3,SUM(AR40*1000+(AY40)/10+(AW40)/100+(AZ40)/1000+(H40-I40)/10000+(H40)/100000)))","v":false},{"$f":"IF(AJ41=3,IF(AJ40=3,SUM(AR41*1000+(AY41)/10+(AW41)/100+(BA40)/1000+(I40-H40)/10000+(I40)/100000)))","v":false},{"$f":"IF(AJ42=3,IF(AJ40=3,SUM(AR42*1000+(AY42)/10+(AW42)/100+(BA42)/1000+(I42-H42)/10000+(I42)/100000)))","v":false},{"$f":"IF(AJ43=3,IF(AJ40=3,SUM(AR43*1000+(AY43)/10+(AW43)/100+(AZ44)/1000+(H44-I44)/10000+(H44)/1000000)))","v":false},{"$f":"IF(AJ40=4,IF(AJ41=4,SUM(AR40*1000+(AY40)/10+(AW40)/100+(AZ40)/1000+(H40-I40)/10000+(H40)/100000)))","v":false},{"$f":"IF(AJ41=4,IF(AJ40=4,SUM(AR41*1000+(AY41)/10+(AW41)/100+(BA40)/1000+(I40-H40)/10000+(I40)/100000)))","v":false},{"$f":"IF(AJ42=4,IF(AJ40=4,SUM(AR42*1000+(AY42)/10+(AW42)/100+(BA42)/1000+(I42-H42)/10000+(I42)/100000)))","v":false},{"$f":"IF(AJ43=4,IF(AJ40=4,SUM(AR43*1000+(AY43)/10+(AW43)/100+(AZ44)/1000+(H44-I44)/10000+(H44)/1000000)))","v":false},2,{"$f":"CJ39","v":3},{"$f":"AK41","v":"ISLANDE"},{"$f":"SUM(BP42,BT42,BX42,CB42)","v":801000.01101000002},{"$f":"CH39+0.00000003","v":801000.01101003005},{"$f":"RANK(CI39,CI38:CI41)","v":3},null,{"$f":"VLOOKUP(CE39,CF38:CG41,2,0)","v":"ARGENTINE"},{"$f":"VLOOKUP(CL39,CG38:CH41,2,0)","v":801000.01101000002},{"$f":"RANK(CM39,CM38:CM41)","v":2}]
[{"$f":"IF(AK40=\"\",\"\",AK40)","v":"ARGENTINE"},null,null,null,null,null,null,1,1,{"$f":"IF(AK41=\"\",\"\",AK41)","v":"ISLANDE"},null,null,null,null,null,null,"16/06 - 15h00",1,{"$f":"VLOOKUP(CE38,CF38:CG41,2,0)","v":"CROATIE"},null,null,null,null,null,null,{"$f":"VLOOKUP(S40,AK40:AY43,8,0)","v":3},{"$f":"VLOOKUP(S40,AK40:AY43,9,0)","v":1},{"$f":"VLOOKUP(S40,AK40:AY43,10,0)","v":1},{"$f":"VLOOKUP(S40,AK40:AY43,11,0)","v":0},{"$f":"VLOOKUP(S40,AK40:AY43,12,0)","v":0},{"$f":"VLOOKUP(S40,AK40:AY43,13,0)","v":2},{"$f":"VLOOKUP(S40,AK40:AY43,14,0)","v":0},{"$f":"VLOOKUP(S40,AK40:AY43,15,0)","v":2},null,null,{"$f":"RANK(AR40,AR40:AR43)","v":2},{"$f":"'EQUIPES QUALIFIEES'!T4:X5","v":"ARGENTINE"},null,null,null,null,null,null,{"$f":"SUMPRODUCT((A40:G45=AK40)*(AZ40:AZ45))+SUMPRODUCT((J40:P45=AK40)*(BA40:BA45))","v":1},{"$f":"SUMPRODUCT((A40:G45=AK40)*(BB40:BB45))+SUMPRODUCT((J40:P45=AK40)*(BC40:BC45))","v":1},{"$f":"SUMPRODUCT((A40:G45=AK40)*(BD40:BD45))+SUMPRODUCT((J40:P45=AK40)*(BE40:BE45))","v":0},{"$f":"SUMPRODUCT((A40:G45=AK40)*(BF40:BF45))+SUMPRODUCT((J40:P45=AK40)*(BG40:BG45))","v":1},{"$f":"SUMPRODUCT((A40:G45=AK40)*(BH40:BH45))+SUMPRODUCT((J40:P45=AK40)*(BI40:BI45))","v":0},{"$f":"SUMPRODUCT((A40:G45=AK40)*(BJ40:BJ45))+SUMPRODUCT((J40:P45=AK40)*(BK40:BK45))","v":1},{"$f":"SUMPRODUCT((A40:G45=AK40)*(BL40:BL45))+SUMPRODUCT((J40:P45=AK40)*(BM40:BM45))","v":1},{"$f":"AW40-AX40","v":0},{"$f":"IF(H40=\"\",0,IF(H40>I40,3,IF(H40=I40,1,IF(H40<I40,0))))","v":1},{"$f":"IF(I40=\"\",0,IF(I40>H40,3,IF(I40=H40,1,IF(I40<H40,0))))","v":1},{"$f":"IF(H40=\"\",0,1)","v":1},{"$f":"IF(H40=\"\",0,1)","v":1},{"$f":"IF(H40<>\"\",IF(H40>I40,1))","v":false},{"$f":"IF(I40<>\"\",IF(I40>H40,1))","v":false},{"$f":"IF(H40<>\"\",IF(H40=I40,1))","v":1},{"$f":"IF(I40<>\"\",IF(I40=H40,1))","v":1},{"$f":"IF(H40<>\"\",IF(H40<I40,1))","v":false},{"$f":"IF(I40<>\"\",IF(I40<H40,1))","v":false},{"$f":"H40","v":1},{"$f":"I40","v":1},{"$f":"I40","v":1},{"$f":"H40","v":1},null,{"$f":"IF(AJ40=1,IF(AJ42=1,SUM(AR40*1000+(AY40)/10+(AW40)/100+(AZ42)/1000+(H42-I42)/10000+(H42)/100000)))","v":false},{"$f":"IF(AJ41=1,IF(AJ42=1,SUM(AR41*1000+(AY41)/10+(AW41)/100+(AZ45)/1000+(H45-I45)/10000+(H45)/100000)))","v":false},{"$f":"IF(AJ42=1,IF(AJ41=1,SUM(AR42*1000+(AY42)/10+(AW42)/100+(BA45)/1000+(I45-H45)/10000+(I45)/100000)))","v":false},{"$f":"IF(AJ43=1,IF(AJ41=1,SUM(AR43*1000+(AY43)/10+(AW43)/100+(AZ43)/1000+(H43-I43)/10000+(H43)/1000000)))","v":false},{"$f":"IF(AJ40=2,IF(AJ42=2,SUM(AR40*1000+(AY40)/10+(AW40)/100+(AZ42)/1000+(H42-I42)/10000+(H42)/100000)))","v":false},{"$f":"IF(AJ41=2,IF(AJ42=2,SUM(AR41*1000+(AY41)/10+(AW41)/100+(AZ45)/1000+(H45-I45)/10000+(H45)/100000)))","v":false},{"$f":"IF(AJ42=2,IF(AJ41=2,SUM(AR42*1000+(AY42)/10+(AW42)/100+(BA45)/1000+(I45-H45)/10000+(I45)/100000)))","v":false},{"$f":"IF(AJ43=2,IF(AJ41=2,SUM(AR43*1000+(AY43)/10+(AW43)/100+(AZ43)/1000+(H43-I43)/10000+(H43)/1000000)))","v":false},{"$f":"IF(AJ40=3,IF(AJ42=3,SUM(AR40*1000+(AY40)/10+(AW40)/100+(AZ42)/1000+(H42-I42)/10000+(H42)/100000)))","v":false},{"$f":"IF(AJ41=3,IF(AJ42=3,SUM(AR41*1000+(AY41)/10+(AW41)/100+(AZ45)/1000+(H45-I45)/10000+(H45)/100000)))","v":false},{"$f":"IF(AJ42=3,IF(AJ41=3,SUM(AR42*1000+(AY42)/10+(AW42)/100+(BA45)/1000+(I45-H45)/10000+(I45)/100000)))","v":false},{"$f":"IF(AJ43=3,IF(AJ41=3,SUM(AR43*1000+(AY43)/10+(AW43)/100+(AZ43)/1000+(H43-I43)/10000+(H43)/1000000)))","v":false},{"$f":"IF(AJ40=4,IF(AJ42=4,SUM(AR40*1000+(AY40)/10+(AW40)/100+(AZ42)/1000+(H42-I42)/10000+(H42)/100000)))","v":false},{"$f":"IF(AJ41=4,IF(AJ42=4,SUM(AR41*1000+(AY41)/10+(AW41)/100+(AZ45)/1000+(H45-I45)/10000+(H45)/100000)))","v":false},{"$f":"IF(AJ42=4,IF(AJ41=4,SUM(AR42*1000+(AY42)/10+(AW42)/100+(BA45)/1000+(I45-H45)/10000+(I45)/100000)))","v":false},{"$f":"IF(AJ43=4,IF(AJ41=4,SUM(AR43*1000+(AY43)/10+(AW43)/100+(AZ43)/1000+(H43-I43)/10000+(H43)/1000000)))","v":false},3,1,"CROATIE",{"$f":"SUM(BQ42,BU42,BY42,CC42)","v":1000000},{"$f":"CH40+0.00000002","v":1000000.00000002},{"$f":"RANK(CI40,CI38:CI41)","v":1},null,{"$f":"VLOOKUP(CE40,CF38:CG41,2,0)","v":"ISLANDE"},{"$f":"VLOOKUP(CL40,CG38:CH41,2,0)","v":801000.01101000002},{"$f":"RANK(CM40,CM38:CM41)","v":2}]
[{"$f":"IF(AK42=\"\",\"\",AK42)","v":"CROATIE"},null,null,null,null,null,null,2,0,{"$f":"IF(AK43=\"\",\"\",AK43)","v":"NIGERIA"},null,null,null,null,null,null,"16/06 - 21h00",{"$f":"IF(CM39=CM38,CN38,CN39)","v":2},{"$f":"VLOOKUP(CE39,CF38:CG41,2,0)","v":"ARGENTINE"},null,null,null,null,null,null,{"$f":"VLOOKUP(S41,AK40:AY43,8,0)","v":1},{"$f":"VLOOKUP(S41,AK40:AY43,9,0)","v":1},{"$f":"VLOOKUP(S41,AK40:AY43,10,0)","v":0},{"$f":"VLOOKUP(S41,AK40:AY43,11,0)","v":1},{"$f":"VLOOKUP(S41,AK40:AY43,12,0)","v":0},{"$f":"VLOOKUP(S41,AK40:AY43,13,0)","v":1},{"$f":"VLOOKUP(S41,AK40:AY43,14,0)","v":1},{"$f":"VLOOKUP(S41,AK40:AY43,15,0)","v":0},null,null,{"$f":"RANK(AR41,AR40:AR43)","v":2},{"$f":"'EQUIPES QUALIFIEES'!T6:X7","v":"ISLANDE"},null,null,null,null,null,null,{"$f":"SUMPRODUCT((A40:G45=AK41)*(AZ40:AZ45))+SUMPRODUCT((J40:P45=AK41)*(BA40:BA45))","v":1},{"$f":"SUMPRODUCT((A40:G45=AK41)*(BB40:BB45))+SUMPRODUCT((J40:P45=AK41)*(BC40:BC45))","v":1},{"$f":"SUMPRODUCT((A40:G45=AK41)*(BD40:BD45))+SUMPRODUCT((J40:P45=AK41)*(BE40:BE45))","v":0},{"$f":"SUMPRODUCT((A40:G45=AK41)*(BF40:BF45))+SUMPRODUCT((J40:P45=AK41)*(BG40:BG45))","v":1},{"$f":"SUMPRODUCT((A40:G45=AK41)*(BH40:BH45))+SUMPRODUCT((J40:P45=AK41)*(BI40:BI45))","v":0},{"$f":"SUMPRODUCT((A40:G45=AK41)*(BJ40:BJ45))+SUMPRODUCT((J40:P45=AK41)*(BK40:BK45))","v":1},{"$f":"SUMPRODUCT((A40:G45=AK41)*(BL40:BL45))+SUMPRODUCT((J40:P45=AK41)*(BM40:BM45))","v":1},{"$f":"AW41-AX41","v":0},{"$f":"IF(H41=\"\",0,IF(H41>I41,3,IF(H41=I41,1,IF(H41<I41,0))))","v":3},{"$f":"IF(I41=\"\",0,IF(I41>H41,3,IF(I41=H41,1,IF(I41<H41,0))))","v":0},{"$f":"IF(H41=\"\",0,1)","v":1},{"$f":"IF(H41=\"\",0,1)","v":1},{"$f":"IF(H41<>\"\",IF(H41>I41,1))","v":1},{"$f":"IF(I41<>\"\",IF(I41>H41,1))","v":false},{"$f":"IF(H41<>\"\",IF(H41=I41,1))","v":false},{"$f":"IF(I41<>\"\",IF(I41=H41,1))","v":false},{"$f":"IF(H41<>\"\",IF(H41<I41,1))","v":false},{"$f":"IF(I41<>\"\",IF(I41<H41,1))","v":1},{"$f":"H41","v":2},{"$f":"I41","v":0},{"$f":"I41","v":0},{"$f":"H41","v":2},null,{"$f":"IF(AJ40=1,IF(AJ43=1,SUM(AR40*1000+(AY40)/10+(AW40)/100+(BA44)/1000+(I44-H44)/10000+(I44)/100000)))","v":false},{"$f":"IF(AJ41=1,IF(AJ43=1,SUM(AR41*1000+(AY41)/10+(AW41)/100+(BA43)/1000+(I43-H43)/10000+(I43)/100000)))","v":false},{"$f":"IF(AJ42=1,IF(AJ43=1,SUM(AR42*1000+(AY42)/10+(AW42)/100+(AZ41)/1000+(H41-I41)/10000+(H41)/100000)))","v":false},{"$f":"IF(AJ43=1,IF(AJ42=1,SUM(AR43*1000+(AY43)/10+(AW43)/100+(BA41)/1000+(I41-H41)/10000+(I41)/100000)))","v":false},{"$f":"IF(AJ40=2,IF(AJ43=2,SUM(AR40*1000+(AY40)/10+(AW40)/100+(BA44)/1000+(I44-H44)/10000+(I44)/100000)))","v":false},{"$f":"IF(AJ41=2,IF(AJ43=2,SUM(AR41*1000+(AY41)/10+(AW41)/100+(BA43)/1000+(I43-H43)/10000+(I43)/100000)))","v":false},{"$f":"IF(AJ42=2,IF(AJ43=2,SUM(AR42*1000+(AY42)/10+(AW42)/100+(AZ41)/1000+(H41-I41)/10000+(H41)/100000)))","v":false},{"$f":"IF(AJ43=2,IF(AJ42=2,SUM(AR43*1000+(AY43)/10+(AW43)/100+(BA41)/1000+(I41-H41)/10000+(I41)/100000)))","v":false},{"$f":"IF(AJ40=3,IF(AJ43=3,SUM(AR40*1000+(AY40)/10+(AW40)/100+(BA44)/1000+(I44-H44)/10000+(I44)/100000)))","v":false},{"$f":"IF(AJ41=3,IF(AJ43=3,SUM(AR41*1000+(AY41)/10+(AW41)/100+(BA43)/1000+(I43-H43)/10000+(I43)/100000)))","v":false},{"$f":"IF(AJ42=3,IF(AJ43=3,SUM(AR42*1000+(AY42)/10+(AW42)/100+(AZ41)/1000+(H41-I41)/10000+(H41)/100000)))","v":false},{"$f":"IF(AJ43=3,IF(AJ42=3,SUM(AR43*1000+(AY43)/10+(AW43)/100+(BA41)/1000+(I41-H41)/10000+(I41)/100000)))","v":false},{"$f":"IF(AJ40=4,IF(AJ43=4,SUM(AR40*1000+(AY40)/10+(AW40)/100+(BA44)/1000+(I44-H44)/10000+(I44)/100000)))","v":false},{"$f":"IF(AJ41=4,IF(AJ43=4,SUM(AR41*1000+(AY41)/10+(AW41)/100+(BA43)/1000+(I43-H43)/10000+(I43)/100000)))","v":false},{"$f":"IF(AJ42=4,IF(AJ43=4,SUM(AR42*1000+(AY42)/10+(AW42)/100+(AZ41)/1000+(H41-I41)/10000+(H41)/100000)))","v":false},{"$f":"IF(AJ43=4,IF(AJ42=4,SUM(AR43*1000+(AY43)/10+(AW43)/100+(BA41)/1000+(I41-H41)/10000+(I41)/100000)))","v":false},4,4,"NIGERIA",{"$f":"SUM(BR42,BV42,BZ42,CD42)","v":400000},{"$f":"CH41+0.00000001","v":400000.00000001001},{"$f":"RANK(CI41,CI38:CI41)","v":4},null,{"$f":"VLOOKUP(CE41,CF38:CG41,2,0)","v":"NIGERIA"},{"$f":"VLOOKUP(CL41,CG38:CH41,2,0)","v":400000},{"$f":"RANK(CM41,CM38:CM41)","v":4}]
[{"$f":"IF(AK40=\"\",\"\",AK40)","v":"ARGENTINE"},null,null,null,null,null,null,null,null,{"$f":"IF(AK42=\"\",\"\",AK42)","v":"CROATIE"},null,null,null,null,null,null,"21/06 - 20h00",{"$f":"IF(CM40=CM39,CN39,CN40)","v":2},{"$f":"VLOOKUP(CE40,CF38:CG41,2,0)","v":"ISLANDE"},null,null,null,null,null,null,{"$f":"VLOOKUP(S42,AK40:AY43,8,0)","v":1},{"$f":"VLOOKUP(S42,AK40:AY43,9,0)","v":1},{"$f":"VLOOKUP(S42,AK40:AY43,10,0)","v":0},{"$f":"VLOOKUP(S42,AK40:AY43,11,0)","v":1},{"$f":"VLOOKUP(S42,AK40:AY43,12,0)","v":0},{"$f":"VLOOKUP(S42,AK40:AY43,13,0)","v":1},{"$f":"VLOOKUP(S42,AK40:AY43,14,0)","v":1},{"$f":"VLOOKUP(S42,AK40:AY43,15,0)","v":0},null,null,{"$f":"RANK(AR42,AR40:AR43)","v":1},{"$f":"'EQUIPES QUALIFIEES'!T8:X9","v":"CROATIE"},null,null,null,null,null,null,{"$f":"SUMPRODUCT((A40:G45=AK42)*(AZ40:AZ45))+SUMPRODUCT((J40:P45=AK42)*(BA40:BA45))","v":3},{"$f":"SUMPRODUCT((A40:G45=AK42)*(BB40:BB45))+SUMPRODUCT((J40:P45=AK42)*(BC40:BC45))","v":1},{"$f":"SUMPRODUCT((A40:G45=AK42)*(BD40:BD45))+SUMPRODUCT((J40:P45=AK42)*(BE40:BE45))","v":1},{"$f":"SUMPRODUCT((A40:G45=AK42)*(BF40:BF45))+SUMPRODUCT((J40:P45=AK42)*(BG40:BG45))","v":0},{"$f":"SUMPRODUCT((A40:G45=AK42)*(BH40:BH45))+SUMPRODUCT((J40:P45=AK42)*(BI40:BI45))","v":0},{"$f":"SUMPRODUCT((A40:G45=AK42)*(BJ40:BJ45))+SUMPRODUCT((J40:P45=AK42)*(BK40:BK45))","v":2},{"$f":"SUMPRODUCT((A40:G45=AK42)*(BL40:BL45))+SUMPRODUCT((J40:P45=AK42)*(BM40:BM45))","v":0},2,0,0,0,0,false,false,false,false,false,false,0,0,0,0,null,{"$f":"SUM(BO38:BO41)","v":0},{"$f":"SUM(BP38:BP41)","v":0},{"$f":"SUM(BQ38:BQ41)","v":1000000},{"$f":"SUM(BR38:BR41)","v":0},{"$f":"SUM(BS38:BS41)","v":801000.01101000002},{"$f":"SUM(BT38:BT41)","v":801000.01101000002},0,0,{"$f":"SUM(BW38:BW41)","v":0},{"$f":"SUM(BX38:BX41)","v":0},0,0,{"$f":"SUM(CA38:CA41)","v":0},{"$f":"SUM(CB38:CB41)","v":0},0,400000]
[{"$f":"IF(AK43=\"\",\"\",AK43)","v":"NIGERIA"},null,null,null,null,null,null,null,null,{"$f":"IF(AK41=\"\",\"\",AK41)","v":"ISLANDE"},null,null,null,null,null,null,"22/06 - 17h00",4,{"$f":"VLOOKUP(CE41,CF38:CG41,2,0)","v":"NIGERIA"},null,null,null,null,null,null,{"$f":"VLOOKUP(S43,AK40:AY43,8,0)","v":0},{"$f":"VLOOKUP(S43,AK40:AY43,9,0)","v":1},{"$f":"VLOOKUP(S43,AK40:AY43,10,0)","v":0},{"$f":"VLOOKUP(S43,AK40:AY43,11,0)","v":0},{"$f":"VLOOKUP(S43,AK40:AY43,12,0)","v":1},{"$f":"VLOOKUP(S43,AK40:AY43,13,0)","v":0},{"$f":"VLOOKUP(S43,AK40:AY43,14,0)","v":2},{"$f":"VLOOKUP(S43,AK40:AY43,15,0)","v":-2},null,null,{"$f":"RANK(AR43,AR40:AR43)","v":4},{"$f":"'EQUIPES QUALIFIEES'!T10:X11","v":"NIGERIA"},null,null,null,null,null,null,{"$f":"SUMPRODUCT((A40:G45=AK43)*(AZ40:AZ45))+SUMPRODUCT((J40:P45=AK43)*(BA40:BA45))","v":0},{"$f":"SUMPRODUCT((A40:G45=AK43)*(BB40:BB45))+SUMPRODUCT((J40:P45=AK43)*(BC40:BC45))","v":1},{"$f":"SUMPRODUCT((A40:G45=AK43)*(BD40:BD45))+SUMPRODUCT((J40:P45=AK43)*(BE40:BE45))","v":0},{"$f":"SUMPRODUCT((A40:G45=AK43)*(BF40:BF45))+SUMPRODUCT((J40:P45=AK43)*(BG40:BG45))","v":0},{"$f":"SUMPRODUCT((A40:G45=AK43)*(BH40:BH45))+SUMPRODUCT((J40:P45=AK43)*(BI40:BI45))","v":1},{"$f":"SUMPRODUCT((A40:G45=AK43)*(BJ40:BJ45))+SUMPRODUCT((J40:P45=AK43)*(BK40:BK45))","v":0},{"$f":"SUMPRODUCT((A40:G45=AK43)*(BL40:BL45))+SUMPRODUCT((J40:P45=AK43)*(BM40:BM45))","v":2},-2,0,0,0,0,false,false,false,false,false,false,0,0,0,0]
[{"$f":"IF(AK43=\"\",\"\",AK43)","v":"NIGERIA"},null,null,null,null,null,null,null,null,{"$f":"IF(AK40=\"\",\"\",AK40)","v":"ARGENTINE"},null,null,null,null,null,null,"26/06 - 20h00",null,null,null,null,null,null,null,null,"ÉQUIPES QUALIFIÉES",null,null,null,null,null,null,null,null,null,null,null,null,null,null,null,null,null,null,null,null,null,null,null,null,null,0,0,0,0,false,false,false,false,false,false,0,0,0,0]
[{"$f":"IF(AK41=\"\",\"\",AK41)","v":"ISLANDE"},null,null,null,null,null,null,null,null,{"$f":"IF(AK42=\"\",\"\",AK42)","v":"CROATIE"},null,null,null,null,null,null,"26/06 - 20h00",null,null,null,null,null,null,null,null,{"$f":"S40","v":"CROATIE"},null,null,null,null,null,null,null,null,null,null,null,null,null,null,null,null,null,null,null,null,null,null,null,null,null,0,0,0,0,false,false,false,false,false,false,0,0,0,0]
["GROUPE  D"]
[null,null,null,null,null,null,null,null,null,null,null,null,null,null,null,null,null,null,null,null,null,null,null,null,null,{"$f":"S41","v":"ARGENTINE"}]
[null,null,null,null,null,null,null,null,null,null,null,null,null,null,null,null,null,"ARG",null,"ISL",null,"CRO",null,"NGR"]
["CDM  2018  RUSSIE",null,null,null,null,null,null,null,null,null,null,null,null,null,null,null,null,"CLASSEMENT",null,null,null,null,null,null,null,null,null,null,null,null,null,null,null,null,null,"CLASSEMENT",null,null,null,null,null,null,null,null,null,null,null,null,null,null,null,null,null,null,null,null,null,null,null,null,null,null,null,null,null,null,{"$f":"AK52","v":"COSTA RICA"},{"$f":"AK53","v":"SERBIE"},{"$f":"AK54","v":"BRESIL"},{"$f":"AK55","v":"SUISSE"},{"$f":"BO49","v":"COSTA RICA"},{"$f":"BP49","v":"SERBIE"},{"$f":"BQ49","v":"BRESIL"},{"$f":"BR49","v":"SUISSE"},{"$f":"AK52","v":"COSTA RICA"},{"$f":"BP49","v":"SERBIE"},{"$f":"BQ49","v":"BRESIL"},{"$f":"BR49","v":"SUISSE"},{"$f":"BO49","v":"COSTA RICA"},{"$f":"BP49","v":"SERBIE"},{"$f":"BQ49","v":"BRESIL"},{"$f":"BR49","v":"SUISSE"}]
[null,null,null,null,null,null,null,null,null,null,null,null,null,null,null,null,null,null,null,null,null,null,null,null,null,null,null,null,null,null,null,null,null,null,null,null,null,null,null,null,null,null,null,null,null,null,null,null,null,null,null,null,null,null,null,null,null,null,null,null,null,null,null,null,null,null,{"$f":"IF(AJ52=1,1000000)","v":false},{"$f":"IF(AJ53=1,1000000)","v":1000000},{"$f":"IF(AJ54=1,1000000)","v":false},{"$f":"IF(AJ55=1,1000000)","v":false},{"$f":"IF(AJ52=2,800000)","v":false},{"$f":"IF(AJ53=2,800000)","v":false},{"$f":"IF(AJ54=2,800000)","v":800000},{"$f":"IF(AJ55=2,800000)","v":800000},{"$f":"IF(AJ52=3,600000)","v":false},{"$f":"IF(AJ53=3,600000)","v":false},{"$f":"IF(AJ54=3,600000)","v":false},{"$f":"IF(AJ55=3,600000)","v":false},{"$f":"IF(AJ52=4,400000)","v":400000},{"$f":"IF(AJ53=4,400000)","v":false},{"$f":"IF(AJ54=4,400000)","v":false},{"$f":"IF(AJ55=4,400000)","v":false},1,{"$f":"CJ50","v":4},{"$f":"AK52","v":"COSTA RICA"},{"$f":"SUM(BO54,BS54,BW54,CA54)","v":400000},{"$f":"CH50+0.00000004","v":400000.00000003999},{"$f":"RANK(CI50,CI50:CI53)","v":4},null,{"$f":"VLOOKUP(CE50,CF50:CG53,2,0)","v":"SERBIE"},{"$f":"VLOOKUP(CL50,CG50:CH53,2,0)","v":1000000},{"$f":"RANK(CM50,CM50:CM53)","v":1}]
["ÉQUIPES",null,null,null,null,null,null,"Bts","Bts","ÉQUIPES",null,null,null,null,null,null,null,"R","ÉQUIPES",null,null,null,null,null,null,"Pts","J","G","N","P","Bts +","Bts -","Diff",null,null,"R","ÉQUIPES",null,null,null,null,null,null,"Pts","J","G","N","P","Bts +","Bts -","Diff","PTS","PTS","J","J","G","G","N","N","P","P","BTS+","BTS+","BTS-","BTS-",null,{"$f":"IF(AJ52=1,IF(AJ53=1,SUM(AR52*1000+(AY52)/10+(AW52)/100+(AZ52)/1000+(H52-I52)/10000+(H52)/100000)))","v":false},{"$f":"IF(AJ53=1,IF(AJ52=1,SUM(AR53*1000+(AY53)/10+(AW53)/100+(BA52)/1000+(I52-H52)/10000+(I52)/100000)))","v":false},{"$f":"IF(AJ54=1,IF(AJ52=1,SUM(AR54*1000+(AY54)/10+(AW54)/100+(BA54)/1000+(I54-H54)/10000+(I54)/100000)))","v":false},{"$f":"IF(AJ55=1,IF(AJ52=1,SUM(AR55*1000+(AY55)/10+(AW55)/100+(AZ56)/1000+(H56-I56)/10000+(H56)/1000000)))","v":false},{"$f":"IF(AJ52=2,IF(AJ53=2,SUM(AR52*1000+(AY52)/10+(AW52)/100+(AZ52)/1000+(H52-I52)/10000+(H52)/100000)))","v":false},{"$f":"IF(AJ53=2,IF(AJ52=2,SUM(AR53*1000+(AY53)/10+(AW53)/100+(BA52)/1000+(I52-H52)/10000+(I52)/100000)))","v":false},{"$f":"IF(AJ54=2,IF(AJ52=2,SUM(AR54*1000+(AY54)/10+(AW54)/100+(BA54)/1000+(I54-H54)/10000+(I54)/100000)))","v":false},{"$f":"IF(AJ55=2,IF(AJ52=2,SUM(AR55*1000+(AY55)/10+(AW55)/100+(AZ56)/1000+(H56-I56)/10000+(H56)/1000000)))","v":false},{"$f":"IF(AJ52=3,IF(AJ53=3,SUM(AR52*1000+(AY52)/10+(AW52)/100+(AZ52)/1000+(H52-I52)/10000+(H52)/100000)))","v":false},{"$f":"IF(AJ53=3,IF(AJ52=3,SUM(AR53*1000+(AY53)/10+(AW53)/100+(BA52)/1000+(I52-H52)/10000+(I52)/100000)))","v":false},{"$f":"IF(AJ54=3,IF(AJ52=3,SUM(AR54*1000+(AY54)/10+(AW54)/100+(BA54)/1000+(I54-H54)/10000+(I54)/100000)))","v":false},{"$f":"IF(AJ55=3,IF(AJ52=3,SUM(AR55*1000+(AY55)/10+(AW55)/100+(AZ56)/1000+(H56-I56)/10000+(H56)/1000000)))","v":false},{"$f":"IF(AJ52=4,IF(AJ53=4,SUM(AR52*1000+(AY52)/10+(AW52)/100+(AZ52)/1000+(H52-I52)/10000+(H52)/100000)))","v":false},{"$f":"IF(AJ53=4,IF(AJ52=4,SUM(AR53*1000+(AY53)/10+(AW53)/100+(BA52)/1000+(I52-H52)/10000+(I52)/100000)))","v":false},{"$f":"IF(AJ54=4,IF(AJ52=4,SUM(AR54*1000+(AY54)/10+(AW54)/100+(BA54)/1000+(I54-H54)/10000+(I54)/100000)))","v":false},{"$f":"IF(AJ55=4,IF(AJ52=4,SUM(AR55*1000+(AY55)/10+(AW55)/100+(AZ56)/1000+(H56-I56)/10000+(H56)/1000000)))","v":false},2,{"$f":"CJ51","v":1},{"$f":"AK53","v":"SERBIE"},{"$f":"SUM(BP54,BT54,BX54,CB54)","v":1000000},{"$f":"CH51+0.00000003","v":1000000.00000003},{"$f":"RANK(CI51,CI50:CI53)","v":1},null,{"$f":"VLOOKUP(CE51,CF50:CG53,2,0)","v":"BRESIL"},{"$f":"VLOOKUP(CL51,CG50:CH53,2,0)","v":801000.01101000002},{"$f":"RANK(CM51,CM50:CM53)","v":2}]
[{"$f":"IF(AK52=\"\",\"\",AK52)","v":"COSTA RICA"},null,null,null,null,null,null,0,1,{"$f":"IF(AK53=\"\",\"\",AK53)","v":"SERBIE"},null,null,null,null,null,null,"17/06 - 14h00",1,{"$f":"VLOOKUP(CE50,CF50:CG53,2,0)","v":"SERBIE"},null,null,null,null,null,null,{"$f":"VLOOKUP(S52,AK52:AY55,8,0)","v":3},{"$f":"VLOOKUP(S52,AK52:AY55,9,0)","v":1},{"$f":"VLOOKUP(S52,AK52:AY55,10,0)","v":1},{"$f":"VLOOKUP(S52,AK52:AY55,11,0)","v":0},{"$f":"VLOOKUP(S52,AK52:AY55,12,0)","v":0},{"$f":"VLOOKUP(S52,AK52:AY55,13,0)","v":1},{"$f":"VLOOKUP(S52,AK52:AY55,14,0)","v":0},{"$f":"VLOOKUP(S52,AK52:AY55,15,0)","v":1},null,null,{"$f":"RANK(AR52,AR52:AR55)","v":4},{"$f":"'EQUIPES QUALIFIEES'!B16:F17","v":"COSTA RICA"},null,null,null,null,null,null,{"$f":"SUMPRODUCT((A52:G57=AK52)*(AZ52:AZ57))+SUMPRODUCT((J52:P57=AK52)*(BA52:BA57))","v":0},{"$f":"SUMPRODUCT((A52:G57=AK52)*(BB52:BB57))+SUMPRODUCT((J52:P57=AK52)*(BC52:BC57))","v":1},{"$f":"SUMPRODUCT((A52:G57=AK52)*(BD52:BD57))+SUMPRODUCT((J52:P57=AK52)*(BE52:BE57))","v":0},{"$f":"SUMPRODUCT((A52:G57=AK52)*(BF52:BF57))+SUMPRODUCT((J52:P57=AK52)*(BG52:BG57))","v":0},{"$f":"SUMPRODUCT((A52:G57=AK52)*(BH52:BH57))+SUMPRODUCT((J52:P57=AK52)*(BI52:BI57))","v":1},{"$f":"SUMPRODUCT((A52:G57=AK52)*(BJ52:BJ57))+SUMPRODUCT((J52:P57=AK52)*(BK52:BK57))","v":0},{"$f":"SUMPRODUCT((A52:G57=AK52)*(BL52:BL57))+SUMPRODUCT((J52:P57=AK52)*(BM52:BM57))","v":1},{"$f":"AW52-AX52","v":-1},{"$f":"IF(H52=\"\",0,IF(H52>I52,3,IF(H52=I52,1,IF(H52<I52,0))))","v":0},{"$f":"IF(I52=\"\",0,IF(I52>H52,3,IF(I52=H52,1,IF(I52<H52,0))))","v":3},{"$f":"IF(H52=\"\",0,1)","v":1},{"$f":"IF(H52=\"\",0,1)","v":1},{"$f":"IF(H52<>\"\",IF(H52>I52,1))","v":false},{"$f":"IF(I52<>\"\",IF(I52>H52,1))","v":1},{"$f":"IF(H52<>\"\",IF(H52=I52,1))","v":false},{"$f":"IF(I52<>\"\",IF(I52=H52,1))","v":false},{"$f":"IF(H52<>\"\",IF(H52<I52,1))","v":1},{"$f":"IF(I52<>\"\",IF(I52<H52,1))","v":false},{"$f":"H52","v":0},{"$f":"I52","v":1},{"$f":"I52","v":1},{"$f":"H52","v":0},null,{"$f":"IF(AJ52=1,IF(AJ54=1,SUM(AR52*1000+(AY52)/10+(AW52)/100+(AZ54)/1000+(H54-I54)/10000+(H54)/100000)))","v":false},{"$f":"IF(AJ53=1,IF(AJ54=1,SUM(AR53*1000+(AY53)/10+(AW53)/100+(AZ57)/1000+(H57-I57)/10000+(H57)/100000)))","v":false},{"$f":"IF(AJ54=1,IF(AJ53=1,SUM(AR54*1000+(AY54)/10+(AW54)/100+(BA57)/1000+(I57-H57)/10000+(I57)/100000)))","v":false},{"$f":"IF(AJ55=1,IF(AJ53=1,SUM(AR55*1000+(AY55)/10+(AW55)/100+(AZ55)/1000+(H55-I55)/10000+(H55)/1000000)))","v":false},{"$f":"IF(AJ52=2,IF(AJ54=2,SUM(AR52*1000+(AY52)/10+(AW52)/100+(AZ54)/1000+(H54-I54)/10000+(H54)/100000)))","v":false},{"$f":"IF(AJ53=2,IF(AJ54=2,SUM(AR53*1000+(AY53)/10+(AW53)/100+(AZ57)/1000+(H57-I57)/10000+(H57)/100000)))","v":false},{"$f":"IF(AJ54=2,IF(AJ53=2,SUM(AR54*1000+(AY54)/10+(AW54)/100+(BA57)/1000+(I57-H57)/10000+(I57)/100000)))","v":false},{"$f":"IF(AJ55=2,IF(AJ53=2,SUM(AR55*1000+(AY55)/10+(AW55)/100+(AZ55)/1000+(H55-I55)/10000+(H55)/1000000)))","v":false},{"$f":"IF(AJ52=3,IF(AJ54=3,SUM(AR52*1000+(AY52)/10+(AW52)/100+(AZ54)/1000+(H54-I54)/10000+(H54)/100000)))","v":false},{"$f":"IF(AJ53=3,IF(AJ54=3,SUM(AR53*1000+(AY53)/10+(AW53)/100+(AZ57)/1000+(H57-I57)/10000+(H57)/100000)))","v":false},{"$f":"IF(AJ54=3,IF(AJ53=3,SUM(AR54*1000+(AY54)/10+(AW54)/100+(BA57)/1000+(I57-H57)/10000+(I57)/100000)))","v":false},{"$f":"IF(AJ55=3,IF(AJ53=3,SUM(AR55*1000+(AY55)/10+(AW55)/100+(AZ55)/1000+(H55-I55)/10000+(H55)/1000000)))","v":false},{"$f":"IF(AJ52=4,IF(AJ54=4,SUM(AR52*1000+(AY52)/10+(AW52)/100+(AZ54)/1000+(H54-I54)/10000+(H54)/100000)))","v":false},{"$f":"IF(AJ53=4,IF(AJ54=4,SUM(AR53*1000+(AY53)/10+(AW53)/100+(AZ57)/1000+(H57-I57)/10000+(H57)/100000)))","v":false},{"$f":"IF(AJ54=4,IF(AJ53=4,SUM(AR54*1000+(AY54)/10+(AW54)/100+(BA57)/1000+(I57-H57)/10000+(I57)/100000)))","v":false},{"$f":"IF(AJ55=4,IF(AJ53=4,SUM(AR55*1000+(AY55)/10+(AW55)/100+(AZ55)/1000+(H55-I55)/10000+(H55)/1000000)))","v":false},3,2,"BRESIL",{"$f":"SUM(BQ54,BU54,BY54,CC54)","v":801000.01101000002},{"$f":"CH52+0.00000002","v":801000.01101002004},{"$f":"RANK(CI52,CI50:CI53)","v":2},null,{"$f":"VLOOKUP(CE52,CF50:CG53,2,0)","v":"SUISSE"},{"$f":"VLOOKUP(CL52,CG50:CH53,2,0)","v":801000.01101000002},{"$f":"RANK(CM52,CM50:CM53)","v":2}]
[{"$f":"IF(AK54=\"\",\"\",AK54)","v":"BRESIL"},null,null,null,null,null,null,1,1,{"$f":"IF(AK55=\"\",\"\",AK55)","v":"SUISSE"},null,null,null,null,null,null,"17/06 - 20h00",{"$f":"IF(CM51=CM50,CN50,CN51)","v":2},{"$f":"VLOOKUP(CE51,CF50:CG53,2,0)","v":"BRESIL"},null,null,null,null,null,null,{"$f":"VLOOKUP(S53,AK52:AY55,8,0)","v":1},{"$f":"VLOOKUP(S53,AK52:AY55,9,0)","v":1},{"$f":"VLOOKUP(S53,AK52:AY55,10,0)","v":0},{"$f":"VLOOKUP(S53,AK52:AY55,11,0)","v":1},{"$f":"VLOOKUP(S53,AK52:AY55,12,0)","v":0},{"$f":"VLOOKUP(S53,AK52:AY55,13,0)","v":1},{"$f":"VLOOKUP(S53,AK52:AY55,14,0)","v":1},{"$f":"VLOOKUP(S53,AK52:AY55,15,0)","v":0},null,null,{"$f":"RANK(AR53,AR52:AR55)","v":1},{"$f":"'EQUIPES QUALIFIEES'!B18:F19","v":"SERBIE"},null,null,null,null,null,null,{"$f":"SUMPRODUCT((A52:G57=AK53)*(AZ52:AZ57))+SUMPRODUCT((J52:P57=AK53)*(BA52:BA57))","v":3},{"$f":"SUMPRODUCT((A52:G57=AK53)*(BB52:BB57))+SUMPRODUCT((J52:P57=AK53)*(BC52:BC57))","v":1},{"$f":"SUMPRODUCT((A52:G57=AK53)*(BD52:BD57))+SUMPRODUCT((J52:P57=AK53)*(BE52:BE57))","v":1},{"$f":"SUMPRODUCT((A52:G57=AK53)*(BF52:BF57))+SUMPRODUCT((J52:P57=AK53)*(BG52:BG57))","v":0},{"$f":"SUMPRODUCT((A52:G57=AK53)*(BH52:BH57))+SUMPRODUCT((J52:P57=AK53)*(BI52:BI57))","v":0},{"$f":"SUMPRODUCT((A52:G57=AK53)*(BJ52:BJ57))+SUMPRODUCT((J52:P57=AK53)*(BK52:BK57))","v":1},{"$f":"SUMPRODUCT((A52:G57=AK53)*(BL52:BL57))+SUMPRODUCT((J52:P57=AK53)*(BM52:BM57))","v":0},{"$f":"AW53-AX53","v":1},{"$f":"IF(H53=\"\",0,IF(H53>I53,3,IF(H53=I53,1,IF(H53<I53,0))))","v":1},{"$f":"IF(I53=\"\",0,IF(I53>H53,3,IF(I53=H53,1,IF(I53<H53,0))))","v":1},{"$f":"IF(H53=\"\",0,1)","v":1},{"$f":"IF(H53=\"\",0,1)","v":1},{"$f":"IF(H53<>\"\",IF(H53>I53,1))","v":false},{"$f":"IF(I53<>\"\",IF(I53>H53,1))","v":false},{"$f":"IF(H53<>\"\",IF(H53=I53,1))","v":1},{"$f":"IF(I53<>\"\",IF(I53=H53,1))","v":1},{"$f":"IF(H53<>\"\",IF(H53<I53,1))","v":false},{"$f":"IF(I53<>\"\",IF(I53<H53,1))","v":false},{"$f":"H53","v":1},{"$f":"I53","v":1},{"$f":"I53","v":1},{"$f":"H53","v":1},null,{"$f":"IF(AJ52=1,IF(AJ55=1,SUM(AR52*1000+(AY52)/10+(AW52)/100+(BA56)/1000+(I56-H56)/10000+(I56)/100000)))","v":false},{"$f":"IF(AJ53=1,IF(AJ55=1,SUM(AR53*1000+(AY53)/10+(AW53)/100+(BA55)/1000+(I55-H55)/10000+(I55)/100000)))","v":false},{"$f":"IF(AJ54=1,IF(AJ55=1,SUM(AR54*1000+(AY54)/10+(AW54)/100+(AZ53)/1000+(H53-I53)/10000+(H53)/100000)))","v":false},{"$f":"IF(AJ55=1,IF(AJ54=1,SUM(AR55*1000+(AY55)/10+(AW55)/100+(BA53)/1000+(I53-H53)/10000+(I53)/100000)))","v":false},{"$f":"IF(AJ52=2,IF(AJ55=2,SUM(AR52*1000+(AY52)/10+(AW52)/100+(BA56)/1000+(I56-H56)/10000+(I56)/100000)))","v":false},{"$f":"IF(AJ53=2,IF(AJ55=2,SUM(AR53*1000+(AY53)/10+(AW53)/100+(BA55)/1000+(I55-H55)/10000+(I55)/100000)))","v":false},{"$f":"IF(AJ54=2,IF(AJ55=2,SUM(AR54*1000+(AY54)/10+(AW54)/100+(AZ53)/1000+(H53-I53)/10000+(H53)/100000)))","v":1000.0110099999999},{"$f":"IF(AJ55=2,IF(AJ54=2,SUM(AR55*1000+(AY55)/10+(AW55)/100+(BA53)/1000+(I53-H53)/10000+(I53)/100000)))","v":1000.0110099999999},{"$f":"IF(AJ52=3,IF(AJ55=3,SUM(AR52*1000+(AY52)/10+(AW52)/100+(BA56)/1000+(I56-H56)/10000+(I56)/100000)))","v":false},{"$f":"IF(AJ53=3,IF(AJ55=3,SUM(AR53*1000+(AY53)/10+(AW53)/100+(BA55)/1000+(I55-H55)/10000+(I55)/100000)))","v":false},{"$f":"IF(AJ54=3,IF(AJ55=3,SUM(AR54*1000+(AY54)/10+(AW54)/100+(AZ53)/1000+(H53-I53)/10000+(H53)/100000)))","v":false},{"$f":"IF(AJ55=3,IF(AJ54=3,SUM(AR55*1000+(AY55)/10+(AW55)/100+(BA53)/1000+(I53-H53)/10000+(I53)/100000)))","v":false},{"$f":"IF(AJ52=4,IF(AJ55=4,SUM(AR52*1000+(AY52)/10+(AW52)/100+(BA56)/1000+(I56-H56)/10000+(I56)/100000)))","v":false},{"$f":"IF(AJ53=4,IF(AJ55=4,SUM(AR53*1000+(AY53)/10+(AW53)/100+(BA55)/1000+(I55-H55)/10000+(I55)/100000)))","v":false},{"$f":"IF(AJ54=4,IF(AJ55=4,SUM(AR54*1000+(AY54)/10+(AW54)/100+(AZ53)/1000+(H53-I53)/10000+(H53)/100000)))","v":false},{"$f":"IF(AJ55=4,IF(AJ54=4,SUM(AR55*1000+(AY55)/10+(AW55)/100+(BA53)/1000+(I53-H53)/10000+(I53)/100000)))","v":false},4,3,"SUISSE",{"$f":"SUM(BR54,BV54,BZ54,CD54)","v":801000.01101000002},{"$f":"CH53+0.00000001","v":801000.01101001003},{"$f":"RANK(CI53,CI50:CI53)","v":3},null,{"$f":"VLOOKUP(CE53,CF50:CG53,2,0)","v":"COSTA RICA"},{"$f":"VLOOKUP(CL53,CG50:CH53,2,0)","v":400000},{"$f":"RANK(CM53,CM50:CM53)","v":4}]
[{"$f":"IF(AK52=\"\",\"\",AK52)","v":"COSTA RICA"},null,null,null,null,null,null,null,null,{"$f":"IF(AK54=\"\",\"\",AK54)","v":"BRESIL"},null,null,null,null,null,null,"22/06 - 14h00",{"$f":"IF(CM52=CM51,CN51,CN52)","v":2},{"$f":"VLOOKUP(CE52,CF50:CG53,2,0)","v":"SUISSE"},null,null,null,null,null,null,{"$f":"VLOOKUP(S54,AK52:AY55,8,0)","v":1},{"$f":"VLOOKUP(S54,AK52:AY55,9,0)","v":1},{"$f":"VLOOKUP(S54,AK52:AY55,10,0)","v":0},{"$f":"VLOOKUP(S54,AK52:AY55,11,0)","v":1},{"$f":"VLOOKUP(S54,AK52:AY55,12,0)","v":0},{"$f":"VLOOKUP(S54,AK52:AY55,13,0)","v":1},{"$f":"VLOOKUP(S54,AK52:AY55,14,0)","v":1},{"$f":"VLOOKUP(S54,AK52:AY55,15,0)","v":0},null,null,{"$f":"RANK(AR54,AR52:AR55)","v":2},{"$f":"'EQUIPES QUALIFIEES'!B20:F21","v":"BRESIL"},null,null,null,null,null,null,{"$f":"SUMPRODUCT((A52:G57=AK54)*(AZ52:AZ57))+SUMPRODUCT((J52:P57=AK54)*(BA52:BA57))","v":1},{"$f":"SUMPRODUCT((A52:G57=AK54)*(BB52:BB57))+SUMPRODUCT((J52:P57=AK54)*(BC52:BC57))","v":1},{"$f":"SUMPRODUCT((A52:G57=AK54)*(BD52:BD57))+SUMPRODUCT((J52:P57=AK54)*(BE52:BE57))","v":0},{"$f":"SUMPRODUCT((A52:G57=AK54)*(BF52:BF57))+SUMPRODUCT((J52:P57=AK54)*(BG52:BG57))","v":1},{"$f":"SUMPRODUCT((A52:G57=AK54)*(BH52:BH57))+SUMPRODUCT((J52:P57=AK54)*(BI52:BI57))","v":0},{"$f":"SUMPRODUCT((A52:G57=AK54)*(BJ52:BJ57))+SUMPRODUCT((J52:P57=AK54)*(BK52:BK57))","v":1},{"$f":"SUMPRODUCT((A52:G57=AK54)*(BL52:BL57))+SUMPRODUCT((J52:P57=AK54)*(BM52:BM57))","v":1},0,0,0,0,0,false,false,false,false,false,false,0,0,0,0,null,{"$f":"SUM(BO50:BO53)","v":0},{"$f":"SUM(BP50:BP53)","v":1000000},{"$f":"SUM(BQ50:BQ53)","v":0},{"$f":"SUM(BR50:BR53)","v":0},{"$f":"SUM(BS50:BS53)","v":0},{"$f":"SUM(BT50:BT53)","v":0},801000.01101000002,801000.01101000002,{"$f":"SUM(BW50:BW53)","v":0},{"$f":"SUM(BX50:BX53)","v":0},0,0,{"$f":"SUM(CA50:CA53)","v":400000},{"$f":"SUM(CB50:CB53)","v":0},0,0]
[{"$f":"IF(AK55=\"\",\"\",AK55)","v":"SUISSE"},null,null,null,null,null,null,null,null,{"$f":"IF(AK53=\"\",\"\",AK53)","v":"SERBIE"},null,null,null,null,null,null,"22/06 - 20h00",4,{"$f":"VLOOKUP(CE53,CF50:CG53,2,0)","v":"COSTA RICA"},null,null,null,null,null,null,{"$f":"VLOOKUP(S55,AK52:AY55,8,0)","v":0},{"$f":"VLOOKUP(S55,AK52:AY55,9,0)","v":1},{"$f":"VLOOKUP(S55,AK52:AY55,10,0)","v":0},{"$f":"VLOOKUP(S55,AK52:AY55,11,0)","v":0},{"$f":"VLOOKUP(S55,AK52:AY55,12,0)","v":1},{"$f":"VLOOKUP(S55,AK52:AY55,13,0)","v":0},{"$f":"VLOOKUP(S55,AK52:AY55,14,0)","v":1},{"$f":"VLOOKUP(S55,AK52:AY55,15,0)","v":-1},null,null,{"$f":"RANK(AR55,AR52:AR55)","v":2},{"$f":"'EQUIPES QUALIFIEES'!B22:F23","v":"SUISSE"},null,null,null,null,null,null,{"$f":"SUMPRODUCT((A52:G57=AK55)*(AZ52:AZ57))+SUMPRODUCT((J52:P57=AK55)*(BA52:BA57))","v":1},{"$f":"SUMPRODUCT((A52:G57=AK55)*(BB52:BB57))+SUMPRODUCT((J52:P57=AK55)*(BC52:BC57))","v":1},{"$f":"SUMPRODUCT((A52:G57=AK55)*(BD52:BD57))+SUMPRODUCT((J52:P57=AK55)*(BE52:BE57))","v":0},{"$f":"SUMPRODUCT((A52:G57=AK55)*(BF52:BF57))+SUMPRODUCT((J52:P57=AK55)*(BG52:BG57))","v":1},{"$f":"SUMPRODUCT((A52:G57=AK55)*(BH52:BH57))+SUMPRODUCT((J52:P57=AK55)*(BI52:BI57))","v":0},{"$f":"SUMPRODUCT((A52:G57=AK55)*(BJ52:BJ57))+SUMPRODUCT((J52:P57=AK55)*(BK52:BK57))","v":1},{"$f":"SUMPRODUCT((A52:G57=AK55)*(BL52:BL57))+SUMPRODUCT((J52:P57=AK55)*(BM52:BM57))","v":1},0,0,0,0,0,false,false,false,false,false,false,0,0,0,0]
[{"$f":"IF(AK55=\"\",\"\",AK55)","v":"SUISSE"},null,null,null,null,null,null,null,null,{"$f":"IF(AK52=\"\",\"\",AK52)","v":"COSTA RICA"},null,null,null,null,null,null,"27/06 - 20h00",null,null,null,null,null,null,null,null,"ÉQUIPES QUALIFIÉES",null,null,null,null,null,null,null,null,null,null,null,null,null,null,null,null,null,null,null,null,null,null,null,null,null,0,0,0,0,false,false,false,false,false,false,0,0,0,0]
[{"$f":"IF(AK53=\"\",\"\",AK53)","v":"SERBIE"},null,null,null,null,null,null,null,null,{"$f":"IF(AK54=\"\",\"\",AK54)","v":"BRESIL"},null,null,null,null,null,null,"27/06 - 20h00",null,null,null,null,null,null,null,null,{"$f":"S52","v":"SERBIE"},null,null,null,null,null,null,null,null,null,null,null,null,null,null,null,null,null,null,null,null,null,null,null,null,null,0,0,0,0,false,false,false,false,false,false,0,0,0,0]
["GROUPE  E"]
[null,null,null,null,null,null,null,null,null,null,null,null,null,null,null,null,null,null,null,null,null,null,null,null,null,{"$f":"S53","v":"BRESIL"}]
[null,null,null,null,null,null,null,null,null,null,null,null,null,null,null,null,null,"CRC",null,"SRB",null,"BRA",null,"SUI"]
["CDM  2018  RUSSIE",null,null,null,null,null,null,null,null,null,null,null,null,null,null,null,null,"CLASSEMENT",null,null,null,null,null,null,null,null,null,null,null,null,null,null,null,null,null,"CLASSEMENT",null,null,null,null,null,null,null,null,null,null,null,null,null,null,null,null,null,null,null,null,null,null,null,null,null,null,null,null,null,null,{"$f":"AK64","v":"ALLEMAGNE"},{"$f":"AK65","v":"MEXIQUE"},{"$f":"AK66","v":"SUÈDE"},{"$f":"AK67","v":"RÉPUBLIQUE DE CORÉE"},{"$f":"BO61","v":"ALLEMAGNE"},{"$f":"BP61","v":"MEXIQUE"},{"$f":"BQ61","v":"SUÈDE"},{"$f":"BR61","v":"RÉPUBLIQUE DE CORÉE"},{"$f":"AK64","v":"ALLEMAGNE"},{"$f":"BP61","v":"MEXIQUE"},{"$f":"BQ61","v":"SUÈDE"},{"$f":"BR61","v":"RÉPUBLIQUE DE CORÉE"},{"$f":"BO61","v":"ALLEMAGNE"},{"$f":"BP61","v":"MEXIQUE"},{"$f":"BQ61","v":"SUÈDE"},{"$f":"BR61","v":"RÉPUBLIQUE DE CORÉE"}]
[null,null,null,null,null,null,null,null,null,null,null,null,null,null,null,null,null,null,null,null,null,null,null,null,null,null,null,null,null,null,null,null,null,null,null,null,null,null,null,null,null,null,null,null,null,null,null,null,null,null,null,null,null,null,null,null,null,null,null,null,null,null,null,null,null,null,{"$f":"IF(AJ64=1,1000000)","v":false},{"$f":"IF(AJ65=1,1000000)","v":1000000},{"$f":"IF(AJ66=1,1000000)","v":1000000},{"$f":"IF(AJ67=1,1000000)","v":false},{"$f":"IF(AJ64=2,800000)","v":false},{"$f":"IF(AJ65=2,800000)","v":false},{"$f":"IF(AJ66=2,800000)","v":false},{"$f":"IF(AJ67=2,800000)","v":false},{"$f":"IF(AJ64=3,600000)","v":600000},{"$f":"IF(AJ65=3,600000)","v":false},{"$f":"IF(AJ66=3,600000)","v":false},{"$f":"IF(AJ67=3,600000)","v":600000},{"$f":"IF(AJ64=4,400000)","v":false},{"$f":"IF(AJ65=4,400000)","v":false},{"$f":"IF(AJ66=4,400000)","v":false},{"$f":"IF(AJ67=4,400000)","v":false},1,{"$f":"CJ62","v":3},{"$f":"AK64","v":"ALLEMAGNE"},{"$f":"SUM(BO66,BS66,BW66,CA66)","v":599999.9},{"$f":"CH62+0.00000004","v":599999.90000004007},{"$f":"RANK(CI62,CI62:CI65)","v":3},null,{"$f":"VLOOKUP(CE62,CF62:CG65,2,0)","v":"MEXIQUE"},{"$f":"VLOOKUP(CL62,CG62:CH65,2,0)","v":1003000.11},{"$f":"RANK(CM62,CM62:CM65)","v":1}]
["ÉQUIPES",null,null,null,null,null,null,"Bts","Bts","ÉQUIPES",null,null,null,null,null,null,null,"R","ÉQUIPES",null,null,null,null,null,null,"Pts","J","G","N","P","Bts +","Bts -","Diff",null,null,"R","ÉQUIPES",null,null,null,null,null,null,"Pts","J","G","N","P","Bts +","Bts -","Diff","PTS","PTS","J","J","G","G","N","N","P","P","BTS+","BTS+","BTS-","BTS-",null,{"$f":"IF(AJ64=1,IF(AJ65=1,SUM(AR64*1000+(AY64)/10+(AW64)/100+(AZ64)/1000+(H64-I64)/10000+(H64)/100000)))","v":false},{"$f":"IF(AJ65=1,IF(AJ64=1,SUM(AR65*1000+(AY65)/10+(AW65)/100+(BA64)/1000+(I64-H64)/10000+(I64)/100000)))","v":false},{"$f":"IF(AJ66=1,IF(AJ64=1,SUM(AR66*1000+(AY66)/10+(AW66)/100+(BA66)/1000+(I66-H66)/10000+(I66)/100000)))","v":false},{"$f":"IF(AJ67=1,IF(AJ64=1,SUM(AR67*1000+(AY67)/10+(AW67)/100+(AZ68)/1000+(H68-I68)/10000+(H68)/1000000)))","v":false},{"$f":"IF(AJ64=2,IF(AJ65=2,SUM(AR64*1000+(AY64)/10+(AW64)/100+(AZ64)/1000+(H64-I64)/10000+(H64)/100000)))","v":false},{"$f":"IF(AJ65=2,IF(AJ64=2,SUM(AR65*1000+(AY65)/10+(AW65)/100+(BA64)/1000+(I64-H64)/10000+(I64)/100000)))","v":false},{"$f":"IF(AJ66=2,IF(AJ64=2,SUM(AR66*1000+(AY66)/10+(AW66)/100+(BA66)/1000+(I66-H66)/10000+(I66)/100000)))","v":false},{"$f":"IF(AJ67=2,IF(AJ64=2,SUM(AR67*1000+(AY67)/10+(AW67)/100+(AZ68)/1000+(H68-I68)/10000+(H68)/1000000)))","v":false},{"$f":"IF(AJ64=3,IF(AJ65=3,SUM(AR64*1000+(AY64)/10+(AW64)/100+(AZ64)/1000+(H64-I64)/10000+(H64)/100000)))","v":false},{"$f":"IF(AJ65=3,IF(AJ64=3,SUM(AR65*1000+(AY65)/10+(AW65)/100+(BA64)/1000+(I64-H64)/10000+(I64)/100000)))","v":false},{"$f":"IF(AJ66=3,IF(AJ64=3,SUM(AR66*1000+(AY66)/10+(AW66)/100+(BA66)/1000+(I66-H66)/10000+(I66)/100000)))","v":false},{"$f":"IF(AJ67=3,IF(AJ64=3,SUM(AR67*1000+(AY67)/10+(AW67)/100+(AZ68)/1000+(H68-I68)/10000+(H68)/1000000)))","v":-0.1},{"$f":"IF(AJ64=4,IF(AJ65=4,SUM(AR64*1000+(AY64)/10+(AW64)/100+(AZ64)/1000+(H64-I64)/10000+(H64)/100000)))","v":false},{"$f":"IF(AJ65=4,IF(AJ64=4,SUM(AR65*1000+(AY65)/10+(AW65)/100+(BA64)/1000+(I64-H64)/10000+(I64)/100000)))","v":false},{"$f":"IF(AJ66=4,IF(AJ64=4,SUM(AR66*1000+(AY66)/10+(AW66)/100+(BA66)/1000+(I66-H66)/10000+(I66)/100000)))","v":false},{"$f":"IF(AJ67=4,IF(AJ64=4,SUM(AR67*1000+(AY67)/10+(AW67)/100+(AZ68)/1000+(H68-I68)/10000+(H68)/1000000)))","v":false},2,{"$f":"CJ63","v":1},{"$f":"AK65","v":"MEXIQUE"},{"$f":"SUM(BP66,BT66,BX66,CB66)","v":1003000.11},{"$f":"CH63+0.00000003","v":1003000.11000003},{"$f":"RANK(CI63,CI62:CI65)","v":1},null,{"$f":"VLOOKUP(CE63,CF62:CG65,2,0)","v":"SUÈDE"},{"$f":"VLOOKUP(CL63,CG62:CH65,2,0)","v":1003000.11},{"$f":"RANK(CM63,CM62:CM65)","v":1}]
[{"$f":"IF(AK64=\"\",\"\",AK64)","v":"ALLEMAGNE"},null,null,null,null,null,null,0,1,{"$f":"IF(AK65=\"\",\"\",AK65)","v":"MEXIQUE"},null,null,null,null,null,null,"17/06 - 17h00",1,{"$f":"VLOOKUP(CE62,CF62:CG65,2,0)","v":"MEXIQUE"},null,null,null,null,null,null,{"$f":"VLOOKUP(S64,AK64:AY67,8,0)","v":3},{"$f":"VLOOKUP(S64,AK64:AY67,9,0)","v":1},{"$f":"VLOOKUP(S64,AK64:AY67,10,0)","v":1},{"$f":"VLOOKUP(S64,AK64:AY67,11,0)","v":0},{"$f":"VLOOKUP(S64,AK64:AY67,12,0)","v":0},{"$f":"VLOOKUP(S64,AK64:AY67,13,0)","v":1},{"$f":"VLOOKUP(S64,AK64:AY67,14,0)","v":0},{"$f":"VLOOKUP(S64,AK64:AY67,15,0)","v":1},null,null,{"$f":"RANK(AR64,AR64:AR67)","v":3},{"$f":"'EQUIPES QUALIFIEES'!H16:L17","v":"ALLEMAGNE"},null,null,null,null,null,null,{"$f":"SUMPRODUCT((A64:G69=AK64)*(AZ64:AZ69))+SUMPRODUCT((J64:P69=AK64)*(BA64:BA69))","v":0},{"$f":"SUMPRODUCT((A64:G69=AK64)*(BB64:BB69))+SUMPRODUCT((J64:P69=AK64)*(BC64:BC69))","v":1},{"$f":"SUMPRODUCT((A64:G69=AK64)*(BD64:BD69))+SUMPRODUCT((J64:P69=AK64)*(BE64:BE69))","v":0},{"$f":"SUMPRODUCT((A64:G69=AK64)*(BF64:BF69))+SUMPRODUCT((J64:P69=AK64)*(BG64:BG69))","v":0},{"$f":"SUMPRODUCT((A64:G69=AK64)*(BH64:BH69))+SUMPRODUCT((J64:P69=AK64)*(BI64:BI69))","v":1},{"$f":"SUMPRODUCT((A64:G69=AK64)*(BJ64:BJ69))+SUMPRODUCT((J64:P69=AK64)*(BK64:BK69))","v":0},{"$f":"SUMPRODUCT((A64:G69=AK64)*(BL64:BL69))+SUMPRODUCT((J64:P69=AK64)*(BM64:BM69))","v":1},{"$f":"AW64-AX64","v":-1},{"$f":"IF(H64=\"\",0,IF(H64>I64,3,IF(H64=I64,1,IF(H64<I64,0))))","v":0},{"$f":"IF(I64=\"\",0,IF(I64>H64,3,IF(I64=H64,1,IF(I64<H64,0))))","v":3},{"$f":"IF(H64=\"\",0,1)","v":1},{"$f":"IF(H64=\"\",0,1)","v":1},{"$f":"IF(H64<>\"\",IF(H64>I64,1))","v":false},{"$f":"IF(I64<>\"\",IF(I64>H64,1))","v":1},{"$f":"IF(H64<>\"\",IF(H64=I64,1))","v":false},{"$f":"IF(I64<>\"\",IF(I64=H64,1))","v":false},{"$f":"IF(H64<>\"\",IF(H64<I64,1))","v":1},{"$f":"IF(I64<>\"\",IF(I64<H64,1))","v":false},{"$f":"H64","v":0},{"$f":"I64","v":1},{"$f":"I64","v":1},{"$f":"H64","v":0},null,{"$f":"IF(AJ64=1,IF(AJ66=1,SUM(AR64*1000+(AY64)/10+(AW64)/100+(AZ66)/1000+(H66-I66)/10000+(H66)/100000)))","v":false},{"$f":"IF(AJ65=1,IF(AJ66=1,SUM(AR65*1000+(AY65)/10+(AW65)/100+(AZ69)/1000+(H69-I69)/10000+(H69)/100000)))","v":3000.11},{"$f":"IF(AJ66=1,IF(AJ65=1,SUM(AR66*1000+(AY66)/10+(AW66)/100+(BA69)/1000+(I69-H69)/10000+(I69)/100000)))","v":3000.11},{"$f":"IF(AJ67=1,IF(AJ65=1,SUM(AR67*1000+(AY67)/10+(AW67)/100+(AZ67)/1000+(H67-I67)/10000+(H67)/1000000)))","v":false},{"$f":"IF(AJ64=2,IF(AJ66=2,SUM(AR64*1000+(AY64)/10+(AW64)/100+(AZ66)/1000+(H66-I66)/10000+(H66)/100000)))","v":false},{"$f":"IF(AJ65=2,IF(AJ66=2,SUM(AR65*1000+(AY65)/10+(AW65)/100+(AZ69)/1000+(H69-I69)/10000+(H69)/100000)))","v":false},{"$f":"IF(AJ66=2,IF(AJ65=2,SUM(AR66*1000+(AY66)/10+(AW66)/100+(BA69)/1000+(I69-H69)/10000+(I69)/100000)))","v":false},{"$f":"IF(AJ67=2,IF(AJ65=2,SUM(AR67*1000+(AY67)/10+(AW67)/100+(AZ67)/1000+(H67-I67)/10000+(H67)/1000000)))","v":false},{"$f":"IF(AJ64=3,IF(AJ66=3,SUM(AR64*1000+(AY64)/10+(AW64)/100+(AZ66)/1000+(H66-I66)/10000+(H66)/100000)))","v":false},{"$f":"IF(AJ65=3,IF(AJ66=3,SUM(AR65*1000+(AY65)/10+(AW65)/100+(AZ69)/1000+(H69-I69)/10000+(H69)/100000)))","v":false},{"$f":"IF(AJ66=3,IF(AJ65=3,SUM(AR66*1000+(AY66)/10+(AW66)/100+(BA69)/1000+(I69-H69)/10000+(I69)/100000)))","v":false},{"$f":"IF(AJ67=3,IF(AJ65=3,SUM(AR67*1000+(AY67)/10+(AW67)/100+(AZ67)/1000+(H67-I67)/10000+(H67)/1000000)))","v":false},{"$f":"IF(AJ64=4,IF(AJ66=4,SUM(AR64*1000+(AY64)/10+(AW64)/100+(AZ66)/1000+(H66-I66)/10000+(H66)/100000)))","v":false},{"$f":"IF(AJ65=4,IF(AJ66=4,SUM(AR65*1000+(AY65)/10+(AW65)/100+(AZ69)/1000+(H69-I69)/10000+(H69)/100000)))","v":false},{"$f":"IF(AJ66=4,IF(AJ65=4,SUM(AR66*1000+(AY66)/10+(AW66)/100+(BA69)/1000+(I69-H69)/10000+(I69)/100000)))","v":false},{"$f":"IF(AJ67=4,IF(AJ65=4,SUM(AR67*1000+(AY67)/10+(AW67)/100+(AZ67)/1000+(H67-I67)/10000+(H67)/1000000)))","v":false},3,2,"SUÈDE",{"$f":"SUM(BQ66,BU66,BY66,CC66)","v":1003000.11},{"$f":"CH64+0.00000002","v":1003000.11000002},{"$f":"RANK(CI64,CI62:CI65)","v":2},null,{"$f":"VLOOKUP(CE64,CF62:CG65,2,0)","v":"ALLEMAGNE"},{"$f":"VLOOKUP(CL64,CG62:CH65,2,0)","v":599999.9},{"$f":"RANK(CM64,CM62:CM65)","v":3}]
[{"$f":"IF(AK66=\"\",\"\",AK66)","v":"SUÈDE"},null,null,null,null,null,null,1,0,{"$f":"IF(AK67=\"\",\"\",AK67)","v":"RÉPUBLIQUE DE CORÉE"},null,null,null,null,null,null,"18/06 - 14h00",{"$f":"IF(CM63=CM62,CN62,CN63)","v":1},{"$f":"VLOOKUP(CE63,CF62:CG65,2,0)","v":"SUÈDE"},null,null,null,null,null,null,{"$f":"VLOOKUP(S65,AK64:AY67,8,0)","v":3},{"$f":"VLOOKUP(S65,AK64:AY67,9,0)","v":1},{"$f":"VLOOKUP(S65,AK64:AY67,10,0)","v":1},{"$f":"VLOOKUP(S65,AK64:AY67,11,0)","v":0},{"$f":"VLOOKUP(S65,AK64:AY67,12,0)","v":0},{"$f":"VLOOKUP(S65,AK64:AY67,13,0)","v":1},{"$f":"VLOOKUP(S65,AK64:AY67,14,0)","v":0},{"$f":"VLOOKUP(S65,AK64:AY67,15,0)","v":1},null,null,{"$f":"RANK(AR65,AR64:AR67)","v":1},{"$f":"'EQUIPES QUALIFIEES'!H18:L19","v":"MEXIQUE"},null,null,null,null,null,null,{"$f":"SUMPRODUCT((A64:G69=AK65)*(AZ64:AZ69))+SUMPRODUCT((J64:P69=AK65)*(BA64:BA69))","v":3},{"$f":"SUMPRODUCT((A64:G69=AK65)*(BB64:BB69))+SUMPRODUCT((J64:P69=AK65)*(BC64:BC69))","v":1},{"$f":"SUMPRODUCT((A64:G69=AK65)*(BD64:BD69))+SUMPRODUCT((J64:P69=AK65)*(BE64:BE69))","v":1},{"$f":"SUMPRODUCT((A64:G69=AK65)*(BF64:BF69))+SUMPRODUCT((J64:P69=AK65)*(BG64:BG69))","v":0},{"$f":"SUMPRODUCT((A64:G69=AK65)*(BH64:BH69))+SUMPRODUCT((J64:P69=AK65)*(BI64:BI69))","v":0},{"$f":"SUMPRODUCT((A64:G69=AK65)*(BJ64:BJ69))+SUMPRODUCT((J64:P69=AK65)*(BK64:BK69))","v":1},{"$f":"SUMPRODUCT((A64:G69=AK65)*(BL64:BL69))+SUMPRODUCT((J64:P69=AK65)*(BM64:BM69))","v":0},{"$f":"AW65-AX65","v":1},{"$f":"IF(H65=\"\",0,IF(H65>I65,3,IF(H65=I65,1,IF(H65<I65,0))))","v":3},{"$f":"IF(I65=\"\",0,IF(I65>H65,3,IF(I65=H65,1,IF(I65<H65,0))))","v":0},{"$f":"IF(H65=\"\",0,1)","v":1},{"$f":"IF(H65=\"\",0,1)","v":1},{"$f":"IF(H65<>\"\",IF(H65>I65,1))","v":1},{"$f":"IF(I65<>\"\",IF(I65>H65,1))","v":false},{"$f":"IF(H65<>\"\",IF(H65=I65,1))","v":false},{"$f":"IF(I65<>\"\",IF(I65=H65,1))","v":false},{"$f":"IF(H65<>\"\",IF(H65<I65,1))","v":false},{"$f":"IF(I65<>\"\",IF(I65<H65,1))","v":1},{"$f":"H65","v":1},{"$f":"I65","v":0},{"$f":"I65","v":0},{"$f":"H65","v":1},null,{"$f":"IF(AJ64=1,IF(AJ67=1,SUM(AR64*1000+(AY64)/10+(AW64)/100+(BA68)/1000+(I68-H68)/10000+(I68)/100000)))","v":false},{"$f":"IF(AJ65=1,IF(AJ67=1,SUM(AR65*1000+(AY65)/10+(AW65)/100+(BA67)/1000+(I67-H67)/10000+(I67)/100000)))","v":false},{"$f":"IF(AJ66=1,IF(AJ67=1,SUM(AR66*1000+(AY66)/10+(AW66)/100+(AZ65)/1000+(H65-I65)/10000+(H65)/100000)))","v":false},{"$f":"IF(AJ67=1,IF(AJ66=1,SUM(AR67*1000+(AY67)/10+(AW67)/100+(BA65)/1000+(I65-H65)/10000+(I65)/100000)))","v":false},{"$f":"IF(AJ64=2,IF(AJ67=2,SUM(AR64*1000+(AY64)/10+(AW64)/100+(BA68)/1000+(I68-H68)/10000+(I68)/100000)))","v":false},{"$f":"IF(AJ65=2,IF(AJ67=2,SUM(AR65*1000+(AY65)/10+(AW65)/100+(BA67)/1000+(I67-H67)/10000+(I67)/100000)))","v":false},{"$f":"IF(AJ66=2,IF(AJ67=2,SUM(AR66*1000+(AY66)/10+(AW66)/100+(AZ65)/1000+(H65-I65)/10000+(H65)/100000)))","v":false},{"$f":"IF(AJ67=2,IF(AJ66=2,SUM(AR67*1000+(AY67)/10+(AW67)/100+(BA65)/1000+(I65-H65)/10000+(I65)/100000)))","v":false},{"$f":"IF(AJ64=3,IF(AJ67=3,SUM(AR64*1000+(AY64)/10+(AW64)/100+(BA68)/1000+(I68-H68)/10000+(I68)/100000)))","v":-0.1},{"$f":"IF(AJ65=3,IF(AJ67=3,SUM(AR65*1000+(AY65)/10+(AW65)/100+(BA67)/1000+(I67-H67)/10000+(I67)/100000)))","v":false},{"$f":"IF(AJ66=3,IF(AJ67=3,SUM(AR66*1000+(AY66)/10+(AW66)/100+(AZ65)/1000+(H65-I65)/10000+(H65)/100000)))","v":false},{"$f":"IF(AJ67=3,IF(AJ66=3,SUM(AR67*1000+(AY67)/10+(AW67)/100+(BA65)/1000+(I65-H65)/10000+(I65)/100000)))","v":false},{"$f":"IF(AJ64=4,IF(AJ67=4,SUM(AR64*1000+(AY64)/10+(AW64)/100+(BA68)/1000+(I68-H68)/10000+(I68)/100000)))","v":false},{"$f":"IF(AJ65=4,IF(AJ67=4,SUM(AR65*1000+(AY65)/10+(AW65)/100+(BA67)/1000+(I67-H67)/10000+(I67)/100000)))","v":false},{"$f":"IF(AJ66=4,IF(AJ67=4,SUM(AR66*1000+(AY66)/10+(AW66)/100+(AZ65)/1000+(H65-I65)/10000+(H65)/100000)))","v":false},{"$f":"IF(AJ67=4,IF(AJ66=4,SUM(AR67*1000+(AY67)/10+(AW67)/100+(BA65)/1000+(I65-H65)/10000+(I65)/100000)))","v":false},4,4,"RÉPUBLIQUE DE CORÉE",{"$f":"SUM(BR66,BV66,BZ66,CD66)","v":599999.9},{"$f":"CH65+0.00000001","v":599999.90000001004},{"$f":"RANK(CI65,CI62:CI65)","v":4},null,{"$f":"VLOOKUP(CE65,CF62:CG65,2,0)","v":"RÉPUBLIQUE DE CORÉE"},{"$f":"VLOOKUP(CL65,CG62:CH65,2,0)","v":599999.9},{"$f":"RANK(CM65,CM62:CM65)","v":3}]
[{"$f":"IF(AK64=\"\",\"\",AK64)","v":"ALLEMAGNE"},null,null,null,null,null,null,null,null,{"$f":"IF(AK66=\"\",\"\",AK66)","v":"SUÈDE"},null,null,null,null,null,null,"23/06 - 20h00",{"$f":"IF(CM64=CM63,CN63,CN64)","v":3},{"$f":"VLOOKUP(CE64,CF62:CG65,2,0)","v":"ALLEMAGNE"},null,null,null,null,null,null,{"$f":"VLOOKUP(S66,AK64:AY67,8,0)","v":0},{"$f":"VLOOKUP(S66,AK64:AY67,9,0)","v":1},{"$f":"VLOOKUP(S66,AK64:AY67,10,0)","v":0},{"$f":"VLOOKUP(S66,AK64:AY67,11,0)","v":0},{"$f":"VLOOKUP(S66,AK64:AY67,12,0)","v":1},{"$f":"VLOOKUP(S66,AK64:AY67,13,0)","v":0},{"$f":"VLOOKUP(S66,AK64:AY67,14,0)","v":1},{"$f":"VLOOKUP(S66,AK64:AY67,15,0)","v":-1},null,null,{"$f":"RANK(AR66,AR64:AR67)","v":1},{"$f":"'EQUIPES QUALIFIEES'!H20:L21","v":"SUÈDE"},null,null,null,null,null,null,{"$f":"SUMPRODUCT((A64:G69=AK66)*(AZ64:AZ69))+SUMPRODUCT((J64:P69=AK66)*(BA64:BA69))","v":3},{"$f":"SUMPRODUCT((A64:G69=AK66)*(BB64:BB69))+SUMPRODUCT((J64:P69=AK66)*(BC64:BC69))","v":1},{"$f":"SUMPRODUCT((A64:G69=AK66)*(BD64:BD69))+SUMPRODUCT((J64:P69=AK66)*(BE64:BE69))","v":1},{"$f":"SUMPRODUCT((A64:G69=AK66)*(BF64:BF69))+SUMPRODUCT((J64:P69=AK66)*(BG64:BG69))","v":0},{"$f":"SUMPRODUCT((A64:G69=AK66)*(BH64:BH69))+SUMPRODUCT((J64:P69=AK66)*(BI64:BI69))","v":0},{"$f":"SUMPRODUCT((A64:G69=AK66)*(BJ64:BJ69))+SUMPRODUCT((J64:P69=AK66)*(BK64:BK69))","v":1},{"$f":"SUMPRODUCT((A64:G69=AK66)*(BL64:BL69))+SUMPRODUCT((J64:P69=AK66)*(BM64:BM69))","v":0},1,0,0,0,0,false,false,false,false,false,false,0,0,0,0,null,{"$f":"SUM(BO62:BO65)","v":0},{"$f":"SUM(BP62:BP65)","v":1003000.11},{"$f":"SUM(BQ62:BQ65)","v":1003000.11},{"$f":"SUM(BR62:BR65)","v":0},{"$f":"SUM(BS62:BS65)","v":0},{"$f":"SUM(BT62:BT65)","v":0},0,0,{"$f":"SUM(BW62:BW65)","v":599999.9},{"$f":"SUM(BX62:BX65)","v":0},0,599999.9,{"$f":"SUM(CA62:CA65)","v":0},{"$f":"SUM(CB62:CB65)","v":0},0,0]
[{"$f":"IF(AK67=\"\",\"\",AK67)","v":"RÉPUBLIQUE DE CORÉE"},null,null,null,null,null,null,null,null,{"$f":"IF(AK65=\"\",\"\",AK65)","v":"MEXIQUE"},null,null,null,null,null,null,"23/06 - 17h00",3,{"$f":"VLOOKUP(CE65,CF62:CG65,2,0)","v":"RÉPUBLIQUE DE CORÉE"},null,null,null,null,null,null,{"$f":"VLOOKUP(S67,AK64:AY67,8,0)","v":0},{"$f":"VLOOKUP(S67,AK64:AY67,9,0)","v":1},{"$f":"VLOOKUP(S67,AK64:AY67,10,0)","v":0},{"$f":"VLOOKUP(S67,AK64:AY67,11,0)","v":0},{"$f":"VLOOKUP(S67,AK64:AY67,12,0)","v":1},{"$f":"VLOOKUP(S67,AK64:AY67,13,0)","v":0},{"$f":"VLOOKUP(S67,AK64:AY67,14,0)","v":1},{"$f":"VLOOKUP(S67,AK64:AY67,15,0)","v":-1},null,null,{"$f":"RANK(AR67,AR64:AR67)","v":3},{"$f":"'EQUIPES QUALIFIEES'!H22:L23","v":"RÉPUBLIQUE DE CORÉE"},null,null,null,null,null,null,{"$f":"SUMPRODUCT((A64:G69=AK67)*(AZ64:AZ69))+SUMPRODUCT((J64:P69=AK67)*(BA64:BA69))","v":0},{"$f":"SUMPRODUCT((A64:G69=AK67)*(BB64:BB69))+SUMPRODUCT((J64:P69=AK67)*(BC64:BC69))","v":1},{"$f":"SUMPRODUCT((A64:G69=AK67)*(BD64:BD69))+SUMPRODUCT((J64:P69=AK67)*(BE64:BE69))","v":0},{"$f":"SUMPRODUCT((A64:G69=AK67)*(BF64:BF69))+SUMPRODUCT((J64:P69=AK67)*(BG64:BG69))","v":0},{"$f":"SUMPRODUCT((A64:G69=AK67)*(BH64:BH69))+SUMPRODUCT((J64:P69=AK67)*(BI64:BI69))","v":1},{"$f":"SUMPRODUCT((A64:G69=AK67)*(BJ64:BJ69))+SUMPRODUCT((J64:P69=AK67)*(BK64:BK69))","v":0},{"$f":"SUMPRODUCT((A64:G69=AK67)*(BL64:BL69))+SUMPRODUCT((J64:P69=AK67)*(BM64:BM69))","v":1},-1,0,0,0,0,false,false,false,false,false,false,0,0,0,0]
[{"$f":"IF(AK67=\"\",\"\",AK67)","v":"RÉPUBLIQUE DE CORÉE"},null,null,null,null,null,null,null,null,{"$f":"IF(AK64=\"\",\"\",AK64)","v":"ALLEMAGNE"},null,null,null,null,null,null,"27/06 - 16h00",null,null,null,null,null,null,null,null,"ÉQUIPES QUALIFIÉES",null,null,null,null,null,null,null,null,null,null,null,null,null,null,null,null,null,null,null,null,null,null,null,null,null,0,0,0,0,false,false,false,false,false,false,0,0,0,0]
[{"$f":"IF(AK65=\"\",\"\",AK65)","v":"MEXIQUE"},null,null,null,null,null,null,null,null,{"$f":"IF(AK66=\"\",\"\",AK66)","v":"SUÈDE"},null,null,null,null,null,null,"27/06 - 16h00",null,null,null,null,null,null,null,null,{"$f":"S64","v":"MEXIQUE"},null,null,null,null,null,null,null,null,null,null,null,null,null,null,null,null,null,null,null,null,null,null,null,null,null,0,0,0,0,false,false,false,false,false,false,0,0,0,0]
["GROUPE  F"]
[null,null,null,null,null,null,null,null,null,null,null,null,null,null,null,null,null,null,null,null,null,null,null,null,null,{"$f":"S65","v":"SUÈDE"}]
[null,null,null,null,null,null,null,null,null,null,null,null,null,null,null,null,null,"GER",null,"MEX",null,"SWE",null,"PRK"]
["CDM  2018  RUSSIE",null,null,null,null,null,null,null,null,null,null,null,null,null,null,null,null,"CLASSEMENT",null,null,null,null,null,null,null,null,null,null,null,null,null,null,null,null,null,"CLASSEMENT",null,null,null,null,null,null,null,null,null,null,null,null,null,null,null,null,null,null,null,null,null,null,null,null,null,null,null,null,null,null,{"$f":"AK76","v":"BELGIQUE"},{"$f":"AK77","v":"PANAMA"},{"$f":"AK78","v":"TUNISIE"},{"$f":"AK79","v":"ANGLETERRE"},{"$f":"BO73","v":"BELGIQUE"},{"$f":"BP73","v":"PANAMA"},{"$f":"BQ73","v":"TUNISIE"},{"$f":"BR73","v":"ANGLETERRE"},{"$f":"AK76","v":"BELGIQUE"},{"$f":"BP73","v":"PANAMA"},{"$f":"BQ73","v":"TUNISIE"},{"$f":"BR73","v":"ANGLETERRE"},{"$f":"BO73","v":"BELGIQUE"},{"$f":"BP73","v":"PANAMA"},{"$f":"BQ73","v":"TUNISIE"},{"$f":"BR73","v":"ANGLETERRE"}]
[null,null,null,null,null,null,null,null,null,null,null,null,null,null,null,null,null,null,null,null,null,null,null,null,null,null,null,null,null,null,null,null,null,null,null,null,null,null,null,null,null,null,null,null,null,null,null,null,null,null,null,null,null,null,null,null,null,null,null,null,null,null,null,null,null,null,{"$f":"IF(AJ76=1,1000000)","v":1000000},{"$f":"IF(AJ77=1,1000000)","v":false},{"$f":"IF(AJ78=1,1000000)","v":false},{"$f":"IF(AJ79=1,1000000)","v":1000000},{"$f":"IF(AJ76=2,800000)","v":false},{"$f":"IF(AJ77=2,800000)","v":false},{"$f":"IF(AJ78=2,800000)","v":false},{"$f":"IF(AJ79=2,800000)","v":false},{"$f":"IF(AJ76=3,600000)","v":false},{"$f":"IF(AJ77=3,600000)","v":600000},{"$f":"IF(AJ78=3,600000)","v":600000},{"$f":"IF(AJ79=3,600000)","v":false},{"$f":"IF(AJ76=4,400000)","v":false},{"$f":"IF(AJ77=4,400000)","v":false},{"$f":"IF(AJ78=4,400000)","v":false},{"$f":"IF(AJ79=4,400000)","v":false},1,{"$f":"CJ74","v":1},{"$f":"AK76","v":"BELGIQUE"},{"$f":"SUM(BO78,BS78,BW78,CA78)","v":1003000.33},{"$f":"CH74+0.00000004","v":1003000.33000004},{"$f":"RANK(CI74,CI74:CI77)","v":1},null,{"$f":"VLOOKUP(CE74,CF74:CG77,2,0)","v":"BELGIQUE"},{"$f":"VLOOKUP(CL74,CG74:CH77,2,0)","v":1003000.33},{"$f":"RANK(CM74,CM74:CM77)","v":1}]
["ÉQUIPES",null,null,null,null,null,null,"Bts","Bts","ÉQUIPES",null,null,null,null,null,null,null,"R","ÉQUIPES",null,null,null,null,null,null,"Pts","J","G","N","P","Bts +","Bts -","Diff",null,null,"R","ÉQUIPES",null,null,null,null,null,null,"Pts","J","G","N","P","Bts +","Bts -","Diff","PTS","PTS","J","J","G","G","N","N","P","P","BTS+","BTS+","BTS-","BTS-",null,{"$f":"IF(AJ76=1,IF(AJ77=1,SUM(AR76*1000+(AY76)/10+(AW76)/100+(AZ76)/1000+(H76-I76)/10000+(H76)/100000)))","v":false},{"$f":"IF(AJ77=1,IF(AJ76=1,SUM(AR77*1000+(AY77)/10+(AW77)/100+(BA76)/1000+(I76-H76)/10000+(I76)/100000)))","v":false},{"$f":"IF(AJ78=1,IF(AJ76=1,SUM(AR78*1000+(AY78)/10+(AW78)/100+(BA78)/1000+(I78-H78)/10000+(I78)/100000)))","v":false},{"$f":"IF(AJ79=1,IF(AJ76=1,SUM(AR79*1000+(AY79)/10+(AW79)/100+(AZ80)/1000+(H80-I80)/10000+(H80)/1000000)))","v":3000.12},{"$f":"IF(AJ76=2,IF(AJ77=2,SUM(AR76*1000+(AY76)/10+(AW76)/100+(AZ76)/1000+(H76-I76)/10000+(H76)/100000)))","v":false},{"$f":"IF(AJ77=2,IF(AJ76=2,SUM(AR77*1000+(AY77)/10+(AW77)/100+(BA76)/1000+(I76-H76)/10000+(I76)/100000)))","v":false},{"$f":"IF(AJ78=2,IF(AJ76=2,SUM(AR78*1000+(AY78)/10+(AW78)/100+(BA78)/1000+(I78-H78)/10000+(I78)/100000)))","v":false},{"$f":"IF(AJ79=2,IF(AJ76=2,SUM(AR79*1000+(AY79)/10+(AW79)/100+(AZ80)/1000+(H80-I80)/10000+(H80)/1000000)))","v":false},{"$f":"IF(AJ76=3,IF(AJ77=3,SUM(AR76*1000+(AY76)/10+(AW76)/100+(AZ76)/1000+(H76-I76)/10000+(H76)/100000)))","v":false},{"$f":"IF(AJ77=3,IF(AJ76=3,SUM(AR77*1000+(AY77)/10+(AW77)/100+(BA76)/1000+(I76-H76)/10000+(I76)/100000)))","v":false},{"$f":"IF(AJ78=3,IF(AJ76=3,SUM(AR78*1000+(AY78)/10+(AW78)/100+(BA78)/1000+(I78-H78)/10000+(I78)/100000)))","v":false},{"$f":"IF(AJ79=3,IF(AJ76=3,SUM(AR79*1000+(AY79)/10+(AW79)/100+(AZ80)/1000+(H80-I80)/10000+(H80)/1000000)))","v":false},{"$f":"IF(AJ76=4,IF(AJ77=4,SUM(AR76*1000+(AY76)/10+(AW76)/100+(AZ76)/1000+(H76-I76)/10000+(H76)/100000)))","v":false},{"$f":"IF(AJ77=4,IF(AJ76=4,SUM(AR77*1000+(AY77)/10+(AW77)/100+(BA76)/1000+(I76-H76)/10000+(I76)/100000)))","v":false},{"$f":"IF(AJ78=4,IF(AJ76=4,SUM(AR78*1000+(AY78)/10+(AW78)/100+(BA78)/1000+(I78-H78)/10000+(I78)/100000)))","v":false},{"$f":"IF(AJ79=4,IF(AJ76=4,SUM(AR79*1000+(AY79)/10+(AW79)/100+(AZ80)/1000+(H80-I80)/10000+(H80)/1000000)))","v":false},2,{"$f":"CJ75","v":4},{"$f":"AK77","v":"PANAMA"},{"$f":"SUM(BP78,BT78,BX78,CB78)","v":599999.69999999995},{"$f":"CH75+0.00000003","v":599999.70000002999},{"$f":"RANK(CI75,CI74:CI77)","v":4},null,{"$f":"VLOOKUP(CE75,CF74:CG77,2,0)","v":"ANGLETERRE"},{"$f":"VLOOKUP(CL75,CG74:CH77,2,0)","v":1003000.12},{"$f":"RANK(CM75,CM74:CM77)","v":2}]
[{"$f":"IF(AK76=\"\",\"\",AK76)","v":"BELGIQUE"},null,null,null,null,null,null,3,0,{"$f":"IF(AK77=\"\",\"\",AK77)","v":"PANAMA"},null,null,null,null,null,null,"18/06 - 17h00",1,{"$f":"VLOOKUP(CE74,CF74:CG77,2,0)","v":"BELGIQUE"},null,null,null,null,null,null,{"$f":"VLOOKUP(S76,AK76:AY79,8,0)","v":3},{"$f":"VLOOKUP(S76,AK76:AY79,9,0)","v":1},{"$f":"VLOOKUP(S76,AK76:AY79,10,0)","v":1},{"$f":"VLOOKUP(S76,AK76:AY79,11,0)","v":0},{"$f":"VLOOKUP(S76,AK76:AY79,12,0)","v":0},{"$f":"VLOOKUP(S76,AK76:AY79,13,0)","v":3},{"$f":"VLOOKUP(S76,AK76:AY79,14,0)","v":0},{"$f":"VLOOKUP(S76,AK76:AY79,15,0)","v":3},null,null,{"$f":"RANK(AR76,AR76:AR79)","v":1},{"$f":"'EQUIPES QUALIFIEES'!N16:R17","v":"BELGIQUE"},null,null,null,null,null,null,{"$f":"SUMPRODUCT((A76:G81=AK76)*(AZ76:AZ81))+SUMPRODUCT((J76:P81=AK76)*(BA76:BA81))","v":3},{"$f":"SUMPRODUCT((A76:G81=AK76)*(BB76:BB81))+SUMPRODUCT((J76:P81=AK76)*(BC76:BC81))","v":1},{"$f":"SUMPRODUCT((A76:G81=AK76)*(BD76:BD81))+SUMPRODUCT((J76:P81=AK76)*(BE76:BE81))","v":1},{"$f":"SUMPRODUCT((A76:G81=AK76)*(BF76:BF81))+SUMPRODUCT((J76:P81=AK76)*(BG76:BG81))","v":0},{"$f":"SUMPRODUCT((A76:G81=AK76)*(BH76:BH81))+SUMPRODUCT((J76:P81=AK76)*(BI76:BI81))","v":0},{"$f":"SUMPRODUCT((A76:G81=AK76)*(BJ76:BJ81))+SUMPRODUCT((J76:P81=AK76)*(BK76:BK81))","v":3},{"$f":"SUMPRODUCT((A76:G81=AK76)*(BL76:BL81))+SUMPRODUCT((J76:P81=AK76)*(BM76:BM81))","v":0},{"$f":"AW76-AX76","v":3},{"$f":"IF(H76=\"\",0,IF(H76>I76,3,IF(H76=I76,1,IF(H76<I76,0))))","v":3},{"$f":"IF(I76=\"\",0,IF(I76>H76,3,IF(I76=H76,1,IF(I76<H76,0))))","v":0},{"$f":"IF(H76=\"\",0,1)","v":1},{"$f":"IF(H76=\"\",0,1)","v":1},{"$f":"IF(H76<>\"\",IF(H76>I76,1))","v":1},{"$f":"IF(I76<>\"\",IF(I76>H76,1))","v":false},{"$f":"IF(H76<>\"\",IF(H76=I76,1))","v":false},{"$f":"IF(I76<>\"\",IF(I76=H76,1))","v":false},{"$f":"IF(H76<>\"\",IF(H76<I76,1))","v":false},{"$f":"IF(I76<>\"\",IF(I76<H76,1))","v":1},{"$f":"H76","v":3},{"$f":"I76","v":0},{"$f":"I76","v":0},{"$f":"H76","v":3},null,{"$f":"IF(AJ76=1,IF(AJ78=1,SUM(AR76*1000+(AY76)/10+(AW76)/100+(AZ78)/1000+(H78-I78)/10000+(H78)/100000)))","v":false},{"$f":"IF(AJ77=1,IF(AJ78=1,SUM(AR77*1000+(AY77)/10+(AW77)/100+(AZ81)/1000+(H81-I81)/10000+(H81)/100000)))","v":false},{"$f":"IF(AJ78=1,IF(AJ77=1,SUM(AR78*1000+(AY78)/10+(AW78)/100+(BA81)/1000+(I81-H81)/10000+(I81)/100000)))","v":false},{"$f":"IF(AJ79=1,IF(AJ77=1,SUM(AR79*1000+(AY79)/10+(AW79)/100+(AZ79)/1000+(H79-I79)/10000+(H79)/1000000)))","v":false},{"$f":"IF(AJ76=2,IF(AJ78=2,SUM(AR76*1000+(AY76)/10+(AW76)/100+(AZ78)/1000+(H78-I78)/10000+(H78)/100000)))","v":false},{"$f":"IF(AJ77=2,IF(AJ78=2,SUM(AR77*1000+(AY77)/10+(AW77)/100+(AZ81)/1000+(H81-I81)/10000+(H81)/100000)))","v":false},{"$f":"IF(AJ78=2,IF(AJ77=2,SUM(AR78*1000+(AY78)/10+(AW78)/100+(BA81)/1000+(I81-H81)/10000+(I81)/100000)))","v":false},{"$f":"IF(AJ79=2,IF(AJ77=2,SUM(AR79*1000+(AY79)/10+(AW79)/100+(AZ79)/1000+(H79-I79)/10000+(H79)/1000000)))","v":false},{"$f":"IF(AJ76=3,IF(AJ78=3,SUM(AR76*1000+(AY76)/10+(AW76)/100+(AZ78)/1000+(H78-I78)/10000+(H78)/100000)))","v":false},{"$f":"IF(AJ77=3,IF(AJ78=3,SUM(AR77*1000+(AY77)/10+(AW77)/100+(AZ81)/1000+(H81-I81)/10000+(H81)/100000)))","v":-0.3},{"$f":"IF(AJ78=3,IF(AJ77=3,SUM(AR78*1000+(AY78)/10+(AW78)/100+(BA81)/1000+(I81-H81)/10000+(I81)/100000)))","v":-9.0000000000000011E-2},{"$f":"IF(AJ79=3,IF(AJ77=3,SUM(AR79*1000+(AY79)/10+(AW79)/100+(AZ79)/1000+(H79-I79)/10000+(H79)/1000000)))","v":false},{"$f":"IF(AJ76=4,IF(AJ78=4,SUM(AR76*1000+(AY76)/10+(AW76)/100+(AZ78)/1000+(H78-I78)/10000+(H78)/100000)))","v":false},{"$f":"IF(AJ77=4,IF(AJ78=4,SUM(AR77*1000+(AY77)/10+(AW77)/100+(AZ81)/1000+(H81-I81)/10000+(H81)/100000)))","v":false},{"$f":"IF(AJ78=4,IF(AJ77=4,SUM(AR78*1000+(AY78)/10+(AW78)/100+(BA81)/1000+(I81-H81)/10000+(I81)/100000)))","v":false},{"$f":"IF(AJ79=4,IF(AJ77=4,SUM(AR79*1000+(AY79)/10+(AW79)/100+(AZ79)/1000+(H79-I79)/10000+(H79)/1000000)))","v":false},3,3,"TUNISIE",{"$f":"SUM(BQ78,BU78,BY78,CC78)","v":599999.91},{"$f":"CH76+0.00000002","v":599999.91000002006},{"$f":"RANK(CI76,CI74:CI77)","v":3},null,{"$f":"VLOOKUP(CE76,CF74:CG77,2,0)","v":"TUNISIE"},{"$f":"VLOOKUP(CL76,CG74:CH77,2,0)","v":599999.91},{"$f":"RANK(CM76,CM74:CM77)","v":3}]
[{"$f":"IF(AK78=\"\",\"\",AK78)","v":"TUNISIE"},null,null,null,null,null,null,1,2,{"$f":"IF(AK79=\"\",\"\",AK79)","v":"ANGLETERRE"},null,null,null,null,null,null,"18/06 - 20h00",{"$f":"IF(CM75=CM74,CN74,CN75)","v":2},{"$f":"VLOOKUP(CE75,CF74:CG77,2,0)","v":"ANGLETERRE"},null,null,null,null,null,null,{"$f":"VLOOKUP(S77,AK76:AY79,8,0)","v":3},{"$f":"VLOOKUP(S77,AK76:AY79,9,0)","v":1},{"$f":"VLOOKUP(S77,AK76:AY79,10,0)","v":1},{"$f":"VLOOKUP(S77,AK76:AY79,11,0)","v":0},{"$f":"VLOOKUP(S77,AK76:AY79,12,0)","v":0},{"$f":"VLOOKUP(S77,AK76:AY79,13,0)","v":2},{"$f":"VLOOKUP(S77,AK76:AY79,14,0)","v":1},{"$f":"VLOOKUP(S77,AK76:AY79,15,0)","v":1},null,null,{"$f":"RANK(AR77,AR76:AR79)","v":3},{"$f":"'EQUIPES QUALIFIEES'!N18:R19","v":"PANAMA"},null,null,null,null,null,null,{"$f":"SUMPRODUCT((A76:G81=AK77)*(AZ76:AZ81))+SUMPRODUCT((J76:P81=AK77)*(BA76:BA81))","v":0},{"$f":"SUMPRODUCT((A76:G81=AK77)*(BB76:BB81))+SUMPRODUCT((J76:P81=AK77)*(BC76:BC81))","v":1},{"$f":"SUMPRODUCT((A76:G81=AK77)*(BD76:BD81))+SUMPRODUCT((J76:P81=AK77)*(BE76:BE81))","v":0},{"$f":"SUMPRODUCT((A76:G81=AK77)*(BF76:BF81))+SUMPRODUCT((J76:P81=AK77)*(BG76:BG81))","v":0},{"$f":"SUMPRODUCT((A76:G81=AK77)*(BH76:BH81))+SUMPRODUCT((J76:P81=AK77)*(BI76:BI81))","v":1},{"$f":"SUMPRODUCT((A76:G81=AK77)*(BJ76:BJ81))+SUMPRODUCT((J76:P81=AK77)*(BK76:BK81))","v":0},{"$f":"SUMPRODUCT((A76:G81=AK77)*(BL76:BL81))+SUMPRODUCT((J76:P81=AK77)*(BM76:BM81))","v":3},{"$f":"AW77-AX77","v":-3},{"$f":"IF(H77=\"\",0,IF(H77>I77,3,IF(H77=I77,1,IF(H77<I77,0))))","v":0},{"$f":"IF(I77=\"\",0,IF(I77>H77,3,IF(I77=H77,1,IF(I77<H77,0))))","v":3},{"$f":"IF(H77=\"\",0,1)","v":1},{"$f":"IF(H77=\"\",0,1)","v":1},{"$f":"IF(H77<>\"\",IF(H77>I77,1))","v":false},{"$f":"IF(I77<>\"\",IF(I77>H77,1))","v":1},{"$f":"IF(H77<>\"\",IF(H77=I77,1))","v":false},{"$f":"IF(I77<>\"\",IF(I77=H77,1))","v":false},{"$f":"IF(H77<>\"\",IF(H77<I77,1))","v":1},{"$f":"IF(I77<>\"\",IF(I77<H77,1))","v":false},{"$f":"H77","v":1},{"$f":"I77","v":2},{"$f":"I77","v":2},{"$f":"H77","v":1},null,{"$f":"IF(AJ76=1,IF(AJ79=1,SUM(AR76*1000+(AY76)/10+(AW76)/100+(BA80)/1000+(I80-H80)/10000+(I80)/100000)))","v":3000.3300000000004},{"$f":"IF(AJ77=1,IF(AJ79=1,SUM(AR77*1000+(AY77)/10+(AW77)/100+(BA79)/1000+(I79-H79)/10000+(I79)/100000)))","v":false},{"$f":"IF(AJ78=1,IF(AJ79=1,SUM(AR78*1000+(AY78)/10+(AW78)/100+(AZ77)/1000+(H77-I77)/10000+(H77)/100000)))","v":false},{"$f":"IF(AJ79=1,IF(AJ78=1,SUM(AR79*1000+(AY79)/10+(AW79)/100+(BA77)/1000+(I77-H77)/10000+(I77)/100000)))","v":false},{"$f":"IF(AJ76=2,IF(AJ79=2,SUM(AR76*1000+(AY76)/10+(AW76)/100+(BA80)/1000+(I80-H80)/10000+(I80)/100000)))","v":false},{"$f":"IF(AJ77=2,IF(AJ79=2,SUM(AR77*1000+(AY77)/10+(AW77)/100+(BA79)/1000+(I79-H79)/10000+(I79)/100000)))","v":false},{"$f":"IF(AJ78=2,IF(AJ79=2,SUM(AR78*1000+(AY78)/10+(AW78)/100+(AZ77)/1000+(H77-I77)/10000+(H77)/100000)))","v":false},{"$f":"IF(AJ79=2,IF(AJ78=2,SUM(AR79*1000+(AY79)/10+(AW79)/100+(BA77)/1000+(I77-H77)/10000+(I77)/100000)))","v":false},{"$f":"IF(AJ76=3,IF(AJ79=3,SUM(AR76*1000+(AY76)/10+(AW76)/100+(BA80)/1000+(I80-H80)/10000+(I80)/100000)))","v":false},{"$f":"IF(AJ77=3,IF(AJ79=3,SUM(AR77*1000+(AY77)/10+(AW77)/100+(BA79)/1000+(I79-H79)/10000+(I79)/100000)))","v":false},{"$f":"IF(AJ78=3,IF(AJ79=3,SUM(AR78*1000+(AY78)/10+(AW78)/100+(AZ77)/1000+(H77-I77)/10000+(H77)/100000)))","v":false},{"$f":"IF(AJ79=3,IF(AJ78=3,SUM(AR79*1000+(AY79)/10+(AW79)/100+(BA77)/1000+(I77-H77)/10000+(I77)/100000)))","v":false},{"$f":"IF(AJ76=4,IF(AJ79=4,SUM(AR76*1000+(AY76)/10+(AW76)/100+(BA80)/1000+(I80-H80)/10000+(I80)/100000)))","v":false},{"$f":"IF(AJ77=4,IF(AJ79=4,SUM(AR77*1000+(AY77)/10+(AW77)/100+(BA79)/1000+(I79-H79)/10000+(I79)/100000)))","v":false},{"$f":"IF(AJ78=4,IF(AJ79=4,SUM(AR78*1000+(AY78)/10+(AW78)/100+(AZ77)/1000+(H77-I77)/10000+(H77)/100000)))","v":false},{"$f":"IF(AJ79=4,IF(AJ78=4,SUM(AR79*1000+(AY79)/10+(AW79)/100+(BA77)/1000+(I77-H77)/10000+(I77)/100000)))","v":false},4,2,"ANGLETERRE",{"$f":"SUM(BR78,BV78,BZ78,CD78)","v":1003000.12},{"$f":"CH77+0.00000001","v":1003000.12000001},{"$f":"RANK(CI77,CI74:CI77)","v":2},null,{"$f":"VLOOKUP(CE77,CF74:CG77,2,0)","v":"PANAMA"},{"$f":"VLOOKUP(CL77,CG74:CH77,2,0)","v":599999.69999999995},{"$f":"RANK(CM77,CM74:CM77)","v":4}]
[{"$f":"IF(AK76=\"\",\"\",AK76)","v":"BELGIQUE"},null,null,null,null,null,null,null,null,{"$f":"IF(AK78=\"\",\"\",AK78)","v":"TUNISIE"},null,null,null,null,null,null,"23/06 - 14h00",{"$f":"IF(CM76=CM75,CN75,CN76)","v":3},{"$f":"VLOOKUP(CE76,CF74:CG77,2,0)","v":"TUNISIE"},null,null,null,null,null,null,{"$f":"VLOOKUP(S78,AK76:AY79,8,0)","v":0},{"$f":"VLOOKUP(S78,AK76:AY79,9,0)","v":1},{"$f":"VLOOKUP(S78,AK76:AY79,10,0)","v":0},{"$f":"VLOOKUP(S78,AK76:AY79,11,0)","v":0},{"$f":"VLOOKUP(S78,AK76:AY79,12,0)","v":1},{"$f":"VLOOKUP(S78,AK76:AY79,13,0)","v":1},{"$f":"VLOOKUP(S78,AK76:AY79,14,0)","v":2},{"$f":"VLOOKUP(S78,AK76:AY79,15,0)","v":-1},null,null,{"$f":"RANK(AR78,AR76:AR79)","v":3},{"$f":"'EQUIPES QUALIFIEES'!N20:R21","v":"TUNISIE"},null,null,null,null,null,null,{"$f":"SUMPRODUCT((A76:G81=AK78)*(AZ76:AZ81))+SUMPRODUCT((J76:P81=AK78)*(BA76:BA81))","v":0},{"$f":"SUMPRODUCT((A76:G81=AK78)*(BB76:BB81))+SUMPRODUCT((J76:P81=AK78)*(BC76:BC81))","v":1},{"$f":"SUMPRODUCT((A76:G81=AK78)*(BD76:BD81))+SUMPRODUCT((J76:P81=AK78)*(BE76:BE81))","v":0},{"$f":"SUMPRODUCT((A76:G81=AK78)*(BF76:BF81))+SUMPRODUCT((J76:P81=AK78)*(BG76:BG81))","v":0},{"$f":"SUMPRODUCT((A76:G81=AK78)*(BH76:BH81))+SUMPRODUCT((J76:P81=AK78)*(BI76:BI81))","v":1},{"$f":"SUMPRODUCT((A76:G81=AK78)*(BJ76:BJ81))+SUMPRODUCT((J76:P81=AK78)*(BK76:BK81))","v":1},{"$f":"SUMPRODUCT((A76:G81=AK78)*(BL76:BL81))+SUMPRODUCT((J76:P81=AK78)*(BM76:BM81))","v":2},-1,0,0,0,0,false,false,false,false,false,false,0,0,0,0,null,{"$f":"SUM(BO74:BO77)","v":1003000.33},{"$f":"SUM(BP74:BP77)","v":0},{"$f":"SUM(BQ74:BQ77)","v":0},{"$f":"SUM(BR74:BR77)","v":1003000.12},{"$f":"SUM(BS74:BS77)","v":0},{"$f":"SUM(BT74:BT77)","v":0},0,0,{"$f":"SUM(BW74:BW77)","v":0},{"$f":"SUM(BX74:BX77)","v":599999.69999999995},599999.91,0,{"$f":"SUM(CA74:CA77)","v":0},{"$f":"SUM(CB74:CB77)","v":0},0,0]
[{"$f":"IF(AK79=\"\",\"\",AK79)","v":"ANGLETERRE"},null,null,null,null,null,null,null,null,{"$f":"IF(AK77=\"\",\"\",AK77)","v":"PANAMA"},null,null,null,null,null,null,"24/06 - 14h00",4,{"$f":"VLOOKUP(CE77,CF74:CG77,2,0)","v":"PANAMA"},null,null,null,null,null,null,{"$f":"VLOOKUP(S79,AK76:AY79,8,0)","v":0},{"$f":"VLOOKUP(S79,AK76:AY79,9,0)","v":1},{"$f":"VLOOKUP(S79,AK76:AY79,10,0)","v":0},{"$f":"VLOOKUP(S79,AK76:AY79,11,0)","v":0},{"$f":"VLOOKUP(S79,AK76:AY79,12,0)","v":1},{"$f":"VLOOKUP(S79,AK76:AY79,13,0)","v":0},{"$f":"VLOOKUP(S79,AK76:AY79,14,0)","v":3},{"$f":"VLOOKUP(S79,AK76:AY79,15,0)","v":-3},null,null,{"$f":"RANK(AR79,AR76:AR79)","v":1},{"$f":"'EQUIPES QUALIFIEES'!N22:R23","v":"ANGLETERRE"},null,null,null,null,null,null,{"$f":"SUMPRODUCT((A76:G81=AK79)*(AZ76:AZ81))+SUMPRODUCT((J76:P81=AK79)*(BA76:BA81))","v":3},{"$f":"SUMPRODUCT((A76:G81=AK79)*(BB76:BB81))+SUMPRODUCT((J76:P81=AK79)*(BC76:BC81))","v":1},{"$f":"SUMPRODUCT((A76:G81=AK79)*(BD76:BD81))+SUMPRODUCT((J76:P81=AK79)*(BE76:BE81))","v":1},{"$f":"SUMPRODUCT((A76:G81=AK79)*(BF76:BF81))+SUMPRODUCT((J76:P81=AK79)*(BG76:BG81))","v":0},{"$f":"SUMPRODUCT((A76:G81=AK79)*(BH76:BH81))+SUMPRODUCT((J76:P81=AK79)*(BI76:BI81))","v":0},{"$f":"SUMPRODUCT((A76:G81=AK79)*(BJ76:BJ81))+SUMPRODUCT((J76:P81=AK79)*(BK76:BK81))","v":2},{"$f":"SUMPRODUCT((A76:G81=AK79)*(BL76:BL81))+SUMPRODUCT((J76:P81=AK79)*(BM76:BM81))","v":1},1,0,0,0,0,false,false,false,false,false,false,0,0,0,0]
[{"$f":"IF(AK79=\"\",\"\",AK79)","v":"ANGLETERRE"},null,null,null,null,null,null,null,null,{"$f":"IF(AK76=\"\",\"\",AK76)","v":"BELGIQUE"},null,null,null,null,null,null,"28/06 - 20h00",null,null,null,null,null,null,null,null,"ÉQUIPES QUALIFIÉES",null,null,null,null,null,null,null,null,null,null,null,null,null,null,null,null,null,null,null,null,null,null,null,null,null,0,0,0,0,false,false,false,false,false,false,0,0,0,0]
[{"$f":"IF(AK77=\"\",\"\",AK77)","v":"PANAMA"},null,null,null,null,null,null,null,null,{"$f":"IF(AK78=\"\",\"\",AK78)","v":"TUNISIE"},null,null,null,null,null,null,"28/06 - 20h00",null,null,null,null,null,null,null,null,{"$f":"S76","v":"BELGIQUE"},null,null,null,null,null,null,null,null,null,null,null,null,null,null,null,null,null,null,null,null,null,null,null,null,null,0,0,0,0,false,false,false,false,false,false,0,0,0,0]
["GROUPE  G"]
[null,null,null,null,null,null,null,null,null,null,null,null,null,null,null,null,null,null,null,null,null,null,null,null,null,{"$f":"S77","v":"ANGLETERRE"}]
[null,null,null,null,null,null,null,null,null,null,null,null,null,null,null,null,null,"BEL",null,"PAN",null,"TUN",null,"GBR"]
["CDM  2018  RUSSIE",null,null,null,null,null,null,null,null,null,null,null,null,null,null,null,null,"CLASSEMENT",null,null,null,null,null,null,null,null,null,null,null,null,null,null,null,null,null,"CLASSEMENT",null,null,null,null,null,null,null,null,null,null,null,null,null,null,null,null,null,null,null,null,null,null,null,null,null,null,null,null,null,null,{"$f":"AK88","v":"COLOMBIE"},{"$f":"AK89","v":"JAPON"},{"$f":"AK90","v":"POLOGNE"},{"$f":"AK91","v":"SÉNÉGAL"},{"$f":"BO85","v":"COLOMBIE"},{"$f":"BP85","v":"JAPON"},{"$f":"BQ85","v":"POLOGNE"},{"$f":"BR85","v":"SÉNÉGAL"},{"$f":"AK88","v":"COLOMBIE"},{"$f":"BP85","v":"JAPON"},{"$f":"BQ85","v":"POLOGNE"},{"$f":"BR85","v":"SÉNÉGAL"},{"$f":"BO85","v":"COLOMBIE"},{"$f":"BP85","v":"JAPON"},{"$f":"BQ85","v":"POLOGNE"},{"$f":"BR85","v":"SÉNÉGAL"}]
[null,null,null,null,null,null,null,null,null,null,null,null,null,null,null,null,null,null,null,null,null,null,null,null,null,null,null,null,null,null,null,null,null,null,null,null,null,null,null,null,null,null,null,null,null,null,null,null,null,null,null,null,null,null,null,null,null,null,null,null,null,null,null,null,null,null,{"$f":"IF(AJ88=1,1000000)","v":false},{"$f":"IF(AJ89=1,1000000)","v":false},{"$f":"IF(AJ90=1,1000000)","v":false},{"$f":"IF(AJ91=1,1000000)","v":1000000},{"$f":"IF(AJ88=2,800000)","v":800000},{"$f":"IF(AJ89=2,800000)","v":800000},{"$f":"IF(AJ90=2,800000)","v":false},{"$f":"IF(AJ91=2,800000)","v":false},{"$f":"IF(AJ88=3,600000)","v":false},{"$f":"IF(AJ89=3,600000)","v":false},{"$f":"IF(AJ90=3,600000)","v":false},{"$f":"IF(AJ91=3,600000)","v":false},{"$f":"IF(AJ88=4,400000)","v":false},{"$f":"IF(AJ89=4,400000)","v":false},{"$f":"IF(AJ90=4,400000)","v":400000},{"$f":"IF(AJ91=4,400000)","v":false},1,{"$f":"CJ86","v":2},{"$f":"AK88","v":"COLOMBIE"},{"$f":"SUM(BO90,BS90,BW90,CA90)","v":801000.01101000002},{"$f":"CH86+0.00000004","v":801000.01101004006},{"$f":"RANK(CI86,CI86:CI89)","v":2},null,{"$f":"VLOOKUP(CE86,CF86:CG89,2,0)","v":"SÉNÉGAL"},{"$f":"VLOOKUP(CL86,CG86:CH89,2,0)","v":1000000},{"$f":"RANK(CM86,CM86:CM89)","v":1}]
["ÉQUIPES",null,null,null,null,null,null,"Bts","Bts","ÉQUIPES",null,null,null,null,null,null,null,"R","ÉQUIPES",null,null,null,null,null,null,"Pts","J","G","N","P","Bts +","Bts -","Diff",null,null,"R","ÉQUIPES",null,null,null,null,null,null,"Pts","J","G","N","P","Bts +","Bts -","Diff","PTS","PTS","J","J","G","G","N","N","P","P","BTS+","BTS+","BTS-","BTS-",null,{"$f":"IF(AJ88=1,IF(AJ89=1,SUM(AR88*1000+(AY88)/10+(AW88)/100+(AZ88)/1000+(H88-I88)/10000+(H88)/100000)))","v":false},{"$f":"IF(AJ89=1,IF(AJ88=1,SUM(AR89*1000+(AY89)/10+(AW89)/100+(BA88)/1000+(I88-H88)/10000+(I88)/100000)))","v":false},{"$f":"IF(AJ90=1,IF(AJ88=1,SUM(AR90*1000+(AY90)/10+(AW90)/100+(BA90)/1000+(I90-H90)/10000+(I90)/100000)))","v":false},{"$f":"IF(AJ91=1,IF(AJ88=1,SUM(AR91*1000+(AY91)/10+(AW91)/100+(AZ92)/1000+(H92-I92)/10000+(H92)/1000000)))","v":false},{"$f":"IF(AJ88=2,IF(AJ89=2,SUM(AR88*1000+(AY88)/10+(AW88)/100+(AZ88)/1000+(H88-I88)/10000+(H88)/100000)))","v":1000.0110099999999},{"$f":"IF(AJ89=2,IF(AJ88=2,SUM(AR89*1000+(AY89)/10+(AW89)/100+(BA88)/1000+(I88-H88)/10000+(I88)/100000)))","v":1000.0110099999999},{"$f":"IF(AJ90=2,IF(AJ88=2,SUM(AR90*1000+(AY90)/10+(AW90)/100+(BA90)/1000+(I90-H90)/10000+(I90)/100000)))","v":false},{"$f":"IF(AJ91=2,IF(AJ88=2,SUM(AR91*1000+(AY91)/10+(AW91)/100+(AZ92)/1000+(H92-I92)/10000+(H92)/1000000)))","v":false},{"$f":"IF(AJ88=3,IF(AJ89=3,SUM(AR88*1000+(AY88)/10+(AW88)/100+(AZ88)/1000+(H88-I88)/10000+(H88)/100000)))","v":false},{"$f":"IF(AJ89=3,IF(AJ88=3,SUM(AR89*1000+(AY89)/10+(AW89)/100+(BA88)/1000+(I88-H88)/10000+(I88)/100000)))","v":false},{"$f":"IF(AJ90=3,IF(AJ88=3,SUM(AR90*1000+(AY90)/10+(AW90)/100+(BA90)/1000+(I90-H90)/10000+(I90)/100000)))","v":false},{"$f":"IF(AJ91=3,IF(AJ88=3,SUM(AR91*1000+(AY91)/10+(AW91)/100+(AZ92)/1000+(H92-I92)/10000+(H92)/1000000)))","v":false},{"$f":"IF(AJ88=4,IF(AJ89=4,SUM(AR88*1000+(AY88)/10+(AW88)/100+(AZ88)/1000+(H88-I88)/10000+(H88)/100000)))","v":false},{"$f":"IF(AJ89=4,IF(AJ88=4,SUM(AR89*1000+(AY89)/10+(AW89)/100+(BA88)/1000+(I88-H88)/10000+(I88)/100000)))","v":false},{"$f":"IF(AJ90=4,IF(AJ88=4,SUM(AR90*1000+(AY90)/10+(AW90)/100+(BA90)/1000+(I90-H90)/10000+(I90)/100000)))","v":false},{"$f":"IF(AJ91=4,IF(AJ88=4,SUM(AR91*1000+(AY91)/10+(AW91)/100+(AZ92)/1000+(H92-I92)/10000+(H92)/1000000)))","v":false},2,{"$f":"CJ87","v":3},{"$f":"AK89","v":"JAPON"},{"$f":"SUM(BP90,BT90,BX90,CB90)","v":801000.01101000002},{"$f":"CH87+0.00000003","v":801000.01101003005},{"$f":"RANK(CI87,CI86:CI89)","v":3},null,{"$f":"VLOOKUP(CE87,CF86:CG89,2,0)","v":"COLOMBIE"},{"$f":"VLOOKUP(CL87,CG86:CH89,2,0)","v":801000.01101000002},{"$f":"RANK(CM87,CM86:CM89)","v":2}]
[{"$f":"IF(AK88=\"\",\"\",AK88)","v":"COLOMBIE"},null,null,null,null,null,null,1,1,{"$f":"IF(AK89=\"\",\"\",AK89)","v":"JAPON"},null,null,null,null,null,null,"19/06 - 14h00",1,{"$f":"VLOOKUP(CE86,CF86:CG89,2,0)","v":"SÉNÉGAL"},null,null,null,null,null,null,{"$f":"VLOOKUP(S88,AK88:AY91,8,0)","v":3},{"$f":"VLOOKUP(S88,AK88:AY91,9,0)","v":1},{"$f":"VLOOKUP(S88,AK88:AY91,10,0)","v":1},{"$f":"VLOOKUP(S88,AK88:AY91,11,0)","v":0},{"$f":"VLOOKUP(S88,AK88:AY91,12,0)","v":0},{"$f":"VLOOKUP(S88,AK88:AY91,13,0)","v":2},{"$f":"VLOOKUP(S88,AK88:AY91,14,0)","v":1},{"$f":"VLOOKUP(S88,AK88:AY91,15,0)","v":1},null,null,{"$f":"RANK(AR88,AR88:AR91)","v":2},{"$f":"'EQUIPES QUALIFIEES'!T16:X17","v":"COLOMBIE"},null,null,null,null,null,null,{"$f":"SUMPRODUCT((A88:G93=AK88)*(AZ88:AZ93))+SUMPRODUCT((J88:P93=AK88)*(BA88:BA93))","v":1},{"$f":"SUMPRODUCT((A88:G93=AK88)*(BB88:BB93))+SUMPRODUCT((J88:P93=AK88)*(BC88:BC93))","v":1},{"$f":"SUMPRODUCT((A88:G93=AK88)*(BD88:BD93))+SUMPRODUCT((J88:P93=AK88)*(BE88:BE93))","v":0},{"$f":"SUMPRODUCT((A88:G93=AK88)*(BF88:BF93))+SUMPRODUCT((J88:P93=AK88)*(BG88:BG93))","v":1},{"$f":"SUMPRODUCT((A88:G93=AK88)*(BH88:BH93))+SUMPRODUCT((J88:P93=AK88)*(BI88:BI93))","v":0},{"$f":"SUMPRODUCT((A88:G93=AK88)*(BJ88:BJ93))+SUMPRODUCT((J88:P93=AK88)*(BK88:BK93))","v":1},{"$f":"SUMPRODUCT((A88:G93=AK88)*(BL88:BL93))+SUMPRODUCT((J88:P93=AK88)*(BM88:BM93))","v":1},{"$f":"AW88-AX88","v":0},{"$f":"IF(H88=\"\",0,IF(H88>I88,3,IF(H88=I88,1,IF(H88<I88,0))))","v":1},{"$f":"IF(I88=\"\",0,IF(I88>H88,3,IF(I88=H88,1,IF(I88<H88,0))))","v":1},{"$f":"IF(H88=\"\",0,1)","v":1},{"$f":"IF(H88=\"\",0,1)","v":1},{"$f":"IF(H88<>\"\",IF(H88>I88,1))","v":false},{"$f":"IF(I88<>\"\",IF(I88>H88,1))","v":false},{"$f":"IF(H88<>\"\",IF(H88=I88,1))","v":1},{"$f":"IF(I88<>\"\",IF(I88=H88,1))","v":1},{"$f":"IF(H88<>\"\",IF(H88<I88,1))","v":false},{"$f":"IF(I88<>\"\",IF(I88<H88,1))","v":false},{"$f":"H88","v":1},{"$f":"I88","v":1},{"$f":"I88","v":1},{"$f":"H88","v":1},null,{"$f":"IF(AJ88=1,IF(AJ90=1,SUM(AR88*1000+(AY88)/10+(AW88)/100+(AZ90)/1000+(H90-I90)/10000+(H90)/100000)))","v":false},{"$f":"IF(AJ89=1,IF(AJ90=1,SUM(AR89*1000+(AY89)/10+(AW89)/100+(AZ93)/1000+(H93-I93)/10000+(H93)/100000)))","v":false},{"$f":"IF(AJ90=1,IF(AJ89=1,SUM(AR90*1000+(AY90)/10+(AW90)/100+(BA93)/1000+(I93-H93)/10000+(I93)/100000)))","v":false},{"$f":"IF(AJ91=1,IF(AJ89=1,SUM(AR91*1000+(AY91)/10+(AW91)/100+(AZ91)/1000+(H91-I91)/10000+(H91)/1000000)))","v":false},{"$f":"IF(AJ88=2,IF(AJ90=2,SUM(AR88*1000+(AY88)/10+(AW88)/100+(AZ90)/1000+(H90-I90)/10000+(H90)/100000)))","v":false},{"$f":"IF(AJ89=2,IF(AJ90=2,SUM(AR89*1000+(AY89)/10+(AW89)/100+(AZ93)/1000+(H93-I93)/10000+(H93)/100000)))","v":false},{"$f":"IF(AJ90=2,IF(AJ89=2,SUM(AR90*1000+(AY90)/10+(AW90)/100+(BA93)/1000+(I93-H93)/10000+(I93)/100000)))","v":false},{"$f":"IF(AJ91=2,IF(AJ89=2,SUM(AR91*1000+(AY91)/10+(AW91)/100+(AZ91)/1000+(H91-I91)/10000+(H91)/1000000)))","v":false},{"$f":"IF(AJ88=3,IF(AJ90=3,SUM(AR88*1000+(AY88)/10+(AW88)/100+(AZ90)/1000+(H90-I90)/10000+(H90)/100000)))","v":false},{"$f":"IF(AJ89=3,IF(AJ90=3,SUM(AR89*1000+(AY89)/10+(AW89)/100+(AZ93)/1000+(H93-I93)/10000+(H93)/100000)))","v":false},{"$f":"IF(AJ90=3,IF(AJ89=3,SUM(AR90*1000+(AY90)/10+(AW90)/100+(BA93)/1000+(I93-H93)/10000+(I93)/100000)))","v":false},{"$f":"IF(AJ91=3,IF(AJ89=3,SUM(AR91*1000+(AY91)/10+(AW91)/100+(AZ91)/1000+(H91-I91)/10000+(H91)/1000000)))","v":false},{"$f":"IF(AJ88=4,IF(AJ90=4,SUM(AR88*1000+(AY88)/10+(AW88)/100+(AZ90)/1000+(H90-I90)/10000+(H90)/100000)))","v":false},{"$f":"IF(AJ89=4,IF(AJ90=4,SUM(AR89*1000+(AY89)/10+(AW89)/100+(AZ93)/1000+(H93-I93)/10000+(H93)/100000)))","v":false},{"$f":"IF(AJ90=4,IF(AJ89=4,SUM(AR90*1000+(AY90)/10+(AW90)/100+(BA93)/1000+(I93-H93)/10000+(I93)/100000)))","v":false},{"$f":"IF(AJ91=4,IF(AJ89=4,SUM(AR91*1000+(AY91)/10+(AW91)/100+(AZ91)/1000+(H91-I91)/10000+(H91)/1000000)))","v":false},3,4,"POLOGNE",{"$f":"SUM(BQ90,BU90,BY90,CC90)","v":400000},{"$f":"CH88+0.00000002","v":400000.00000002002},{"$f":"RANK(CI88,CI86:CI89)","v":4},null,{"$f":"VLOOKUP(CE88,CF86:CG89,2,0)","v":"JAPON"},{"$f":"VLOOKUP(CL88,CG86:CH89,2,0)","v":801000.01101000002},{"$f":"RANK(CM88,CM86:CM89)","v":2}]
[{"$f":"IF(AK90=\"\",\"\",AK90)","v":"POLOGNE"},null,null,null,null,null,null,1,2,{"$f":"IF(AK91=\"\",\"\",AK91)","v":"SÉNÉGAL"},null,null,null,null,null,null,"19/06 - 17h00",{"$f":"IF(CM87=CM86,CN86,CN87)","v":2},{"$f":"VLOOKUP(CE87,CF86:CG89,2,0)","v":"COLOMBIE"},null,null,null,null,null,null,{"$f":"VLOOKUP(S89,AK88:AY91,8,0)","v":1},{"$f":"VLOOKUP(S89,AK88:AY91,9,0)","v":1},{"$f":"VLOOKUP(S89,AK88:AY91,10,0)","v":0},{"$f":"VLOOKUP(S89,AK88:AY91,11,0)","v":1},{"$f":"VLOOKUP(S89,AK88:AY91,12,0)","v":0},{"$f":"VLOOKUP(S89,AK88:AY91,13,0)","v":1},{"$f":"VLOOKUP(S89,AK88:AY91,14,0)","v":1},{"$f":"VLOOKUP(S89,AK88:AY91,15,0)","v":0},null,null,{"$f":"RANK(AR89,AR88:AR91)","v":2},{"$f":"'EQUIPES QUALIFIEES'!T18:X19","v":"JAPON"},null,null,null,null,null,null,{"$f":"SUMPRODUCT((A88:G93=AK89)*(AZ88:AZ93))+SUMPRODUCT((J88:P93=AK89)*(BA88:BA93))","v":1},{"$f":"SUMPRODUCT((A88:G93=AK89)*(BB88:BB93))+SUMPRODUCT((J88:P93=AK89)*(BC88:BC93))","v":1},{"$f":"SUMPRODUCT((A88:G93=AK89)*(BD88:BD93))+SUMPRODUCT((J88:P93=AK89)*(BE88:BE93))","v":0},{"$f":"SUMPRODUCT((A88:G93=AK89)*(BF88:BF93))+SUMPRODUCT((J88:P93=AK89)*(BG88:BG93))","v":1},{"$f":"SUMPRODUCT((A88:G93=AK89)*(BH88:BH93))+SUMPRODUCT((J88:P93=AK89)*(BI88:BI93))","v":0},{"$f":"SUMPRODUCT((A88:G93=AK89)*(BJ88:BJ93))+SUMPRODUCT((J88:P93=AK89)*(BK88:BK93))","v":1},{"$f":"SUMPRODUCT((A88:G93=AK89)*(BL88:BL93))+SUMPRODUCT((J88:P93=AK89)*(BM88:BM93))","v":1},{"$f":"AW89-AX89","v":0},{"$f":"IF(H89=\"\",0,IF(H89>I89,3,IF(H89=I89,1,IF(H89<I89,0))))","v":0},{"$f":"IF(I89=\"\",0,IF(I89>H89,3,IF(I89=H89,1,IF(I89<H89,0))))","v":3},{"$f":"IF(H89=\"\",0,1)","v":1},{"$f":"IF(H89=\"\",0,1)","v":1},{"$f":"IF(H89<>\"\",IF(H89>I89,1))","v":false},{"$f":"IF(I89<>\"\",IF(I89>H89,1))","v":1},{"$f":"IF(H89<>\"\",IF(H89=I89,1))","v":false},{"$f":"IF(I89<>\"\",IF(I89=H89,1))","v":false},{"$f":"IF(H89<>\"\",IF(H89<I89,1))","v":1},{"$f":"IF(I89<>\"\",IF(I89<H89,1))","v":false},{"$f":"H89","v":1},{"$f":"I89","v":2},{"$f":"I89","v":2},{"$f":"H89","v":1},null,{"$f":"IF(AJ88=1,IF(AJ91=1,SUM(AR88*1000+(AY88)/10+(AW88)/100+(BA92)/1000+(I92-H92)/10000+(I92)/100000)))","v":false},{"$f":"IF(AJ89=1,IF(AJ91=1,SUM(AR89*1000+(AY89)/10+(AW89)/100+(BA91)/1000+(I91-H91)/10000+(I91)/100000)))","v":false},{"$f":"IF(AJ90=1,IF(AJ91=1,SUM(AR90*1000+(AY90)/10+(AW90)/100+(AZ89)/1000+(H89-I89)/10000+(H89)/100000)))","v":false},{"$f":"IF(AJ91=1,IF(AJ90=1,SUM(AR91*1000+(AY91)/10+(AW91)/100+(BA89)/1000+(I89-H89)/10000+(I89)/100000)))","v":false},{"$f":"IF(AJ88=2,IF(AJ91=2,SUM(AR88*1000+(AY88)/10+(AW88)/100+(BA92)/1000+(I92-H92)/10000+(I92)/100000)))","v":false},{"$f":"IF(AJ89=2,IF(AJ91=2,SUM(AR89*1000+(AY89)/10+(AW89)/100+(BA91)/1000+(I91-H91)/10000+(I91)/100000)))","v":false},{"$f":"IF(AJ90=2,IF(AJ91=2,SUM(AR90*1000+(AY90)/10+(AW90)/100+(AZ89)/1000+(H89-I89)/10000+(H89)/100000)))","v":false},{"$f":"IF(AJ91=2,IF(AJ90=2,SUM(AR91*1000+(AY91)/10+(AW91)/100+(BA89)/1000+(I89-H89)/10000+(I89)/100000)))","v":false},{"$f":"IF(AJ88=3,IF(AJ91=3,SUM(AR88*1000+(AY88)/10+(AW88)/100+(BA92)/1000+(I92-H92)/10000+(I92)/100000)))","v":false},{"$f":"IF(AJ89=3,IF(AJ91=3,SUM(AR89*1000+(AY89)/10+(AW89)/100+(BA91)/1000+(I91-H91)/10000+(I91)/100000)))","v":false},{"$f":"IF(AJ90=3,IF(AJ91=3,SUM(AR90*1000+(AY90)/10+(AW90)/100+(AZ89)/1000+(H89-I89)/10000+(H89)/100000)))","v":false},{"$f":"IF(AJ91=3,IF(AJ90=3,SUM(AR91*1000+(AY91)/10+(AW91)/100+(BA89)/1000+(I89-H89)/10000+(I89)/100000)))","v":false},{"$f":"IF(AJ88=4,IF(AJ91=4,SUM(AR88*1000+(AY88)/10+(AW88)/100+(BA92)/1000+(I92-H92)/10000+(I92)/100000)))","v":false},{"$f":"IF(AJ89=4,IF(AJ91=4,SUM(AR89*1000+(AY89)/10+(AW89)/100+(BA91)/1000+(I91-H91)/10000+(I91)/100000)))","v":false},{"$f":"IF(AJ90=4,IF(AJ91=4,SUM(AR90*1000+(AY90)/10+(AW90)/100+(AZ89)/1000+(H89-I89)/10000+(H89)/100000)))","v":false},{"$f":"IF(AJ91=4,IF(AJ90=4,SUM(AR91*1000+(AY91)/10+(AW91)/100+(BA89)/1000+(I89-H89)/10000+(I89)/100000)))","v":false},4,1,"SÉNÉGAL",{"$f":"SUM(BR90,BV90,BZ90,CD90)","v":1000000},{"$f":"CH89+0.00000001","v":1000000.00000001},{"$f":"RANK(CI89,CI86:CI89)","v":1},null,{"$f":"VLOOKUP(CE89,CF86:CG89,2,0)","v":"POLOGNE"},{"$f":"VLOOKUP(CL89,CG86:CH89,2,0)","v":400000},{"$f":"RANK(CM89,CM86:CM89)","v":4}]
[{"$f":"IF(AK88=\"\",\"\",AK88)","v":"COLOMBIE"},null,null,null,null,null,null,null,null,{"$f":"IF(AK90=\"\",\"\",AK90)","v":"POLOGNE"},null,null,null,null,null,null,"24/06 - 20h00",{"$f":"IF(CM88=CM87,CN87,CN88)","v":2},{"$f":"VLOOKUP(CE88,CF86:CG89,2,0)","v":"JAPON"},null,null,null,null,null,null,{"$f":"VLOOKUP(S90,AK88:AY91,8,0)","v":1},{"$f":"VLOOKUP(S90,AK88:AY91,9,0)","v":1},{"$f":"VLOOKUP(S90,AK88:AY91,10,0)","v":0},{"$f":"VLOOKUP(S90,AK88:AY91,11,0)","v":1},{"$f":"VLOOKUP(S90,AK88:AY91,12,0)","v":0},{"$f":"VLOOKUP(S90,AK88:AY91,13,0)","v":1},{"$f":"VLOOKUP(S90,AK88:AY91,14,0)","v":1},{"$f":"VLOOKUP(S90,AK88:AY91,15,0)","v":0},null,null,{"$f":"RANK(AR90,AR88:AR91)","v":4},{"$f":"'EQUIPES QUALIFIEES'!T20:X21","v":"POLOGNE"},null,null,null,null,null,null,{"$f":"SUMPRODUCT((A88:G93=AK90)*(AZ88:AZ93))+SUMPRODUCT((J88:P93=AK90)*(BA88:BA93))","v":0},{"$f":"SUMPRODUCT((A88:G93=AK90)*(BB88:BB93))+SUMPRODUCT((J88:P93=AK90)*(BC88:BC93))","v":1},{"$f":"SUMPRODUCT((A88:G93=AK90)*(BD88:BD93))+SUMPRODUCT((J88:P93=AK90)*(BE88:BE93))","v":0},{"$f":"SUMPRODUCT((A88:G93=AK90)*(BF88:BF93))+SUMPRODUCT((J88:P93=AK90)*(BG88:BG93))","v":0},{"$f":"SUMPRODUCT((A88:G93=AK90)*(BH88:BH93))+SUMPRODUCT((J88:P93=AK90)*(BI88:BI93))","v":1},{"$f":"SUMPRODUCT((A88:G93=AK90)*(BJ88:BJ93))+SUMPRODUCT((J88:P93=AK90)*(BK88:BK93))","v":1},{"$f":"SUMPRODUCT((A88:G93=AK90)*(BL88:BL93))+SUMPRODUCT((J88:P93=AK90)*(BM88:BM93))","v":2},-1,0,0,0,0,false,false,false,false,false,false,0,0,0,0,null,{"$f":"SUM(BO86:BO89)","v":0},{"$f":"SUM(BP86:BP89)","v":0},{"$f":"SUM(BQ86:BQ89)","v":0},{"$f":"SUM(BR86:BR89)","v":1000000},{"$f":"SUM(BS86:BS89)","v":801000.01101000002},{"$f":"SUM(BT86:BT89)","v":801000.01101000002},0,0,{"$f":"SUM(BW86:BW89)","v":0},{"$f":"SUM(BX86:BX89)","v":0},0,0,{"$f":"SUM(CA86:CA89)","v":0},{"$f":"SUM(CB86:CB89)","v":0},400000,0]
[{"$f":"IF(AK91=\"\",\"\",AK91)","v":"SÉNÉGAL"},null,null,null,null,null,null,null,null,{"$f":"IF(AK89=\"\",\"\",AK89)","v":"JAPON"},null,null,null,null,null,null,"24/06 - 17h00",4,{"$f":"VLOOKUP(CE89,CF86:CG89,2,0)","v":"POLOGNE"},null,null,null,null,null,null,{"$f":"VLOOKUP(S91,AK88:AY91,8,0)","v":0},{"$f":"VLOOKUP(S91,AK88:AY91,9,0)","v":1},{"$f":"VLOOKUP(S91,AK88:AY91,10,0)","v":0},{"$f":"VLOOKUP(S91,AK88:AY91,11,0)","v":0},{"$f":"VLOOKUP(S91,AK88:AY91,12,0)","v":1},{"$f":"VLOOKUP(S91,AK88:AY91,13,0)","v":1},{"$f":"VLOOKUP(S91,AK88:AY91,14,0)","v":2},{"$f":"VLOOKUP(S91,AK88:AY91,15,0)","v":-1},null,null,{"$f":"RANK(AR91,AR88:AR91)","v":1},{"$f":"'EQUIPES QUALIFIEES'!T22:X23","v":"SÉNÉGAL"},null,null,null,null,null,null,{"$f":"SUMPRODUCT((A88:G93=AK91)*(AZ88:AZ93))+SUMPRODUCT((J88:P93=AK91)*(BA88:BA93))","v":3},{"$f":"SUMPRODUCT((A88:G93=AK91)*(BB88:BB93))+SUMPRODUCT((J88:P93=AK91)*(BC88:BC93))","v":1},{"$f":"SUMPRODUCT((A88:G93=AK91)*(BD88:BD93))+SUMPRODUCT((J88:P93=AK91)*(BE88:BE93))","v":1},{"$f":"SUMPRODUCT((A88:G93=AK91)*(BF88:BF93))+SUMPRODUCT((J88:P93=AK91)*(BG88:BG93))","v":0},{"$f":"SUMPRODUCT((A88:G93=AK91)*(BH88:BH93))+SUMPRODUCT((J88:P93=AK91)*(BI88:BI93))","v":0},{"$f":"SUMPRODUCT((A88:G93=AK91)*(BJ88:BJ93))+SUMPRODUCT((J88:P93=AK91)*(BK88:BK93))","v":2},{"$f":"SUMPRODUCT((A88:G93=AK91)*(BL88:BL93))+SUMPRODUCT((J88:P93=AK91)*(BM88:BM93))","v":1},1,0,0,0,0,false,false,false,false,false,false,0,0,0,0]
[{"$f":"IF(AK91=\"\",\"\",AK91)","v":"SÉNÉGAL"},null,null,null,null,null,null,null,null,{"$f":"IF(AK88=\"\",\"\",AK88)","v":"COLOMBIE"},null,null,null,null,null,null,"28/06 - 16h00",null,null,null,null,null,null,null,null,"ÉQUIPES QUALIFIÉES",null,null,null,null,null,null,null,null,null,null,null,null,null,null,null,null,null,null,null,null,null,null,null,null,null,0,0,0,0,false,false,false,false,false,false,0,0,0,0]
[{"$f":"IF(AK89=\"\",\"\",AK89)","v":"JAPON"},null,null,null,null,null,null,null,null,{"$f":"IF(AK90=\"\",\"\",AK90)","v":"POLOGNE"},null,null,null,null,null,null,"28/06 - 16h00",null,null,null,null,null,null,null,null,{"$f":"S88","v":"SÉNÉGAL"},null,null,null,null,null,null,null,null,null,null,null,null,null,null,null,null,null,null,null,null,null,null,null,null,null,0,0,0,0,false,false,false,false,false,false,0,0,0,0]
["GROUPE  H"]
[null,null,null,null,null,null,null,null,null,null,null,null,null,null,null,null,null,null,null,null,null,null,null,null,null,{"$f":"S89","v":"COLOMBIE"}]
[null,null,null,null,null,null,null,null,null,null,null,null,null,null,null,null,null,"COL",null,"JPN",null,"POL",null,"SEN"]

{"sheet":"CARRE FINAL","index":10,"n_rows":34,"n_cols":30,"rows_kept":34,"cut":false,"hidden":false,"merged":[[29,14,30,19],[29,20,30,20],[29,21,30,21],[31,14,32,19],[31,20,32,20],[31,21,32,21],[24,19,25,19],[24,20,25,20],[24,21,25,26],[26,19,27,19],[30,29,31,34],[8,9,9,14],[8,15,9,15],[8,16,9,16],[10,9,11,14],[10,15,11,15],[10,16,11,16],[24,9,25,14],[22,27,23,27],[22,28,23,28],[22,29,23,34],[28,27,29,27],[28,28,29,28],[28,29,29,34],[24,15,25,15],[24,16,25,16],[26,9,27,14],[26,15,27,15],[26,16,27,16],[26,20,27,20],[26,21,27,26],[13,11,14,16],[13,17,14,17],[13,18,14,18],[12,29,13,34],[14,27,15,27],[14,28,15,28],[14,29,15,34],[21,17,22,17],[21,18,22,18],[21,19,22,24],[15,11,16,16],[15,17,16,17],[15,18,16,18],[19,17,20,17],[19,18,20,18],[19,19,20,24],[20,27,21,27],[20,28,21,28],[20,29,21,34],[3,21,4,21],[5,14,6,19],[5,20,6,20],[5,21,6,21],[8,19,9,19],[8,20,9,20],[8,21,9,26],[10,19,11,19],[2,1,2,6],[10,1,10,6],[4,7,5,7],[6,7,7,7],[4,8,5,8],[6,8,7,8],[10,20,11,20],[10,21,11,26],[3,14,4,19],[3,20,4,20],[18,1,18,6],[26,1,26,6],[4,1,5,6],[6,1,7,6],[30,1,31,6],[30,7,31,7],[30,8,31,8],[12,1,13,6],[12,7,13,7],[12,8,13,8],[14,1,15,6],[14,7,15,7],[14,8,15,8],[20,1,21,6],[28,1,29,6],[28,7,29,7],[28,8,29,8],[20,7,21,7],[20,8,21,8],[22,1,23,6],[22,7,23,7],[22,8,23,8],[33,14,33,21],[2,14,2,21],[2,29,2,34],[10,29,10,34],[18,29,18,34],[26,29,26,34],[7,9,7,14],[23,9,23,14],[7,22,7,26],[23,22,23,26],[14,19,14,26],[21,9,21,16],[32,22,32,24],[3,11,3,13],[4,29,5,34],[6,29,7,34],[4,28,5,28],[4,27,5,27],[6,27,7,27],[6,28,7,28],[12,27,13,27],[12,28,13,28],[30,27,31,27],[30,28,31,28]]}
[]
[]
[null,"SAMEDI 30/06 - 20h00",null,null,null,null,null,null,null,null,null,null,null,null,"SAMEDI 14/07 - 16h00",null,null,null,null,null,null,null,null,null,null,null,null,null,null,"DIMANCHE 01/07 - 16h00"]
[null,null,null,null,null,null,null,"Bts","Pen",null,null,null,null,null,{"$f":"IF(O30=J9,J11)","v":""},null,null,null,null,null,null,null,null,null,null,null,null,"Pen","Bts"]
[null,{"$f":"'CMD 2018'!Z9:AG10","v":"RUSSIE"},null,null,null,null,null,null,null,null,null,null,null,null,null,null,null,null,null,null,null,null,null,null,null,null,null,null,null,{"$f":"'CMD 2018'!Z21:AG22","v":"PORTUGAL"}]
[null,null,null,null,null,null,null,null,null,null,null,null,null,null,{"$f":"IF(O32=T20,T22)","v":""}]
[null,{"$f":"'CMD 2018'!Z23:AG24","v":"ESPAGNE"},null,null,null,null,null,null,null,null,null,null,null,null,null,null,null,null,null,null,null,null,null,null,null,null,null,null,null,{"$f":"'CMD 2018'!Z11:AG12","v":"URUGUAY"}]
[null,null,null,null,null,null,null,null,null,"VENDREDI 04/07 - 16H00",null,null,null,null,null,"Bts","Pen",null,null,"Pen","Bts",null,"SAMEDI 05/07 - 20h00"]
[null,null,null,null,null,null,null,null,null,{"$f":"IF(H5=\"\",\"\",IF(H5>H7,B5,IF(H7>H5,B7,IF(H5=H7,IF(I5>I7,B5,IF(H7=H5,IF(I7>I5,B7)))))))","v":""},null,null,null,null,null,null,null,null,null,null,null,{"$f":"IF(AC5=\"\",\"\",IF(AC5>AC7,AD5,IF(AC7>AC5,AD7,IF(AC5=AC7,IF(AB5=AB7,AD5,IF(AC7=AC5,IF(AB7>AB5,AD7)))))))","v":""}]
[]
[null,"SAMEDI 30/06 - 16h00",null,null,null,null,null,null,null,{"$f":"IF(H13=\"\",\"\",IF(H13>H15,B13,IF(H15>H13,B15,IF(H13=H15,IF(I13>I15,B13,IF(H15=H13,IF(I15>I13,B15)))))))","v":""},null,null,null,null,null,null,null,null,null,null,null,{"$f":"IF(AC13=\"\",\"\",IF(AC13>AC15,AD13,IF(AC15>AC13,AD15,IF(AC13=AC15,IF(AB13>AB15,AD13,IF(AC15=AC13,IF(AB15>AB13,AD15)))))))","v":""},null,null,null,null,null,null,null,"DIMANCHE 01/07 - 20h00"]
[null,null,null,null,null,null,null,"Bts","Pen",null,null,null,null,null,null,null,null,null,null,null,null,null,null,null,null,null,null,"Pen","Bts"]
[null,{"$f":"'CMD 2018'!Z33:AG34","v":"DANEMARK"},null,null,null,null,null,null,null,null,null,null,null,null,null,null,null,"Bts","Pen",null,null,null,null,null,null,null,null,null,null,{"$f":"'CMD 2018'!Z45:AG46","v":"CROATIE"}]
[null,null,null,null,null,null,null,null,null,null,null,{"$f":"IF(P9=\"\",\"\",IF(P9>P11,J9,IF(P11>P9,J11,IF(P9=P11,IF(Q9>Q11,J9,IF(P11=P9,IF(Q11>Q9,J11)))))))","v":""}]
[null,{"$f":"'CMD 2018'!Z47:AG48","v":"ARGENTINE"},null,null,null,null,null,null,null,null,null,null,null,null,null,null,null,null,null,"MARDI 10/07 - 20h00",null,null,null,null,null,null,null,null,null,{"$f":"'CMD 2018'!Z35:AG36","v":"FRANCE"}]
[null,null,null,null,null,null,null,null,null,null,null,{"$f":"IF(P25=\"\",\"\",IF(P25>P27,J25,IF(P27>P25,J27,IF(P25=P27,IF(Q25>Q27,J25,IF(P27=P25,IF(Q27>Q25,J27)))))))","v":""}]
[]
[]
[null,"LUNDI 02/07 - 16h00",null,null,null,null,null,null,null,null,null,null,null,null,null,null,null,"Pen","Bts",null,null,null,null,null,null,null,null,null,null,"MARDI 03/07 - 16h00"]
[null,null,null,null,null,null,null,"Bts","Pen",null,null,null,null,null,null,null,null,null,null,{"$f":"IF(U9=\"\",\"\",IF(U9>U11>V9,IF(U11>U9,V11,IF(U9=U11,IF(T9>T11,V9,IF(U11=U9,IF(T11>T9,V11)))))))","v":""},null,null,null,null,null,null,null,"Pen","Bts"]
[null,{"$f":"'CMD 2018'!Z57:AG58","v":"SERBIE"},null,null,null,null,null,null,null,null,null,null,null,null,null,null,null,null,null,null,null,null,null,null,null,null,null,null,null,{"$f":"'CMD 2018'!Z69:AG70","v":"MEXIQUE"}]
[null,null,null,null,null,null,null,null,null,"MERCREDI 11/07 - 20h00",null,null,null,null,null,null,null,null,null,{"$f":"IF(U25=\"\",\"\",IF(U25>U27,V25,IF(U27>U25,V27,IF(U25=U27,IF(T25>T27,V25,IF(U27=U25,IF(T27>T25,V27)))))))","v":""}]
[null,{"$f":"'CMD 2018'!Z71:AG72","v":"SUÈDE"},null,null,null,null,null,null,null,null,null,null,null,null,null,null,null,null,null,null,null,null,null,null,null,null,null,null,null,{"$f":"'CMD 2018'!Z59:AG60","v":"BRESIL"}]
[null,null,null,null,null,null,null,null,null,"VENDREDI 04/07 - 20h00",null,null,null,null,null,"Bts","Pen",null,null,"Pen","Bts",null,"SAMEDI 05/07 - 16h00"]
[null,null,null,null,null,null,null,null,null,{"$f":"IF(H21=\"\",\"\",IF(H21>H23,B21,IF(H23>H21,B23,IF(H21=H23,IF(I21>I23,B21,IF(H23=H21,IF(I23>I21,B23)))))))","v":""},null,null,null,null,null,null,null,null,null,null,null,{"$f":"IF(AC21=\"\",\"\",IF(AC21>AC23,AD21,IF(AC23>AC21,AD23,IF(AC21=AC23,IF(AB21=AB23,AD21,IF(AC23=AC21,IF(AB23>AB21,AD23)))))))","v":""}]
[]
[null,"LUNDI 02/07 - 20h00",null,null,null,null,null,null,null,{"$f":"IF(H29=\"\",\"\",IF(H29>H31,B29,IF(H31>H29,B31,IF(H29=H31,IF(I29>I31,B29,IF(H31=H29,IF(I31>I29,B31)))))))","v":""},null,null,null,null,null,null,null,null,null,null,null,{"$f":"IF(AC29=\"\",\"\",IF(AC29>AC31,AD29,IF(AC31>AC29,AD31,IF(AC29=AC31,IF(AB29>AB31,AD29,IF(AC31=AC29,IF(AB31>AB29,AD31)))))))","v":""},null,null,null,null,null,null,null,"MARDI 03/07 - 20h00"]
[null,null,null,null,null,null,null,"Bts","Pen",null,null,null,null,null,null,null,null,null,null,null,null,null,null,null,null,null,null,"Pen","Bts"]
[null,{"$f":"'CMD 2018'!Z81:AG82","v":"BELGIQUE"},null,null,null,null,null,null,null,null,null,null,null,null,null,null,null,null,null,null,null,null,null,null,null,null,null,null,null,{"$f":"'CMD 2018'!Z93:AG94","v":"SÉNÉGAL"}]
[null,null,null,null,null,null,null,null,null,null,null,null,null,null,{"$f":"IF(R14=\"\",\"\",IF(R14>R16,L14,IF(R16>R14,L16,IF(R14=R16,IF(S14>S16,L14,IF(R16=R14,IF(S16>S14,L16)))))))","v":""}]
[null,{"$f":"'CMD 2018'!Z95:AG96","v":"COLOMBIE"},null,null,null,null,null,null,null,null,null,null,null,null,null,null,null,null,null,null,null,null,null,null,null,null,null,null,null,{"$f":"'CMD 2018'!Z83:AG84","v":"ANGLETERRE"}]
[null,null,null,null,null,null,null,null,null,null,null,null,null,null,{"$f":"IF(S20=\"\",\"\",IF(S20>S22,T20,IF(S22>S20,T22,IF(S20=S22,IF(R20>R22,T20,IF(S22=S20,IF(R22>R20,T22)))))))","v":""}]
[]
[null,null,null,null,null,null,null,null,null,null,null,null,null,null,"DIMANCHE 15/07 - 17h00"]

{"sheet":"Feuil1","index":11,"n_rows":96,"n_cols":4,"rows_kept":96,"cut":false,"hidden":true,"merged":[]}
[{"$f":"'CMD 2018'!A4:G4","v":"RUSSIE"},{"$f":"IF('CMD 2018'!H4=\"\",\"\",'CMD 2018'!H4)","v":5},{"$f":"IF('CMD 2018'!I4=\"\",\"\",'CMD 2018'!I4)","v":0},{"$f":"IF('CMD 2018'!J4=\"\",\"\",'CMD 2018'!J4)","v":"ARABIE SAOUDITE"}]
[{"$f":"'CMD 2018'!A5:G5","v":"ÉGYPTE"},{"$f":"IF('CMD 2018'!H5=\"\",\"\",'CMD 2018'!H5)","v":0},{"$f":"IF('CMD 2018'!I5=\"\",\"\",'CMD 2018'!I5)","v":1},{"$f":"IF('CMD 2018'!J5=\"\",\"\",'CMD 2018'!J5)","v":"URUGUAY"}]
[{"$f":"'CMD 2018'!A6:G6","v":"RUSSIE"},{"$f":"IF('CMD 2018'!H6=\"\",\"\",'CMD 2018'!H6)","v":3},{"$f":"IF('CMD 2018'!I6=\"\",\"\",'CMD 2018'!I6)","v":1},{"$f":"IF('CMD 2018'!J6=\"\",\"\",'CMD 2018'!J6)","v":"ÉGYPTE"}]
[{"$f":"'CMD 2018'!A7:G7","v":"URUGUAY"},{"$f":"IF('CMD 2018'!H7=\"\",\"\",'CMD 2018'!H7)","v":1},{"$f":"IF('CMD 2018'!I7=\"\",\"\",'CMD 2018'!I7)","v":0},{"$f":"IF('CMD 2018'!J7=\"\",\"\",'CMD 2018'!J7)","v":"ARABIE SAOUDITE"}]
[{"$f":"'CMD 2018'!A8:G8","v":"URUGUAY"},{"$f":"IF('CMD 2018'!H8=\"\",\"\",'CMD 2018'!H8)","v":""},{"$f":"IF('CMD 2018'!I8=\"\",\"\",'CMD 2018'!I8)","v":""},{"$f":"IF('CMD 2018'!J8=\"\",\"\",'CMD 2018'!J8)","v":"RUSSIE"}]
[{"$f":"'CMD 2018'!A9:G9","v":"ARABIE SAOUDITE"},{"$f":"IF('CMD 2018'!H9=\"\",\"\",'CMD 2018'!H9)","v":""},{"$f":"IF('CMD 2018'!I9=\"\",\"\",'CMD 2018'!I9)","v":""},{"$f":"IF('CMD 2018'!J9=\"\",\"\",'CMD 2018'!J9)","v":"ÉGYPTE"}]
[{"$f":"'CMD 2018'!A16:G16","v":"MAROC"},{"$f":"IF('CMD 2018'!H16=\"\",\"\",'CMD 2018'!H16)","v":0},{"$f":"IF('CMD 2018'!I16=\"\",\"\",'CMD 2018'!I16)","v":1},{"$f":"IF('CMD 2018'!J16=\"\",\"\",'CMD 2018'!J16)","v":"IRAN"}]
[{"$f":"'CMD 2018'!A17:G17","v":"PORTUGAL"},{"$f":"IF('CMD 2018'!H17=\"\",\"\",'CMD 2018'!H17)","v":3},{"$f":"IF('CMD 2018'!I17=\"\",\"\",'CMD 2018'!I17)","v":3},{"$f":"IF('CMD 2018'!J17=\"\",\"\",'CMD 2018'!J17)","v":"ESPAGNE"}]
[{"$f":"'CMD 2018'!A18:G18","v":"MAROC"},{"$f":"IF('CMD 2018'!H18=\"\",\"\",'CMD 2018'!H18)","v":0},{"$f":"IF('CMD 2018'!I18=\"\",\"\",'CMD 2018'!I18)","v":1},{"$f":"IF('CMD 2018'!J18=\"\",\"\",'CMD 2018'!J18)","v":"PORTUGAL"}]
[{"$f":"'CMD 2018'!A19:G19","v":"ESPAGNE"},{"$f":"IF('CMD 2018'!H19=\"\",\"\",'CMD 2018'!H19)","v":1},{"$f":"IF('CMD 2018'!I19=\"\",\"\",'CMD 2018'!I19)","v":0},{"$f":"IF('CMD 2018'!J19=\"\",\"\",'CMD 2018'!J19)","v":"IRAN"}]
[{"$f":"'CMD 2018'!A20:G20","v":"ESPAGNE"},{"$f":"IF('CMD 2018'!H20=\"\",\"\",'CMD 2018'!H20)","v":""},{"$f":"IF('CMD 2018'!I20=\"\",\"\",'CMD 2018'!I20)","v":""},{"$f":"IF('CMD 2018'!J20=\"\",\"\",'CMD 2018'!J20)","v":"MAROC"}]
[{"$f":"'CMD 2018'!A21:G21","v":"IRAN"},{"$f":"IF('CMD 2018'!H21=\"\",\"\",'CMD 2018'!H21)","v":""},{"$f":"IF('CMD 2018'!I21=\"\",\"\",'CMD 2018'!I21)","v":""},{"$f":"IF('CMD 2018'!J21=\"\",\"\",'CMD 2018'!J21)","v":"PORTUGAL"}]
[{"$f":"'CMD 2018'!A28:G28","v":"FRANCE"},{"$f":"IF('CMD 2018'!H28=\"\",\"\",'CMD 2018'!H28)","v":2},{"$f":"IF('CMD 2018'!I28=\"\",\"\",'CMD 2018'!I28)","v":1},{"$f":"IF('CMD 2018'!J28=\"\",\"\",'CMD 2018'!J28)","v":"AUSTRALIE"}]
[{"$f":"'CMD 2018'!A29:G29","v":"PÉROU"},{"$f":"IF('CMD 2018'!H29=\"\",\"\",'CMD 2018'!H29)","v":0},{"$f":"IF('CMD 2018'!I29=\"\",\"\",'CMD 2018'!I29)","v":1},{"$f":"IF('CMD 2018'!J29=\"\",\"\",'CMD 2018'!J29)","v":"DANEMARK"}]
[{"$f":"'CMD 2018'!A30:G30","v":"FRANCE"},{"$f":"IF('CMD 2018'!H30=\"\",\"\",'CMD 2018'!H30)","v":""},{"$f":"IF('CMD 2018'!I30=\"\",\"\",'CMD 2018'!I30)","v":""},{"$f":"IF('CMD 2018'!J30=\"\",\"\",'CMD 2018'!J30)","v":"PÉROU"}]
[{"$f":"'CMD 2018'!A31:G31","v":"DANEMARK"},{"$f":"IF('CMD 2018'!H31=\"\",\"\",'CMD 2018'!H31)","v":1},{"$f":"IF('CMD 2018'!I31=\"\",\"\",'CMD 2018'!I31)","v":1},{"$f":"IF('CMD 2018'!J31=\"\",\"\",'CMD 2018'!J31)","v":"AUSTRALIE"}]
[{"$f":"'CMD 2018'!A32:G32","v":"DANEMARK"},{"$f":"IF('CMD 2018'!H32=\"\",\"\",'CMD 2018'!H32)","v":""},{"$f":"IF('CMD 2018'!I32=\"\",\"\",'CMD 2018'!I32)","v":""},{"$f":"IF('CMD 2018'!J32=\"\",\"\",'CMD 2018'!J32)","v":"FRANCE"}]
[{"$f":"'CMD 2018'!A33:G33","v":"AUSTRALIE"},{"$f":"IF('CMD 2018'!H33=\"\",\"\",'CMD 2018'!H33)","v":""},{"$f":"IF('CMD 2018'!I33=\"\",\"\",'CMD 2018'!I33)","v":""},{"$f":"IF('CMD 2018'!J33=\"\",\"\",'CMD 2018'!J33)","v":"PÉROU"}]
[{"$f":"'CMD 2018'!A40:G40","v":"ARGENTINE"},{"$f":"IF('CMD 2018'!H40=\"\",\"\",'CMD 2018'!H40)","v":1},{"$f":"IF('CMD 2018'!I40=\"\",\"\",'CMD 2018'!I40)","v":1},{"$f":"IF('CMD 2018'!J40=\"\",\"\",'CMD 2018'!J40)","v":"ISLANDE"}]
[{"$f":"'CMD 2018'!A41:G41","v":"CROATIE"},{"$f":"IF('CMD 2018'!H41=\"\",\"\",'CMD 2018'!H41)","v":2},{"$f":"IF('CMD 2018'!I41=\"\",\"\",'CMD 2018'!I41)","v":0},{"$f":"IF('CMD 2018'!J41=\"\",\"\",'CMD 2018'!J41)","v":"NIGERIA"}]
[{"$f":"'CMD 2018'!A42:G42","v":"ARGENTINE"},{"$f":"IF('CMD 2018'!H42=\"\",\"\",'CMD 2018'!H42)","v":""},{"$f":"IF('CMD 2018'!I42=\"\",\"\",'CMD 2018'!I42)","v":""},{"$f":"IF('CMD 2018'!J42=\"\",\"\",'CMD 2018'!J42)","v":"CROATIE"}]
[{"$f":"'CMD 2018'!A43:G43","v":"NIGERIA"},{"$f":"IF('CMD 2018'!H43=\"\",\"\",'CMD 2018'!H43)","v":""},{"$f":"IF('CMD 2018'!I43=\"\",\"\",'CMD 2018'!I43)","v":""},{"$f":"IF('CMD 2018'!J43=\"\",\"\",'CMD 2018'!J43)","v":"ISLANDE"}]
[{"$f":"'CMD 2018'!A44:G44","v":"NIGERIA"},{"$f":"IF('CMD 2018'!H44=\"\",\"\",'CMD 2018'!H44)","v":""},{"$f":"IF('CMD 2018'!I44=\"\",\"\",'CMD 2018'!I44)","v":""},{"$f":"IF('CMD 2018'!J44=\"\",\"\",'CMD 2018'!J44)","v":"ARGENTINE"}]
[{"$f":"'CMD 2018'!A45:G45","v":"ISLANDE"},{"$f":"IF('CMD 2018'!H45=\"\",\"\",'CMD 2018'!H45)","v":""},{"$f":"IF('CMD 2018'!I45=\"\",\"\",'CMD 2018'!I45)","v":""},{"$f":"IF('CMD 2018'!J45=\"\",\"\",'CMD 2018'!J45)","v":"CROATIE"}]
[{"$f":"'CMD 2018'!A52:G52","v":"COSTA RICA"},{"$f":"IF('CMD 2018'!H52=\"\",\"\",'CMD 2018'!H52)","v":0},{"$f":"IF('CMD 2018'!I52=\"\",\"\",'CMD 2018'!I52)","v":1},{"$f":"IF('CMD 2018'!J52=\"\",\"\",'CMD 2018'!J52)","v":"SERBIE"}]
[{"$f":"'CMD 2018'!A53:G53","v":"BRESIL"},{"$f":"IF('CMD 2018'!H53=\"\",\"\",'CMD 2018'!H53)","v":1},{"$f":"IF('CMD 2018'!I53=\"\",\"\",'CMD 2018'!I53)","v":1},{"$f":"IF('CMD 2018'!J53=\"\",\"\",'CMD 2018'!J53)","v":"SUISSE"}]
[{"$f":"'CMD 2018'!A54:G54","v":"COSTA RICA"},{"$f":"IF('CMD 2018'!H54=\"\",\"\",'CMD 2018'!H54)","v":""},{"$f":"IF('CMD 2018'!I54=\"\",\"\",'CMD 2018'!I54)","v":""},{"$f":"IF('CMD 2018'!J54=\"\",\"\",'CMD 2018'!J54)","v":"BRESIL"}]
[{"$f":"'CMD 2018'!A55:G55","v":"SUISSE"},{"$f":"IF('CMD 2018'!H55=\"\",\"\",'CMD 2018'!H55)","v":""},{"$f":"IF('CMD 2018'!I55=\"\",\"\",'CMD 2018'!I55)","v":""},{"$f":"IF('CMD 2018'!J55=\"\",\"\",'CMD 2018'!J55)","v":"SERBIE"}]
[{"$f":"'CMD 2018'!A56:G56","v":"SUISSE"},{"$f":"IF('CMD 2018'!H56=\"\",\"\",'CMD 2018'!H56)","v":""},{"$f":"IF('CMD 2018'!I56=\"\",\"\",'CMD 2018'!I56)","v":""},{"$f":"IF('CMD 2018'!J56=\"\",\"\",'CMD 2018'!J56)","v":"COSTA RICA"}]
[{"$f":"'CMD 2018'!A57:G57","v":"SERBIE"},{"$f":"IF('CMD 2018'!H57=\"\",\"\",'CMD 2018'!H57)","v":""},{"$f":"IF('CMD 2018'!I57=\"\",\"\",'CMD 2018'!I57)","v":""},{"$f":"IF('CMD 2018'!J57=\"\",\"\",'CMD 2018'!J57)","v":"BRESIL"}]
[{"$f":"'CMD 2018'!A64:G64","v":"ALLEMAGNE"},{"$f":"IF('CMD 2018'!H64=\"\",\"\",'CMD 2018'!H64)","v":0},{"$f":"IF('CMD 2018'!I64=\"\",\"\",'CMD 2018'!I64)","v":1},{"$f":"IF('CMD 2018'!J64=\"\",\"\",'CMD 2018'!J64)","v":"MEXIQUE"}]
[{"$f":"'CMD 2018'!A65:G65","v":"SUÈDE"},{"$f":"IF('CMD 2018'!H65=\"\",\"\",'CMD 2018'!H65)","v":1},{"$f":"IF('CMD 2018'!I65=\"\",\"\",'CMD 2018'!I65)","v":0},{"$f":"IF('CMD 2018'!J65=\"\",\"\",'CMD 2018'!J65)","v":"RÉPUBLIQUE DE CORÉE"}]
[{"$f":"'CMD 2018'!A66:G66","v":"ALLEMAGNE"},{"$f":"IF('CMD 2018'!H66=\"\",\"\",'CMD 2018'!H66)","v":""},{"$f":"IF('CMD 2018'!I66=\"\",\"\",'CMD 2018'!I66)","v":""},{"$f":"IF('CMD 2018'!J66=\"\",\"\",'CMD 2018'!J66)","v":"SUÈDE"}]
[{"$f":"'CMD 2018'!A67:G67","v":"RÉPUBLIQUE DE CORÉE"},{"$f":"IF('CMD 2018'!H67=\"\",\"\",'CMD 2018'!H67)","v":""},{"$f":"IF('CMD 2018'!I67=\"\",\"\",'CMD 2018'!I67)","v":""},{"$f":"IF('CMD 2018'!J67=\"\",\"\",'CMD 2018'!J67)","v":"MEXIQUE"}]
[{"$f":"'CMD 2018'!A68:G68","v":"RÉPUBLIQUE DE CORÉE"},{"$f":"IF('CMD 2018'!H68=\"\",\"\",'CMD 2018'!H68)","v":""},{"$f":"IF('CMD 2018'!I68=\"\",\"\",'CMD 2018'!I68)","v":""},{"$f":"IF('CMD 2018'!J68=\"\",\"\",'CMD 2018'!J68)","v":"ALLEMAGNE"}]
[{"$f":"'CMD 2018'!A69:G69","v":"MEXIQUE"},{"$f":"IF('CMD 2018'!H69=\"\",\"\",'CMD 2018'!H69)","v":""},{"$f":"IF('CMD 2018'!I69=\"\",\"\",'CMD 2018'!I69)","v":""},{"$f":"IF('CMD 2018'!J69=\"\",\"\",'CMD 2018'!J69)","v":"SUÈDE"}]
[{"$f":"'CMD 2018'!A76:G76","v":"BELGIQUE"},{"$f":"IF('CMD 2018'!H76=\"\",\"\",'CMD 2018'!H76)","v":3},{"$f":"IF('CMD 2018'!I76=\"\",\"\",'CMD 2018'!I76)","v":0},{"$f":"IF('CMD 2018'!J76=\"\",\"\",'CMD 2018'!J76)","v":"PANAMA"}]
[{"$f":"'CMD 2018'!A77:G77","v":"TUNISIE"},{"$f":"IF('CMD 2018'!H77=\"\",\"\",'CMD 2018'!H77)","v":1},{"$f":"IF('CMD 2018'!I77=\"\",\"\",'CMD 2018'!I77)","v":2},{"$f":"IF('CMD 2018'!J77=\"\",\"\",'CMD 2018'!J77)","v":"ANGLETERRE"}]
[{"$f":"'CMD 2018'!A78:G78","v":"BELGIQUE"},{"$f":"IF('CMD 2018'!H78=\"\",\"\",'CMD 2018'!H78)","v":""},{"$f":"IF('CMD 2018'!I78=\"\",\"\",'CMD 2018'!I78)","v":""},{"$f":"IF('CMD 2018'!J78=\"\",\"\",'CMD 2018'!J78)","v":"TUNISIE"}]
[{"$f":"'CMD 2018'!A79:G79","v":"ANGLETERRE"},{"$f":"IF('CMD 2018'!H79=\"\",\"\",'CMD 2018'!H79)","v":""},{"$f":"IF('CMD 2018'!I79=\"\",\"\",'CMD 2018'!I79)","v":""},{"$f":"IF('CMD 2018'!J79=\"\",\"\",'CMD 2018'!J79)","v":"PANAMA"}]
[{"$f":"'CMD 2018'!A80:G80","v":"ANGLETERRE"},{"$f":"IF('CMD 2018'!H80=\"\",\"\",'CMD 2018'!H80)","v":""},{"$f":"IF('CMD 2018'!I80=\"\",\"\",'CMD 2018'!I80)","v":""},{"$f":"IF('CMD 2018'!J80=\"\",\"\",'CMD 2018'!J80)","v":"BELGIQUE"}]
[{"$f":"'CMD 2018'!A81:G81","v":"PANAMA"},{"$f":"IF('CMD 2018'!H81=\"\",\"\",'CMD 2018'!H81)","v":""},{"$f":"IF('CMD 2018'!I81=\"\",\"\",'CMD 2018'!I81)","v":""},{"$f":"IF('CMD 2018'!J81=\"\",\"\",'CMD 2018'!J81)","v":"TUNISIE"}]
[{"$f":"'CMD 2018'!A88:G88","v":"COLOMBIE"},{"$f":"IF('CMD 2018'!H88=\"\",\"\",'CMD 2018'!H88)","v":1},{"$f":"IF('CMD 2018'!I88=\"\",\"\",'CMD 2018'!I88)","v":1},{"$f":"IF('CMD 2018'!J88=\"\",\"\",'CMD 2018'!J88)","v":"JAPON"}]
[{"$f":"'CMD 2018'!A89:G89","v":"POLOGNE"},{"$f":"IF('CMD 2018'!H89=\"\",\"\",'CMD 2018'!H89)","v":1},{"$f":"IF('CMD 2018'!I89=\"\",\"\",'CMD 2018'!I89)","v":2},{"$f":"IF('CMD 2018'!J89=\"\",\"\",'CMD 2018'!J89)","v":"SÉNÉGAL"}]
[{"$f":"'CMD 2018'!A90:G90","v":"COLOMBIE"},{"$f":"IF('CMD 2018'!H90=\"\",\"\",'CMD 2018'!H90)","v":""},{"$f":"IF('CMD 2018'!I90=\"\",\"\",'CMD 2018'!I90)","v":""},{"$f":"IF('CMD 2018'!J90=\"\",\"\",'CMD 2018'!J90)","v":"POLOGNE"}]
[{"$f":"'CMD 2018'!A91:G91","v":"SÉNÉGAL"},{"$f":"IF('CMD 2018'!H91=\"\",\"\",'CMD 2018'!H91)","v":""},{"$f":"IF('CMD 2018'!I91=\"\",\"\",'CMD 2018'!I91)","v":""},{"$f":"IF('CMD 2018'!J91=\"\",\"\",'CMD 2018'!J91)","v":"JAPON"}]
[{"$f":"'CMD 2018'!A92:G92","v":"SÉNÉGAL"},{"$f":"IF('CMD 2018'!H92=\"\",\"\",'CMD 2018'!H92)","v":""},{"$f":"IF('CMD 2018'!I92=\"\",\"\",'CMD 2018'!I92)","v":""},{"$f":"IF('CMD 2018'!J92=\"\",\"\",'CMD 2018'!J92)","v":"COLOMBIE"}]
[{"$f":"'CMD 2018'!A93:G93","v":"JAPON"},{"$f":"IF('CMD 2018'!H93=\"\",\"\",'CMD 2018'!H93)","v":""},{"$f":"IF('CMD 2018'!I93=\"\",\"\",'CMD 2018'!I93)","v":""},{"$f":"IF('CMD 2018'!J93=\"\",\"\",'CMD 2018'!J93)","v":"POLOGNE"}]
[{"$f":"D1","v":"ARABIE SAOUDITE"},{"$f":"C1","v":0},{"$f":"B1","v":5},{"$f":"A1","v":"RUSSIE"}]
[{"$f":"D2","v":"URUGUAY"},{"$f":"C2","v":1},{"$f":"B2","v":0},{"$f":"A2","v":"ÉGYPTE"}]
["ÉGYPTE",1,3,"RUSSIE"]
["ARABIE SAOUDITE",0,1,"URUGUAY"]
["RUSSIE","","","URUGUAY"]
["ÉGYPTE","","","ARABIE SAOUDITE"]
["IRAN",1,0,"MAROC"]
["ESPAGNE",3,3,"PORTUGAL"]
["PORTUGAL",1,0,"MAROC"]
["IRAN",0,1,"ESPAGNE"]
["MAROC","","","ESPAGNE"]
["PORTUGAL","","","IRAN"]
["AUSTRALIE",1,2,"FRANCE"]
["DANEMARK",1,0,"PÉROU"]
["PÉROU","","","FRANCE"]
["AUSTRALIE",1,1,"DANEMARK"]
["FRANCE","","","DANEMARK"]
["PÉROU","","","AUSTRALIE"]
["ISLANDE",1,1,"ARGENTINE"]
["NIGERIA",0,2,"CROATIE"]
["CROATIE","","","ARGENTINE"]
["ISLANDE","","","NIGERIA"]
["ARGENTINE","","","NIGERIA"]
["CROATIE","","","ISLANDE"]
["SERBIE",1,0,"COSTA RICA"]
["SUISSE",1,1,"BRESIL"]
["BRESIL","","","COSTA RICA"]
["SERBIE","","","SUISSE"]
["COSTA RICA","","","SUISSE"]
["BRESIL","","","SERBIE"]
["MEXIQUE",1,0,"ALLEMAGNE"]
["RÉPUBLIQUE DE CORÉE",0,1,"SUÈDE"]
["SUÈDE","","","ALLEMAGNE"]
["MEXIQUE","","","RÉPUBLIQUE DE CORÉE"]
["ALLEMAGNE","","","RÉPUBLIQUE DE CORÉE"]
["SUÈDE","","","MEXIQUE"]
["PANAMA",0,3,"BELGIQUE"]
["ANGLETERRE",2,1,"TUNISIE"]
["TUNISIE","","","BELGIQUE"]
["PANAMA","","","ANGLETERRE"]
["BELGIQUE","","","ANGLETERRE"]
["TUNISIE","","","PANAMA"]
["JAPON",1,1,"COLOMBIE"]
["SÉNÉGAL",2,1,"POLOGNE"]
["POLOGNE","","","COLOMBIE"]
["JAPON","","","SÉNÉGAL"]
["COLOMBIE","","","SÉNÉGAL"]
["POLOGNE","","","JAPON"]

{"sheet":"JOUEURS","index":12,"n_rows":8,"n_cols":10,"rows_kept":8,"cut":false,"hidden":false,"merged":[[2,1,2,8],[5,1,5,8]]}
[]
[null,"Hugo\nLLORIS","Steve\nMANDANDA","Alphonse\nAREOLA","Benjamin\nPAVARD\n","Presnel\nKIMPEMBE","Raphael\nVARANE","Samuel\nUMTITI","Adil\nRAMI","Djibril\nSIDIBE"]
[]
[]
[null,"Lucas\nHERNANDEZ","Benjamin\nMENDY","Paul\nPOGBA","Corentin\nTOLISSO","Ngolo\nKANTE","Blaise\nMATUIDI","Steven\nNZONZI","Antoine\nGRIEZMANN","Thomas\nLEMAR"]
[]
[]
[null,"Olivier\nGIROU","Kylian\nMBAPPE","Ousmane\nDEMBELE","Nabil\nFEKIR\n","Florian\nTHAUVIN","DOMICILE","EXTERIEUR","EMBLEME","Didier\nDESCHAMPS"]

{"sheet":"BUTEURS","index":13,"n_rows":41,"n_cols":3,"rows_kept":41,"cut":false,"hidden":false,"merged":[]}
["NOMS","BUTS","PAYS"]
["GAZINSKY Iury",1,"RUSSIE"]
["CHERYSHEV Denis",2,"RUSSIE"]
["DZYUBA Artem",1,"RUSSIE"]
["GOLOVIN Aleksandr",1,"RUSSIE"]
["GIMENEZ Jose",1,"URUGUAY"]
["BOUHADDOUZ Aziz",1,"IRAN"]
["RONALDO Christiano",3,"PORTUGAL"]
["NACHO",1,"ESPAGNE"]
["COSTA Diego",2,"ESPAGNE"]
["GRIEZMANN Antoine",1,"FRANCE"]
["POGBA Paul",1,"FRANCE"]
["JEDINAK Mile",1,"AUSTRALIE"]
["AGUERO Sergio",1,"ARGENTINE"]
["FINNBOGASON Alfred",1,"ISLANDE"]
["POULSEN Yussuf Yurary",1,"DANEMARK"]
["ETEBO Oghenekaro",1,"CROATIE"]
["MODRIC Luka",1,"CROATIE"]
["KOLAROV Aleksander",1,"SERBIE"]
["LOZANO Hirving",1,"MEXIQUE"]
["COUTINHO Philippe",1,"BRESIL"]
["ZUBER Steven",1,"SUISSE"]
["GRANQVIST Andreas",1,"SUEDE"]
["MERTENS Dries",1,"BELGIQUE"]
["LUKAKU Romelu",2,"BELGIQUE"]
["KANE Harry",2,"ANGLETERRE"]
["SASSI Ferjani",1,"TUNISIE"]
["KAGAWA Shinji",1,"JAPON"]
["QUINTERO Juan",1,"COLOMBIE"]
["CIONEK Thiago",1,"SENEGAL"]
["NIANG Mbaye",1,"SENEGAL"]
["KRYCHOWIAK Grzegorz",1,"POLOGNE"]
["FATHI AHMED",1,"RUSSIE"]
["CHERYSHEV Denis",1,"RUSSIE"]
["DZYUBA Artem",1,"RUSSIE"]
["SALAH MoHAMED",1,"EGYPTE"]
["RONALDO Christiano",1,"PORTUGAL"]
["SUAREZ Luis",1,"URUGUAY"]
["COSTA Diego",1,"ESPAGNE"]
["ERIKSEN Christian",1,"DANEMARK"]
["JEDINAK Mile",1,"AUSTRALIE"]

{"sheet":"DATES et HEURES","index":14,"n_rows":153,"n_cols":5,"rows_kept":153,"cut":false,"hidden":false,"merged":[[126,0,126,4],[131,0,131,4],[136,0,136,4],[145,1,146,1],[145,2,146,2],[145,3,146,3],[145,4,146,4],[142,1,143,1],[142,2,143,2],[142,3,143,3],[142,4,143,4],[139,1,140,1],[139,2,140,2],[139,3,140,3],[139,4,140,4],[137,1,138,1],[137,2,138,2],[137,3,138,3],[137,4,138,4],[134,1,135,1],[134,2,135,2],[134,3,135,3],[134,4,135,4],[132,1,133,1],[151,1,152,1],[151,2,152,2],[151,3,152,3],[151,4,152,4],[148,1,149,1],[148,2,149,2],[148,3,149,3],[148,4,149,4],[141,0,141,4],[144,0,144,4],[147,0,147,4],[150,0,150,4],[102,0,102,4],[0,0,0,4],[3,0,3,4],[10,0,10,4],[19,0,19,4],[26,0,26,4],[33,0,33,4],[40,0,40,4],[47,0,47,4],[54,0,54,4],[100,1,101,1],[100,2,101,2],[100,3,101,3],[100,4,101,4],[98,1,99,1],[98,2,99,2],[98,3,99,3],[98,4,99,4],[96,1,97,1],[96,2,97,2],[96,3,97,3],[96,4,97,4],[94,1,95,1],[94,2,95,2],[132,2,133,2],[132,3,133,3],[132,4,133,4],[129,1,130,1],[129,2,130,2],[129,3,130,3],[129,4,130,4],[127,1,128,1],[127,2,128,2],[127,3,128,3],[127,4,128,4],[124,1,125,1],[124,2,125,2],[124,3,125,3],[124,4,125,4],[122,1,123,1],[122,2,123,2],[122,3,123,3],[122,4,123,4],[119,1,120,1],[119,2,120,2],[119,3,120,3],[119,4,120,4],[121,0,121,4],[117,1,118,1],[117,2,118,2],[117,3,118,3],[117,4,118,4],[114,1,115,1],[114,2,115,2],[114,3,115,3],[114,4,115,4],[116,0,116,4],[112,1,113,1],[112,2,113,2],[112,3,113,3],[112,4,113,4],[109,1,110,1],[109,2,110,2],[109,3,110,3],[109,4,110,4],[111,0,111,4],[107,1,108,1],[107,2,108,2],[107,3,108,3],[107,4,108,4],[105,1,106,1],[105,2,106,2],[105,3,106,3],[105,4,106,4],[103,1,104,1],[103,2,104,2],[103,3,104,3],[103,4,104,4],[94,3,95,3],[94,4,95,4],[91,1,92,1],[91,2,92,2],[91,3,92,3],[91,4,92,4],[89,1,90,1],[89,2,90,2],[89,3,90,3],[89,4,90,4],[93,0,93,4],[87,1,88,1],[87,2,88,2],[87,3,88,3],[87,4,88,4],[85,1,86,1],[85,2,86,2],[85,3,86,3],[85,4,86,4],[82,1,83,1],[82,2,83,2],[82,3,83,3],[82,4,83,4],[84,0,84,4],[80,1,81,1],[80,2,81,2],[80,3,81,3],[80,4,81,4],[78,1,79,1],[78,2,79,2],[78,3,79,3],[78,4,79,4],[76,1,77,1],[76,2,77,2],[76,3,77,3],[76,4,77,4],[73,1,74,1],[73,2,74,2],[73,3,74,3],[73,4,74,4],[71,1,72,1],[71,2,72,2],[71,3,72,3],[71,4,72,4],[75,0,75,4],[69,1,70,1],[69,2,70,2],[69,3,70,3],[69,4,70,4],[66,1,67,1],[66,2,67,2],[66,3,67,3],[66,4,67,4],[64,1,65,1],[64,2,65,2],[64,3,65,3],[64,4,65,4],[68,0,68,4],[62,1,63,1],[62,2,63,2],[62,3,63,3],[62,4,63,4],[59,1,60,1],[59,2,60,2],[59,3,60,3],[59,4,60,4],[57,1,58,1],[57,2,58,2],[57,3,58,3],[57,4,58,4],[61,0,61,4],[55,1,56,1],[55,2,56,2],[55,3,56,3],[55,4,56,4],[52,1,53,1],[52,2,53,2],[52,3,53,3],[52,4,53,4],[50,1,51,1],[50,2,51,2],[50,3,51,3],[50,4,51,4],[48,1,49,1],[48,2,49,2],[48,3,49,3],[48,4,49,4],[45,1,46,1],[45,2,46,2],[45,3,46,3],[45,4,46,4],[43,1,44,1],[43,2,44,2],[43,3,44,3],[43,4,44,4],[41,1,42,1],[41,2,42,2],[41,3,42,3],[41,4,42,4],[38,1,39,1],[38,2,39,2],[38,3,39,3],[38,4,39,4],[36,1,37,1],[36,2,37,2],[36,3,37,3],[36,4,37,4],[34,1,35,1],[34,2,35,2],[34,3,35,3],[34,4,35,4],[31,1,32,1],[31,2,32,2],[31,3,32,3],[31,4,32,4],[29,1,30,1],[29,2,30,2],[29,3,30,3],[29,4,30,4],[27,1,28,1],[27,2,28,2],[27,3,28,3],[27,4,28,4],[24,1,25,1],[24,2,25,2],[24,3,25,3],[24,4,25,4],[22,1,23,1],[22,2,23,2],[22,3,23,3],[22,4,23,4],[1,1,2,1],[1,2,2,2],[1,3,2,3],[1,4,2,4],[20,1,21,1],[20,2,21,2],[20,3,21,3],[20,4,21,4],[17,3,18,3],[17,4,18,4],[15,1,16,1],[15,2,16,2],[15,3,16,3],[15,4,16,4],[0,5,1048575,15],[153,0,347,4],[11,1,12,1],[11,2,12,2],[11,3,12,3],[11,4,12,4],[8,1,9,1],[8,2,9,2],[8,3,9,3],[8,4,9,4],[6,1,7,1],[6,2,7,2],[6,3,7,3],[6,4,7,4],[17,1,18,1],[17,2,18,2],[13,1,14,1],[13,2,14,2],[13,3,14,3],[13,4,14,4],[4,1,5,1],[4,2,5,2],[4,3,5,3],[4,4,5,4]]}
["Jeudi 14 juin"]
["Groupe A","Russie","17:00:00","Arabie Saoudite","TF1 et BeIN 1"]
["Moscou "]
["Vendredi 15 juin"]
["Groupe A","Egypte","14:00:00","Uruguay","BeIN 1"]
["Iekaterinbourg "]
["Groupe B","Maroc","17:00:00","Iran","BeIN 1"]
["Saint-Pétersbourg "]
["Groupe B","Portugal","20:00:00","Espagne","TF1 et BeIN 1"]
["Sotchi "]
["Samedi 16 juin"]
["Groupe C","France","12:00:00","Australie","TF1 et BeIN 1"]
["Kazan "]
["Groupe D","Argentine","15:00:00","Islande","BeIN 1"]
["Moscou "]
["Groupe C","Pérou","18:00:00","Danemark","BeIN 1"]
["Saransk "]
["Groupe D","Croatie","21:00:00","Nigeria","TF1 et BeIN 1"]
["Kaliningrad "]
["Dimanche 17 juin"]
["Groupe E","Costa Rica","14:00:00","Serbie","BeIN 1"]
["Samara "]
["Groupe F","Allemagne","17:00:00","Mexique","TF1 et BeIN 1"]
["Moscou "]
["Groupe E","Brésil","20:00:00","Suisse","TF1 et BeIN 1"]
["Rostov-sur-le-Don "]
["Lundi 18 juin"]
["Groupe F","Suède","14:00:00","Corée Du Sud","BeIN 1"]
["Nijni Novgorod "]
["Groupe G","Belgique","17:00:00","Panama","BeIN 1"]
["Sotchi "]
["Groupe G","Tunisie","20:00:00","Angleterre","TF1 et BeIN 1"]
["Volgograd "]
["Mardi 19 juin"]
["Groupe H","Colombie","14:00:00","Japon","BeIN 1"]
["Saransk "]
["Groupe H","Pologne","17:00:00","Sénégal","BeIN 1"]
["Moscou "]
["Groupe A","Russie","20:00:00","Egypte","BeIN 1"]
["Saint-Pétersbourg "]
["Mercredi 20 juin"]
["Groupe B","Portugal","14:00:00","Maroc","BeIN 1"]
["Moscou "]
["Groupe A","Uruguay","17:00:00","Arabie Saoudite","BeIN 1"]
["Rostov-sur-le-Don "]
["Groupe B","Iran","20:00:00","Espagne","BeIN 1"]
["Kazan "]
["Jeudi 21 juin"]
["Groupe C","Danemark","14:00:00","Australie","BeIN 1"]
["Samara "]
["Groupe C","France","17:00:00","Pérou","TF1 et BeIN 1"]
["Iekaterinbourg "]
["Groupe D","Argentine","20:00:00","Croatie","TF1 et BeIN 1"]
["Nijni Novgorod "]
["Vendredi 22 juin"]
["Groupe E","Brésil","14:00:00","Costa Rica","BeIN 1"]
["Saint-Pétersbourg "]
["Groupe D","Nigeria","17:00:00","Islande","BeIN 1"]
["Volgograd "]
["Groupe E","Serbie","20:00:00","Suisse","BeIN 1"]
["Kaliningrad "]
["Samedi 23 juin"]
["Groupe G","Belgique","14:00:00","Tunisie","BeIN 1"]
["Moscou "]
["Groupe F","Corée Du Sud","17:00:00","Mexique","BeIN 1"]
["Rostov-sur-le-Don "]
["Groupe F","Allemagne","20:00:00","Suède","TF1 et BeIN 1"]
["Sotchi "]
["Dimanche 24 juin"]
["Groupe G","Angleterre","14:00:00","Panama","BeIN 1"]
["Nijni Novgorod "]
["Groupe H","Japon","17:00:00","Sénégal","BeIN 1"]
["Iekaterinbourg "]
["Groupe H","Pologne","20:00:00","Colombie","TF1 et BeIN 1"]
["Kazan "]
["Lundi 25 juin"]
["Groupe A","Uruguay","16:00:00","Russie","BeIN 1"]
["Samara "]
["Groupe A","Arabie Saoudite","16:00:00","Egypte","BeIN 2"]
["Volgograd "]
["Groupe B","Iran","20:00:00","Portugal","BeIN 2"]
["Saransk "]
["Groupe B","Espagne","20:00:00","Maroc","BeIN 1"]
["Kaliningrad "]
["Mardi 26 juin"]
["Groupe C","Danemark","16:00:00","France","TF1 et BeIN 1"]
["Moscou "]
["Groupe C","Australie","16:00:00","Pérou","BeIN 2"]
["Sotchi "]
["Groupe D","Islande","20:00:00","Croatie","BeIN 2"]
["Rostov-sur-le-Don "]
["Groupe D","Nigeria","20:00:00","Argentine","BeIN 1"]
["Saint-Pétersbourg "]
["Mercredi 27 juin"]
["Groupe F","Corée Du Sud","16:00:00","Allemagne","BeIN 1"]
["Kazan "]
["Groupe F","Mexique","16:00:00","Suède","BeIN 2"]
["Iekaterinbourg "]
["Groupe E","Serbie","20:00:00","Brésil","BeIN 1"]
["Moscou "]
["Groupe E","Suisse","20:00:00","Costa Rica","BeIN 2"]
["Nijni Novgorod "]
["Jeudi 28 juin"]
["Groupe H","Japon","16:00:00","Pologne","BeIN 1"]
["Volgograd "]
["Groupe H","Sénégal","16:00:00","Colombie","BeIN 2"]
["Samara "]
["Groupe G","Panama","20:00:00","Tunisie","BeIN 2"]
["Saransk "]
["Groupe G","Angleterre","20:00:00","Belgique","BeIN 1"]
["Kaliningrad "]
["Samedi 30 juin"]
["8èmes de finale","1c","16:00:00","2d","BeIN"]
["Kazan "]
["8èmes de finale","1a","20:00:00","2b","BeIN"]
["Sotchi "]
["Dimanche 01 juillet"]
["8èmes de finale","1b","16:00:00","2a","BeIN"]
["Moscou "]
["8èmes de finale","1d","20:00:00","2c","BeIN"]
["Nijni Novgorod "]
["Lundi 02 juillet"]
["8èmes de finale","1e","16:00:00","2f","BeIN"]
["Samara "]
["8èmes de finale","1g","20:00:00","2h","BeIN"]
["Rostov-sur-le-Don "]
["Mardi 03 juillet"]
["8èmes de finale","1f","16:00:00","2e","BeIN"]
["Saint-Pétersbourg "]
["8èmes de finale","1h","20:00:00","2g","BeIN"]
["Moscou "]
["Vendredi 06 juillet"]
["Quarts de finale","1a Ou 2b","16:00:00","1c Ou 2d","BeIN"]
["Nijni Novgorod "]
["Quarts de finale","1e Ou 2f","20:00:00","1g Ou 2h","BeIN"]
["Kazan "]
["Samedi 07 juillet"]
["Quarts de finale","1f Ou 2e","16:00:00","1h Ou 2g","BeIN"]
["Samara "]
["Quarts de finale","1b Ou 2a","20:00:00","1d Ou 2c","BeIN"]
["Sotchi "]
["Mardi 10 juillet"]
["Demi-finales","Vainqueur Q1","20:00:00","Vainqueur Q2","TF1 et BeIN"]
["Saint-Pétersbourg "]
["Mercredi 11 juillet"]
["Demi-finales","Vainqueur Q3","20:00:00","Vainqueur Q4","TF1 et BeIN"]
["Moscou "]
["Samedi 14 juillet"]
["Match 3e place","Perdant D1","16:00:00","Perdant D2","TF1 et BeIN"]
["Saint-Pétersbourg "]
["Dimanche 15 juillet"]
["Finale","Vainqueur D1","17:00:00","Vainqueur D2","TF1 et BeIN"]
["Moscou "]